{"text_format":"1","workbook":"xlsx","n_sheets":7,"sheets":["1.T1 ou T2 et sièges à pourvoir","onglet listes","2. Voix obtenues","3. Répartition des sièges CM","3bis. Calcul répartition CM","erreurs calcul répartCM","Erreurs CM"],"not_rendered":{"charts":0,"images":0,"macros":1,"external_links":0,"defined_names":30,"comments":0,"pivot_tables":0},"unopened":[],"bounds":{"document_bytes":16777216,"sheet_cells":100000,"rows_first":2000,"rows_last":500,"rows_between":2000,"halvings":0,"cell_chars":16384,"cell_head_chars":4096},"cells_cut":0,"cells_raw":0,"read":"whole","date_system":"1900"}

{"sheet":"1.T1 ou T2 et sièges à pourvoir","index":0,"n_rows":13,"n_cols":14,"rows_kept":13,"cut":false,"hidden":false,"merged":[[1,1,1,16],[5,9,5,10],[9,6,9,8]]}
[]
[null,"Outil de calcul de la répartition des sièges de conseillers municipaux et de conseillers communautaires pour les communes de moins de 1 000 habitants\n"]
[null,"Aide à la répartition des sièges au CM, conformément à la loi n°2025-444 du 21 mai 2025 visant à harmoniser le mode de scrutin aux élections municipales afin de garantir la vitalité démocratique, la cohésion municipale et la parité."]
[null,"Veuillez remplir les champs en jaune pour faire fonctionner la calculette."]
[]
[null,null,"Population de la commune en nombre d'habitants","Nombre de membres du conseil municipal","Nombre minimal dérogatoire de membres du conseil municipal",null,null,null,null,"Tour du scrutin"]
[null,null,"Moins de 100 habitants",7,5]
[null,null,"De 100 à 499 habitants",11,9,null,"CONSEIL MUNICIPAL"]
[null,null,"De 500 à 999 habitants",15,13]
[null,null,"Articles L. 2121-2 et L. 2121-2-1 du CGCT",null,null,null,"Nombre de sièges à pourvoir :"]
[]
[null,null,null,null,null,null,null,null,null,null,null,null,"Nombre de sièges attribués au titre de la prime majoritaire :",{"$f":"IF(J10>4,ROUNDUP(J10*0.5,0),IF(J10<4,ROUNDDOWN(J10*0.5,0),IF(J10=4,J10*0.5,\" \")))","v":0}]
[null,null,null,null,null,null,null,null,null,null,null,null,"Nombre de sièges à répartir à la représentation proportionnelle :",{"$f":"sieges_a_pourvoir_CM-sieges_a_la_PM_CM","v":0}]

{"sheet":"onglet listes","index":1,"n_rows":5,"n_cols":2,"rows_kept":5,"cut":false,"hidden":true,"merged":[]}
[]
[]
[null,"Tour"]
[null,1]
[null,2]

{"sheet":"2. Voix obtenues","index":2,"n_rows":56,"n_cols":22,"rows_kept":56,"cut":false,"hidden":false,"merged":[[1,1,1,16],[6,8,7,8],[6,10,7,10]]}
[]
[null,"Outil de calcul de la répartition des sièges de conseillers municipaux et de conseillers communautaires pour les communes de moins de 1 000 habitants\n"]
[null,"Aide à la répartition des sièges au CM, conformément à la loi n°2025-444 du 21 mai 2025 visant à harmoniser le mode de scrutin aux élections municipales afin de garantir la vitalité démocratique, la cohésion municipale et la parité."]
[null,"Veuillez remplir les champs en jaune pour faire fonctionner la calculette."]
[]
[null,null,"Libellé liste ou N° panneau ou Nom tête de liste","Suffrages exprimés","Nombre de candidats sur la liste","% suffrages exprimés","Résultat",null,"Somme des suffrages exprimés",null,"SE - listes moins 5%"]
[null,null,null,null,null,{"$f":"IFERROR(D7/Total_SE,\"\")","v":""},{"$f":"IF(AND(C7=\"\",D7>0),\"Renseigner libellé liste ou n° panneau\",IF(C7=\"\",\"\",IF(OR('1.T1 ou T2 et sièges à pourvoir'!$L$6=2,SUMPRODUCT(($F$7:$F$56>0.5)*1)=1),\"Voir la répartition dans l'onglet 3\",IF(D7/$I$7>=0.1,\"Qualifié T2\",\"Non qualifié T2\"))))","v":""},null,{"$f":"SUM(D7:D56)","v":0},null,{"$f":"SUMIF(D7:D56,\">=\"&5%*Total_SE,D7:D56)","v":0},null,null,null,null,null,null,null,null,null,{"$f":"IF(OR(AND('1.T1 ou T2 et sièges à pourvoir'!$L$6=1,SUMPRODUCT(($F$7:$F$56>=50%)*1)=0),F7<5%),0,MAX(U$6:U6)+1)","v":1},{"$f":"C7","v":0}]
[null,null,null,null,null,"",{"$f":"IF(AND(C8=\"\",D8>0),\"Renseigner libellé liste ou n° panneau\",IF(C8=\"\",\"\",IF(OR('1.T1 ou T2 et sièges à pourvoir'!$L$6=2,SUMPRODUCT(($F$7:$F$56>0.5)*1)=1),\"Voir la répartition dans l'onglet 3\",IF(D8/$I$7>=0.1,\"Qualifié T2\",\"Non qualifié T2\"))))","v":""},null,null,null,null,null,null,null,null,null,null,null,null,null,{"$f":"IF(OR(AND('1.T1 ou T2 et sièges à pourvoir'!$L$6=1,SUMPRODUCT(($F$7:$F$56>=50%)*1)=0),F8<5%),0,MAX(U$6:U7)+1)","v":2},0]
[null,null,null,null,null,"",{"$f":"IF(AND(C9=\"\",D9>0),\"Renseigner libellé liste ou n° panneau\",IF(C9=\"\",\"\",IF(OR('1.T1 ou T2 et sièges à pourvoir'!$L$6=2,SUMPRODUCT(($F$7:$F$56>0.5)*1)=1),\"Voir la répartition dans l'onglet 3\",IF(D9/$I$7>=0.1,\"Qualifié T2\",\"Non qualifié T2\"))))","v":""},null,null,null,null,null,null,null,null,null,null,null,null,null,{"$f":"IF(OR(AND('1.T1 ou T2 et sièges à pourvoir'!$L$6=1,SUMPRODUCT(($F$7:$F$56>=50%)*1)=0),F9<5%),0,MAX(U$6:U8)+1)","v":3},0]
[null,null,null,null,null,"",{"$f":"IF(AND(C10=\"\",D10>0),\"Renseigner libellé liste ou n° panneau\",IF(C10=\"\",\"\",IF(OR('1.T1 ou T2 et sièges à pourvoir'!$L$6=2,SUMPRODUCT(($F$7:$F$56>0.5)*1)=1),\"Voir la répartition dans l'onglet 3\",IF(D10/$I$7>=0.1,\"Qualifié T2\",\"Non qualifié T2\"))))","v":""},null,null,null,null,null,null,null,null,null,null,null,null,null,{"$f":"IF(OR(AND('1.T1 ou T2 et sièges à pourvoir'!$L$6=1,SUMPRODUCT(($F$7:$F$56>=50%)*1)=0),F10<5%),0,MAX(U$6:U9)+1)","v":4},0]
[null,null,null,null,null,"",{"$f":"IF(AND(C11=\"\",D11>0),\"Renseigner libellé liste ou n° panneau\",IF(C11=\"\",\"\",IF(OR('1.T1 ou T2 et sièges à pourvoir'!$L$6=2,SUMPRODUCT(($F$7:$F$56>0.5)*1)=1),\"Voir la répartition dans l'onglet 3\",IF(D11/$I$7>=0.1,\"Qualifié T2\",\"Non qualifié T2\"))))","v":""},null,null,null,null,null,null,null,null,null,null,null,null,null,{"$f":"IF(OR(AND('1.T1 ou T2 et sièges à pourvoir'!$L$6=1,SUMPRODUCT(($F$7:$F$56>=50%)*1)=0),F11<5%),0,MAX(U$6:U10)+1)","v":5},0]
[null,null,null,null,null,"",{"$f":"IF(AND(C12=\"\",D12>0),\"Renseigner libellé liste ou n° panneau\",IF(C12=\"\",\"\",IF(OR('1.T1 ou T2 et sièges à pourvoir'!$L$6=2,SUMPRODUCT(($F$7:$F$56>0.5)*1)=1),\"Voir la répartition dans l'onglet 3\",IF(D12/$I$7>=0.1,\"Qualifié T2\",\"Non qualifié T2\"))))","v":""},null,null,null,null,null,null,null,null,null,null,null,null,null,{"$f":"IF(OR(AND('1.T1 ou T2 et sièges à pourvoir'!$L$6=1,SUMPRODUCT(($F$7:$F$56>=50%)*1)=0),F12<5%),0,MAX(U$6:U11)+1)","v":6},0]
[null,null,null,null,null,"",{"$f":"IF(AND(C13=\"\",D13>0),\"Renseigner libellé liste ou n° panneau\",IF(C13=\"\",\"\",IF(OR('1.T1 ou T2 et sièges à pourvoir'!$L$6=2,SUMPRODUCT(($F$7:$F$56>0.5)*1)=1),\"Voir la répartition dans l'onglet 3\",IF(D13/$I$7>=0.1,\"Qualifié T2\",\"Non qualifié T2\"))))","v":""},null,null,null,null,null,null,null,null,null,null,null,null,null,{"$f":"IF(OR(AND('1.T1 ou T2 et sièges à pourvoir'!$L$6=1,SUMPRODUCT(($F$7:$F$56>=50%)*1)=0),F13<5%),0,MAX(U$6:U12)+1)","v":7},0]
[null,null,null,null,null,"",{"$f":"IF(AND(C14=\"\",D14>0),\"Renseigner libellé liste ou n° panneau\",IF(C14=\"\",\"\",IF(OR('1.T1 ou T2 et sièges à pourvoir'!$L$6=2,SUMPRODUCT(($F$7:$F$56>0.5)*1)=1),\"Voir la répartition dans l'onglet 3\",IF(D14/$I$7>=0.1,\"Qualifié T2\",\"Non qualifié T2\"))))","v":""},null,null,null,null,null,null,null,null,null,null,null,null,null,{"$f":"IF(OR(AND('1.T1 ou T2 et sièges à pourvoir'!$L$6=1,SUMPRODUCT(($F$7:$F$56>=50%)*1)=0),F14<5%),0,MAX(U$6:U13)+1)","v":8},0]
[null,null,null,null,null,"",{"$f":"IF(AND(C15=\"\",D15>0),\"Renseigner libellé liste ou n° panneau\",IF(C15=\"\",\"\",IF(OR('1.T1 ou T2 et sièges à pourvoir'!$L$6=2,SUMPRODUCT(($F$7:$F$56>0.5)*1)=1),\"Voir la répartition dans l'onglet 3\",IF(D15/$I$7>=0.1,\"Qualifié T2\",\"Non qualifié T2\"))))","v":""},null,null,null,null,null,null,null,null,null,null,null,null,null,{"$f":"IF(OR(AND('1.T1 ou T2 et sièges à pourvoir'!$L$6=1,SUMPRODUCT(($F$7:$F$56>=50%)*1)=0),F15<5%),0,MAX(U$6:U14)+1)","v":9},0]
[null,null,null,null,null,"",{"$f":"IF(AND(C16=\"\",D16>0),\"Renseigner libellé liste ou n° panneau\",IF(C16=\"\",\"\",IF(OR('1.T1 ou T2 et sièges à pourvoir'!$L$6=2,SUMPRODUCT(($F$7:$F$56>0.5)*1)=1),\"Voir la répartition dans l'onglet 3\",IF(D16/$I$7>=0.1,\"Qualifié T2\",\"Non qualifié T2\"))))","v":""},null,null,null,null,null,null,null,null,null,null,null,null,null,{"$f":"IF(OR(AND('1.T1 ou T2 et sièges à pourvoir'!$L$6=1,SUMPRODUCT(($F$7:$F$56>=50%)*1)=0),F16<5%),0,MAX(U$6:U15)+1)","v":10},0]
[null,null,null,null,null,"",{"$f":"IF(AND(C17=\"\",D17>0),\"Renseigner libellé liste ou n° panneau\",IF(C17=\"\",\"\",IF(OR('1.T1 ou T2 et sièges à pourvoir'!$L$6=2,SUMPRODUCT(($F$7:$F$56>0.5)*1)=1),\"Voir la répartition dans l'onglet 3\",IF(D17/$I$7>=0.1,\"Qualifié T2\",\"Non qualifié T2\"))))","v":""},null,null,null,null,null,null,null,null,null,null,null,null,null,{"$f":"IF(OR(AND('1.T1 ou T2 et sièges à pourvoir'!$L$6=1,SUMPRODUCT(($F$7:$F$56>=50%)*1)=0),F17<5%),0,MAX(U$6:U16)+1)","v":11},0]
[null,null,null,null,null,"",{"$f":"IF(AND(C18=\"\",D18>0),\"Renseigner libellé liste ou n° panneau\",IF(C18=\"\",\"\",IF(OR('1.T1 ou T2 et sièges à pourvoir'!$L$6=2,SUMPRODUCT(($F$7:$F$56>0.5)*1)=1),\"Voir la répartition dans l'onglet 3\",IF(D18/$I$7>=0.1,\"Qualifié T2\",\"Non qualifié T2\"))))","v":""},null,null,null,null,null,null,null,null,null,null,null,null,null,{"$f":"IF(OR(AND('1.T1 ou T2 et sièges à pourvoir'!$L$6=1,SUMPRODUCT(($F$7:$F$56>=50%)*1)=0),F18<5%),0,MAX(U$6:U17)+1)","v":12},0]
[null,null,null,null,null,"",{"$f":"IF(AND(C19=\"\",D19>0),\"Renseigner libellé liste ou n° panneau\",IF(C19=\"\",\"\",IF(OR('1.T1 ou T2 et sièges à pourvoir'!$L$6=2,SUMPRODUCT(($F$7:$F$56>0.5)*1)=1),\"Voir la répartition dans l'onglet 3\",IF(D19/$I$7>=0.1,\"Qualifié T2\",\"Non qualifié T2\"))))","v":""},null,null,null,null,null,null,null,null,null,null,null,null,null,{"$f":"IF(OR(AND('1.T1 ou T2 et sièges à pourvoir'!$L$6=1,SUMPRODUCT(($F$7:$F$56>=50%)*1)=0),F19<5%),0,MAX(U$6:U18)+1)","v":13},0]
[null,null,null,null,null,"",{"$f":"IF(AND(C20=\"\",D20>0),\"Renseigner libellé liste ou n° panneau\",IF(C20=\"\",\"\",IF(OR('1.T1 ou T2 et sièges à pourvoir'!$L$6=2,SUMPRODUCT(($F$7:$F$56>0.5)*1)=1),\"Voir la répartition dans l'onglet 3\",IF(D20/$I$7>=0.1,\"Qualifié T2\",\"Non qualifié T2\"))))","v":""},null,null,null,null,null,null,null,null,null,null,null,null,null,{"$f":"IF(OR(AND('1.T1 ou T2 et sièges à pourvoir'!$L$6=1,SUMPRODUCT(($F$7:$F$56>=50%)*1)=0),F20<5%),0,MAX(U$6:U19)+1)","v":14},0]
[null,null,null,null,null,"",{"$f":"IF(AND(C21=\"\",D21>0),\"Renseigner libellé liste ou n° panneau\",IF(C21=\"\",\"\",IF(OR('1.T1 ou T2 et sièges à pourvoir'!$L$6=2,SUMPRODUCT(($F$7:$F$56>0.5)*1)=1),\"Voir la répartition dans l'onglet 3\",IF(D21/$I$7>=0.1,\"Qualifié T2\",\"Non qualifié T2\"))))","v":""},null,null,null,null,null,null,null,null,null,null,null,null,null,{"$f":"IF(OR(AND('1.T1 ou T2 et sièges à pourvoir'!$L$6=1,SUMPRODUCT(($F$7:$F$56>=50%)*1)=0),F21<5%),0,MAX(U$6:U20)+1)","v":15},0]
[null,null,null,null,null,"",{"$f":"IF(AND(C22=\"\",D22>0),\"Renseigner libellé liste ou n° panneau\",IF(C22=\"\",\"\",IF(OR('1.T1 ou T2 et sièges à pourvoir'!$L$6=2,SUMPRODUCT(($F$7:$F$56>0.5)*1)=1),\"Voir la répartition dans l'onglet 3\",IF(D22/$I$7>=0.1,\"Qualifié T2\",\"Non qualifié T2\"))))","v":""},null,null,null,null,null,null,null,null,null,null,null,null,null,{"$f":"IF(OR(AND('1.T1 ou T2 et sièges à pourvoir'!$L$6=1,SUMPRODUCT(($F$7:$F$56>=50%)*1)=0),F22<5%),0,MAX(U$6:U21)+1)","v":16},0]
[null,null,null,null,null,"",{"$f":"IF(AND(C23=\"\",D23>0),\"Renseigner libellé liste ou n° panneau\",IF(C23=\"\",\"\",IF(OR('1.T1 ou T2 et sièges à pourvoir'!$L$6=2,SUMPRODUCT(($F$7:$F$56>0.5)*1)=1),\"Voir la répartition dans l'onglet 3\",IF(D23/$I$7>=0.1,\"Qualifié T2\",\"Non qualifié T2\"))))","v":""},null,null,null,null,null,null,null,null,null,null,null,null,null,{"$f":"IF(OR(AND('1.T1 ou T2 et sièges à pourvoir'!$L$6=1,SUMPRODUCT(($F$7:$F$56>=50%)*1)=0),F23<5%),0,MAX(U$6:U22)+1)","v":17},0]
[null,null,null,null,null,"",{"$f":"IF(AND(C24=\"\",D24>0),\"Renseigner libellé liste ou n° panneau\",IF(C24=\"\",\"\",IF(OR('1.T1 ou T2 et sièges à pourvoir'!$L$6=2,SUMPRODUCT(($F$7:$F$56>0.5)*1)=1),\"Voir la répartition dans l'onglet 3\",IF(D24/$I$7>=0.1,\"Qualifié T2\",\"Non qualifié T2\"))))","v":""},null,null,null,null,null,null,null,null,null,null,null,null,null,{"$f":"IF(OR(AND('1.T1 ou T2 et sièges à pourvoir'!$L$6=1,SUMPRODUCT(($F$7:$F$56>=50%)*1)=0),F24<5%),0,MAX(U$6:U23)+1)","v":18},0]
[null,null,null,null,null,"",{"$f":"IF(AND(C25=\"\",D25>0),\"Renseigner libellé liste ou n° panneau\",IF(C25=\"\",\"\",IF(OR('1.T1 ou T2 et sièges à pourvoir'!$L$6=2,SUMPRODUCT(($F$7:$F$56>0.5)*1)=1),\"Voir la répartition dans l'onglet 3\",IF(D25/$I$7>=0.1,\"Qualifié T2\",\"Non qualifié T2\"))))","v":""},null,null,null,null,null,null,null,null,null,null,null,null,null,{"$f":"IF(OR(AND('1.T1 ou T2 et sièges à pourvoir'!$L$6=1,SUMPRODUCT(($F$7:$F$56>=50%)*1)=0),F25<5%),0,MAX(U$6:U24)+1)","v":19},0]
[null,null,null,null,null,"",{"$f":"IF(AND(C26=\"\",D26>0),\"Renseigner libellé liste ou n° panneau\",IF(C26=\"\",\"\",IF(OR('1.T1 ou T2 et sièges à pourvoir'!$L$6=2,SUMPRODUCT(($F$7:$F$56>0.5)*1)=1),\"Voir la répartition dans l'onglet 3\",IF(D26/$I$7>=0.1,\"Qualifié T2\",\"Non qualifié T2\"))))","v":""},null,null,null,null,null,null,null,null,null,null,null,null,null,{"$f":"IF(OR(AND('1.T1 ou T2 et sièges à pourvoir'!$L$6=1,SUMPRODUCT(($F$7:$F$56>=50%)*1)=0),F26<5%),0,MAX(U$6:U25)+1)","v":20},0]
[null,null,null,null,null,"",{"$f":"IF(AND(C27=\"\",D27>0),\"Renseigner libellé liste ou n° panneau\",IF(C27=\"\",\"\",IF(OR('1.T1 ou T2 et sièges à pourvoir'!$L$6=2,SUMPRODUCT(($F$7:$F$56>0.5)*1)=1),\"Voir la répartition dans l'onglet 3\",IF(D27/$I$7>=0.1,\"Qualifié T2\",\"Non qualifié T2\"))))","v":""},null,null,null,null,null,null,null,null,null,null,null,null,null,{"$f":"IF(OR(AND('1.T1 ou T2 et sièges à pourvoir'!$L$6=1,SUMPRODUCT(($F$7:$F$56>=50%)*1)=0),F27<5%),0,MAX(U$6:U26)+1)","v":21},0]
[null,null,null,null,null,"",{"$f":"IF(AND(C28=\"\",D28>0),\"Renseigner libellé liste ou n° panneau\",IF(C28=\"\",\"\",IF(OR('1.T1 ou T2 et sièges à pourvoir'!$L$6=2,SUMPRODUCT(($F$7:$F$56>0.5)*1)=1),\"Voir la répartition dans l'onglet 3\",IF(D28/$I$7>=0.1,\"Qualifié T2\",\"Non qualifié T2\"))))","v":""},null,null,null,null,null,null,null,null,null,null,null,null,null,{"$f":"IF(OR(AND('1.T1 ou T2 et sièges à pourvoir'!$L$6=1,SUMPRODUCT(($F$7:$F$56>=50%)*1)=0),F28<5%),0,MAX(U$6:U27)+1)","v":22},0]
[null,null,null,null,null,"",{"$f":"IF(AND(C29=\"\",D29>0),\"Renseigner libellé liste ou n° panneau\",IF(C29=\"\",\"\",IF(OR('1.T1 ou T2 et sièges à pourvoir'!$L$6=2,SUMPRODUCT(($F$7:$F$56>0.5)*1)=1),\"Voir la répartition dans l'onglet 3\",IF(D29/$I$7>=0.1,\"Qualifié T2\",\"Non qualifié T2\"))))","v":""},null,null,null,null,null,null,null,null,null,null,null,null,null,{"$f":"IF(OR(AND('1.T1 ou T2 et sièges à pourvoir'!$L$6=1,SUMPRODUCT(($F$7:$F$56>=50%)*1)=0),F29<5%),0,MAX(U$6:U28)+1)","v":23},0]
[null,null,null,null,null,"",{"$f":"IF(AND(C30=\"\",D30>0),\"Renseigner libellé liste ou n° panneau\",IF(C30=\"\",\"\",IF(OR('1.T1 ou T2 et sièges à pourvoir'!$L$6=2,SUMPRODUCT(($F$7:$F$56>0.5)*1)=1),\"Voir la répartition dans l'onglet 3\",IF(D30/$I$7>=0.1,\"Qualifié T2\",\"Non qualifié T2\"))))","v":""},null,null,null,null,null,null,null,null,null,null,null,null,null,{"$f":"IF(OR(AND('1.T1 ou T2 et sièges à pourvoir'!$L$6=1,SUMPRODUCT(($F$7:$F$56>=50%)*1)=0),F30<5%),0,MAX(U$6:U29)+1)","v":24},0]
[null,null,null,null,null,"",{"$f":"IF(AND(C31=\"\",D31>0),\"Renseigner libellé liste ou n° panneau\",IF(C31=\"\",\"\",IF(OR('1.T1 ou T2 et sièges à pourvoir'!$L$6=2,SUMPRODUCT(($F$7:$F$56>0.5)*1)=1),\"Voir la répartition dans l'onglet 3\",IF(D31/$I$7>=0.1,\"Qualifié T2\",\"Non qualifié T2\"))))","v":""},null,null,null,null,null,null,null,null,null,null,null,null,null,{"$f":"IF(OR(AND('1.T1 ou T2 et sièges à pourvoir'!$L$6=1,SUMPRODUCT(($F$7:$F$56>=50%)*1)=0),F31<5%),0,MAX(U$6:U30)+1)","v":25},0]
[null,null,null,null,null,"",{"$f":"IF(AND(C32=\"\",D32>0),\"Renseigner libellé liste ou n° panneau\",IF(C32=\"\",\"\",IF(OR('1.T1 ou T2 et sièges à pourvoir'!$L$6=2,SUMPRODUCT(($F$7:$F$56>0.5)*1)=1),\"Voir la répartition dans l'onglet 3\",IF(D32/$I$7>=0.1,\"Qualifié T2\",\"Non qualifié T2\"))))","v":""},null,null,null,null,null,null,null,null,null,null,null,null,null,{"$f":"IF(OR(AND('1.T1 ou T2 et sièges à pourvoir'!$L$6=1,SUMPRODUCT(($F$7:$F$56>=50%)*1)=0),F32<5%),0,MAX(U$6:U31)+1)","v":26},0]
[null,null,null,null,null,"",{"$f":"IF(AND(C33=\"\",D33>0),\"Renseigner libellé liste ou n° panneau\",IF(C33=\"\",\"\",IF(OR('1.T1 ou T2 et sièges à pourvoir'!$L$6=2,SUMPRODUCT(($F$7:$F$56>0.5)*1)=1),\"Voir la répartition dans l'onglet 3\",IF(D33/$I$7>=0.1,\"Qualifié T2\",\"Non qualifié T2\"))))","v":""},null,null,null,null,null,null,null,null,null,null,null,null,null,{"$f":"IF(OR(AND('1.T1 ou T2 et sièges à pourvoir'!$L$6=1,SUMPRODUCT(($F$7:$F$56>=50%)*1)=0),F33<5%),0,MAX(U$6:U32)+1)","v":27},0]
[null,null,null,null,null,"",{"$f":"IF(AND(C34=\"\",D34>0),\"Renseigner libellé liste ou n° panneau\",IF(C34=\"\",\"\",IF(OR('1.T1 ou T2 et sièges à pourvoir'!$L$6=2,SUMPRODUCT(($F$7:$F$56>0.5)*1)=1),\"Voir la répartition dans l'onglet 3\",IF(D34/$I$7>=0.1,\"Qualifié T2\",\"Non qualifié T2\"))))","v":""},null,null,null,null,null,null,null,null,null,null,null,null,null,{"$f":"IF(OR(AND('1.T1 ou T2 et sièges à pourvoir'!$L$6=1,SUMPRODUCT(($F$7:$F$56>=50%)*1)=0),F34<5%),0,MAX(U$6:U33)+1)","v":28},0]
[null,null,null,null,null,"",{"$f":"IF(AND(C35=\"\",D35>0),\"Renseigner libellé liste ou n° panneau\",IF(C35=\"\",\"\",IF(OR('1.T1 ou T2 et sièges à pourvoir'!$L$6=2,SUMPRODUCT(($F$7:$F$56>0.5)*1)=1),\"Voir la répartition dans l'onglet 3\",IF(D35/$I$7>=0.1,\"Qualifié T2\",\"Non qualifié T2\"))))","v":""},null,null,null,null,null,null,null,null,null,null,null,null,null,{"$f":"IF(OR(AND('1.T1 ou T2 et sièges à pourvoir'!$L$6=1,SUMPRODUCT(($F$7:$F$56>=50%)*1)=0),F35<5%),0,MAX(U$6:U34)+1)","v":29},0]
[null,null,null,null,null,"",{"$f":"IF(AND(C36=\"\",D36>0),\"Renseigner libellé liste ou n° panneau\",IF(C36=\"\",\"\",IF(OR('1.T1 ou T2 et sièges à pourvoir'!$L$6=2,SUMPRODUCT(($F$7:$F$56>0.5)*1)=1),\"Voir la répartition dans l'onglet 3\",IF(D36/$I$7>=0.1,\"Qualifié T2\",\"Non qualifié T2\"))))","v":""},null,null,null,null,null,null,null,null,null,null,null,null,null,{"$f":"IF(OR(AND('1.T1 ou T2 et sièges à pourvoir'!$L$6=1,SUMPRODUCT(($F$7:$F$56>=50%)*1)=0),F36<5%),0,MAX(U$6:U35)+1)","v":30},0]
[null,null,null,null,null,"",{"$f":"IF(AND(C37=\"\",D37>0),\"Renseigner libellé liste ou n° panneau\",IF(C37=\"\",\"\",IF(OR('1.T1 ou T2 et sièges à pourvoir'!$L$6=2,SUMPRODUCT(($F$7:$F$56>0.5)*1)=1),\"Voir la répartition dans l'onglet 3\",IF(D37/$I$7>=0.1,\"Qualifié T2\",\"Non qualifié T2\"))))","v":""},null,null,null,null,null,null,null,null,null,null,null,null,null,{"$f":"IF(OR(AND('1.T1 ou T2 et sièges à pourvoir'!$L$6=1,SUMPRODUCT(($F$7:$F$56>=50%)*1)=0),F37<5%),0,MAX(U$6:U36)+1)","v":31},0]
[null,null,null,null,null,"",{"$f":"IF(AND(C38=\"\",D38>0),\"Renseigner libellé liste ou n° panneau\",IF(C38=\"\",\"\",IF(OR('1.T1 ou T2 et sièges à pourvoir'!$L$6=2,SUMPRODUCT(($F$7:$F$56>0.5)*1)=1),\"Voir la répartition dans l'onglet 3\",IF(D38/$I$7>=0.1,\"Qualifié T2\",\"Non qualifié T2\"))))","v":""},null,null,null,null,null,null,null,null,null,null,null,null,null,{"$f":"IF(OR(AND('1.T1 ou T2 et sièges à pourvoir'!$L$6=1,SUMPRODUCT(($F$7:$F$56>=50%)*1)=0),F38<5%),0,MAX(U$6:U37)+1)","v":32},0]
[null,null,null,null,null,{"$f":"IFERROR(D39/Total_SE,\"\")","v":""},{"$f":"IF(AND(C39=\"\",D39>0),\"Renseigner libellé liste ou n° panneau\",IF(C39=\"\",\"\",IF(OR('1.T1 ou T2 et sièges à pourvoir'!$L$6=2,SUMPRODUCT(($F$7:$F$56>0.5)*1)=1),\"Voir la répartition dans l'onglet 3\",IF(D39/$I$7>=0.1,\"Qualifié T2\",\"Non qualifié T2\"))))","v":""},null,null,null,null,null,null,null,null,null,null,null,null,null,{"$f":"IF(OR(AND('1.T1 ou T2 et sièges à pourvoir'!$L$6=1,SUMPRODUCT(($F$7:$F$56>=50%)*1)=0),F39<5%),0,MAX(U$6:U38)+1)","v":33},{"$f":"C39","v":0}]
[null,null,null,null,null,"",{"$f":"IF(AND(C40=\"\",D40>0),\"Renseigner libellé liste ou n° panneau\",IF(C40=\"\",\"\",IF(OR('1.T1 ou T2 et sièges à pourvoir'!$L$6=2,SUMPRODUCT(($F$7:$F$56>0.5)*1)=1),\"Voir la répartition dans l'onglet 3\",IF(D40/$I$7>=0.1,\"Qualifié T2\",\"Non qualifié T2\"))))","v":""},null,null,null,null,null,null,null,null,null,null,null,null,null,{"$f":"IF(OR(AND('1.T1 ou T2 et sièges à pourvoir'!$L$6=1,SUMPRODUCT(($F$7:$F$56>=50%)*1)=0),F40<5%),0,MAX(U$6:U39)+1)","v":34},0]
[null,null,null,null,null,"",{"$f":"IF(AND(C41=\"\",D41>0),\"Renseigner libellé liste ou n° panneau\",IF(C41=\"\",\"\",IF(OR('1.T1 ou T2 et sièges à pourvoir'!$L$6=2,SUMPRODUCT(($F$7:$F$56>0.5)*1)=1),\"Voir la répartition dans l'onglet 3\",IF(D41/$I$7>=0.1,\"Qualifié T2\",\"Non qualifié T2\"))))","v":""},null,null,null,null,null,null,null,null,null,null,null,null,null,{"$f":"IF(OR(AND('1.T1 ou T2 et sièges à pourvoir'!$L$6=1,SUMPRODUCT(($F$7:$F$56>=50%)*1)=0),F41<5%),0,MAX(U$6:U40)+1)","v":35},0]
[null,null,null,null,null,"",{"$f":"IF(AND(C42=\"\",D42>0),\"Renseigner libellé liste ou n° panneau\",IF(C42=\"\",\"\",IF(OR('1.T1 ou T2 et sièges à pourvoir'!$L$6=2,SUMPRODUCT(($F$7:$F$56>0.5)*1)=1),\"Voir la répartition dans l'onglet 3\",IF(D42/$I$7>=0.1,\"Qualifié T2\",\"Non qualifié T2\"))))","v":""},null,null,null,null,null,null,null,null,null,null,null,null,null,{"$f":"IF(OR(AND('1.T1 ou T2 et sièges à pourvoir'!$L$6=1,SUMPRODUCT(($F$7:$F$56>=50%)*1)=0),F42<5%),0,MAX(U$6:U41)+1)","v":36},0]
[null,null,null,null,null,"",{"$f":"IF(AND(C43=\"\",D43>0),\"Renseigner libellé liste ou n° panneau\",IF(C43=\"\",\"\",IF(OR('1.T1 ou T2 et sièges à pourvoir'!$L$6=2,SUMPRODUCT(($F$7:$F$56>0.5)*1)=1),\"Voir la répartition dans l'onglet 3\",IF(D43/$I$7>=0.1,\"Qualifié T2\",\"Non qualifié T2\"))))","v":""},null,null,null,null,null,null,null,null,null,null,null,null,null,{"$f":"IF(OR(AND('1.T1 ou T2 et sièges à pourvoir'!$L$6=1,SUMPRODUCT(($F$7:$F$56>=50%)*1)=0),F43<5%),0,MAX(U$6:U42)+1)","v":37},0]
[null,null,null,null,null,"",{"$f":"IF(AND(C44=\"\",D44>0),\"Renseigner libellé liste ou n° panneau\",IF(C44=\"\",\"\",IF(OR('1.T1 ou T2 et sièges à pourvoir'!$L$6=2,SUMPRODUCT(($F$7:$F$56>0.5)*1)=1),\"Voir la répartition dans l'onglet 3\",IF(D44/$I$7>=0.1,\"Qualifié T2\",\"Non qualifié T2\"))))","v":""},null,null,null,null,null,null,null,null,null,null,null,null,null,{"$f":"IF(OR(AND('1.T1 ou T2 et sièges à pourvoir'!$L$6=1,SUMPRODUCT(($F$7:$F$56>=50%)*1)=0),F44<5%),0,MAX(U$6:U43)+1)","v":38},0]
[null,null,null,null,null,"",{"$f":"IF(AND(C45=\"\",D45>0),\"Renseigner libellé liste ou n° panneau\",IF(C45=\"\",\"\",IF(OR('1.T1 ou T2 et sièges à pourvoir'!$L$6=2,SUMPRODUCT(($F$7:$F$56>0.5)*1)=1),\"Voir la répartition dans l'onglet 3\",IF(D45/$I$7>=0.1,\"Qualifié T2\",\"Non qualifié T2\"))))","v":""},null,null,null,null,null,null,null,null,null,null,null,null,null,{"$f":"IF(OR(AND('1.T1 ou T2 et sièges à pourvoir'!$L$6=1,SUMPRODUCT(($F$7:$F$56>=50%)*1)=0),F45<5%),0,MAX(U$6:U44)+1)","v":39},0]
[null,null,null,null,null,"",{"$f":"IF(AND(C46=\"\",D46>0),\"Renseigner libellé liste ou n° panneau\",IF(C46=\"\",\"\",IF(OR('1.T1 ou T2 et sièges à pourvoir'!$L$6=2,SUMPRODUCT(($F$7:$F$56>0.5)*1)=1),\"Voir la répartition dans l'onglet 3\",IF(D46/$I$7>=0.1,\"Qualifié T2\",\"Non qualifié T2\"))))","v":""},null,null,null,null,null,null,null,null,null,null,null,null,null,{"$f":"IF(OR(AND('1.T1 ou T2 et sièges à pourvoir'!$L$6=1,SUMPRODUCT(($F$7:$F$56>=50%)*1)=0),F46<5%),0,MAX(U$6:U45)+1)","v":40},0]
[null,null,null,null,null,"",{"$f":"IF(AND(C47=\"\",D47>0),\"Renseigner libellé liste ou n° panneau\",IF(C47=\"\",\"\",IF(OR('1.T1 ou T2 et sièges à pourvoir'!$L$6=2,SUMPRODUCT(($F$7:$F$56>0.5)*1)=1),\"Voir la répartition dans l'onglet 3\",IF(D47/$I$7>=0.1,\"Qualifié T2\",\"Non qualifié T2\"))))","v":""},null,null,null,null,null,null,null,null,null,null,null,null,null,{"$f":"IF(OR(AND('1.T1 ou T2 et sièges à pourvoir'!$L$6=1,SUMPRODUCT(($F$7:$F$56>=50%)*1)=0),F47<5%),0,MAX(U$6:U46)+1)","v":41},0]
[null,null,null,null,null,"",{"$f":"IF(AND(C48=\"\",D48>0),\"Renseigner libellé liste ou n° panneau\",IF(C48=\"\",\"\",IF(OR('1.T1 ou T2 et sièges à pourvoir'!$L$6=2,SUMPRODUCT(($F$7:$F$56>0.5)*1)=1),\"Voir la répartition dans l'onglet 3\",IF(D48/$I$7>=0.1,\"Qualifié T2\",\"Non qualifié T2\"))))","v":""},null,null,null,null,null,null,null,null,null,null,null,null,null,{"$f":"IF(OR(AND('1.T1 ou T2 et sièges à pourvoir'!$L$6=1,SUMPRODUCT(($F$7:$F$56>=50%)*1)=0),F48<5%),0,MAX(U$6:U47)+1)","v":42},0]
[null,null,null,null,null,"",{"$f":"IF(AND(C49=\"\",D49>0),\"Renseigner libellé liste ou n° panneau\",IF(C49=\"\",\"\",IF(OR('1.T1 ou T2 et sièges à pourvoir'!$L$6=2,SUMPRODUCT(($F$7:$F$56>0.5)*1)=1),\"Voir la répartition dans l'onglet 3\",IF(D49/$I$7>=0.1,\"Qualifié T2\",\"Non qualifié T2\"))))","v":""},null,null,null,null,null,null,null,null,null,null,null,null,null,{"$f":"IF(OR(AND('1.T1 ou T2 et sièges à pourvoir'!$L$6=1,SUMPRODUCT(($F$7:$F$56>=50%)*1)=0),F49<5%),0,MAX(U$6:U48)+1)","v":43},0]
[null,null,null,null,null,"",{"$f":"IF(AND(C50=\"\",D50>0),\"Renseigner libellé liste ou n° panneau\",IF(C50=\"\",\"\",IF(OR('1.T1 ou T2 et sièges à pourvoir'!$L$6=2,SUMPRODUCT(($F$7:$F$56>0.5)*1)=1),\"Voir la répartition dans l'onglet 3\",IF(D50/$I$7>=0.1,\"Qualifié T2\",\"Non qualifié T2\"))))","v":""},null,null,null,null,null,null,null,null,null,null,null,null,null,{"$f":"IF(OR(AND('1.T1 ou T2 et sièges à pourvoir'!$L$6=1,SUMPRODUCT(($F$7:$F$56>=50%)*1)=0),F50<5%),0,MAX(U$6:U49)+1)","v":44},0]
[null,null,null,null,null,"",{"$f":"IF(AND(C51=\"\",D51>0),\"Renseigner libellé liste ou n° panneau\",IF(C51=\"\",\"\",IF(OR('1.T1 ou T2 et sièges à pourvoir'!$L$6=2,SUMPRODUCT(($F$7:$F$56>0.5)*1)=1),\"Voir la répartition dans l'onglet 3\",IF(D51/$I$7>=0.1,\"Qualifié T2\",\"Non qualifié T2\"))))","v":""},null,null,null,null,null,null,null,null,null,null,null,null,null,{"$f":"IF(OR(AND('1.T1 ou T2 et sièges à pourvoir'!$L$6=1,SUMPRODUCT(($F$7:$F$56>=50%)*1)=0),F51<5%),0,MAX(U$6:U50)+1)","v":45},0]
[null,null,null,null,null,"",{"$f":"IF(AND(C52=\"\",D52>0),\"Renseigner libellé liste ou n° panneau\",IF(C52=\"\",\"\",IF(OR('1.T1 ou T2 et sièges à pourvoir'!$L$6=2,SUMPRODUCT(($F$7:$F$56>0.5)*1)=1),\"Voir la répartition dans l'onglet 3\",IF(D52/$I$7>=0.1,\"Qualifié T2\",\"Non qualifié T2\"))))","v":""},null,null,null,null,null,null,null,null,null,null,null,null,null,{"$f":"IF(OR(AND('1.T1 ou T2 et sièges à pourvoir'!$L$6=1,SUMPRODUCT(($F$7:$F$56>=50%)*1)=0),F52<5%),0,MAX(U$6:U51)+1)","v":46},0]
[null,null,null,null,null,"",{"$f":"IF(AND(C53=\"\",D53>0),\"Renseigner libellé liste ou n° panneau\",IF(C53=\"\",\"\",IF(OR('1.T1 ou T2 et sièges à pourvoir'!$L$6=2,SUMPRODUCT(($F$7:$F$56>0.5)*1)=1),\"Voir la répartition dans l'onglet 3\",IF(D53/$I$7>=0.1,\"Qualifié T2\",\"Non qualifié T2\"))))","v":""},null,null,null,null,null,null,null,null,null,null,null,null,null,{"$f":"IF(OR(AND('1.T1 ou T2 et sièges à pourvoir'!$L$6=1,SUMPRODUCT(($F$7:$F$56>=50%)*1)=0),F53<5%),0,MAX(U$6:U52)+1)","v":47},0]
[null,null,null,null,null,"",{"$f":"IF(AND(C54=\"\",D54>0),\"Renseigner libellé liste ou n° panneau\",IF(C54=\"\",\"\",IF(OR('1.T1 ou T2 et sièges à pourvoir'!$L$6=2,SUMPRODUCT(($F$7:$F$56>0.5)*1)=1),\"Voir la répartition dans l'onglet 3\",IF(D54/$I$7>=0.1,\"Qualifié T2\",\"Non qualifié T2\"))))","v":""},null,null,null,null,null,null,null,null,null,null,null,null,null,{"$f":"IF(OR(AND('1.T1 ou T2 et sièges à pourvoir'!$L$6=1,SUMPRODUCT(($F$7:$F$56>=50%)*1)=0),F54<5%),0,MAX(U$6:U53)+1)","v":48},0]
[null,null,null,null,null,"",{"$f":"IF(AND(C55=\"\",D55>0),\"Renseigner libellé liste ou n° panneau\",IF(C55=\"\",\"\",IF(OR('1.T1 ou T2 et sièges à pourvoir'!$L$6=2,SUMPRODUCT(($F$7:$F$56>0.5)*1)=1),\"Voir la répartition dans l'onglet 3\",IF(D55/$I$7>=0.1,\"Qualifié T2\",\"Non qualifié T2\"))))","v":""},null,null,null,null,null,null,null,null,null,null,null,null,null,{"$f":"IF(OR(AND('1.T1 ou T2 et sièges à pourvoir'!$L$6=1,SUMPRODUCT(($F$7:$F$56>=50%)*1)=0),F55<5%),0,MAX(U$6:U54)+1)","v":49},0]
[null,null,null,null,null,"",{"$f":"IF(AND(C56=\"\",D56>0),\"Renseigner libellé liste ou n° panneau\",IF(C56=\"\",\"\",IF(OR('1.T1 ou T2 et sièges à pourvoir'!$L$6=2,SUMPRODUCT(($F$7:$F$56>0.5)*1)=1),\"Voir la répartition dans l'onglet 3\",IF(D56/$I$7>=0.1,\"Qualifié T2\",\"Non qualifié T2\"))))","v":""},null,null,null,null,null,null,null,null,null,null,null,null,null,{"$f":"IF(OR(AND('1.T1 ou T2 et sièges à pourvoir'!$L$6=1,SUMPRODUCT(($F$7:$F$56>=50%)*1)=0),F56<5%),0,MAX(U$6:U55)+1)","v":50},0]

{"sheet":"3. Répartition des sièges CM","index":3,"n_rows":57,"n_cols":8,"rows_kept":57,"cut":false,"hidden":false,"merged":[[3,3,3,4],[5,2,5,7]]}
[null,{"$f":"IF(SUM($F$8:$F$57)='1.T1 ou T2 et sièges à pourvoir'!sieges_a_pourvoir_CM,\"CM complet\",\"\")","v":"CM complet"}]
[null,"Outil de calcul de la répartition des sièges de conseillers municipaux et de conseillers communautaires pour les communes de moins de 1 000 habitants\n"]
[null,"Aide à la répartition des sièges au CM, conformément à la loi n°2025-444 du 21 mai 2025 visant à harmoniser le mode de scrutin aux élections municipales afin de garantir la vitalité démocratique, la cohésion municipale et la parité."]
[null,null,"REPARTITION DES SIEGES \nDU CONSEIL MUNICIPAL",{"$f":"IF('Erreurs CM'!$R$2>0,\"Egalité des voix des listes arrivées en tête pour l'attribution de la prime majoritaire. \nAttribution de la prime majoritaire à la liste dont les candidats ont la moyenne d'âge la plus élevée :\",\"\")","v":""}]
[null,null,{"$f":"IF(SUM(F8:F57)=0,\"\",IF(AND(SUM(G8:G57)='1.T1 ou T2 et sièges à pourvoir'!sieges_a_pourvoir_CM,SUM('3. Répartition des sièges CM'!H8:H57)=0),\"Intégralité des \"&'1.T1 ou T2 et sièges à pourvoir'!sieges_a_pourvoir_CM&\" sièges du CM pourvus. CM complet.\",IF(SUM(D8:D57)=0,\"\",\"CM réputé complet. \"&SUM(H8:H57)&\" siège\"&IF(SUM(H8:H57)=1,\"\",\"s\")&\" reste\"&IF(SUM(H8:H57)=1,\"\",\"nt\")&\" vacant\"&IF(SUM(H8:H57)=1,\"\",\"s\")&\".\")))","v":""}]
[null,null,{"$f":"IF(SUM('erreurs calcul répartCM'!$K$2:$BR$2)>0,\"Egalité de moyenne pour la répartition du \"&IF(SUM('erreurs calcul répartCM'!J$3:$BQ$3)=1,\"1er\",SUM('erreurs calcul répartCM'!J$3:$BQ$3)&\"ème\")&\" siège à la plus forte moyenne : choisir manuellement la liste bénéficiaire de ce siège (ligne 7 de l'onglet '3bis. Calcul répartition CM')\",\"\")","v":""}]
[null,null,"Libellé liste ou N° panneau ou Nom tête de liste","Prime majoritaire","Répartition proportionnelle","Total du nombre de sièges répartis selon l'effectif légal","Total du nombre de sièges répartis au regard du nombre de candidats","Total de siège(s) vacant(s) dans le CM si réputé complet"]
[null,null,{"$f":"IF('2. Voix obtenues'!C7=0,\"\",'2. Voix obtenues'!C7)","v":""},{"$f":"IF(C8=\"\",0,IF($D$4<>\"\",IF($F$4<>$C8,0,'1.T1 ou T2 et sièges à pourvoir'!sieges_a_la_PM_CM),\n  IF('2. Voix obtenues'!G7=\"Voir la répartition dans l'onglet 3\",IF('2. Voix obtenues'!F7<5%,0,\n                                                               IF('2. Voix obtenues'!D7=MAX('2. Voix obtenues'!$D$7:$D$56),'1.T1 ou T2 et sièges à pourvoir'!sieges_a_la_PM_CM,0)),0)))","v":0},{"$f":"IF(C8=\"\",0,IF('3bis. Calcul répartition CM'!$D$6='3bis. Calcul répartition CM'!$C$2,SUMPRODUCT(($C8='3bis. Calcul répartition CM'!$B$9:$B$58)*('3bis. Calcul répartition CM'!$D$9:$D$58)),\n                   IF(SUM('erreurs calcul répartCM'!$K$2:$BR$2)>0,0,SUMPRODUCT(($C8='3bis. Calcul répartition CM'!$B$9:$B$58)*('3bis. Calcul répartition CM'!$F$9:$F$58)))))","v":0},{"$f":"IF(SUM('erreurs calcul répartCM'!$K$2:$BR$2)>0,0,D8+E8)","v":0},{"$f":"IF(F8>'2. Voix obtenues'!E7,'2. Voix obtenues'!E7,F8)","v":0},{"$f":"F8-G8","v":0}]
[null,null,{"$f":"IF('2. Voix obtenues'!C8=0,\"\",'2. Voix obtenues'!C8)","v":""},{"$f":"IF(C9=\"\",0,IF($D$4<>\"\",IF($F$4<>$C9,0,'1.T1 ou T2 et sièges à pourvoir'!sieges_a_la_PM_CM),\n  IF('2. Voix obtenues'!G8=\"Voir la répartition dans l'onglet 3\",IF('2. Voix obtenues'!F8<5%,0,\n                                                               IF('2. Voix obtenues'!D8=MAX('2. Voix obtenues'!$D$7:$D$56),'1.T1 ou T2 et sièges à pourvoir'!sieges_a_la_PM_CM,0)),0)))","v":0},{"$f":"IF(C9=\"\",0,IF('3bis. Calcul répartition CM'!$D$6='3bis. Calcul répartition CM'!$C$2,SUMPRODUCT(($C9='3bis. Calcul répartition CM'!$B$9:$B$58)*('3bis. Calcul répartition CM'!$D$9:$D$58)),\n                   IF(SUM('erreurs calcul répartCM'!$K$2:$BR$2)>0,0,SUMPRODUCT(($C9='3bis. Calcul répartition CM'!$B$9:$B$58)*('3bis. Calcul répartition CM'!$F$9:$F$58)))))","v":0},{"$f":"IF(SUM('erreurs calcul répartCM'!$K$2:$BR$2)>0,0,D9+E9)","v":0},{"$f":"IF(F9>'2. Voix obtenues'!E8,'2. Voix obtenues'!E8,F9)","v":0},0]
[null,null,{"$f":"IF('2. Voix obtenues'!C9=0,\"\",'2. Voix obtenues'!C9)","v":""},{"$f":"IF(C10=\"\",0,IF($D$4<>\"\",IF($F$4<>$C10,0,'1.T1 ou T2 et sièges à pourvoir'!sieges_a_la_PM_CM),\n  IF('2. Voix obtenues'!G9=\"Voir la répartition dans l'onglet 3\",IF('2. Voix obtenues'!F9<5%,0,\n                                                               IF('2. Voix obtenues'!D9=MAX('2. Voix obtenues'!$D$7:$D$56),'1.T1 ou T2 et sièges à pourvoir'!sieges_a_la_PM_CM,0)),0)))","v":0},{"$f":"IF(C10=\"\",0,IF('3bis. Calcul répartition CM'!$D$6='3bis. Calcul répartition CM'!$C$2,SUMPRODUCT(($C10='3bis. Calcul répartition CM'!$B$9:$B$58)*('3bis. Calcul répartition CM'!$D$9:$D$58)),\n                   IF(SUM('erreurs calcul répartCM'!$K$2:$BR$2)>0,0,SUMPRODUCT(($C10='3bis. Calcul répartition CM'!$B$9:$B$58)*('3bis. Calcul répartition CM'!$F$9:$F$58)))))","v":0},{"$f":"IF(SUM('erreurs calcul répartCM'!$K$2:$BR$2)>0,0,D10+E10)","v":0},{"$f":"IF(F10>'2. Voix obtenues'!E9,'2. Voix obtenues'!E9,F10)","v":0},0]
[null,null,{"$f":"IF('2. Voix obtenues'!C10=0,\"\",'2. Voix obtenues'!C10)","v":""},{"$f":"IF(C11=\"\",0,IF($D$4<>\"\",IF($F$4<>$C11,0,'1.T1 ou T2 et sièges à pourvoir'!sieges_a_la_PM_CM),\n  IF('2. Voix obtenues'!G10=\"Voir la répartition dans l'onglet 3\",IF('2. Voix obtenues'!F10<5%,0,\n                                                               IF('2. Voix obtenues'!D10=MAX('2. Voix obtenues'!$D$7:$D$56),'1.T1 ou T2 et sièges à pourvoir'!sieges_a_la_PM_CM,0)),0)))","v":0},{"$f":"IF(C11=\"\",0,IF('3bis. Calcul répartition CM'!$D$6='3bis. Calcul répartition CM'!$C$2,SUMPRODUCT(($C11='3bis. Calcul répartition CM'!$B$9:$B$58)*('3bis. Calcul répartition CM'!$D$9:$D$58)),\n                   IF(SUM('erreurs calcul répartCM'!$K$2:$BR$2)>0,0,SUMPRODUCT(($C11='3bis. Calcul répartition CM'!$B$9:$B$58)*('3bis. Calcul répartition CM'!$F$9:$F$58)))))","v":0},{"$f":"IF(SUM('erreurs calcul répartCM'!$K$2:$BR$2)>0,0,D11+E11)","v":0},{"$f":"IF(F11>'2. Voix obtenues'!E10,'2. Voix obtenues'!E10,F11)","v":0},0]
[null,null,{"$f":"IF('2. Voix obtenues'!C11=0,\"\",'2. Voix obtenues'!C11)","v":""},{"$f":"IF(C12=\"\",0,IF($D$4<>\"\",IF($F$4<>$C12,0,'1.T1 ou T2 et sièges à pourvoir'!sieges_a_la_PM_CM),\n  IF('2. Voix obtenues'!G11=\"Voir la répartition dans l'onglet 3\",IF('2. Voix obtenues'!F11<5%,0,\n                                                               IF('2. Voix obtenues'!D11=MAX('2. Voix obtenues'!$D$7:$D$56),'1.T1 ou T2 et sièges à pourvoir'!sieges_a_la_PM_CM,0)),0)))","v":0},{"$f":"IF(C12=\"\",0,IF('3bis. Calcul répartition CM'!$D$6='3bis. Calcul répartition CM'!$C$2,SUMPRODUCT(($C12='3bis. Calcul répartition CM'!$B$9:$B$58)*('3bis. Calcul répartition CM'!$D$9:$D$58)),\n                   IF(SUM('erreurs calcul répartCM'!$K$2:$BR$2)>0,0,SUMPRODUCT(($C12='3bis. Calcul répartition CM'!$B$9:$B$58)*('3bis. Calcul répartition CM'!$F$9:$F$58)))))","v":0},{"$f":"IF(SUM('erreurs calcul répartCM'!$K$2:$BR$2)>0,0,D12+E12)","v":0},{"$f":"IF(F12>'2. Voix obtenues'!E11,'2. Voix obtenues'!E11,F12)","v":0},0]
[null,null,{"$f":"IF('2. Voix obtenues'!C12=0,\"\",'2. Voix obtenues'!C12)","v":""},{"$f":"IF(C13=\"\",0,IF($D$4<>\"\",IF($F$4<>$C13,0,'1.T1 ou T2 et sièges à pourvoir'!sieges_a_la_PM_CM),\n  IF('2. Voix obtenues'!G12=\"Voir la répartition dans l'onglet 3\",IF('2. Voix obtenues'!F12<5%,0,\n                                                               IF('2. Voix obtenues'!D12=MAX('2. Voix obtenues'!$D$7:$D$56),'1.T1 ou T2 et sièges à pourvoir'!sieges_a_la_PM_CM,0)),0)))","v":0},{"$f":"IF(C13=\"\",0,IF('3bis. Calcul répartition CM'!$D$6='3bis. Calcul répartition CM'!$C$2,SUMPRODUCT(($C13='3bis. Calcul répartition CM'!$B$9:$B$58)*('3bis. Calcul répartition CM'!$D$9:$D$58)),\n                   IF(SUM('erreurs calcul répartCM'!$K$2:$BR$2)>0,0,SUMPRODUCT(($C13='3bis. Calcul répartition CM'!$B$9:$B$58)*('3bis. Calcul répartition CM'!$F$9:$F$58)))))","v":0},{"$f":"IF(SUM('erreurs calcul répartCM'!$K$2:$BR$2)>0,0,D13+E13)","v":0},{"$f":"IF(F13>'2. Voix obtenues'!E12,'2. Voix obtenues'!E12,F13)","v":0},0]
[null,null,{"$f":"IF('2. Voix obtenues'!C13=0,\"\",'2. Voix obtenues'!C13)","v":""},{"$f":"IF(C14=\"\",0,IF($D$4<>\"\",IF($F$4<>$C14,0,'1.T1 ou T2 et sièges à pourvoir'!sieges_a_la_PM_CM),\n  IF('2. Voix obtenues'!G13=\"Voir la répartition dans l'onglet 3\",IF('2. Voix obtenues'!F13<5%,0,\n                                                               IF('2. Voix obtenues'!D13=MAX('2. Voix obtenues'!$D$7:$D$56),'1.T1 ou T2 et sièges à pourvoir'!sieges_a_la_PM_CM,0)),0)))","v":0},{"$f":"IF(C14=\"\",0,IF('3bis. Calcul répartition CM'!$D$6='3bis. Calcul répartition CM'!$C$2,SUMPRODUCT(($C14='3bis. Calcul répartition CM'!$B$9:$B$58)*('3bis. Calcul répartition CM'!$D$9:$D$58)),\n                   IF(SUM('erreurs calcul répartCM'!$K$2:$BR$2)>0,0,SUMPRODUCT(($C14='3bis. Calcul répartition CM'!$B$9:$B$58)*('3bis. Calcul répartition CM'!$F$9:$F$58)))))","v":0},{"$f":"IF(SUM('erreurs calcul répartCM'!$K$2:$BR$2)>0,0,D14+E14)","v":0},{"$f":"IF(F14>'2. Voix obtenues'!E13,'2. Voix obtenues'!E13,F14)","v":0},0]
[null,null,{"$f":"IF('2. Voix obtenues'!C14=0,\"\",'2. Voix obtenues'!C14)","v":""},{"$f":"IF(C15=\"\",0,IF($D$4<>\"\",IF($F$4<>$C15,0,'1.T1 ou T2 et sièges à pourvoir'!sieges_a_la_PM_CM),\n  IF('2. Voix obtenues'!G14=\"Voir la répartition dans l'onglet 3\",IF('2. Voix obtenues'!F14<5%,0,\n                                                               IF('2. Voix obtenues'!D14=MAX('2. Voix obtenues'!$D$7:$D$56),'1.T1 ou T2 et sièges à pourvoir'!sieges_a_la_PM_CM,0)),0)))","v":0},{"$f":"IF(C15=\"\",0,IF('3bis. Calcul répartition CM'!$D$6='3bis. Calcul répartition CM'!$C$2,SUMPRODUCT(($C15='3bis. Calcul répartition CM'!$B$9:$B$58)*('3bis. Calcul répartition CM'!$D$9:$D$58)),\n                   IF(SUM('erreurs calcul répartCM'!$K$2:$BR$2)>0,0,SUMPRODUCT(($C15='3bis. Calcul répartition CM'!$B$9:$B$58)*('3bis. Calcul répartition CM'!$F$9:$F$58)))))","v":0},{"$f":"IF(SUM('erreurs calcul répartCM'!$K$2:$BR$2)>0,0,D15+E15)","v":0},{"$f":"IF(F15>'2. Voix obtenues'!E14,'2. Voix obtenues'!E14,F15)","v":0},0]
[null,null,{"$f":"IF('2. Voix obtenues'!C15=0,\"\",'2. Voix obtenues'!C15)","v":""},{"$f":"IF(C16=\"\",0,IF($D$4<>\"\",IF($F$4<>$C16,0,'1.T1 ou T2 et sièges à pourvoir'!sieges_a_la_PM_CM),\n  IF('2. Voix obtenues'!G15=\"Voir la répartition dans l'onglet 3\",IF('2. Voix obtenues'!F15<5%,0,\n                                                               IF('2. Voix obtenues'!D15=MAX('2. Voix obtenues'!$D$7:$D$56),'1.T1 ou T2 et sièges à pourvoir'!sieges_a_la_PM_CM,0)),0)))","v":0},{"$f":"IF(C16=\"\",0,IF('3bis. Calcul répartition CM'!$D$6='3bis. Calcul répartition CM'!$C$2,SUMPRODUCT(($C16='3bis. Calcul répartition CM'!$B$9:$B$58)*('3bis. Calcul répartition CM'!$D$9:$D$58)),\n                   IF(SUM('erreurs calcul répartCM'!$K$2:$BR$2)>0,0,SUMPRODUCT(($C16='3bis. Calcul répartition CM'!$B$9:$B$58)*('3bis. Calcul répartition CM'!$F$9:$F$58)))))","v":0},{"$f":"IF(SUM('erreurs calcul répartCM'!$K$2:$BR$2)>0,0,D16+E16)","v":0},{"$f":"IF(F16>'2. Voix obtenues'!E15,'2. Voix obtenues'!E15,F16)","v":0},0]
[null,null,{"$f":"IF('2. Voix obtenues'!C16=0,\"\",'2. Voix obtenues'!C16)","v":""},{"$f":"IF(C17=\"\",0,IF($D$4<>\"\",IF($F$4<>$C17,0,'1.T1 ou T2 et sièges à pourvoir'!sieges_a_la_PM_CM),\n  IF('2. Voix obtenues'!G16=\"Voir la répartition dans l'onglet 3\",IF('2. Voix obtenues'!F16<5%,0,\n                                                               IF('2. Voix obtenues'!D16=MAX('2. Voix obtenues'!$D$7:$D$56),'1.T1 ou T2 et sièges à pourvoir'!sieges_a_la_PM_CM,0)),0)))","v":0},{"$f":"IF(C17=\"\",0,IF('3bis. Calcul répartition CM'!$D$6='3bis. Calcul répartition CM'!$C$2,SUMPRODUCT(($C17='3bis. Calcul répartition CM'!$B$9:$B$58)*('3bis. Calcul répartition CM'!$D$9:$D$58)),\n                   IF(SUM('erreurs calcul répartCM'!$K$2:$BR$2)>0,0,SUMPRODUCT(($C17='3bis. Calcul répartition CM'!$B$9:$B$58)*('3bis. Calcul répartition CM'!$F$9:$F$58)))))","v":0},{"$f":"IF(SUM('erreurs calcul répartCM'!$K$2:$BR$2)>0,0,D17+E17)","v":0},{"$f":"IF(F17>'2. Voix obtenues'!E16,'2. Voix obtenues'!E16,F17)","v":0},0]
[null,null,{"$f":"IF('2. Voix obtenues'!C17=0,\"\",'2. Voix obtenues'!C17)","v":""},{"$f":"IF(C18=\"\",0,IF($D$4<>\"\",IF($F$4<>$C18,0,'1.T1 ou T2 et sièges à pourvoir'!sieges_a_la_PM_CM),\n  IF('2. Voix obtenues'!G17=\"Voir la répartition dans l'onglet 3\",IF('2. Voix obtenues'!F17<5%,0,\n                                                               IF('2. Voix obtenues'!D17=MAX('2. Voix obtenues'!$D$7:$D$56),'1.T1 ou T2 et sièges à pourvoir'!sieges_a_la_PM_CM,0)),0)))","v":0},{"$f":"IF(C18=\"\",0,IF('3bis. Calcul répartition CM'!$D$6='3bis. Calcul répartition CM'!$C$2,SUMPRODUCT(($C18='3bis. Calcul répartition CM'!$B$9:$B$58)*('3bis. Calcul répartition CM'!$D$9:$D$58)),\n                   IF(SUM('erreurs calcul répartCM'!$K$2:$BR$2)>0,0,SUMPRODUCT(($C18='3bis. Calcul répartition CM'!$B$9:$B$58)*('3bis. Calcul répartition CM'!$F$9:$F$58)))))","v":0},{"$f":"IF(SUM('erreurs calcul répartCM'!$K$2:$BR$2)>0,0,D18+E18)","v":0},{"$f":"IF(F18>'2. Voix obtenues'!E17,'2. Voix obtenues'!E17,F18)","v":0},0]
[null,null,{"$f":"IF('2. Voix obtenues'!C18=0,\"\",'2. Voix obtenues'!C18)","v":""},{"$f":"IF(C19=\"\",0,IF($D$4<>\"\",IF($F$4<>$C19,0,'1.T1 ou T2 et sièges à pourvoir'!sieges_a_la_PM_CM),\n  IF('2. Voix obtenues'!G18=\"Voir la répartition dans l'onglet 3\",IF('2. Voix obtenues'!F18<5%,0,\n                                                               IF('2. Voix obtenues'!D18=MAX('2. Voix obtenues'!$D$7:$D$56),'1.T1 ou T2 et sièges à pourvoir'!sieges_a_la_PM_CM,0)),0)))","v":0},{"$f":"IF(C19=\"\",0,IF('3bis. Calcul répartition CM'!$D$6='3bis. Calcul répartition CM'!$C$2,SUMPRODUCT(($C19='3bis. Calcul répartition CM'!$B$9:$B$58)*('3bis. Calcul répartition CM'!$D$9:$D$58)),\n                   IF(SUM('erreurs calcul répartCM'!$K$2:$BR$2)>0,0,SUMPRODUCT(($C19='3bis. Calcul répartition CM'!$B$9:$B$58)*('3bis. Calcul répartition CM'!$F$9:$F$58)))))","v":0},{"$f":"IF(SUM('erreurs calcul répartCM'!$K$2:$BR$2)>0,0,D19+E19)","v":0},{"$f":"IF(F19>'2. Voix obtenues'!E18,'2. Voix obtenues'!E18,F19)","v":0},0]
[null,null,{"$f":"IF('2. Voix obtenues'!C19=0,\"\",'2. Voix obtenues'!C19)","v":""},{"$f":"IF(C20=\"\",0,IF($D$4<>\"\",IF($F$4<>$C20,0,'1.T1 ou T2 et sièges à pourvoir'!sieges_a_la_PM_CM),\n  IF('2. Voix obtenues'!G19=\"Voir la répartition dans l'onglet 3\",IF('2. Voix obtenues'!F19<5%,0,\n                                                               IF('2. Voix obtenues'!D19=MAX('2. Voix obtenues'!$D$7:$D$56),'1.T1 ou T2 et sièges à pourvoir'!sieges_a_la_PM_CM,0)),0)))","v":0},{"$f":"IF(C20=\"\",0,IF('3bis. Calcul répartition CM'!$D$6='3bis. Calcul répartition CM'!$C$2,SUMPRODUCT(($C20='3bis. Calcul répartition CM'!$B$9:$B$58)*('3bis. Calcul répartition CM'!$D$9:$D$58)),\n                   IF(SUM('erreurs calcul répartCM'!$K$2:$BR$2)>0,0,SUMPRODUCT(($C20='3bis. Calcul répartition CM'!$B$9:$B$58)*('3bis. Calcul répartition CM'!$F$9:$F$58)))))","v":0},{"$f":"IF(SUM('erreurs calcul répartCM'!$K$2:$BR$2)>0,0,D20+E20)","v":0},{"$f":"IF(F20>'2. Voix obtenues'!E19,'2. Voix obtenues'!E19,F20)","v":0},0]
[null,null,{"$f":"IF('2. Voix obtenues'!C20=0,\"\",'2. Voix obtenues'!C20)","v":""},{"$f":"IF(C21=\"\",0,IF($D$4<>\"\",IF($F$4<>$C21,0,'1.T1 ou T2 et sièges à pourvoir'!sieges_a_la_PM_CM),\n  IF('2. Voix obtenues'!G20=\"Voir la répartition dans l'onglet 3\",IF('2. Voix obtenues'!F20<5%,0,\n                                                               IF('2. Voix obtenues'!D20=MAX('2. Voix obtenues'!$D$7:$D$56),'1.T1 ou T2 et sièges à pourvoir'!sieges_a_la_PM_CM,0)),0)))","v":0},{"$f":"IF(C21=\"\",0,IF('3bis. Calcul répartition CM'!$D$6='3bis. Calcul répartition CM'!$C$2,SUMPRODUCT(($C21='3bis. Calcul répartition CM'!$B$9:$B$58)*('3bis. Calcul répartition CM'!$D$9:$D$58)),\n                   IF(SUM('erreurs calcul répartCM'!$K$2:$BR$2)>0,0,SUMPRODUCT(($C21='3bis. Calcul répartition CM'!$B$9:$B$58)*('3bis. Calcul répartition CM'!$F$9:$F$58)))))","v":0},{"$f":"IF(SUM('erreurs calcul répartCM'!$K$2:$BR$2)>0,0,D21+E21)","v":0},{"$f":"IF(F21>'2. Voix obtenues'!E20,'2. Voix obtenues'!E20,F21)","v":0},0]
[null,null,{"$f":"IF('2. Voix obtenues'!C21=0,\"\",'2. Voix obtenues'!C21)","v":""},{"$f":"IF(C22=\"\",0,IF($D$4<>\"\",IF($F$4<>$C22,0,'1.T1 ou T2 et sièges à pourvoir'!sieges_a_la_PM_CM),\n  IF('2. Voix obtenues'!G21=\"Voir la répartition dans l'onglet 3\",IF('2. Voix obtenues'!F21<5%,0,\n                                                               IF('2. Voix obtenues'!D21=MAX('2. Voix obtenues'!$D$7:$D$56),'1.T1 ou T2 et sièges à pourvoir'!sieges_a_la_PM_CM,0)),0)))","v":0},{"$f":"IF(C22=\"\",0,IF('3bis. Calcul répartition CM'!$D$6='3bis. Calcul répartition CM'!$C$2,SUMPRODUCT(($C22='3bis. Calcul répartition CM'!$B$9:$B$58)*('3bis. Calcul répartition CM'!$D$9:$D$58)),\n                   IF(SUM('erreurs calcul répartCM'!$K$2:$BR$2)>0,0,SUMPRODUCT(($C22='3bis. Calcul répartition CM'!$B$9:$B$58)*('3bis. Calcul répartition CM'!$F$9:$F$58)))))","v":0},{"$f":"IF(SUM('erreurs calcul répartCM'!$K$2:$BR$2)>0,0,D22+E22)","v":0},{"$f":"IF(F22>'2. Voix obtenues'!E21,'2. Voix obtenues'!E21,F22)","v":0},0]
[null,null,{"$f":"IF('2. Voix obtenues'!C22=0,\"\",'2. Voix obtenues'!C22)","v":""},{"$f":"IF(C23=\"\",0,IF($D$4<>\"\",IF($F$4<>$C23,0,'1.T1 ou T2 et sièges à pourvoir'!sieges_a_la_PM_CM),\n  IF('2. Voix obtenues'!G22=\"Voir la répartition dans l'onglet 3\",IF('2. Voix obtenues'!F22<5%,0,\n                                                               IF('2. Voix obtenues'!D22=MAX('2. Voix obtenues'!$D$7:$D$56),'1.T1 ou T2 et sièges à pourvoir'!sieges_a_la_PM_CM,0)),0)))","v":0},{"$f":"IF(C23=\"\",0,IF('3bis. Calcul répartition CM'!$D$6='3bis. Calcul répartition CM'!$C$2,SUMPRODUCT(($C23='3bis. Calcul répartition CM'!$B$9:$B$58)*('3bis. Calcul répartition CM'!$D$9:$D$58)),\n                   IF(SUM('erreurs calcul répartCM'!$K$2:$BR$2)>0,0,SUMPRODUCT(($C23='3bis. Calcul répartition CM'!$B$9:$B$58)*('3bis. Calcul répartition CM'!$F$9:$F$58)))))","v":0},{"$f":"IF(SUM('erreurs calcul répartCM'!$K$2:$BR$2)>0,0,D23+E23)","v":0},{"$f":"IF(F23>'2. Voix obtenues'!E22,'2. Voix obtenues'!E22,F23)","v":0},0]
[null,null,{"$f":"IF('2. Voix obtenues'!C23=0,\"\",'2. Voix obtenues'!C23)","v":""},{"$f":"IF(C24=\"\",0,IF($D$4<>\"\",IF($F$4<>$C24,0,'1.T1 ou T2 et sièges à pourvoir'!sieges_a_la_PM_CM),\n  IF('2. Voix obtenues'!G23=\"Voir la répartition dans l'onglet 3\",IF('2. Voix obtenues'!F23<5%,0,\n                                                               IF('2. Voix obtenues'!D23=MAX('2. Voix obtenues'!$D$7:$D$56),'1.T1 ou T2 et sièges à pourvoir'!sieges_a_la_PM_CM,0)),0)))","v":0},{"$f":"IF(C24=\"\",0,IF('3bis. Calcul répartition CM'!$D$6='3bis. Calcul répartition CM'!$C$2,SUMPRODUCT(($C24='3bis. Calcul répartition CM'!$B$9:$B$58)*('3bis. Calcul répartition CM'!$D$9:$D$58)),\n                   IF(SUM('erreurs calcul répartCM'!$K$2:$BR$2)>0,0,SUMPRODUCT(($C24='3bis. Calcul répartition CM'!$B$9:$B$58)*('3bis. Calcul répartition CM'!$F$9:$F$58)))))","v":0},{"$f":"IF(SUM('erreurs calcul répartCM'!$K$2:$BR$2)>0,0,D24+E24)","v":0},{"$f":"IF(F24>'2. Voix obtenues'!E23,'2. Voix obtenues'!E23,F24)","v":0},0]
[null,null,{"$f":"IF('2. Voix obtenues'!C24=0,\"\",'2. Voix obtenues'!C24)","v":""},{"$f":"IF(C25=\"\",0,IF($D$4<>\"\",IF($F$4<>$C25,0,'1.T1 ou T2 et sièges à pourvoir'!sieges_a_la_PM_CM),\n  IF('2. Voix obtenues'!G24=\"Voir la répartition dans l'onglet 3\",IF('2. Voix obtenues'!F24<5%,0,\n                                                               IF('2. Voix obtenues'!D24=MAX('2. Voix obtenues'!$D$7:$D$56),'1.T1 ou T2 et sièges à pourvoir'!sieges_a_la_PM_CM,0)),0)))","v":0},{"$f":"IF(C25=\"\",0,IF('3bis. Calcul répartition CM'!$D$6='3bis. Calcul répartition CM'!$C$2,SUMPRODUCT(($C25='3bis. Calcul répartition CM'!$B$9:$B$58)*('3bis. Calcul répartition CM'!$D$9:$D$58)),\n                   IF(SUM('erreurs calcul répartCM'!$K$2:$BR$2)>0,0,SUMPRODUCT(($C25='3bis. Calcul répartition CM'!$B$9:$B$58)*('3bis. Calcul répartition CM'!$F$9:$F$58)))))","v":0},{"$f":"IF(SUM('erreurs calcul répartCM'!$K$2:$BR$2)>0,0,D25+E25)","v":0},{"$f":"IF(F25>'2. Voix obtenues'!E24,'2. Voix obtenues'!E24,F25)","v":0},0]
[null,null,{"$f":"IF('2. Voix obtenues'!C25=0,\"\",'2. Voix obtenues'!C25)","v":""},{"$f":"IF(C26=\"\",0,IF($D$4<>\"\",IF($F$4<>$C26,0,'1.T1 ou T2 et sièges à pourvoir'!sieges_a_la_PM_CM),\n  IF('2. Voix obtenues'!G25=\"Voir la répartition dans l'onglet 3\",IF('2. Voix obtenues'!F25<5%,0,\n                                                               IF('2. Voix obtenues'!D25=MAX('2. Voix obtenues'!$D$7:$D$56),'1.T1 ou T2 et sièges à pourvoir'!sieges_a_la_PM_CM,0)),0)))","v":0},{"$f":"IF(C26=\"\",0,IF('3bis. Calcul répartition CM'!$D$6='3bis. Calcul répartition CM'!$C$2,SUMPRODUCT(($C26='3bis. Calcul répartition CM'!$B$9:$B$58)*('3bis. Calcul répartition CM'!$D$9:$D$58)),\n                   IF(SUM('erreurs calcul répartCM'!$K$2:$BR$2)>0,0,SUMPRODUCT(($C26='3bis. Calcul répartition CM'!$B$9:$B$58)*('3bis. Calcul répartition CM'!$F$9:$F$58)))))","v":0},{"$f":"IF(SUM('erreurs calcul répartCM'!$K$2:$BR$2)>0,0,D26+E26)","v":0},{"$f":"IF(F26>'2. Voix obtenues'!E25,'2. Voix obtenues'!E25,F26)","v":0},0]
[null,null,{"$f":"IF('2. Voix obtenues'!C26=0,\"\",'2. Voix obtenues'!C26)","v":""},{"$f":"IF(C27=\"\",0,IF($D$4<>\"\",IF($F$4<>$C27,0,'1.T1 ou T2 et sièges à pourvoir'!sieges_a_la_PM_CM),\n  IF('2. Voix obtenues'!G26=\"Voir la répartition dans l'onglet 3\",IF('2. Voix obtenues'!F26<5%,0,\n                                                               IF('2. Voix obtenues'!D26=MAX('2. Voix obtenues'!$D$7:$D$56),'1.T1 ou T2 et sièges à pourvoir'!sieges_a_la_PM_CM,0)),0)))","v":0},{"$f":"IF(C27=\"\",0,IF('3bis. Calcul répartition CM'!$D$6='3bis. Calcul répartition CM'!$C$2,SUMPRODUCT(($C27='3bis. Calcul répartition CM'!$B$9:$B$58)*('3bis. Calcul répartition CM'!$D$9:$D$58)),\n                   IF(SUM('erreurs calcul répartCM'!$K$2:$BR$2)>0,0,SUMPRODUCT(($C27='3bis. Calcul répartition CM'!$B$9:$B$58)*('3bis. Calcul répartition CM'!$F$9:$F$58)))))","v":0},{"$f":"IF(SUM('erreurs calcul répartCM'!$K$2:$BR$2)>0,0,D27+E27)","v":0},{"$f":"IF(F27>'2. Voix obtenues'!E26,'2. Voix obtenues'!E26,F27)","v":0},0]
[null,null,{"$f":"IF('2. Voix obtenues'!C27=0,\"\",'2. Voix obtenues'!C27)","v":""},{"$f":"IF(C28=\"\",0,IF($D$4<>\"\",IF($F$4<>$C28,0,'1.T1 ou T2 et sièges à pourvoir'!sieges_a_la_PM_CM),\n  IF('2. Voix obtenues'!G27=\"Voir la répartition dans l'onglet 3\",IF('2. Voix obtenues'!F27<5%,0,\n                                                               IF('2. Voix obtenues'!D27=MAX('2. Voix obtenues'!$D$7:$D$56),'1.T1 ou T2 et sièges à pourvoir'!sieges_a_la_PM_CM,0)),0)))","v":0},{"$f":"IF(C28=\"\",0,IF('3bis. Calcul répartition CM'!$D$6='3bis. Calcul répartition CM'!$C$2,SUMPRODUCT(($C28='3bis. Calcul répartition CM'!$B$9:$B$58)*('3bis. Calcul répartition CM'!$D$9:$D$58)),\n                   IF(SUM('erreurs calcul répartCM'!$K$2:$BR$2)>0,0,SUMPRODUCT(($C28='3bis. Calcul répartition CM'!$B$9:$B$58)*('3bis. Calcul répartition CM'!$F$9:$F$58)))))","v":0},{"$f":"IF(SUM('erreurs calcul répartCM'!$K$2:$BR$2)>0,0,D28+E28)","v":0},{"$f":"IF(F28>'2. Voix obtenues'!E27,'2. Voix obtenues'!E27,F28)","v":0},0]
[null,null,{"$f":"IF('2. Voix obtenues'!C28=0,\"\",'2. Voix obtenues'!C28)","v":""},{"$f":"IF(C29=\"\",0,IF($D$4<>\"\",IF($F$4<>$C29,0,'1.T1 ou T2 et sièges à pourvoir'!sieges_a_la_PM_CM),\n  IF('2. Voix obtenues'!G28=\"Voir la répartition dans l'onglet 3\",IF('2. Voix obtenues'!F28<5%,0,\n                                                               IF('2. Voix obtenues'!D28=MAX('2. Voix obtenues'!$D$7:$D$56),'1.T1 ou T2 et sièges à pourvoir'!sieges_a_la_PM_CM,0)),0)))","v":0},{"$f":"IF(C29=\"\",0,IF('3bis. Calcul répartition CM'!$D$6='3bis. Calcul répartition CM'!$C$2,SUMPRODUCT(($C29='3bis. Calcul répartition CM'!$B$9:$B$58)*('3bis. Calcul répartition CM'!$D$9:$D$58)),\n                   IF(SUM('erreurs calcul répartCM'!$K$2:$BR$2)>0,0,SUMPRODUCT(($C29='3bis. Calcul répartition CM'!$B$9:$B$58)*('3bis. Calcul répartition CM'!$F$9:$F$58)))))","v":0},{"$f":"IF(SUM('erreurs calcul répartCM'!$K$2:$BR$2)>0,0,D29+E29)","v":0},{"$f":"IF(F29>'2. Voix obtenues'!E28,'2. Voix obtenues'!E28,F29)","v":0},0]
[null,null,{"$f":"IF('2. Voix obtenues'!C29=0,\"\",'2. Voix obtenues'!C29)","v":""},{"$f":"IF(C30=\"\",0,IF($D$4<>\"\",IF($F$4<>$C30,0,'1.T1 ou T2 et sièges à pourvoir'!sieges_a_la_PM_CM),\n  IF('2. Voix obtenues'!G29=\"Voir la répartition dans l'onglet 3\",IF('2. Voix obtenues'!F29<5%,0,\n                                                               IF('2. Voix obtenues'!D29=MAX('2. Voix obtenues'!$D$7:$D$56),'1.T1 ou T2 et sièges à pourvoir'!sieges_a_la_PM_CM,0)),0)))","v":0},{"$f":"IF(C30=\"\",0,IF('3bis. Calcul répartition CM'!$D$6='3bis. Calcul répartition CM'!$C$2,SUMPRODUCT(($C30='3bis. Calcul répartition CM'!$B$9:$B$58)*('3bis. Calcul répartition CM'!$D$9:$D$58)),\n                   IF(SUM('erreurs calcul répartCM'!$K$2:$BR$2)>0,0,SUMPRODUCT(($C30='3bis. Calcul répartition CM'!$B$9:$B$58)*('3bis. Calcul répartition CM'!$F$9:$F$58)))))","v":0},{"$f":"IF(SUM('erreurs calcul répartCM'!$K$2:$BR$2)>0,0,D30+E30)","v":0},{"$f":"IF(F30>'2. Voix obtenues'!E29,'2. Voix obtenues'!E29,F30)","v":0},0]
[null,null,{"$f":"IF('2. Voix obtenues'!C30=0,\"\",'2. Voix obtenues'!C30)","v":""},{"$f":"IF(C31=\"\",0,IF($D$4<>\"\",IF($F$4<>$C31,0,'1.T1 ou T2 et sièges à pourvoir'!sieges_a_la_PM_CM),\n  IF('2. Voix obtenues'!G30=\"Voir la répartition dans l'onglet 3\",IF('2. Voix obtenues'!F30<5%,0,\n                                                               IF('2. Voix obtenues'!D30=MAX('2. Voix obtenues'!$D$7:$D$56),'1.T1 ou T2 et sièges à pourvoir'!sieges_a_la_PM_CM,0)),0)))","v":0},{"$f":"IF(C31=\"\",0,IF('3bis. Calcul répartition CM'!$D$6='3bis. Calcul répartition CM'!$C$2,SUMPRODUCT(($C31='3bis. Calcul répartition CM'!$B$9:$B$58)*('3bis. Calcul répartition CM'!$D$9:$D$58)),\n                   IF(SUM('erreurs calcul répartCM'!$K$2:$BR$2)>0,0,SUMPRODUCT(($C31='3bis. Calcul répartition CM'!$B$9:$B$58)*('3bis. Calcul répartition CM'!$F$9:$F$58)))))","v":0},{"$f":"IF(SUM('erreurs calcul répartCM'!$K$2:$BR$2)>0,0,D31+E31)","v":0},{"$f":"IF(F31>'2. Voix obtenues'!E30,'2. Voix obtenues'!E30,F31)","v":0},0]
[null,null,{"$f":"IF('2. Voix obtenues'!C31=0,\"\",'2. Voix obtenues'!C31)","v":""},{"$f":"IF(C32=\"\",0,IF($D$4<>\"\",IF($F$4<>$C32,0,'1.T1 ou T2 et sièges à pourvoir'!sieges_a_la_PM_CM),\n  IF('2. Voix obtenues'!G31=\"Voir la répartition dans l'onglet 3\",IF('2. Voix obtenues'!F31<5%,0,\n                                                               IF('2. Voix obtenues'!D31=MAX('2. Voix obtenues'!$D$7:$D$56),'1.T1 ou T2 et sièges à pourvoir'!sieges_a_la_PM_CM,0)),0)))","v":0},{"$f":"IF(C32=\"\",0,IF('3bis. Calcul répartition CM'!$D$6='3bis. Calcul répartition CM'!$C$2,SUMPRODUCT(($C32='3bis. Calcul répartition CM'!$B$9:$B$58)*('3bis. Calcul répartition CM'!$D$9:$D$58)),\n                   IF(SUM('erreurs calcul répartCM'!$K$2:$BR$2)>0,0,SUMPRODUCT(($C32='3bis. Calcul répartition CM'!$B$9:$B$58)*('3bis. Calcul répartition CM'!$F$9:$F$58)))))","v":0},{"$f":"IF(SUM('erreurs calcul répartCM'!$K$2:$BR$2)>0,0,D32+E32)","v":0},{"$f":"IF(F32>'2. Voix obtenues'!E31,'2. Voix obtenues'!E31,F32)","v":0},0]
[null,null,{"$f":"IF('2. Voix obtenues'!C32=0,\"\",'2. Voix obtenues'!C32)","v":""},{"$f":"IF(C33=\"\",0,IF($D$4<>\"\",IF($F$4<>$C33,0,'1.T1 ou T2 et sièges à pourvoir'!sieges_a_la_PM_CM),\n  IF('2. Voix obtenues'!G32=\"Voir la répartition dans l'onglet 3\",IF('2. Voix obtenues'!F32<5%,0,\n                                                               IF('2. Voix obtenues'!D32=MAX('2. Voix obtenues'!$D$7:$D$56),'1.T1 ou T2 et sièges à pourvoir'!sieges_a_la_PM_CM,0)),0)))","v":0},{"$f":"IF(C33=\"\",0,IF('3bis. Calcul répartition CM'!$D$6='3bis. Calcul répartition CM'!$C$2,SUMPRODUCT(($C33='3bis. Calcul répartition CM'!$B$9:$B$58)*('3bis. Calcul répartition CM'!$D$9:$D$58)),\n                   IF(SUM('erreurs calcul répartCM'!$K$2:$BR$2)>0,0,SUMPRODUCT(($C33='3bis. Calcul répartition CM'!$B$9:$B$58)*('3bis. Calcul répartition CM'!$F$9:$F$58)))))","v":0},{"$f":"IF(SUM('erreurs calcul répartCM'!$K$2:$BR$2)>0,0,D33+E33)","v":0},{"$f":"IF(F33>'2. Voix obtenues'!E32,'2. Voix obtenues'!E32,F33)","v":0},0]
[null,null,{"$f":"IF('2. Voix obtenues'!C33=0,\"\",'2. Voix obtenues'!C33)","v":""},{"$f":"IF(C34=\"\",0,IF($D$4<>\"\",IF($F$4<>$C34,0,'1.T1 ou T2 et sièges à pourvoir'!sieges_a_la_PM_CM),\n  IF('2. Voix obtenues'!G33=\"Voir la répartition dans l'onglet 3\",IF('2. Voix obtenues'!F33<5%,0,\n                                                               IF('2. Voix obtenues'!D33=MAX('2. Voix obtenues'!$D$7:$D$56),'1.T1 ou T2 et sièges à pourvoir'!sieges_a_la_PM_CM,0)),0)))","v":0},{"$f":"IF(C34=\"\",0,IF('3bis. Calcul répartition CM'!$D$6='3bis. Calcul répartition CM'!$C$2,SUMPRODUCT(($C34='3bis. Calcul répartition CM'!$B$9:$B$58)*('3bis. Calcul répartition CM'!$D$9:$D$58)),\n                   IF(SUM('erreurs calcul répartCM'!$K$2:$BR$2)>0,0,SUMPRODUCT(($C34='3bis. Calcul répartition CM'!$B$9:$B$58)*('3bis. Calcul répartition CM'!$F$9:$F$58)))))","v":0},{"$f":"IF(SUM('erreurs calcul répartCM'!$K$2:$BR$2)>0,0,D34+E34)","v":0},{"$f":"IF(F34>'2. Voix obtenues'!E33,'2. Voix obtenues'!E33,F34)","v":0},0]
[null,null,{"$f":"IF('2. Voix obtenues'!C34=0,\"\",'2. Voix obtenues'!C34)","v":""},{"$f":"IF(C35=\"\",0,IF($D$4<>\"\",IF($F$4<>$C35,0,'1.T1 ou T2 et sièges à pourvoir'!sieges_a_la_PM_CM),\n  IF('2. Voix obtenues'!G34=\"Voir la répartition dans l'onglet 3\",IF('2. Voix obtenues'!F34<5%,0,\n                                                               IF('2. Voix obtenues'!D34=MAX('2. Voix obtenues'!$D$7:$D$56),'1.T1 ou T2 et sièges à pourvoir'!sieges_a_la_PM_CM,0)),0)))","v":0},{"$f":"IF(C35=\"\",0,IF('3bis. Calcul répartition CM'!$D$6='3bis. Calcul répartition CM'!$C$2,SUMPRODUCT(($C35='3bis. Calcul répartition CM'!$B$9:$B$58)*('3bis. Calcul répartition CM'!$D$9:$D$58)),\n                   IF(SUM('erreurs calcul répartCM'!$K$2:$BR$2)>0,0,SUMPRODUCT(($C35='3bis. Calcul répartition CM'!$B$9:$B$58)*('3bis. Calcul répartition CM'!$F$9:$F$58)))))","v":0},{"$f":"IF(SUM('erreurs calcul répartCM'!$K$2:$BR$2)>0,0,D35+E35)","v":0},{"$f":"IF(F35>'2. Voix obtenues'!E34,'2. Voix obtenues'!E34,F35)","v":0},0]
[null,null,{"$f":"IF('2. Voix obtenues'!C35=0,\"\",'2. Voix obtenues'!C35)","v":""},{"$f":"IF(C36=\"\",0,IF($D$4<>\"\",IF($F$4<>$C36,0,'1.T1 ou T2 et sièges à pourvoir'!sieges_a_la_PM_CM),\n  IF('2. Voix obtenues'!G35=\"Voir la répartition dans l'onglet 3\",IF('2. Voix obtenues'!F35<5%,0,\n                                                               IF('2. Voix obtenues'!D35=MAX('2. Voix obtenues'!$D$7:$D$56),'1.T1 ou T2 et sièges à pourvoir'!sieges_a_la_PM_CM,0)),0)))","v":0},{"$f":"IF(C36=\"\",0,IF('3bis. Calcul répartition CM'!$D$6='3bis. Calcul répartition CM'!$C$2,SUMPRODUCT(($C36='3bis. Calcul répartition CM'!$B$9:$B$58)*('3bis. Calcul répartition CM'!$D$9:$D$58)),\n                   IF(SUM('erreurs calcul répartCM'!$K$2:$BR$2)>0,0,SUMPRODUCT(($C36='3bis. Calcul répartition CM'!$B$9:$B$58)*('3bis. Calcul répartition CM'!$F$9:$F$58)))))","v":0},{"$f":"IF(SUM('erreurs calcul répartCM'!$K$2:$BR$2)>0,0,D36+E36)","v":0},{"$f":"IF(F36>'2. Voix obtenues'!E35,'2. Voix obtenues'!E35,F36)","v":0},0]
[null,null,{"$f":"IF('2. Voix obtenues'!C36=0,\"\",'2. Voix obtenues'!C36)","v":""},{"$f":"IF(C37=\"\",0,IF($D$4<>\"\",IF($F$4<>$C37,0,'1.T1 ou T2 et sièges à pourvoir'!sieges_a_la_PM_CM),\n  IF('2. Voix obtenues'!G36=\"Voir la répartition dans l'onglet 3\",IF('2. Voix obtenues'!F36<5%,0,\n                                                               IF('2. Voix obtenues'!D36=MAX('2. Voix obtenues'!$D$7:$D$56),'1.T1 ou T2 et sièges à pourvoir'!sieges_a_la_PM_CM,0)),0)))","v":0},{"$f":"IF(C37=\"\",0,IF('3bis. Calcul répartition CM'!$D$6='3bis. Calcul répartition CM'!$C$2,SUMPRODUCT(($C37='3bis. Calcul répartition CM'!$B$9:$B$58)*('3bis. Calcul répartition CM'!$D$9:$D$58)),\n                   IF(SUM('erreurs calcul répartCM'!$K$2:$BR$2)>0,0,SUMPRODUCT(($C37='3bis. Calcul répartition CM'!$B$9:$B$58)*('3bis. Calcul répartition CM'!$F$9:$F$58)))))","v":0},{"$f":"IF(SUM('erreurs calcul répartCM'!$K$2:$BR$2)>0,0,D37+E37)","v":0},{"$f":"IF(F37>'2. Voix obtenues'!E36,'2. Voix obtenues'!E36,F37)","v":0},0]
[null,null,{"$f":"IF('2. Voix obtenues'!C37=0,\"\",'2. Voix obtenues'!C37)","v":""},{"$f":"IF(C38=\"\",0,IF($D$4<>\"\",IF($F$4<>$C38,0,'1.T1 ou T2 et sièges à pourvoir'!sieges_a_la_PM_CM),\n  IF('2. Voix obtenues'!G37=\"Voir la répartition dans l'onglet 3\",IF('2. Voix obtenues'!F37<5%,0,\n                                                               IF('2. Voix obtenues'!D37=MAX('2. Voix obtenues'!$D$7:$D$56),'1.T1 ou T2 et sièges à pourvoir'!sieges_a_la_PM_CM,0)),0)))","v":0},{"$f":"IF(C38=\"\",0,IF('3bis. Calcul répartition CM'!$D$6='3bis. Calcul répartition CM'!$C$2,SUMPRODUCT(($C38='3bis. Calcul répartition CM'!$B$9:$B$58)*('3bis. Calcul répartition CM'!$D$9:$D$58)),\n                   IF(SUM('erreurs calcul répartCM'!$K$2:$BR$2)>0,0,SUMPRODUCT(($C38='3bis. Calcul répartition CM'!$B$9:$B$58)*('3bis. Calcul répartition CM'!$F$9:$F$58)))))","v":0},{"$f":"IF(SUM('erreurs calcul répartCM'!$K$2:$BR$2)>0,0,D38+E38)","v":0},{"$f":"IF(F38>'2. Voix obtenues'!E37,'2. Voix obtenues'!E37,F38)","v":0},0]
[null,null,{"$f":"IF('2. Voix obtenues'!C38=0,\"\",'2. Voix obtenues'!C38)","v":""},{"$f":"IF(C39=\"\",0,IF($D$4<>\"\",IF($F$4<>$C39,0,'1.T1 ou T2 et sièges à pourvoir'!sieges_a_la_PM_CM),\n  IF('2. Voix obtenues'!G38=\"Voir la répartition dans l'onglet 3\",IF('2. Voix obtenues'!F38<5%,0,\n                                                               IF('2. Voix obtenues'!D38=MAX('2. Voix obtenues'!$D$7:$D$56),'1.T1 ou T2 et sièges à pourvoir'!sieges_a_la_PM_CM,0)),0)))","v":0},{"$f":"IF(C39=\"\",0,IF('3bis. Calcul répartition CM'!$D$6='3bis. Calcul répartition CM'!$C$2,SUMPRODUCT(($C39='3bis. Calcul répartition CM'!$B$9:$B$58)*('3bis. Calcul répartition CM'!$D$9:$D$58)),\n                   IF(SUM('erreurs calcul répartCM'!$K$2:$BR$2)>0,0,SUMPRODUCT(($C39='3bis. Calcul répartition CM'!$B$9:$B$58)*('3bis. Calcul répartition CM'!$F$9:$F$58)))))","v":0},{"$f":"IF(SUM('erreurs calcul répartCM'!$K$2:$BR$2)>0,0,D39+E39)","v":0},{"$f":"IF(F39>'2. Voix obtenues'!E38,'2. Voix obtenues'!E38,F39)","v":0},0]
[null,null,{"$f":"IF('2. Voix obtenues'!C39=0,\"\",'2. Voix obtenues'!C39)","v":""},{"$f":"IF(C40=\"\",0,IF($D$4<>\"\",IF($F$4<>$C40,0,'1.T1 ou T2 et sièges à pourvoir'!sieges_a_la_PM_CM),\n  IF('2. Voix obtenues'!G39=\"Voir la répartition dans l'onglet 3\",IF('2. Voix obtenues'!F39<5%,0,\n                                                               IF('2. Voix obtenues'!D39=MAX('2. Voix obtenues'!$D$7:$D$56),'1.T1 ou T2 et sièges à pourvoir'!sieges_a_la_PM_CM,0)),0)))","v":0},{"$f":"IF(C40=\"\",0,IF('3bis. Calcul répartition CM'!$D$6='3bis. Calcul répartition CM'!$C$2,SUMPRODUCT(($C40='3bis. Calcul répartition CM'!$B$9:$B$58)*('3bis. Calcul répartition CM'!$D$9:$D$58)),\n                   IF(SUM('erreurs calcul répartCM'!$K$2:$BR$2)>0,0,SUMPRODUCT(($C40='3bis. Calcul répartition CM'!$B$9:$B$58)*('3bis. Calcul répartition CM'!$F$9:$F$58)))))","v":0},{"$f":"IF(SUM('erreurs calcul répartCM'!$K$2:$BR$2)>0,0,D40+E40)","v":0},{"$f":"IF(F40>'2. Voix obtenues'!E39,'2. Voix obtenues'!E39,F40)","v":0},{"$f":"F40-G40","v":0}]
[null,null,{"$f":"IF('2. Voix obtenues'!C40=0,\"\",'2. Voix obtenues'!C40)","v":""},{"$f":"IF(C41=\"\",0,IF($D$4<>\"\",IF($F$4<>$C41,0,'1.T1 ou T2 et sièges à pourvoir'!sieges_a_la_PM_CM),\n  IF('2. Voix obtenues'!G40=\"Voir la répartition dans l'onglet 3\",IF('2. Voix obtenues'!F40<5%,0,\n                                                               IF('2. Voix obtenues'!D40=MAX('2. Voix obtenues'!$D$7:$D$56),'1.T1 ou T2 et sièges à pourvoir'!sieges_a_la_PM_CM,0)),0)))","v":0},{"$f":"IF(C41=\"\",0,IF('3bis. Calcul répartition CM'!$D$6='3bis. Calcul répartition CM'!$C$2,SUMPRODUCT(($C41='3bis. Calcul répartition CM'!$B$9:$B$58)*('3bis. Calcul répartition CM'!$D$9:$D$58)),\n                   IF(SUM('erreurs calcul répartCM'!$K$2:$BR$2)>0,0,SUMPRODUCT(($C41='3bis. Calcul répartition CM'!$B$9:$B$58)*('3bis. Calcul répartition CM'!$F$9:$F$58)))))","v":0},{"$f":"IF(SUM('erreurs calcul répartCM'!$K$2:$BR$2)>0,0,D41+E41)","v":0},{"$f":"IF(F41>'2. Voix obtenues'!E40,'2. Voix obtenues'!E40,F41)","v":0},0]
[null,null,{"$f":"IF('2. Voix obtenues'!C41=0,\"\",'2. Voix obtenues'!C41)","v":""},{"$f":"IF(C42=\"\",0,IF($D$4<>\"\",IF($F$4<>$C42,0,'1.T1 ou T2 et sièges à pourvoir'!sieges_a_la_PM_CM),\n  IF('2. Voix obtenues'!G41=\"Voir la répartition dans l'onglet 3\",IF('2. Voix obtenues'!F41<5%,0,\n                                                               IF('2. Voix obtenues'!D41=MAX('2. Voix obtenues'!$D$7:$D$56),'1.T1 ou T2 et sièges à pourvoir'!sieges_a_la_PM_CM,0)),0)))","v":0},{"$f":"IF(C42=\"\",0,IF('3bis. Calcul répartition CM'!$D$6='3bis. Calcul répartition CM'!$C$2,SUMPRODUCT(($C42='3bis. Calcul répartition CM'!$B$9:$B$58)*('3bis. Calcul répartition CM'!$D$9:$D$58)),\n                   IF(SUM('erreurs calcul répartCM'!$K$2:$BR$2)>0,0,SUMPRODUCT(($C42='3bis. Calcul répartition CM'!$B$9:$B$58)*('3bis. Calcul répartition CM'!$F$9:$F$58)))))","v":0},{"$f":"IF(SUM('erreurs calcul répartCM'!$K$2:$BR$2)>0,0,D42+E42)","v":0},{"$f":"IF(F42>'2. Voix obtenues'!E41,'2. Voix obtenues'!E41,F42)","v":0},0]
[null,null,{"$f":"IF('2. Voix obtenues'!C42=0,\"\",'2. Voix obtenues'!C42)","v":""},{"$f":"IF(C43=\"\",0,IF($D$4<>\"\",IF($F$4<>$C43,0,'1.T1 ou T2 et sièges à pourvoir'!sieges_a_la_PM_CM),\n  IF('2. Voix obtenues'!G42=\"Voir la répartition dans l'onglet 3\",IF('2. Voix obtenues'!F42<5%,0,\n                                                               IF('2. Voix obtenues'!D42=MAX('2. Voix obtenues'!$D$7:$D$56),'1.T1 ou T2 et sièges à pourvoir'!sieges_a_la_PM_CM,0)),0)))","v":0},{"$f":"IF(C43=\"\",0,IF('3bis. Calcul répartition CM'!$D$6='3bis. Calcul répartition CM'!$C$2,SUMPRODUCT(($C43='3bis. Calcul répartition CM'!$B$9:$B$58)*('3bis. Calcul répartition CM'!$D$9:$D$58)),\n                   IF(SUM('erreurs calcul répartCM'!$K$2:$BR$2)>0,0,SUMPRODUCT(($C43='3bis. Calcul répartition CM'!$B$9:$B$58)*('3bis. Calcul répartition CM'!$F$9:$F$58)))))","v":0},{"$f":"IF(SUM('erreurs calcul répartCM'!$K$2:$BR$2)>0,0,D43+E43)","v":0},{"$f":"IF(F43>'2. Voix obtenues'!E42,'2. Voix obtenues'!E42,F43)","v":0},0]
[null,null,{"$f":"IF('2. Voix obtenues'!C43=0,\"\",'2. Voix obtenues'!C43)","v":""},{"$f":"IF(C44=\"\",0,IF($D$4<>\"\",IF($F$4<>$C44,0,'1.T1 ou T2 et sièges à pourvoir'!sieges_a_la_PM_CM),\n  IF('2. Voix obtenues'!G43=\"Voir la répartition dans l'onglet 3\",IF('2. Voix obtenues'!F43<5%,0,\n                                                               IF('2. Voix obtenues'!D43=MAX('2. Voix obtenues'!$D$7:$D$56),'1.T1 ou T2 et sièges à pourvoir'!sieges_a_la_PM_CM,0)),0)))","v":0},{"$f":"IF(C44=\"\",0,IF('3bis. Calcul répartition CM'!$D$6='3bis. Calcul répartition CM'!$C$2,SUMPRODUCT(($C44='3bis. Calcul répartition CM'!$B$9:$B$58)*('3bis. Calcul répartition CM'!$D$9:$D$58)),\n                   IF(SUM('erreurs calcul répartCM'!$K$2:$BR$2)>0,0,SUMPRODUCT(($C44='3bis. Calcul répartition CM'!$B$9:$B$58)*('3bis. Calcul répartition CM'!$F$9:$F$58)))))","v":0},{"$f":"IF(SUM('erreurs calcul répartCM'!$K$2:$BR$2)>0,0,D44+E44)","v":0},{"$f":"IF(F44>'2. Voix obtenues'!E43,'2. Voix obtenues'!E43,F44)","v":0},0]
[null,null,{"$f":"IF('2. Voix obtenues'!C44=0,\"\",'2. Voix obtenues'!C44)","v":""},{"$f":"IF(C45=\"\",0,IF($D$4<>\"\",IF($F$4<>$C45,0,'1.T1 ou T2 et sièges à pourvoir'!sieges_a_la_PM_CM),\n  IF('2. Voix obtenues'!G44=\"Voir la répartition dans l'onglet 3\",IF('2. Voix obtenues'!F44<5%,0,\n                                                               IF('2. Voix obtenues'!D44=MAX('2. Voix obtenues'!$D$7:$D$56),'1.T1 ou T2 et sièges à pourvoir'!sieges_a_la_PM_CM,0)),0)))","v":0},{"$f":"IF(C45=\"\",0,IF('3bis. Calcul répartition CM'!$D$6='3bis. Calcul répartition CM'!$C$2,SUMPRODUCT(($C45='3bis. Calcul répartition CM'!$B$9:$B$58)*('3bis. Calcul répartition CM'!$D$9:$D$58)),\n                   IF(SUM('erreurs calcul répartCM'!$K$2:$BR$2)>0,0,SUMPRODUCT(($C45='3bis. Calcul répartition CM'!$B$9:$B$58)*('3bis. Calcul répartition CM'!$F$9:$F$58)))))","v":0},{"$f":"IF(SUM('erreurs calcul répartCM'!$K$2:$BR$2)>0,0,D45+E45)","v":0},{"$f":"IF(F45>'2. Voix obtenues'!E44,'2. Voix obtenues'!E44,F45)","v":0},0]
[null,null,{"$f":"IF('2. Voix obtenues'!C45=0,\"\",'2. Voix obtenues'!C45)","v":""},{"$f":"IF(C46=\"\",0,IF($D$4<>\"\",IF($F$4<>$C46,0,'1.T1 ou T2 et sièges à pourvoir'!sieges_a_la_PM_CM),\n  IF('2. Voix obtenues'!G45=\"Voir la répartition dans l'onglet 3\",IF('2. Voix obtenues'!F45<5%,0,\n                                                               IF('2. Voix obtenues'!D45=MAX('2. Voix obtenues'!$D$7:$D$56),'1.T1 ou T2 et sièges à pourvoir'!sieges_a_la_PM_CM,0)),0)))","v":0},{"$f":"IF(C46=\"\",0,IF('3bis. Calcul répartition CM'!$D$6='3bis. Calcul répartition CM'!$C$2,SUMPRODUCT(($C46='3bis. Calcul répartition CM'!$B$9:$B$58)*('3bis. Calcul répartition CM'!$D$9:$D$58)),\n                   IF(SUM('erreurs calcul répartCM'!$K$2:$BR$2)>0,0,SUMPRODUCT(($C46='3bis. Calcul répartition CM'!$B$9:$B$58)*('3bis. Calcul répartition CM'!$F$9:$F$58)))))","v":0},{"$f":"IF(SUM('erreurs calcul répartCM'!$K$2:$BR$2)>0,0,D46+E46)","v":0},{"$f":"IF(F46>'2. Voix obtenues'!E45,'2. Voix obtenues'!E45,F46)","v":0},0]
[null,null,{"$f":"IF('2. Voix obtenues'!C46=0,\"\",'2. Voix obtenues'!C46)","v":""},{"$f":"IF(C47=\"\",0,IF($D$4<>\"\",IF($F$4<>$C47,0,'1.T1 ou T2 et sièges à pourvoir'!sieges_a_la_PM_CM),\n  IF('2. Voix obtenues'!G46=\"Voir la répartition dans l'onglet 3\",IF('2. Voix obtenues'!F46<5%,0,\n                                                               IF('2. Voix obtenues'!D46=MAX('2. Voix obtenues'!$D$7:$D$56),'1.T1 ou T2 et sièges à pourvoir'!sieges_a_la_PM_CM,0)),0)))","v":0},{"$f":"IF(C47=\"\",0,IF('3bis. Calcul répartition CM'!$D$6='3bis. Calcul répartition CM'!$C$2,SUMPRODUCT(($C47='3bis. Calcul répartition CM'!$B$9:$B$58)*('3bis. Calcul répartition CM'!$D$9:$D$58)),\n                   IF(SUM('erreurs calcul répartCM'!$K$2:$BR$2)>0,0,SUMPRODUCT(($C47='3bis. Calcul répartition CM'!$B$9:$B$58)*('3bis. Calcul répartition CM'!$F$9:$F$58)))))","v":0},{"$f":"IF(SUM('erreurs calcul répartCM'!$K$2:$BR$2)>0,0,D47+E47)","v":0},{"$f":"IF(F47>'2. Voix obtenues'!E46,'2. Voix obtenues'!E46,F47)","v":0},0]
[null,null,{"$f":"IF('2. Voix obtenues'!C47=0,\"\",'2. Voix obtenues'!C47)","v":""},{"$f":"IF(C48=\"\",0,IF($D$4<>\"\",IF($F$4<>$C48,0,'1.T1 ou T2 et sièges à pourvoir'!sieges_a_la_PM_CM),\n  IF('2. Voix obtenues'!G47=\"Voir la répartition dans l'onglet 3\",IF('2. Voix obtenues'!F47<5%,0,\n                                                               IF('2. Voix obtenues'!D47=MAX('2. Voix obtenues'!$D$7:$D$56),'1.T1 ou T2 et sièges à pourvoir'!sieges_a_la_PM_CM,0)),0)))","v":0},{"$f":"IF(C48=\"\",0,IF('3bis. Calcul répartition CM'!$D$6='3bis. Calcul répartition CM'!$C$2,SUMPRODUCT(($C48='3bis. Calcul répartition CM'!$B$9:$B$58)*('3bis. Calcul répartition CM'!$D$9:$D$58)),\n                   IF(SUM('erreurs calcul répartCM'!$K$2:$BR$2)>0,0,SUMPRODUCT(($C48='3bis. Calcul répartition CM'!$B$9:$B$58)*('3bis. Calcul répartition CM'!$F$9:$F$58)))))","v":0},{"$f":"IF(SUM('erreurs calcul répartCM'!$K$2:$BR$2)>0,0,D48+E48)","v":0},{"$f":"IF(F48>'2. Voix obtenues'!E47,'2. Voix obtenues'!E47,F48)","v":0},0]
[null,null,{"$f":"IF('2. Voix obtenues'!C48=0,\"\",'2. Voix obtenues'!C48)","v":""},{"$f":"IF(C49=\"\",0,IF($D$4<>\"\",IF($F$4<>$C49,0,'1.T1 ou T2 et sièges à pourvoir'!sieges_a_la_PM_CM),\n  IF('2. Voix obtenues'!G48=\"Voir la répartition dans l'onglet 3\",IF('2. Voix obtenues'!F48<5%,0,\n                                                               IF('2. Voix obtenues'!D48=MAX('2. Voix obtenues'!$D$7:$D$56),'1.T1 ou T2 et sièges à pourvoir'!sieges_a_la_PM_CM,0)),0)))","v":0},{"$f":"IF(C49=\"\",0,IF('3bis. Calcul répartition CM'!$D$6='3bis. Calcul répartition CM'!$C$2,SUMPRODUCT(($C49='3bis. Calcul répartition CM'!$B$9:$B$58)*('3bis. Calcul répartition CM'!$D$9:$D$58)),\n                   IF(SUM('erreurs calcul répartCM'!$K$2:$BR$2)>0,0,SUMPRODUCT(($C49='3bis. Calcul répartition CM'!$B$9:$B$58)*('3bis. Calcul répartition CM'!$F$9:$F$58)))))","v":0},{"$f":"IF(SUM('erreurs calcul répartCM'!$K$2:$BR$2)>0,0,D49+E49)","v":0},{"$f":"IF(F49>'2. Voix obtenues'!E48,'2. Voix obtenues'!E48,F49)","v":0},0]
[null,null,{"$f":"IF('2. Voix obtenues'!C49=0,\"\",'2. Voix obtenues'!C49)","v":""},{"$f":"IF(C50=\"\",0,IF($D$4<>\"\",IF($F$4<>$C50,0,'1.T1 ou T2 et sièges à pourvoir'!sieges_a_la_PM_CM),\n  IF('2. Voix obtenues'!G49=\"Voir la répartition dans l'onglet 3\",IF('2. Voix obtenues'!F49<5%,0,\n                                                               IF('2. Voix obtenues'!D49=MAX('2. Voix obtenues'!$D$7:$D$56),'1.T1 ou T2 et sièges à pourvoir'!sieges_a_la_PM_CM,0)),0)))","v":0},{"$f":"IF(C50=\"\",0,IF('3bis. Calcul répartition CM'!$D$6='3bis. Calcul répartition CM'!$C$2,SUMPRODUCT(($C50='3bis. Calcul répartition CM'!$B$9:$B$58)*('3bis. Calcul répartition CM'!$D$9:$D$58)),\n                   IF(SUM('erreurs calcul répartCM'!$K$2:$BR$2)>0,0,SUMPRODUCT(($C50='3bis. Calcul répartition CM'!$B$9:$B$58)*('3bis. Calcul répartition CM'!$F$9:$F$58)))))","v":0},{"$f":"IF(SUM('erreurs calcul répartCM'!$K$2:$BR$2)>0,0,D50+E50)","v":0},{"$f":"IF(F50>'2. Voix obtenues'!E49,'2. Voix obtenues'!E49,F50)","v":0},0]
[null,null,{"$f":"IF('2. Voix obtenues'!C50=0,\"\",'2. Voix obtenues'!C50)","v":""},{"$f":"IF(C51=\"\",0,IF($D$4<>\"\",IF($F$4<>$C51,0,'1.T1 ou T2 et sièges à pourvoir'!sieges_a_la_PM_CM),\n  IF('2. Voix obtenues'!G50=\"Voir la répartition dans l'onglet 3\",IF('2. Voix obtenues'!F50<5%,0,\n                                                               IF('2. Voix obtenues'!D50=MAX('2. Voix obtenues'!$D$7:$D$56),'1.T1 ou T2 et sièges à pourvoir'!sieges_a_la_PM_CM,0)),0)))","v":0},{"$f":"IF(C51=\"\",0,IF('3bis. Calcul répartition CM'!$D$6='3bis. Calcul répartition CM'!$C$2,SUMPRODUCT(($C51='3bis. Calcul répartition CM'!$B$9:$B$58)*('3bis. Calcul répartition CM'!$D$9:$D$58)),\n                   IF(SUM('erreurs calcul répartCM'!$K$2:$BR$2)>0,0,SUMPRODUCT(($C51='3bis. Calcul répartition CM'!$B$9:$B$58)*('3bis. Calcul répartition CM'!$F$9:$F$58)))))","v":0},{"$f":"IF(SUM('erreurs calcul répartCM'!$K$2:$BR$2)>0,0,D51+E51)","v":0},{"$f":"IF(F51>'2. Voix obtenues'!E50,'2. Voix obtenues'!E50,F51)","v":0},0]
[null,null,{"$f":"IF('2. Voix obtenues'!C51=0,\"\",'2. Voix obtenues'!C51)","v":""},{"$f":"IF(C52=\"\",0,IF($D$4<>\"\",IF($F$4<>$C52,0,'1.T1 ou T2 et sièges à pourvoir'!sieges_a_la_PM_CM),\n  IF('2. Voix obtenues'!G51=\"Voir la répartition dans l'onglet 3\",IF('2. Voix obtenues'!F51<5%,0,\n                                                               IF('2. Voix obtenues'!D51=MAX('2. Voix obtenues'!$D$7:$D$56),'1.T1 ou T2 et sièges à pourvoir'!sieges_a_la_PM_CM,0)),0)))","v":0},{"$f":"IF(C52=\"\",0,IF('3bis. Calcul répartition CM'!$D$6='3bis. Calcul répartition CM'!$C$2,SUMPRODUCT(($C52='3bis. Calcul répartition CM'!$B$9:$B$58)*('3bis. Calcul répartition CM'!$D$9:$D$58)),\n                   IF(SUM('erreurs calcul répartCM'!$K$2:$BR$2)>0,0,SUMPRODUCT(($C52='3bis. Calcul répartition CM'!$B$9:$B$58)*('3bis. Calcul répartition CM'!$F$9:$F$58)))))","v":0},{"$f":"IF(SUM('erreurs calcul répartCM'!$K$2:$BR$2)>0,0,D52+E52)","v":0},{"$f":"IF(F52>'2. Voix obtenues'!E51,'2. Voix obtenues'!E51,F52)","v":0},0]
[null,null,{"$f":"IF('2. Voix obtenues'!C52=0,\"\",'2. Voix obtenues'!C52)","v":""},{"$f":"IF(C53=\"\",0,IF($D$4<>\"\",IF($F$4<>$C53,0,'1.T1 ou T2 et sièges à pourvoir'!sieges_a_la_PM_CM),\n  IF('2. Voix obtenues'!G52=\"Voir la répartition dans l'onglet 3\",IF('2. Voix obtenues'!F52<5%,0,\n                                                               IF('2. Voix obtenues'!D52=MAX('2. Voix obtenues'!$D$7:$D$56),'1.T1 ou T2 et sièges à pourvoir'!sieges_a_la_PM_CM,0)),0)))","v":0},{"$f":"IF(C53=\"\",0,IF('3bis. Calcul répartition CM'!$D$6='3bis. Calcul répartition CM'!$C$2,SUMPRODUCT(($C53='3bis. Calcul répartition CM'!$B$9:$B$58)*('3bis. Calcul répartition CM'!$D$9:$D$58)),\n                   IF(SUM('erreurs calcul répartCM'!$K$2:$BR$2)>0,0,SUMPRODUCT(($C53='3bis. Calcul répartition CM'!$B$9:$B$58)*('3bis. Calcul répartition CM'!$F$9:$F$58)))))","v":0},{"$f":"IF(SUM('erreurs calcul répartCM'!$K$2:$BR$2)>0,0,D53+E53)","v":0},{"$f":"IF(F53>'2. Voix obtenues'!E52,'2. Voix obtenues'!E52,F53)","v":0},0]
[null,null,{"$f":"IF('2. Voix obtenues'!C53=0,\"\",'2. Voix obtenues'!C53)","v":""},{"$f":"IF(C54=\"\",0,IF($D$4<>\"\",IF($F$4<>$C54,0,'1.T1 ou T2 et sièges à pourvoir'!sieges_a_la_PM_CM),\n  IF('2. Voix obtenues'!G53=\"Voir la répartition dans l'onglet 3\",IF('2. Voix obtenues'!F53<5%,0,\n                                                               IF('2. Voix obtenues'!D53=MAX('2. Voix obtenues'!$D$7:$D$56),'1.T1 ou T2 et sièges à pourvoir'!sieges_a_la_PM_CM,0)),0)))","v":0},{"$f":"IF(C54=\"\",0,IF('3bis. Calcul répartition CM'!$D$6='3bis. Calcul répartition CM'!$C$2,SUMPRODUCT(($C54='3bis. Calcul répartition CM'!$B$9:$B$58)*('3bis. Calcul répartition CM'!$D$9:$D$58)),\n                   IF(SUM('erreurs calcul répartCM'!$K$2:$BR$2)>0,0,SUMPRODUCT(($C54='3bis. Calcul répartition CM'!$B$9:$B$58)*('3bis. Calcul répartition CM'!$F$9:$F$58)))))","v":0},{"$f":"IF(SUM('erreurs calcul répartCM'!$K$2:$BR$2)>0,0,D54+E54)","v":0},{"$f":"IF(F54>'2. Voix obtenues'!E53,'2. Voix obtenues'!E53,F54)","v":0},0]
[null,null,{"$f":"IF('2. Voix obtenues'!C54=0,\"\",'2. Voix obtenues'!C54)","v":""},{"$f":"IF(C55=\"\",0,IF($D$4<>\"\",IF($F$4<>$C55,0,'1.T1 ou T2 et sièges à pourvoir'!sieges_a_la_PM_CM),\n  IF('2. Voix obtenues'!G54=\"Voir la répartition dans l'onglet 3\",IF('2. Voix obtenues'!F54<5%,0,\n                                                               IF('2. Voix obtenues'!D54=MAX('2. Voix obtenues'!$D$7:$D$56),'1.T1 ou T2 et sièges à pourvoir'!sieges_a_la_PM_CM,0)),0)))","v":0},{"$f":"IF(C55=\"\",0,IF('3bis. Calcul répartition CM'!$D$6='3bis. Calcul répartition CM'!$C$2,SUMPRODUCT(($C55='3bis. Calcul répartition CM'!$B$9:$B$58)*('3bis. Calcul répartition CM'!$D$9:$D$58)),\n                   IF(SUM('erreurs calcul répartCM'!$K$2:$BR$2)>0,0,SUMPRODUCT(($C55='3bis. Calcul répartition CM'!$B$9:$B$58)*('3bis. Calcul répartition CM'!$F$9:$F$58)))))","v":0},{"$f":"IF(SUM('erreurs calcul répartCM'!$K$2:$BR$2)>0,0,D55+E55)","v":0},{"$f":"IF(F55>'2. Voix obtenues'!E54,'2. Voix obtenues'!E54,F55)","v":0},0]
[null,null,{"$f":"IF('2. Voix obtenues'!C55=0,\"\",'2. Voix obtenues'!C55)","v":""},{"$f":"IF(C56=\"\",0,IF($D$4<>\"\",IF($F$4<>$C56,0,'1.T1 ou T2 et sièges à pourvoir'!sieges_a_la_PM_CM),\n  IF('2. Voix obtenues'!G55=\"Voir la répartition dans l'onglet 3\",IF('2. Voix obtenues'!F55<5%,0,\n                                                               IF('2. Voix obtenues'!D55=MAX('2. Voix obtenues'!$D$7:$D$56),'1.T1 ou T2 et sièges à pourvoir'!sieges_a_la_PM_CM,0)),0)))","v":0},{"$f":"IF(C56=\"\",0,IF('3bis. Calcul répartition CM'!$D$6='3bis. Calcul répartition CM'!$C$2,SUMPRODUCT(($C56='3bis. Calcul répartition CM'!$B$9:$B$58)*('3bis. Calcul répartition CM'!$D$9:$D$58)),\n                   IF(SUM('erreurs calcul répartCM'!$K$2:$BR$2)>0,0,SUMPRODUCT(($C56='3bis. Calcul répartition CM'!$B$9:$B$58)*('3bis. Calcul répartition CM'!$F$9:$F$58)))))","v":0},{"$f":"IF(SUM('erreurs calcul répartCM'!$K$2:$BR$2)>0,0,D56+E56)","v":0},{"$f":"IF(F56>'2. Voix obtenues'!E55,'2. Voix obtenues'!E55,F56)","v":0},0]
[null,null,{"$f":"IF('2. Voix obtenues'!C56=0,\"\",'2. Voix obtenues'!C56)","v":""},{"$f":"IF(C57=\"\",0,IF($D$4<>\"\",IF($F$4<>$C57,0,'1.T1 ou T2 et sièges à pourvoir'!sieges_a_la_PM_CM),\n  IF('2. Voix obtenues'!G56=\"Voir la répartition dans l'onglet 3\",IF('2. Voix obtenues'!F56<5%,0,\n                                                               IF('2. Voix obtenues'!D56=MAX('2. Voix obtenues'!$D$7:$D$56),'1.T1 ou T2 et sièges à pourvoir'!sieges_a_la_PM_CM,0)),0)))","v":0},{"$f":"IF(C57=\"\",0,IF('3bis. Calcul répartition CM'!$D$6='3bis. Calcul répartition CM'!$C$2,SUMPRODUCT(($C57='3bis. Calcul répartition CM'!$B$9:$B$58)*('3bis. Calcul répartition CM'!$D$9:$D$58)),\n                   IF(SUM('erreurs calcul répartCM'!$K$2:$BR$2)>0,0,SUMPRODUCT(($C57='3bis. Calcul répartition CM'!$B$9:$B$58)*('3bis. Calcul répartition CM'!$F$9:$F$58)))))","v":0},{"$f":"IF(SUM('erreurs calcul répartCM'!$K$2:$BR$2)>0,0,D57+E57)","v":0},{"$f":"IF(F57>'2. Voix obtenues'!E56,'2. Voix obtenues'!E56,F57)","v":0},0]

{"sheet":"3bis. Calcul répartition CM","index":4,"n_rows":58,"n_cols":69,"rows_kept":58,"cut":false,"hidden":false,"merged":[]}
[null,null,null,null,null,null,null,null,null,{"$f":"K4","v":1},null,{"$f":"M4","v":2},null,{"$f":"O4","v":3},null,{"$f":"Q4","v":4},null,{"$f":"S4","v":5},null,{"$f":"U4","v":6},null,{"$f":"W4","v":7},null,{"$f":"Y4","v":8},null,{"$f":"AA4","v":9},null,{"$f":"AC4","v":10},null,{"$f":"AE4","v":11},null,{"$f":"AG4","v":12},null,{"$f":"AI4","v":13},null,{"$f":"AK4","v":14},null,{"$f":"AM4","v":15},null,{"$f":"AO4","v":16},null,{"$f":"AQ4","v":17},null,{"$f":"AS4","v":18},null,{"$f":"AU4","v":19},null,{"$f":"AW4","v":20},null,{"$f":"AY4","v":21},null,{"$f":"BA4","v":22},null,{"$f":"BC4","v":23},null,{"$f":"BE4","v":24},null,{"$f":"BG4","v":25},null,{"$f":"BI4","v":26},null,{"$f":"BK4","v":27},null,{"$f":"BM4","v":28},null,{"$f":"BO4","v":29},null,{"$f":"BQ4","v":30}]
[null,"Sièges à pourvoir",{"$f":"'1.T1 ou T2 et sièges à pourvoir'!sieges_a_repartir_PFM_CM","v":0}]
[]
[null,"Quotient électoral",{"$f":"(SE___listes_moins_5/'3bis. Calcul répartition CM'!C2)","v":{"$error":"#DIV/0!"}},null,null,null,null,null,null,"Siège à la PFM n°",1,"Siège à la PFM n°",{"$f":"K4+1","v":2},"Siège à la PFM n°",{"$f":"M4+1","v":3},"Siège à la PFM n°",{"$f":"O4+1","v":4},"Siège à la PFM n°",{"$f":"Q4+1","v":5},"Siège à la PFM n°",{"$f":"S4+1","v":6},"Siège à la PFM n°",{"$f":"U4+1","v":7},"Siège à la PFM n°",{"$f":"W4+1","v":8},"Siège à la PFM n°",{"$f":"Y4+1","v":9},"Siège à la PFM n°",{"$f":"AA4+1","v":10},"Siège à la PFM n°",{"$f":"AC4+1","v":11},"Siège à la PFM n°",{"$f":"AE4+1","v":12},"Siège à la PFM n°",{"$f":"AG4+1","v":13},"Siège à la PFM n°",{"$f":"AI4+1","v":14},"Siège à la PFM n°",{"$f":"AK4+1","v":15},"Siège à la PFM n°",{"$f":"AM4+1","v":16},"Siège à la PFM n°",{"$f":"AO4+1","v":17},"Siège à la PFM n°",{"$f":"AQ4+1","v":18},"Siège à la PFM n°",{"$f":"AS4+1","v":19},"Siège à la PFM n°",{"$f":"AU4+1","v":20},"Siège à la PFM n°",{"$f":"AW4+1","v":21},"Siège à la PFM n°",{"$f":"AY4+1","v":22},"Siège à la PFM n°",{"$f":"BA4+1","v":23},"Siège à la PFM n°",{"$f":"BC4+1","v":24},"Siège à la PFM n°",{"$f":"BE4+1","v":25},"Siège à la PFM n°",{"$f":"BG4+1","v":26},"Siège à la PFM n°",{"$f":"BI4+1","v":27},"Siège à la PFM n°",{"$f":"BK4+1","v":28},"Siège à la PFM n°",{"$f":"BM4+1","v":29},"Siège à la PFM n°",{"$f":"BO4+1","v":30}]
[null,null,null,null,null,null,null,null,null,"Nombre de sièges restants à répartir à la PFM avant opération :",{"$f":"C2-D6","v":0},"Sièges restants à répartir à la PFM avant opération :",{"$f":"IF(K5>0,K5-1,0)","v":0},"Sièges restants à répartir à la PFM avant opération :",{"$f":"IF(M5>0,M5-1,0)","v":0},"Sièges restants à répartir à la PFM avant opération :",{"$f":"IF(O5>0,O5-1,0)","v":0},"Sièges restants à répartir à la PFM avant opération :",{"$f":"IF(Q5>0,Q5-1,0)","v":0},"Sièges restants à répartir à la PFM avant opération :",{"$f":"IF(S5>0,S5-1,0)","v":0},"Sièges restants à répartir à la PFM avant opération :",{"$f":"IF(U5>0,U5-1,0)","v":0},"Sièges restants à répartir à la PFM avant opération :",{"$f":"IF(W5>0,W5-1,0)","v":0},"Sièges restants à répartir à la PFM avant opération :",{"$f":"IF(Y5>0,Y5-1,0)","v":0},"Sièges restants à répartir à la PFM avant opération :",{"$f":"IF(AA5>0,AA5-1,0)","v":0},"Sièges restants à répartir à la PFM avant opération :",{"$f":"IF(AC5>0,AC5-1,0)","v":0},"Sièges restants à répartir à la PFM avant opération :",{"$f":"IF(AE5>0,AE5-1,0)","v":0},"Sièges restants à répartir à la PFM avant opération :",{"$f":"IF(AG5>0,AG5-1,0)","v":0},"Sièges restants à répartir à la PFM avant opération :",{"$f":"IF(AI5>0,AI5-1,0)","v":0},"Sièges restants à répartir à la PFM avant opération :",{"$f":"IF(AK5>0,AK5-1,0)","v":0},"Sièges restants à répartir à la PFM avant opération :",{"$f":"IF(AM5>0,AM5-1,0)","v":0},"Sièges restants à répartir à la PFM avant opération :",{"$f":"IF(AO5>0,AO5-1,0)","v":0},"Sièges restants à répartir à la PFM avant opération :",{"$f":"IF(AQ5>0,AQ5-1,0)","v":0},"Sièges restants à répartir à la PFM avant opération :",{"$f":"IF(AS5>0,AS5-1,0)","v":0},"Sièges restants à répartir à la PFM avant opération :",{"$f":"IF(AU5>0,AU5-1,0)","v":0},"Sièges restants à répartir à la PFM avant opération :",{"$f":"IF(AW5>0,AW5-1,0)","v":0},"Sièges restants à répartir à la PFM avant opération :",{"$f":"IF(AY5>0,AY5-1,0)","v":0},"Sièges restants à répartir à la PFM avant opération :",{"$f":"IF(BA5>0,BA5-1,0)","v":0},"Sièges restants à répartir à la PFM avant opération :",{"$f":"IF(BC5>0,BC5-1,0)","v":0},"Sièges restants à répartir à la PFM avant opération :",{"$f":"IF(BE5>0,BE5-1,0)","v":0},"Sièges restants à répartir à la PFM avant opération :",{"$f":"IF(BG5>0,BG5-1,0)","v":0},"Sièges restants à répartir à la PFM avant opération :",{"$f":"IF(BI5>0,BI5-1,0)","v":0},"Sièges restants à répartir à la PFM avant opération :",{"$f":"IF(BK5>0,BK5-1,0)","v":0},"Sièges restants à répartir à la PFM avant opération :",{"$f":"IF(BM5>0,BM5-1,0)","v":0},"Sièges restants à répartir à la PFM avant opération :",{"$f":"IF(BO5>0,BO5-1,0)","v":0}]
[null,null,"Total sièges répartis au QE",{"$f":"SUM(D9:D58)","v":0},null,null,null,null,null,"Total de sièges répartis à l'issue de l'opération :",{"$f":"IF(K5=0,0,IF(SUM(K9:K23)-D6>1,0,SUM(K9:K23)))","v":0},"Total sièges répartis au cours de l'opération :",{"$f":"IF(M5=0,0,IF(SUM(M9:M58)-K6>1,0,SUM(M9:M58)))","v":0},"Total sièges répartis au cours de l'opération :",{"$f":"IF(O5=0,0,IF(SUM(O9:O58)-M6>1,0,SUM(O9:O58)))","v":0},"Total sièges répartis au cours de l'opération :",{"$f":"IF(Q5=0,0,IF(SUM(Q9:Q58)-O6>1,0,SUM(Q9:Q58)))","v":0},"Total sièges répartis au cours de l'opération :",{"$f":"IF(S5=0,0,IF(SUM(S9:S58)-Q6>1,0,SUM(S9:S58)))","v":0},"Total sièges répartis au cours de l'opération :",{"$f":"IF(U5=0,0,IF(SUM(U9:U58)-S6>1,0,SUM(U9:U58)))","v":0},"Total sièges répartis au cours de l'opération :",{"$f":"IF(W5=0,0,IF(SUM(W9:W58)-U6>1,0,SUM(W9:W58)))","v":0},"Total sièges répartis au cours de l'opération :",{"$f":"IF(Y5=0,0,IF(SUM(Y9:Y58)-W6>1,0,SUM(Y9:Y58)))","v":0},"Total sièges répartis au cours de l'opération :",{"$f":"IF(AA5=0,0,IF(SUM(AA9:AA58)-Y6>1,0,SUM(AA9:AA58)))","v":0},"Total sièges répartis au cours de l'opération :",{"$f":"IF(AC5=0,0,IF(SUM(AC9:AC58)-AA6>1,0,SUM(AC9:AC58)))","v":0},"Total sièges répartis au cours de l'opération :",{"$f":"IF(AE5=0,0,IF(SUM(AE9:AE58)-AC6>1,0,SUM(AE9:AE58)))","v":0},"Total sièges répartis au cours de l'opération :",{"$f":"IF(AG5=0,0,IF(SUM(AG9:AG58)-AE6>1,0,SUM(AG9:AG58)))","v":0},"Total sièges répartis au cours de l'opération :",{"$f":"IF(AI5=0,0,IF(SUM(AI9:AI58)-AG6>1,0,SUM(AI9:AI58)))","v":0},"Total sièges répartis au cours de l'opération :",{"$f":"IF(AK5=0,0,IF(SUM(AK9:AK58)-AI6>1,0,SUM(AK9:AK58)))","v":0},"Total sièges répartis au cours de l'opération :",{"$f":"IF(AM5=0,0,IF(SUM(AM9:AM58)-AK6>1,0,SUM(AM9:AM58)))","v":0},"Total sièges répartis au cours de l'opération :",{"$f":"IF(AO5=0,0,IF(SUM(AO9:AO58)-AM6>1,0,SUM(AO9:AO58)))","v":0},"Total sièges répartis au cours de l'opération :",{"$f":"IF(AQ5=0,0,IF(SUM(AQ9:AQ58)-AO6>1,0,SUM(AQ9:AQ58)))","v":0},"Total sièges répartis au cours de l'opération :",{"$f":"IF(AS5=0,0,IF(SUM(AS9:AS58)-AQ6>1,0,SUM(AS9:AS58)))","v":0},"Total sièges répartis au cours de l'opération :",{"$f":"IF(AU5=0,0,IF(SUM(AU9:AU58)-AS6>1,0,SUM(AU9:AU58)))","v":0},"Total sièges répartis au cours de l'opération :",{"$f":"IF(AW5=0,0,IF(SUM(AW9:AW58)-AU6>1,0,SUM(AW9:AW58)))","v":0},"Total sièges répartis au cours de l'opération :",{"$f":"IF(AY5=0,0,IF(SUM(AY9:AY58)-AW6>1,0,SUM(AY9:AY58)))","v":0},"Total sièges répartis au cours de l'opération :",{"$f":"IF(BA5=0,0,IF(SUM(BA9:BA58)-AY6>1,0,SUM(BA9:BA58)))","v":0},"Total sièges répartis au cours de l'opération :",{"$f":"IF(BC5=0,0,IF(SUM(BC9:BC58)-BA6>1,0,SUM(BC9:BC58)))","v":0},"Total sièges répartis au cours de l'opération :",{"$f":"IF(BE5=0,0,IF(SUM(BE9:BE58)-BC6>1,0,SUM(BE9:BE58)))","v":0},"Total sièges répartis au cours de l'opération :",{"$f":"IF(BG5=0,0,IF(SUM(BG9:BG58)-BE6>1,0,SUM(BG9:BG58)))","v":0},"Total sièges répartis au cours de l'opération :",{"$f":"IF(BI5=0,0,IF(SUM(BI9:BI58)-BG6>1,0,SUM(BI9:BI58)))","v":0},"Total sièges répartis au cours de l'opération :",{"$f":"IF(BK5=0,0,IF(SUM(BK9:BK58)-BI6>1,0,SUM(BK9:BK58)))","v":0},"Total sièges répartis au cours de l'opération :",{"$f":"IF(BM5=0,0,IF(SUM(BM9:BM58)-BK6>1,0,SUM(BM9:BM58)))","v":0},"Total sièges répartis au cours de l'opération :",{"$f":"IF(BO5=0,0,IF(SUM(BO9:BO58)-BM6>1,0,SUM(BO9:BO58)))","v":0},"Total sièges répartis au cours de l'opération :",{"$f":"IF(BQ5=0,0,IF(SUM(BQ9:BQ58)-BO6>1,0,SUM(BQ9:BQ58)))","v":0}]
[null,null,null,null,null,null,null,null,null,{"$f":"IF(SUMPRODUCT(('erreurs calcul répartCM'!J$4:J$18=\"erreur\")*1)>0,\"Attribution du siège en cas d'égalité:\",IF(K7<>\"\",\"Siège attribué à la liste ayant le plus de suffrage ou à la liste dont le co-listier candidat à ce siège est le plus âgé :\",\"\"))","v":""},null,{"$f":"IF(SUMPRODUCT(('erreurs calcul répartCM'!L$4:L$18=\"erreur\")*1)>0,\"Attribution du siège en cas d'égalité:\",IF(M7<>\"\",\"Siège attribué à la liste ayant le plus de suffrage ou dont le co-listier est le plus âgé :\",\"\"))","v":""},null,{"$f":"IF(SUMPRODUCT(('erreurs calcul répartCM'!N$4:N$18=\"erreur\")*1)>0,\"Attribution du siège en cas d'égalité:\",IF(O7<>\"\",\"Siège attribué à la liste ayant le plus de suffrage ou dont le co-listier est le plus âgé :\",\"\"))","v":""},null,{"$f":"IF(SUMPRODUCT(('erreurs calcul répartCM'!P$4:P$18=\"erreur\")*1)>0,\"Attribution du siège en cas d'égalité:\",IF(Q7<>\"\",\"Siège attribué à la liste ayant le plus de suffrage ou dont le co-listier est le plus âgé :\",\"\"))","v":""},null,{"$f":"IF(SUMPRODUCT(('erreurs calcul répartCM'!R$4:R$18=\"erreur\")*1)>0,\"Attribution du siège en cas d'égalité:\",IF(S7<>\"\",\"Siège attribué à la liste ayant le plus de suffrage ou dont le co-listier est le plus âgé :\",\"\"))","v":""},null,{"$f":"IF(SUMPRODUCT(('erreurs calcul répartCM'!T$4:T$18=\"erreur\")*1)>0,\"Attribution du siège en cas d'égalité:\",IF(U7<>\"\",\"Siège attribué à la liste ayant le plus de suffrage ou dont le co-listier est le plus âgé :\",\"\"))","v":""},null,{"$f":"IF(SUMPRODUCT(('erreurs calcul répartCM'!V$4:V$18=\"erreur\")*1)>0,\"Attribution du siège en cas d'égalité:\",IF(W7<>\"\",\"Siège attribué à la liste ayant le plus de suffrage ou dont le co-listier est le plus âgé :\",\"\"))","v":""},null,{"$f":"IF(SUMPRODUCT(('erreurs calcul répartCM'!X$4:X$18=\"erreur\")*1)>0,\"Attribution du siège en cas d'égalité:\",IF(Y7<>\"\",\"Siège attribué à la liste ayant le plus de suffrage ou dont le co-listier est le plus âgé :\",\"\"))","v":""},null,{"$f":"IF(SUMPRODUCT(('erreurs calcul répartCM'!Z$4:Z$18=\"erreur\")*1)>0,\"Attribution du siège en cas d'égalité:\",IF(AA7<>\"\",\"Siège attribué à la liste ayant le plus de suffrage ou dont le co-listier est le plus âgé :\",\"\"))","v":""},null,{"$f":"IF(SUMPRODUCT(('erreurs calcul répartCM'!AB$4:AB$18=\"erreur\")*1)>0,\"Attribution du siège en cas d'égalité:\",IF(AC7<>\"\",\"Siège attribué à la liste ayant le plus de suffrage ou dont le co-listier est le plus âgé :\",\"\"))","v":""},null,{"$f":"IF(SUMPRODUCT(('erreurs calcul répartCM'!AD$4:AD$18=\"erreur\")*1)>0,\"Attribution du siège en cas d'égalité:\",IF(AE7<>\"\",\"Siège attribué à la liste ayant le plus de suffrage ou dont le co-listier est le plus âgé :\",\"\"))","v":""},null,{"$f":"IF(SUMPRODUCT(('erreurs calcul répartCM'!AF$4:AF$18=\"erreur\")*1)>0,\"Attribution du siège en cas d'égalité:\",IF(AG7<>\"\",\"Siège attribué à la liste ayant le plus de suffrage ou dont le co-listier est le plus âgé :\",\"\"))","v":""},null,{"$f":"IF(SUMPRODUCT(('erreurs calcul répartCM'!AH$4:AH$18=\"erreur\")*1)>0,\"Attribution du siège en cas d'égalité:\",IF(AI7<>\"\",\"Siège attribué à la liste ayant le plus de suffrage ou dont le co-listier est le plus âgé :\",\"\"))","v":""},null,{"$f":"IF(SUMPRODUCT(('erreurs calcul répartCM'!AJ$4:AJ$18=\"erreur\")*1)>0,\"Attribution du siège en cas d'égalité:\",IF(AK7<>\"\",\"Siège attribué à la liste ayant le plus de suffrage ou dont le co-listier est le plus âgé :\",\"\"))","v":""},null,{"$f":"IF(SUMPRODUCT(('erreurs calcul répartCM'!AL$4:AL$18=\"erreur\")*1)>0,\"Attribution du siège en cas d'égalité:\",IF(AM7<>\"\",\"Siège attribué à la liste ayant le plus de suffrage ou dont le co-listier est le plus âgé :\",\"\"))","v":""},null,{"$f":"IF(SUMPRODUCT(('erreurs calcul répartCM'!AN$4:AN$18=\"erreur\")*1)>0,\"Attribution du siège en cas d'égalité:\",IF(AO7<>\"\",\"Siège attribué à la liste ayant le plus de suffrage ou dont le co-listier est le plus âgé :\",\"\"))","v":""},null,{"$f":"IF(SUMPRODUCT(('erreurs calcul répartCM'!AP$4:AP$18=\"erreur\")*1)>0,\"Attribution du siège en cas d'égalité:\",IF(AQ7<>\"\",\"Siège attribué à la liste ayant le plus de suffrage ou dont le co-listier est le plus âgé :\",\"\"))","v":""},null,{"$f":"IF(SUMPRODUCT(('erreurs calcul répartCM'!AR$4:AR$18=\"erreur\")*1)>0,\"Attribution du siège en cas d'égalité:\",IF(AS7<>\"\",\"Siège attribué à la liste ayant le plus de suffrage ou dont le co-listier est le plus âgé :\",\"\"))","v":""},null,{"$f":"IF(SUMPRODUCT(('erreurs calcul répartCM'!AT$4:AT$18=\"erreur\")*1)>0,\"Attribution du siège en cas d'égalité:\",IF(AU7<>\"\",\"Siège attribué à la liste ayant le plus de suffrage ou dont le co-listier est le plus âgé :\",\"\"))","v":""},null,{"$f":"IF(SUMPRODUCT(('erreurs calcul répartCM'!AV$4:AV$18=\"erreur\")*1)>0,\"Attribution du siège en cas d'égalité:\",IF(AW7<>\"\",\"Siège attribué à la liste ayant le plus de suffrage ou dont le co-listier est le plus âgé :\",\"\"))","v":""},null,{"$f":"IF(SUMPRODUCT(('erreurs calcul répartCM'!AX$4:AX$18=\"erreur\")*1)>0,\"Attribution du siège en cas d'égalité:\",IF(AY7<>\"\",\"Siège attribué à la liste ayant le plus de suffrage ou dont le co-listier est le plus âgé :\",\"\"))","v":""},null,{"$f":"IF(SUMPRODUCT(('erreurs calcul répartCM'!AZ$4:AZ$18=\"erreur\")*1)>0,\"Attribution du siège en cas d'égalité:\",IF(BA7<>\"\",\"Siège attribué à la liste ayant le plus de suffrage ou dont le co-listier est le plus âgé :\",\"\"))","v":""},null,{"$f":"IF(SUMPRODUCT(('erreurs calcul répartCM'!BB$4:BB$18=\"erreur\")*1)>0,\"Attribution du siège en cas d'égalité:\",IF(BC7<>\"\",\"Siège attribué à la liste ayant le plus de suffrage ou dont le co-listier est le plus âgé :\",\"\"))","v":""},null,{"$f":"IF(SUMPRODUCT(('erreurs calcul répartCM'!BD$4:BD$18=\"erreur\")*1)>0,\"Attribution du siège en cas d'égalité:\",IF(BE7<>\"\",\"Siège attribué à la liste ayant le plus de suffrage ou dont le co-listier est le plus âgé :\",\"\"))","v":""},null,{"$f":"IF(SUMPRODUCT(('erreurs calcul répartCM'!BF$4:BF$18=\"erreur\")*1)>0,\"Attribution du siège en cas d'égalité:\",IF(BG7<>\"\",\"Siège attribué à la liste ayant le plus de suffrage ou dont le co-listier est le plus âgé :\",\"\"))","v":""},null,{"$f":"IF(SUMPRODUCT(('erreurs calcul répartCM'!BH$4:BH$18=\"erreur\")*1)>0,\"Attribution du siège en cas d'égalité:\",IF(BI7<>\"\",\"Siège attribué à la liste ayant le plus de suffrage ou dont le co-listier est le plus âgé :\",\"\"))","v":""},null,{"$f":"IF(SUMPRODUCT(('erreurs calcul répartCM'!BJ$4:BJ$18=\"erreur\")*1)>0,\"Attribution du siège en cas d'égalité:\",IF(BK7<>\"\",\"Siège attribué à la liste ayant le plus de suffrage ou dont le co-listier est le plus âgé :\",\"\"))","v":""},null,{"$f":"IF(SUMPRODUCT(('erreurs calcul répartCM'!BL$4:BL$18=\"erreur\")*1)>0,\"Attribution du siège en cas d'égalité:\",IF(BM7<>\"\",\"Siège attribué à la liste ayant le plus de suffrage ou dont le co-listier est le plus âgé :\",\"\"))","v":""},null,{"$f":"IF(SUMPRODUCT(('erreurs calcul répartCM'!BN$4:BN$18=\"erreur\")*1)>0,\"Attribution du siège en cas d'égalité:\",IF(BO7<>\"\",\"Siège attribué à la liste ayant le plus de suffrage ou dont le co-listier est le plus âgé :\",\"\"))","v":""},null,{"$f":"IF(SUMPRODUCT(('erreurs calcul répartCM'!BP$4:BP$18=\"erreur\")*1)>0,\"Attribution du siège en cas d'égalité:\",IF(BQ7<>\"\",\"Siège attribué à la liste ayant le plus de suffrage ou dont le co-listier est le plus âgé :\",\"\"))","v":""}]
[null,"Listes","Suffrages exprimés","Sièges répartis au quotient électoral",null,{"$f":"IF(C2-D6>0,\"Sièges totaux, y compris répartis à la plus forte moyenne (cf. opérations ci-contre)\",\"\")","v":""},null,null,null,"Répartition à la plus forte moyenne :",{"$f":"\"Siège \"&K4&\" à plus forte moyenne\"","v":"Siège 1 à plus forte moyenne"},"Répartition à la plus forte moyenne :",{"$f":"\"Siège \"&M4&\" à plus forte moyenne\"","v":"Siège 2 à plus forte moyenne"},"Répartition à la plus forte moyenne :",{"$f":"\"Siège \"&O4&\" à plus forte moyenne\"","v":"Siège 3 à plus forte moyenne"},"Répartition à la plus forte moyenne :",{"$f":"\"Siège \"&Q4&\" à plus forte moyenne\"","v":"Siège 4 à plus forte moyenne"},"Répartition à la plus forte moyenne :",{"$f":"\"Siège \"&S4&\" à plus forte moyenne\"","v":"Siège 5 à plus forte moyenne"},"Répartition à la plus forte moyenne :",{"$f":"\"Siège \"&U4&\" à plus forte moyenne\"","v":"Siège 6 à plus forte moyenne"},"Répartition à la plus forte moyenne :",{"$f":"\"Siège \"&W4&\" à plus forte moyenne\"","v":"Siège 7 à plus forte moyenne"},"Répartition à la plus forte moyenne :",{"$f":"\"Siège \"&Y4&\" à plus forte moyenne\"","v":"Siège 8 à plus forte moyenne"},"Répartition à la plus forte moyenne :",{"$f":"\"Siège \"&AA4&\" à plus forte moyenne\"","v":"Siège 9 à plus forte moyenne"},"Répartition à la plus forte moyenne :",{"$f":"\"Siège \"&AC4&\" à plus forte moyenne\"","v":"Siège 10 à plus forte moyenne"},"Répartition à la plus forte moyenne :",{"$f":"\"Siège \"&AE4&\" à plus forte moyenne\"","v":"Siège 11 à plus forte moyenne"},"Répartition à la plus forte moyenne :",{"$f":"\"Siège \"&AG4&\" à plus forte moyenne\"","v":"Siège 12 à plus forte moyenne"},"Répartition à la plus forte moyenne :",{"$f":"\"Siège \"&AI4&\" à plus forte moyenne\"","v":"Siège 13 à plus forte moyenne"},"Répartition à la plus forte moyenne :",{"$f":"\"Siège \"&AK4&\" à plus forte moyenne\"","v":"Siège 14 à plus forte moyenne"},"Répartition à la plus forte moyenne :",{"$f":"\"Siège \"&AM4&\" à plus forte moyenne\"","v":"Siège 15 à plus forte moyenne"},"Répartition à la plus forte moyenne :",{"$f":"\"Siège \"&AO4&\" à plus forte moyenne\"","v":"Siège 16 à plus forte moyenne"},"Répartition à la plus forte moyenne :",{"$f":"\"Siège \"&AQ4&\" à plus forte moyenne\"","v":"Siège 17 à plus forte moyenne"},"Répartition à la plus forte moyenne :",{"$f":"\"Siège \"&AS4&\" à plus forte moyenne\"","v":"Siège 18 à plus forte moyenne"},"Répartition à la plus forte moyenne :",{"$f":"\"Siège \"&AU4&\" à plus forte moyenne\"","v":"Siège 19 à plus forte moyenne"},"Répartition à la plus forte moyenne :",{"$f":"\"Siège \"&AW4&\" à plus forte moyenne\"","v":"Siège 20 à plus forte moyenne"},"Répartition à la plus forte moyenne :",{"$f":"\"Siège \"&AY4&\" à plus forte moyenne\"","v":"Siège 21 à plus forte moyenne"},"Répartition à la plus forte moyenne :",{"$f":"\"Siège \"&BA4&\" à plus forte moyenne\"","v":"Siège 22 à plus forte moyenne"},"Répartition à la plus forte moyenne :",{"$f":"\"Siège \"&BC4&\" à plus forte moyenne\"","v":"Siège 23 à plus forte moyenne"},"Répartition à la plus forte moyenne :",{"$f":"\"Siège \"&BE4&\" à plus forte moyenne\"","v":"Siège 24 à plus forte moyenne"},"Répartition à la plus forte moyenne :",{"$f":"\"Siège \"&BG4&\" à plus forte moyenne\"","v":"Siège 25 à plus forte moyenne"},"Répartition à la plus forte moyenne :",{"$f":"\"Siège \"&BI4&\" à plus forte moyenne\"","v":"Siège 26 à plus forte moyenne"},"Répartition à la plus forte moyenne :",{"$f":"\"Siège \"&BK4&\" à plus forte moyenne\"","v":"Siège 27 à plus forte moyenne"},"Répartition à la plus forte moyenne :",{"$f":"\"Siège \"&BM4&\" à plus forte moyenne\"","v":"Siège 28 à plus forte moyenne"},"Répartition à la plus forte moyenne :",{"$f":"\"Siège \"&BO4&\" à plus forte moyenne\"","v":"Siège 29 à plus forte moyenne"},"Répartition à la plus forte moyenne :",{"$f":"\"Siège \"&BQ4&\" à plus forte moyenne\"","v":"Siège 30 à plus forte moyenne"}]
[1,{"$f":"IFERROR(VLOOKUP($A9,'2. Voix obtenues'!$U$7:$V$56,2,FALSE()),\"\")","v":0},{"$f":"SUMPRODUCT(($B9='2. Voix obtenues'!$C$7:$C$56)*('2. Voix obtenues'!$D$7:$D$56))","v":0},{"$f":"IFERROR(INT(C9/$C$4),0)","v":0},null,{"$f":"IF($D$6<>$C$2,MAX(K9,M9,O9,Q9,S9,U9,W9,Y9,AA9,AC9,AE9,AG9,AI9,AK9,AM9,AO9,AQ9,AS9,AU9,AW9,AY9,BA9,BC9,BE9,BG9,BI9,BK9,BM9,BO9,BQ9),0)","v":0},null,null,null,{"$f":"IF(K$5=0,0,IF($C9=\"\",0,$C9/($D9+1)))","v":0},{"$f":"IF(OR(K$5=0,J9=0),0,IF(K$7=\"\",IF(J9=MAX(J$9:J$58),D9+1,D9),\n                                                                IF(K$7=$B9,D9+1,D9)))","v":0},{"$f":"IF(OR(M$5=0,SUMPRODUCT(('erreurs calcul répartCM'!$J$2:K$2>0)*1)>0,$C9=0),0,$C9/(K9+1))","v":0},{"$f":"IF(OR(M$5=0,L9=0),0,IF(M$7=\"\",IF(L9=MAX(L$9:L$58),K9+1,K9),\n                                                                IF(M$7=$B9,K9+1,K9)))","v":0},{"$f":"IF(OR(O$5=0,SUMPRODUCT(('erreurs calcul répartCM'!$J$2:M$2>0)*1)>0,$C9=0),0,$C9/(M9+1))","v":0},{"$f":"IF(OR(O$5=0,N9=0),0,IF(O$7=\"\",IF(N9=MAX(N$9:N$58),M9+1,M9),\n                                                                IF(O$7=$B9,M9+1,M9)))","v":0},{"$f":"IF(OR(Q$5=0,SUMPRODUCT(('erreurs calcul répartCM'!$J$2:O$2>0)*1)>0,$C9=0),0,$C9/(O9+1))","v":0},{"$f":"IF(OR(Q$5=0,P9=0),0,IF(Q$7=\"\",IF(P9=MAX(P$9:P$58),O9+1,O9),\n                                                                IF(Q$7=$B9,O9+1,O9)))","v":0},{"$f":"IF(OR(S$5=0,SUMPRODUCT(('erreurs calcul répartCM'!$J$2:Q$2>0)*1)>0,$C9=0),0,$C9/(Q9+1))","v":0},{"$f":"IF(OR(S$5=0,R9=0),0,IF(S$7=\"\",IF(R9=MAX(R$9:R$58),Q9+1,Q9),\n                                                                IF(S$7=$B9,Q9+1,Q9)))","v":0},{"$f":"IF(OR(U$5=0,SUMPRODUCT(('erreurs calcul répartCM'!$J$2:S$2>0)*1)>0,$C9=0),0,$C9/(S9+1))","v":0},{"$f":"IF(OR(U$5=0,T9=0),0,IF(U$7=\"\",IF(T9=MAX(T$9:T$58),S9+1,S9),\n                                                                IF(U$7=$B9,S9+1,S9)))","v":0},{"$f":"IF(OR(W$5=0,SUMPRODUCT(('erreurs calcul répartCM'!$J$2:U$2>0)*1)>0,$C9=0),0,$C9/(U9+1))","v":0},{"$f":"IF(OR(W$5=0,V9=0),0,IF(W$7=\"\",IF(V9=MAX(V$9:V$58),U9+1,U9),\n                                                                IF(W$7=$B9,U9+1,U9)))","v":0},{"$f":"IF(OR(Y$5=0,SUMPRODUCT(('erreurs calcul répartCM'!$J$2:W$2>0)*1)>0,$C9=0),0,$C9/(W9+1))","v":0},{"$f":"IF(OR(Y$5=0,X9=0),0,IF(Y$7=\"\",IF(X9=MAX(X$9:X$58),W9+1,W9),\n                                                                IF(Y$7=$B9,W9+1,W9)))","v":0},{"$f":"IF(OR(AA$5=0,SUMPRODUCT(('erreurs calcul répartCM'!$J$2:Y$2>0)*1)>0,$C9=0),0,$C9/(Y9+1))","v":0},{"$f":"IF(OR(AA$5=0,Z9=0),0,IF(AA$7=\"\",IF(Z9=MAX(Z$9:Z$58),Y9+1,Y9),\n                                                                IF(AA$7=$B9,Y9+1,Y9)))","v":0},{"$f":"IF(OR(AC$5=0,SUMPRODUCT(('erreurs calcul répartCM'!$J$2:AA$2>0)*1)>0,$C9=0),0,$C9/(AA9+1))","v":0},{"$f":"IF(OR(AC$5=0,AB9=0),0,IF(AC$7=\"\",IF(AB9=MAX(AB$9:AB$58),AA9+1,AA9),\n                                                                IF(AC$7=$B9,AA9+1,AA9)))","v":0},{"$f":"IF(OR(AE$5=0,SUMPRODUCT(('erreurs calcul répartCM'!$J$2:AC$2>0)*1)>0,$C9=0),0,$C9/(AC9+1))","v":0},{"$f":"IF(OR(AE$5=0,AD9=0),0,IF(AE$7=\"\",IF(AD9=MAX(AD$9:AD$58),AC9+1,AC9),\n                                                                IF(AE$7=$B9,AC9+1,AC9)))","v":0},{"$f":"IF(OR(AG$5=0,SUMPRODUCT(('erreurs calcul répartCM'!$J$2:AE$2>0)*1)>0,$C9=0),0,$C9/(AE9+1))","v":0},{"$f":"IF(OR(AG$5=0,AF9=0),0,IF(AG$7=\"\",IF(AF9=MAX(AF$9:AF$58),AE9+1,AE9),\n                                                                IF(AG$7=$B9,AE9+1,AE9)))","v":0},{"$f":"IF(OR(AI$5=0,SUMPRODUCT(('erreurs calcul répartCM'!$J$2:AG$2>0)*1)>0,$C9=0),0,$C9/(AG9+1))","v":0},{"$f":"IF(OR(AI$5=0,AH9=0),0,IF(AI$7=\"\",IF(AH9=MAX(AH$9:AH$58),AG9+1,AG9),\n                                                                IF(AI$7=$B9,AG9+1,AG9)))","v":0},{"$f":"IF(OR(AK$5=0,SUMPRODUCT(('erreurs calcul répartCM'!$J$2:AI$2>0)*1)>0,$C9=0),0,$C9/(AI9+1))","v":0},{"$f":"IF(OR(AK$5=0,AJ9=0),0,IF(AK$7=\"\",IF(AJ9=MAX(AJ$9:AJ$58),AI9+1,AI9),\n                                                                IF(AK$7=$B9,AI9+1,AI9)))","v":0},{"$f":"IF(OR(AM$5=0,SUMPRODUCT(('erreurs calcul répartCM'!$J$2:AK$2>0)*1)>0,$C9=0),0,$C9/(AK9+1))","v":0},{"$f":"IF(OR(AM$5=0,AL9=0),0,IF(AM$7=\"\",IF(AL9=MAX(AL$9:AL$58),AK9+1,AK9),\n                                                                IF(AM$7=$B9,AK9+1,AK9)))","v":0},{"$f":"IF(OR(AO$5=0,SUMPRODUCT(('erreurs calcul répartCM'!$J$2:AM$2>0)*1)>0,$C9=0),0,$C9/(AM9+1))","v":0},{"$f":"IF(OR(AO$5=0,AN9=0),0,IF(AO$7=\"\",IF(AN9=MAX(AN$9:AN$58),AM9+1,AM9),\n                                                                IF(AO$7=$B9,AM9+1,AM9)))","v":0},{"$f":"IF(OR(AQ$5=0,SUMPRODUCT(('erreurs calcul répartCM'!$J$2:AO$2>0)*1)>0,$C9=0),0,$C9/(AO9+1))","v":0},{"$f":"IF(OR(AQ$5=0,AP9=0),0,IF(AQ$7=\"\",IF(AP9=MAX(AP$9:AP$58),AO9+1,AO9),\n                                                                IF(AQ$7=$B9,AO9+1,AO9)))","v":0},{"$f":"IF(OR(AS$5=0,SUMPRODUCT(('erreurs calcul répartCM'!$J$2:AQ$2>0)*1)>0,$C9=0),0,$C9/(AQ9+1))","v":0},{"$f":"IF(OR(AS$5=0,AR9=0),0,IF(AS$7=\"\",IF(AR9=MAX(AR$9:AR$58),AQ9+1,AQ9),\n                                                                IF(AS$7=$B9,AQ9+1,AQ9)))","v":0},{"$f":"IF(OR(AU$5=0,SUMPRODUCT(('erreurs calcul répartCM'!$J$2:AS$2>0)*1)>0,$C9=0),0,$C9/(AS9+1))","v":0},{"$f":"IF(OR(AU$5=0,AT9=0),0,IF(AU$7=\"\",IF(AT9=MAX(AT$9:AT$58),AS9+1,AS9),\n                                                                IF(AU$7=$B9,AS9+1,AS9)))","v":0},{"$f":"IF(OR(AW$5=0,SUMPRODUCT(('erreurs calcul répartCM'!$J$2:AU$2>0)*1)>0,$C9=0),0,$C9/(AU9+1))","v":0},{"$f":"IF(OR(AW$5=0,AV9=0),0,IF(AW$7=\"\",IF(AV9=MAX(AV$9:AV$58),AU9+1,AU9),\n                                                                IF(AW$7=$B9,AU9+1,AU9)))","v":0},{"$f":"IF(OR(AY$5=0,SUMPRODUCT(('erreurs calcul répartCM'!$J$2:AW$2>0)*1)>0,$C9=0),0,$C9/(AW9+1))","v":0},{"$f":"IF(OR(AY$5=0,AX9=0),0,IF(AY$7=\"\",IF(AX9=MAX(AX$9:AX$58),AW9+1,AW9),\n                                                                IF(AY$7=$B9,AW9+1,AW9)))","v":0},{"$f":"IF(OR(BA$5=0,SUMPRODUCT(('erreurs calcul répartCM'!$J$2:AY$2>0)*1)>0,$C9=0),0,$C9/(AY9+1))","v":0},{"$f":"IF(OR(BA$5=0,AZ9=0),0,IF(BA$7=\"\",IF(AZ9=MAX(AZ$9:AZ$58),AY9+1,AY9),\n                                                                IF(BA$7=$B9,AY9+1,AY9)))","v":0},{"$f":"IF(OR(BC$5=0,SUMPRODUCT(('erreurs calcul répartCM'!$J$2:BA$2>0)*1)>0,$C9=0),0,$C9/(BA9+1))","v":0},{"$f":"IF(OR(BC$5=0,BB9=0),0,IF(BC$7=\"\",IF(BB9=MAX(BB$9:BB$58),BA9+1,BA9),\n                                                                IF(BC$7=$B9,BA9+1,BA9)))","v":0},{"$f":"IF(OR(BE$5=0,SUMPRODUCT(('erreurs calcul répartCM'!$J$2:BC$2>0)*1)>0,$C9=0),0,$C9/(BC9+1))","v":0},{"$f":"IF(OR(BE$5=0,BD9=0),0,IF(BE$7=\"\",IF(BD9=MAX(BD$9:BD$58),BC9+1,BC9),\n                                                                IF(BE$7=$B9,BC9+1,BC9)))","v":0},{"$f":"IF(OR(BG$5=0,SUMPRODUCT(('erreurs calcul répartCM'!$J$2:BE$2>0)*1)>0,$C9=0),0,$C9/(BE9+1))","v":0},{"$f":"IF(OR(BG$5=0,BF9=0),0,IF(BG$7=\"\",IF(BF9=MAX(BF$9:BF$58),BE9+1,BE9),\n                                                                IF(BG$7=$B9,BE9+1,BE9)))","v":0},{"$f":"IF(OR(BI$5=0,SUMPRODUCT(('erreurs calcul répartCM'!$J$2:BG$2>0)*1)>0,$C9=0),0,$C9/(BG9+1))","v":0},{"$f":"IF(OR(BI$5=0,BH9=0),0,IF(BI$7=\"\",IF(BH9=MAX(BH$9:BH$58),BG9+1,BG9),\n                                                                IF(BI$7=$B9,BG9+1,BG9)))","v":0},{"$f":"IF(OR(BK$5=0,SUMPRODUCT(('erreurs calcul répartCM'!$J$2:BI$2>0)*1)>0,$C9=0),0,$C9/(BI9+1))","v":0},{"$f":"IF(OR(BK$5=0,BJ9=0),0,IF(BK$7=\"\",IF(BJ9=MAX(BJ$9:BJ$58),BI9+1,BI9),\n                                                                IF(BK$7=$B9,BI9+1,BI9)))","v":0},{"$f":"IF(OR(BM$5=0,SUMPRODUCT(('erreurs calcul répartCM'!$J$2:BK$2>0)*1)>0,$C9=0),0,$C9/(BK9+1))","v":0},{"$f":"IF(OR(BM$5=0,BL9=0),0,IF(BM$7=\"\",IF(BL9=MAX(BL$9:BL$58),BK9+1,BK9),\n                                                                IF(BM$7=$B9,BK9+1,BK9)))","v":0},{"$f":"IF(OR(BO$5=0,SUMPRODUCT(('erreurs calcul répartCM'!$J$2:BM$2>0)*1)>0,$C9=0),0,$C9/(BM9+1))","v":0},{"$f":"IF(OR(BO$5=0,BN9=0),0,IF(BO$7=\"\",IF(BN9=MAX(BN$9:BN$58),BM9+1,BM9),\n                                                                IF(BO$7=$B9,BM9+1,BM9)))","v":0},{"$f":"IF(OR(BQ$5=0,SUMPRODUCT(('erreurs calcul répartCM'!$J$2:BO$2>0)*1)>0,$C9=0),0,$C9/(BO9+1))","v":0},{"$f":"IF(OR(BQ$5=0,BP9=0),0,IF(BQ$7=\"\",IF(BP9=MAX(BP$9:BP$58),BO9+1,BO9),\n                                                                IF(BQ$7=$B9,BO9+1,BO9)))","v":0}]
[{"$f":"A9+1","v":2},{"$f":"IFERROR(VLOOKUP($A10,'2. Voix obtenues'!$U$7:$V$56,2,FALSE()),\"\")","v":0},{"$f":"SUMPRODUCT(($B10='2. Voix obtenues'!$C$7:$C$56)*('2. Voix obtenues'!$D$7:$D$56))","v":0},0,null,0,null,null,null,0,0,{"$f":"IF(OR(M$5=0,SUMPRODUCT(('erreurs calcul répartCM'!$J$2:K$2>0)*1)>0,$C10=0),0,$C10/(K10+1))","v":0},0,{"$f":"IF(OR(O$5=0,SUMPRODUCT(('erreurs calcul répartCM'!$J$2:M$2>0)*1)>0,$C10=0),0,$C10/(M10+1))","v":0},0,{"$f":"IF(OR(Q$5=0,SUMPRODUCT(('erreurs calcul répartCM'!$J$2:O$2>0)*1)>0,$C10=0),0,$C10/(O10+1))","v":0},0,{"$f":"IF(OR(S$5=0,SUMPRODUCT(('erreurs calcul répartCM'!$J$2:Q$2>0)*1)>0,$C10=0),0,$C10/(Q10+1))","v":0},0,{"$f":"IF(OR(U$5=0,SUMPRODUCT(('erreurs calcul répartCM'!$J$2:S$2>0)*1)>0,$C10=0),0,$C10/(S10+1))","v":0},0,{"$f":"IF(OR(W$5=0,SUMPRODUCT(('erreurs calcul répartCM'!$J$2:U$2>0)*1)>0,$C10=0),0,$C10/(U10+1))","v":0},0,{"$f":"IF(OR(Y$5=0,SUMPRODUCT(('erreurs calcul répartCM'!$J$2:W$2>0)*1)>0,$C10=0),0,$C10/(W10+1))","v":0},0,{"$f":"IF(OR(AA$5=0,SUMPRODUCT(('erreurs calcul répartCM'!$J$2:Y$2>0)*1)>0,$C10=0),0,$C10/(Y10+1))","v":0},0,{"$f":"IF(OR(AC$5=0,SUMPRODUCT(('erreurs calcul répartCM'!$J$2:AA$2>0)*1)>0,$C10=0),0,$C10/(AA10+1))","v":0},0,{"$f":"IF(OR(AE$5=0,SUMPRODUCT(('erreurs calcul répartCM'!$J$2:AC$2>0)*1)>0,$C10=0),0,$C10/(AC10+1))","v":0},0,{"$f":"IF(OR(AG$5=0,SUMPRODUCT(('erreurs calcul répartCM'!$J$2:AE$2>0)*1)>0,$C10=0),0,$C10/(AE10+1))","v":0},0,{"$f":"IF(OR(AI$5=0,SUMPRODUCT(('erreurs calcul répartCM'!$J$2:AG$2>0)*1)>0,$C10=0),0,$C10/(AG10+1))","v":0},0,{"$f":"IF(OR(AK$5=0,SUMPRODUCT(('erreurs calcul répartCM'!$J$2:AI$2>0)*1)>0,$C10=0),0,$C10/(AI10+1))","v":0},0,{"$f":"IF(OR(AM$5=0,SUMPRODUCT(('erreurs calcul répartCM'!$J$2:AK$2>0)*1)>0,$C10=0),0,$C10/(AK10+1))","v":0},0,{"$f":"IF(OR(AO$5=0,SUMPRODUCT(('erreurs calcul répartCM'!$J$2:AM$2>0)*1)>0,$C10=0),0,$C10/(AM10+1))","v":0},0,{"$f":"IF(OR(AQ$5=0,SUMPRODUCT(('erreurs calcul répartCM'!$J$2:AO$2>0)*1)>0,$C10=0),0,$C10/(AO10+1))","v":0},0,{"$f":"IF(OR(AS$5=0,SUMPRODUCT(('erreurs calcul répartCM'!$J$2:AQ$2>0)*1)>0,$C10=0),0,$C10/(AQ10+1))","v":0},0,{"$f":"IF(OR(AU$5=0,SUMPRODUCT(('erreurs calcul répartCM'!$J$2:AS$2>0)*1)>0,$C10=0),0,$C10/(AS10+1))","v":0},0,{"$f":"IF(OR(AW$5=0,SUMPRODUCT(('erreurs calcul répartCM'!$J$2:AU$2>0)*1)>0,$C10=0),0,$C10/(AU10+1))","v":0},0,{"$f":"IF(OR(AY$5=0,SUMPRODUCT(('erreurs calcul répartCM'!$J$2:AW$2>0)*1)>0,$C10=0),0,$C10/(AW10+1))","v":0},0,{"$f":"IF(OR(BA$5=0,SUMPRODUCT(('erreurs calcul répartCM'!$J$2:AY$2>0)*1)>0,$C10=0),0,$C10/(AY10+1))","v":0},0,{"$f":"IF(OR(BC$5=0,SUMPRODUCT(('erreurs calcul répartCM'!$J$2:BA$2>0)*1)>0,$C10=0),0,$C10/(BA10+1))","v":0},0,{"$f":"IF(OR(BE$5=0,SUMPRODUCT(('erreurs calcul répartCM'!$J$2:BC$2>0)*1)>0,$C10=0),0,$C10/(BC10+1))","v":0},0,{"$f":"IF(OR(BG$5=0,SUMPRODUCT(('erreurs calcul répartCM'!$J$2:BE$2>0)*1)>0,$C10=0),0,$C10/(BE10+1))","v":0},0,{"$f":"IF(OR(BI$5=0,SUMPRODUCT(('erreurs calcul répartCM'!$J$2:BG$2>0)*1)>0,$C10=0),0,$C10/(BG10+1))","v":0},0,{"$f":"IF(OR(BK$5=0,SUMPRODUCT(('erreurs calcul répartCM'!$J$2:BI$2>0)*1)>0,$C10=0),0,$C10/(BI10+1))","v":0},0,{"$f":"IF(OR(BM$5=0,SUMPRODUCT(('erreurs calcul répartCM'!$J$2:BK$2>0)*1)>0,$C10=0),0,$C10/(BK10+1))","v":0},0,{"$f":"IF(OR(BO$5=0,SUMPRODUCT(('erreurs calcul répartCM'!$J$2:BM$2>0)*1)>0,$C10=0),0,$C10/(BM10+1))","v":0},0,{"$f":"IF(OR(BQ$5=0,SUMPRODUCT(('erreurs calcul répartCM'!$J$2:BO$2>0)*1)>0,$C10=0),0,$C10/(BO10+1))","v":0},0]
[3,{"$f":"IFERROR(VLOOKUP($A11,'2. Voix obtenues'!$U$7:$V$56,2,FALSE()),\"\")","v":0},{"$f":"SUMPRODUCT(($B11='2. Voix obtenues'!$C$7:$C$56)*('2. Voix obtenues'!$D$7:$D$56))","v":0},0,null,0,null,null,null,0,0,{"$f":"IF(OR(M$5=0,SUMPRODUCT(('erreurs calcul répartCM'!$J$2:K$2>0)*1)>0,$C11=0),0,$C11/(K11+1))","v":0},0,{"$f":"IF(OR(O$5=0,SUMPRODUCT(('erreurs calcul répartCM'!$J$2:M$2>0)*1)>0,$C11=0),0,$C11/(M11+1))","v":0},0,{"$f":"IF(OR(Q$5=0,SUMPRODUCT(('erreurs calcul répartCM'!$J$2:O$2>0)*1)>0,$C11=0),0,$C11/(O11+1))","v":0},0,{"$f":"IF(OR(S$5=0,SUMPRODUCT(('erreurs calcul répartCM'!$J$2:Q$2>0)*1)>0,$C11=0),0,$C11/(Q11+1))","v":0},0,{"$f":"IF(OR(U$5=0,SUMPRODUCT(('erreurs calcul répartCM'!$J$2:S$2>0)*1)>0,$C11=0),0,$C11/(S11+1))","v":0},0,{"$f":"IF(OR(W$5=0,SUMPRODUCT(('erreurs calcul répartCM'!$J$2:U$2>0)*1)>0,$C11=0),0,$C11/(U11+1))","v":0},0,{"$f":"IF(OR(Y$5=0,SUMPRODUCT(('erreurs calcul répartCM'!$J$2:W$2>0)*1)>0,$C11=0),0,$C11/(W11+1))","v":0},0,{"$f":"IF(OR(AA$5=0,SUMPRODUCT(('erreurs calcul répartCM'!$J$2:Y$2>0)*1)>0,$C11=0),0,$C11/(Y11+1))","v":0},0,{"$f":"IF(OR(AC$5=0,SUMPRODUCT(('erreurs calcul répartCM'!$J$2:AA$2>0)*1)>0,$C11=0),0,$C11/(AA11+1))","v":0},0,{"$f":"IF(OR(AE$5=0,SUMPRODUCT(('erreurs calcul répartCM'!$J$2:AC$2>0)*1)>0,$C11=0),0,$C11/(AC11+1))","v":0},0,{"$f":"IF(OR(AG$5=0,SUMPRODUCT(('erreurs calcul répartCM'!$J$2:AE$2>0)*1)>0,$C11=0),0,$C11/(AE11+1))","v":0},0,{"$f":"IF(OR(AI$5=0,SUMPRODUCT(('erreurs calcul répartCM'!$J$2:AG$2>0)*1)>0,$C11=0),0,$C11/(AG11+1))","v":0},0,{"$f":"IF(OR(AK$5=0,SUMPRODUCT(('erreurs calcul répartCM'!$J$2:AI$2>0)*1)>0,$C11=0),0,$C11/(AI11+1))","v":0},0,{"$f":"IF(OR(AM$5=0,SUMPRODUCT(('erreurs calcul répartCM'!$J$2:AK$2>0)*1)>0,$C11=0),0,$C11/(AK11+1))","v":0},0,{"$f":"IF(OR(AO$5=0,SUMPRODUCT(('erreurs calcul répartCM'!$J$2:AM$2>0)*1)>0,$C11=0),0,$C11/(AM11+1))","v":0},0,{"$f":"IF(OR(AQ$5=0,SUMPRODUCT(('erreurs calcul répartCM'!$J$2:AO$2>0)*1)>0,$C11=0),0,$C11/(AO11+1))","v":0},0,{"$f":"IF(OR(AS$5=0,SUMPRODUCT(('erreurs calcul répartCM'!$J$2:AQ$2>0)*1)>0,$C11=0),0,$C11/(AQ11+1))","v":0},0,{"$f":"IF(OR(AU$5=0,SUMPRODUCT(('erreurs calcul répartCM'!$J$2:AS$2>0)*1)>0,$C11=0),0,$C11/(AS11+1))","v":0},0,{"$f":"IF(OR(AW$5=0,SUMPRODUCT(('erreurs calcul répartCM'!$J$2:AU$2>0)*1)>0,$C11=0),0,$C11/(AU11+1))","v":0},0,{"$f":"IF(OR(AY$5=0,SUMPRODUCT(('erreurs calcul répartCM'!$J$2:AW$2>0)*1)>0,$C11=0),0,$C11/(AW11+1))","v":0},0,{"$f":"IF(OR(BA$5=0,SUMPRODUCT(('erreurs calcul répartCM'!$J$2:AY$2>0)*1)>0,$C11=0),0,$C11/(AY11+1))","v":0},0,{"$f":"IF(OR(BC$5=0,SUMPRODUCT(('erreurs calcul répartCM'!$J$2:BA$2>0)*1)>0,$C11=0),0,$C11/(BA11+1))","v":0},0,{"$f":"IF(OR(BE$5=0,SUMPRODUCT(('erreurs calcul répartCM'!$J$2:BC$2>0)*1)>0,$C11=0),0,$C11/(BC11+1))","v":0},0,{"$f":"IF(OR(BG$5=0,SUMPRODUCT(('erreurs calcul répartCM'!$J$2:BE$2>0)*1)>0,$C11=0),0,$C11/(BE11+1))","v":0},0,{"$f":"IF(OR(BI$5=0,SUMPRODUCT(('erreurs calcul répartCM'!$J$2:BG$2>0)*1)>0,$C11=0),0,$C11/(BG11+1))","v":0},0,{"$f":"IF(OR(BK$5=0,SUMPRODUCT(('erreurs calcul répartCM'!$J$2:BI$2>0)*1)>0,$C11=0),0,$C11/(BI11+1))","v":0},0,{"$f":"IF(OR(BM$5=0,SUMPRODUCT(('erreurs calcul répartCM'!$J$2:BK$2>0)*1)>0,$C11=0),0,$C11/(BK11+1))","v":0},0,{"$f":"IF(OR(BO$5=0,SUMPRODUCT(('erreurs calcul répartCM'!$J$2:BM$2>0)*1)>0,$C11=0),0,$C11/(BM11+1))","v":0},0,{"$f":"IF(OR(BQ$5=0,SUMPRODUCT(('erreurs calcul répartCM'!$J$2:BO$2>0)*1)>0,$C11=0),0,$C11/(BO11+1))","v":0},0]
[4,{"$f":"IFERROR(VLOOKUP($A12,'2. Voix obtenues'!$U$7:$V$56,2,FALSE()),\"\")","v":0},{"$f":"SUMPRODUCT(($B12='2. Voix obtenues'!$C$7:$C$56)*('2. Voix obtenues'!$D$7:$D$56))","v":0},0,null,0,null,null,null,0,0,{"$f":"IF(OR(M$5=0,SUMPRODUCT(('erreurs calcul répartCM'!$J$2:K$2>0)*1)>0,$C12=0),0,$C12/(K12+1))","v":0},0,{"$f":"IF(OR(O$5=0,SUMPRODUCT(('erreurs calcul répartCM'!$J$2:M$2>0)*1)>0,$C12=0),0,$C12/(M12+1))","v":0},0,{"$f":"IF(OR(Q$5=0,SUMPRODUCT(('erreurs calcul répartCM'!$J$2:O$2>0)*1)>0,$C12=0),0,$C12/(O12+1))","v":0},0,{"$f":"IF(OR(S$5=0,SUMPRODUCT(('erreurs calcul répartCM'!$J$2:Q$2>0)*1)>0,$C12=0),0,$C12/(Q12+1))","v":0},0,{"$f":"IF(OR(U$5=0,SUMPRODUCT(('erreurs calcul répartCM'!$J$2:S$2>0)*1)>0,$C12=0),0,$C12/(S12+1))","v":0},0,{"$f":"IF(OR(W$5=0,SUMPRODUCT(('erreurs calcul répartCM'!$J$2:U$2>0)*1)>0,$C12=0),0,$C12/(U12+1))","v":0},0,{"$f":"IF(OR(Y$5=0,SUMPRODUCT(('erreurs calcul répartCM'!$J$2:W$2>0)*1)>0,$C12=0),0,$C12/(W12+1))","v":0},0,{"$f":"IF(OR(AA$5=0,SUMPRODUCT(('erreurs calcul répartCM'!$J$2:Y$2>0)*1)>0,$C12=0),0,$C12/(Y12+1))","v":0},0,{"$f":"IF(OR(AC$5=0,SUMPRODUCT(('erreurs calcul répartCM'!$J$2:AA$2>0)*1)>0,$C12=0),0,$C12/(AA12+1))","v":0},0,{"$f":"IF(OR(AE$5=0,SUMPRODUCT(('erreurs calcul répartCM'!$J$2:AC$2>0)*1)>0,$C12=0),0,$C12/(AC12+1))","v":0},0,{"$f":"IF(OR(AG$5=0,SUMPRODUCT(('erreurs calcul répartCM'!$J$2:AE$2>0)*1)>0,$C12=0),0,$C12/(AE12+1))","v":0},0,{"$f":"IF(OR(AI$5=0,SUMPRODUCT(('erreurs calcul répartCM'!$J$2:AG$2>0)*1)>0,$C12=0),0,$C12/(AG12+1))","v":0},0,{"$f":"IF(OR(AK$5=0,SUMPRODUCT(('erreurs calcul répartCM'!$J$2:AI$2>0)*1)>0,$C12=0),0,$C12/(AI12+1))","v":0},0,{"$f":"IF(OR(AM$5=0,SUMPRODUCT(('erreurs calcul répartCM'!$J$2:AK$2>0)*1)>0,$C12=0),0,$C12/(AK12+1))","v":0},0,{"$f":"IF(OR(AO$5=0,SUMPRODUCT(('erreurs calcul répartCM'!$J$2:AM$2>0)*1)>0,$C12=0),0,$C12/(AM12+1))","v":0},0,{"$f":"IF(OR(AQ$5=0,SUMPRODUCT(('erreurs calcul répartCM'!$J$2:AO$2>0)*1)>0,$C12=0),0,$C12/(AO12+1))","v":0},0,{"$f":"IF(OR(AS$5=0,SUMPRODUCT(('erreurs calcul répartCM'!$J$2:AQ$2>0)*1)>0,$C12=0),0,$C12/(AQ12+1))","v":0},0,{"$f":"IF(OR(AU$5=0,SUMPRODUCT(('erreurs calcul répartCM'!$J$2:AS$2>0)*1)>0,$C12=0),0,$C12/(AS12+1))","v":0},0,{"$f":"IF(OR(AW$5=0,SUMPRODUCT(('erreurs calcul répartCM'!$J$2:AU$2>0)*1)>0,$C12=0),0,$C12/(AU12+1))","v":0},0,{"$f":"IF(OR(AY$5=0,SUMPRODUCT(('erreurs calcul répartCM'!$J$2:AW$2>0)*1)>0,$C12=0),0,$C12/(AW12+1))","v":0},0,{"$f":"IF(OR(BA$5=0,SUMPRODUCT(('erreurs calcul répartCM'!$J$2:AY$2>0)*1)>0,$C12=0),0,$C12/(AY12+1))","v":0},0,{"$f":"IF(OR(BC$5=0,SUMPRODUCT(('erreurs calcul répartCM'!$J$2:BA$2>0)*1)>0,$C12=0),0,$C12/(BA12+1))","v":0},0,{"$f":"IF(OR(BE$5=0,SUMPRODUCT(('erreurs calcul répartCM'!$J$2:BC$2>0)*1)>0,$C12=0),0,$C12/(BC12+1))","v":0},0,{"$f":"IF(OR(BG$5=0,SUMPRODUCT(('erreurs calcul répartCM'!$J$2:BE$2>0)*1)>0,$C12=0),0,$C12/(BE12+1))","v":0},0,{"$f":"IF(OR(BI$5=0,SUMPRODUCT(('erreurs calcul répartCM'!$J$2:BG$2>0)*1)>0,$C12=0),0,$C12/(BG12+1))","v":0},0,{"$f":"IF(OR(BK$5=0,SUMPRODUCT(('erreurs calcul répartCM'!$J$2:BI$2>0)*1)>0,$C12=0),0,$C12/(BI12+1))","v":0},0,{"$f":"IF(OR(BM$5=0,SUMPRODUCT(('erreurs calcul répartCM'!$J$2:BK$2>0)*1)>0,$C12=0),0,$C12/(BK12+1))","v":0},0,{"$f":"IF(OR(BO$5=0,SUMPRODUCT(('erreurs calcul répartCM'!$J$2:BM$2>0)*1)>0,$C12=0),0,$C12/(BM12+1))","v":0},0,{"$f":"IF(OR(BQ$5=0,SUMPRODUCT(('erreurs calcul répartCM'!$J$2:BO$2>0)*1)>0,$C12=0),0,$C12/(BO12+1))","v":0},0]
[5,{"$f":"IFERROR(VLOOKUP($A13,'2. Voix obtenues'!$U$7:$V$56,2,FALSE()),\"\")","v":0},{"$f":"SUMPRODUCT(($B13='2. Voix obtenues'!$C$7:$C$56)*('2. Voix obtenues'!$D$7:$D$56))","v":0},0,null,0,null,null,null,0,0,{"$f":"IF(OR(M$5=0,SUMPRODUCT(('erreurs calcul répartCM'!$J$2:K$2>0)*1)>0,$C13=0),0,$C13/(K13+1))","v":0},0,{"$f":"IF(OR(O$5=0,SUMPRODUCT(('erreurs calcul répartCM'!$J$2:M$2>0)*1)>0,$C13=0),0,$C13/(M13+1))","v":0},0,{"$f":"IF(OR(Q$5=0,SUMPRODUCT(('erreurs calcul répartCM'!$J$2:O$2>0)*1)>0,$C13=0),0,$C13/(O13+1))","v":0},0,{"$f":"IF(OR(S$5=0,SUMPRODUCT(('erreurs calcul répartCM'!$J$2:Q$2>0)*1)>0,$C13=0),0,$C13/(Q13+1))","v":0},0,{"$f":"IF(OR(U$5=0,SUMPRODUCT(('erreurs calcul répartCM'!$J$2:S$2>0)*1)>0,$C13=0),0,$C13/(S13+1))","v":0},0,{"$f":"IF(OR(W$5=0,SUMPRODUCT(('erreurs calcul répartCM'!$J$2:U$2>0)*1)>0,$C13=0),0,$C13/(U13+1))","v":0},0,{"$f":"IF(OR(Y$5=0,SUMPRODUCT(('erreurs calcul répartCM'!$J$2:W$2>0)*1)>0,$C13=0),0,$C13/(W13+1))","v":0},0,{"$f":"IF(OR(AA$5=0,SUMPRODUCT(('erreurs calcul répartCM'!$J$2:Y$2>0)*1)>0,$C13=0),0,$C13/(Y13+1))","v":0},0,{"$f":"IF(OR(AC$5=0,SUMPRODUCT(('erreurs calcul répartCM'!$J$2:AA$2>0)*1)>0,$C13=0),0,$C13/(AA13+1))","v":0},0,{"$f":"IF(OR(AE$5=0,SUMPRODUCT(('erreurs calcul répartCM'!$J$2:AC$2>0)*1)>0,$C13=0),0,$C13/(AC13+1))","v":0},0,{"$f":"IF(OR(AG$5=0,SUMPRODUCT(('erreurs calcul répartCM'!$J$2:AE$2>0)*1)>0,$C13=0),0,$C13/(AE13+1))","v":0},0,{"$f":"IF(OR(AI$5=0,SUMPRODUCT(('erreurs calcul répartCM'!$J$2:AG$2>0)*1)>0,$C13=0),0,$C13/(AG13+1))","v":0},0,{"$f":"IF(OR(AK$5=0,SUMPRODUCT(('erreurs calcul répartCM'!$J$2:AI$2>0)*1)>0,$C13=0),0,$C13/(AI13+1))","v":0},0,{"$f":"IF(OR(AM$5=0,SUMPRODUCT(('erreurs calcul répartCM'!$J$2:AK$2>0)*1)>0,$C13=0),0,$C13/(AK13+1))","v":0},0,{"$f":"IF(OR(AO$5=0,SUMPRODUCT(('erreurs calcul répartCM'!$J$2:AM$2>0)*1)>0,$C13=0),0,$C13/(AM13+1))","v":0},0,{"$f":"IF(OR(AQ$5=0,SUMPRODUCT(('erreurs calcul répartCM'!$J$2:AO$2>0)*1)>0,$C13=0),0,$C13/(AO13+1))","v":0},0,{"$f":"IF(OR(AS$5=0,SUMPRODUCT(('erreurs calcul répartCM'!$J$2:AQ$2>0)*1)>0,$C13=0),0,$C13/(AQ13+1))","v":0},0,{"$f":"IF(OR(AU$5=0,SUMPRODUCT(('erreurs calcul répartCM'!$J$2:AS$2>0)*1)>0,$C13=0),0,$C13/(AS13+1))","v":0},0,{"$f":"IF(OR(AW$5=0,SUMPRODUCT(('erreurs calcul répartCM'!$J$2:AU$2>0)*1)>0,$C13=0),0,$C13/(AU13+1))","v":0},0,{"$f":"IF(OR(AY$5=0,SUMPRODUCT(('erreurs calcul répartCM'!$J$2:AW$2>0)*1)>0,$C13=0),0,$C13/(AW13+1))","v":0},0,{"$f":"IF(OR(BA$5=0,SUMPRODUCT(('erreurs calcul répartCM'!$J$2:AY$2>0)*1)>0,$C13=0),0,$C13/(AY13+1))","v":0},0,{"$f":"IF(OR(BC$5=0,SUMPRODUCT(('erreurs calcul répartCM'!$J$2:BA$2>0)*1)>0,$C13=0),0,$C13/(BA13+1))","v":0},0,{"$f":"IF(OR(BE$5=0,SUMPRODUCT(('erreurs calcul répartCM'!$J$2:BC$2>0)*1)>0,$C13=0),0,$C13/(BC13+1))","v":0},0,{"$f":"IF(OR(BG$5=0,SUMPRODUCT(('erreurs calcul répartCM'!$J$2:BE$2>0)*1)>0,$C13=0),0,$C13/(BE13+1))","v":0},0,{"$f":"IF(OR(BI$5=0,SUMPRODUCT(('erreurs calcul répartCM'!$J$2:BG$2>0)*1)>0,$C13=0),0,$C13/(BG13+1))","v":0},0,{"$f":"IF(OR(BK$5=0,SUMPRODUCT(('erreurs calcul répartCM'!$J$2:BI$2>0)*1)>0,$C13=0),0,$C13/(BI13+1))","v":0},0,{"$f":"IF(OR(BM$5=0,SUMPRODUCT(('erreurs calcul répartCM'!$J$2:BK$2>0)*1)>0,$C13=0),0,$C13/(BK13+1))","v":0},0,{"$f":"IF(OR(BO$5=0,SUMPRODUCT(('erreurs calcul répartCM'!$J$2:BM$2>0)*1)>0,$C13=0),0,$C13/(BM13+1))","v":0},0,{"$f":"IF(OR(BQ$5=0,SUMPRODUCT(('erreurs calcul répartCM'!$J$2:BO$2>0)*1)>0,$C13=0),0,$C13/(BO13+1))","v":0},0]
[6,{"$f":"IFERROR(VLOOKUP($A14,'2. Voix obtenues'!$U$7:$V$56,2,FALSE()),\"\")","v":0},{"$f":"SUMPRODUCT(($B14='2. Voix obtenues'!$C$7:$C$56)*('2. Voix obtenues'!$D$7:$D$56))","v":0},0,null,0,null,null,null,0,0,{"$f":"IF(OR(M$5=0,SUMPRODUCT(('erreurs calcul répartCM'!$J$2:K$2>0)*1)>0,$C14=0),0,$C14/(K14+1))","v":0},0,{"$f":"IF(OR(O$5=0,SUMPRODUCT(('erreurs calcul répartCM'!$J$2:M$2>0)*1)>0,$C14=0),0,$C14/(M14+1))","v":0},0,{"$f":"IF(OR(Q$5=0,SUMPRODUCT(('erreurs calcul répartCM'!$J$2:O$2>0)*1)>0,$C14=0),0,$C14/(O14+1))","v":0},0,{"$f":"IF(OR(S$5=0,SUMPRODUCT(('erreurs calcul répartCM'!$J$2:Q$2>0)*1)>0,$C14=0),0,$C14/(Q14+1))","v":0},0,{"$f":"IF(OR(U$5=0,SUMPRODUCT(('erreurs calcul répartCM'!$J$2:S$2>0)*1)>0,$C14=0),0,$C14/(S14+1))","v":0},0,{"$f":"IF(OR(W$5=0,SUMPRODUCT(('erreurs calcul répartCM'!$J$2:U$2>0)*1)>0,$C14=0),0,$C14/(U14+1))","v":0},0,{"$f":"IF(OR(Y$5=0,SUMPRODUCT(('erreurs calcul répartCM'!$J$2:W$2>0)*1)>0,$C14=0),0,$C14/(W14+1))","v":0},0,{"$f":"IF(OR(AA$5=0,SUMPRODUCT(('erreurs calcul répartCM'!$J$2:Y$2>0)*1)>0,$C14=0),0,$C14/(Y14+1))","v":0},0,{"$f":"IF(OR(AC$5=0,SUMPRODUCT(('erreurs calcul répartCM'!$J$2:AA$2>0)*1)>0,$C14=0),0,$C14/(AA14+1))","v":0},0,{"$f":"IF(OR(AE$5=0,SUMPRODUCT(('erreurs calcul répartCM'!$J$2:AC$2>0)*1)>0,$C14=0),0,$C14/(AC14+1))","v":0},0,{"$f":"IF(OR(AG$5=0,SUMPRODUCT(('erreurs calcul répartCM'!$J$2:AE$2>0)*1)>0,$C14=0),0,$C14/(AE14+1))","v":0},0,{"$f":"IF(OR(AI$5=0,SUMPRODUCT(('erreurs calcul répartCM'!$J$2:AG$2>0)*1)>0,$C14=0),0,$C14/(AG14+1))","v":0},0,{"$f":"IF(OR(AK$5=0,SUMPRODUCT(('erreurs calcul répartCM'!$J$2:AI$2>0)*1)>0,$C14=0),0,$C14/(AI14+1))","v":0},0,{"$f":"IF(OR(AM$5=0,SUMPRODUCT(('erreurs calcul répartCM'!$J$2:AK$2>0)*1)>0,$C14=0),0,$C14/(AK14+1))","v":0},0,{"$f":"IF(OR(AO$5=0,SUMPRODUCT(('erreurs calcul répartCM'!$J$2:AM$2>0)*1)>0,$C14=0),0,$C14/(AM14+1))","v":0},0,{"$f":"IF(OR(AQ$5=0,SUMPRODUCT(('erreurs calcul répartCM'!$J$2:AO$2>0)*1)>0,$C14=0),0,$C14/(AO14+1))","v":0},0,{"$f":"IF(OR(AS$5=0,SUMPRODUCT(('erreurs calcul répartCM'!$J$2:AQ$2>0)*1)>0,$C14=0),0,$C14/(AQ14+1))","v":0},0,{"$f":"IF(OR(AU$5=0,SUMPRODUCT(('erreurs calcul répartCM'!$J$2:AS$2>0)*1)>0,$C14=0),0,$C14/(AS14+1))","v":0},0,{"$f":"IF(OR(AW$5=0,SUMPRODUCT(('erreurs calcul répartCM'!$J$2:AU$2>0)*1)>0,$C14=0),0,$C14/(AU14+1))","v":0},0,{"$f":"IF(OR(AY$5=0,SUMPRODUCT(('erreurs calcul répartCM'!$J$2:AW$2>0)*1)>0,$C14=0),0,$C14/(AW14+1))","v":0},0,{"$f":"IF(OR(BA$5=0,SUMPRODUCT(('erreurs calcul répartCM'!$J$2:AY$2>0)*1)>0,$C14=0),0,$C14/(AY14+1))","v":0},0,{"$f":"IF(OR(BC$5=0,SUMPRODUCT(('erreurs calcul répartCM'!$J$2:BA$2>0)*1)>0,$C14=0),0,$C14/(BA14+1))","v":0},0,{"$f":"IF(OR(BE$5=0,SUMPRODUCT(('erreurs calcul répartCM'!$J$2:BC$2>0)*1)>0,$C14=0),0,$C14/(BC14+1))","v":0},0,{"$f":"IF(OR(BG$5=0,SUMPRODUCT(('erreurs calcul répartCM'!$J$2:BE$2>0)*1)>0,$C14=0),0,$C14/(BE14+1))","v":0},0,{"$f":"IF(OR(BI$5=0,SUMPRODUCT(('erreurs calcul répartCM'!$J$2:BG$2>0)*1)>0,$C14=0),0,$C14/(BG14+1))","v":0},0,{"$f":"IF(OR(BK$5=0,SUMPRODUCT(('erreurs calcul répartCM'!$J$2:BI$2>0)*1)>0,$C14=0),0,$C14/(BI14+1))","v":0},0,{"$f":"IF(OR(BM$5=0,SUMPRODUCT(('erreurs calcul répartCM'!$J$2:BK$2>0)*1)>0,$C14=0),0,$C14/(BK14+1))","v":0},0,{"$f":"IF(OR(BO$5=0,SUMPRODUCT(('erreurs calcul répartCM'!$J$2:BM$2>0)*1)>0,$C14=0),0,$C14/(BM14+1))","v":0},0,{"$f":"IF(OR(BQ$5=0,SUMPRODUCT(('erreurs calcul répartCM'!$J$2:BO$2>0)*1)>0,$C14=0),0,$C14/(BO14+1))","v":0},0]
[7,{"$f":"IFERROR(VLOOKUP($A15,'2. Voix obtenues'!$U$7:$V$56,2,FALSE()),\"\")","v":0},{"$f":"SUMPRODUCT(($B15='2. Voix obtenues'!$C$7:$C$56)*('2. Voix obtenues'!$D$7:$D$56))","v":0},0,null,0,null,null,null,0,0,{"$f":"IF(OR(M$5=0,SUMPRODUCT(('erreurs calcul répartCM'!$J$2:K$2>0)*1)>0,$C15=0),0,$C15/(K15+1))","v":0},0,{"$f":"IF(OR(O$5=0,SUMPRODUCT(('erreurs calcul répartCM'!$J$2:M$2>0)*1)>0,$C15=0),0,$C15/(M15+1))","v":0},0,{"$f":"IF(OR(Q$5=0,SUMPRODUCT(('erreurs calcul répartCM'!$J$2:O$2>0)*1)>0,$C15=0),0,$C15/(O15+1))","v":0},0,{"$f":"IF(OR(S$5=0,SUMPRODUCT(('erreurs calcul répartCM'!$J$2:Q$2>0)*1)>0,$C15=0),0,$C15/(Q15+1))","v":0},0,{"$f":"IF(OR(U$5=0,SUMPRODUCT(('erreurs calcul répartCM'!$J$2:S$2>0)*1)>0,$C15=0),0,$C15/(S15+1))","v":0},0,{"$f":"IF(OR(W$5=0,SUMPRODUCT(('erreurs calcul répartCM'!$J$2:U$2>0)*1)>0,$C15=0),0,$C15/(U15+1))","v":0},0,{"$f":"IF(OR(Y$5=0,SUMPRODUCT(('erreurs calcul répartCM'!$J$2:W$2>0)*1)>0,$C15=0),0,$C15/(W15+1))","v":0},0,{"$f":"IF(OR(AA$5=0,SUMPRODUCT(('erreurs calcul répartCM'!$J$2:Y$2>0)*1)>0,$C15=0),0,$C15/(Y15+1))","v":0},0,{"$f":"IF(OR(AC$5=0,SUMPRODUCT(('erreurs calcul répartCM'!$J$2:AA$2>0)*1)>0,$C15=0),0,$C15/(AA15+1))","v":0},0,{"$f":"IF(OR(AE$5=0,SUMPRODUCT(('erreurs calcul répartCM'!$J$2:AC$2>0)*1)>0,$C15=0),0,$C15/(AC15+1))","v":0},0,{"$f":"IF(OR(AG$5=0,SUMPRODUCT(('erreurs calcul répartCM'!$J$2:AE$2>0)*1)>0,$C15=0),0,$C15/(AE15+1))","v":0},0,{"$f":"IF(OR(AI$5=0,SUMPRODUCT(('erreurs calcul répartCM'!$J$2:AG$2>0)*1)>0,$C15=0),0,$C15/(AG15+1))","v":0},0,{"$f":"IF(OR(AK$5=0,SUMPRODUCT(('erreurs calcul répartCM'!$J$2:AI$2>0)*1)>0,$C15=0),0,$C15/(AI15+1))","v":0},0,{"$f":"IF(OR(AM$5=0,SUMPRODUCT(('erreurs calcul répartCM'!$J$2:AK$2>0)*1)>0,$C15=0),0,$C15/(AK15+1))","v":0},0,{"$f":"IF(OR(AO$5=0,SUMPRODUCT(('erreurs calcul répartCM'!$J$2:AM$2>0)*1)>0,$C15=0),0,$C15/(AM15+1))","v":0},0,{"$f":"IF(OR(AQ$5=0,SUMPRODUCT(('erreurs calcul répartCM'!$J$2:AO$2>0)*1)>0,$C15=0),0,$C15/(AO15+1))","v":0},0,{"$f":"IF(OR(AS$5=0,SUMPRODUCT(('erreurs calcul répartCM'!$J$2:AQ$2>0)*1)>0,$C15=0),0,$C15/(AQ15+1))","v":0},0,{"$f":"IF(OR(AU$5=0,SUMPRODUCT(('erreurs calcul répartCM'!$J$2:AS$2>0)*1)>0,$C15=0),0,$C15/(AS15+1))","v":0},0,{"$f":"IF(OR(AW$5=0,SUMPRODUCT(('erreurs calcul répartCM'!$J$2:AU$2>0)*1)>0,$C15=0),0,$C15/(AU15+1))","v":0},0,{"$f":"IF(OR(AY$5=0,SUMPRODUCT(('erreurs calcul répartCM'!$J$2:AW$2>0)*1)>0,$C15=0),0,$C15/(AW15+1))","v":0},0,{"$f":"IF(OR(BA$5=0,SUMPRODUCT(('erreurs calcul répartCM'!$J$2:AY$2>0)*1)>0,$C15=0),0,$C15/(AY15+1))","v":0},0,{"$f":"IF(OR(BC$5=0,SUMPRODUCT(('erreurs calcul répartCM'!$J$2:BA$2>0)*1)>0,$C15=0),0,$C15/(BA15+1))","v":0},0,{"$f":"IF(OR(BE$5=0,SUMPRODUCT(('erreurs calcul répartCM'!$J$2:BC$2>0)*1)>0,$C15=0),0,$C15/(BC15+1))","v":0},0,{"$f":"IF(OR(BG$5=0,SUMPRODUCT(('erreurs calcul répartCM'!$J$2:BE$2>0)*1)>0,$C15=0),0,$C15/(BE15+1))","v":0},0,{"$f":"IF(OR(BI$5=0,SUMPRODUCT(('erreurs calcul répartCM'!$J$2:BG$2>0)*1)>0,$C15=0),0,$C15/(BG15+1))","v":0},0,{"$f":"IF(OR(BK$5=0,SUMPRODUCT(('erreurs calcul répartCM'!$J$2:BI$2>0)*1)>0,$C15=0),0,$C15/(BI15+1))","v":0},0,{"$f":"IF(OR(BM$5=0,SUMPRODUCT(('erreurs calcul répartCM'!$J$2:BK$2>0)*1)>0,$C15=0),0,$C15/(BK15+1))","v":0},0,{"$f":"IF(OR(BO$5=0,SUMPRODUCT(('erreurs calcul répartCM'!$J$2:BM$2>0)*1)>0,$C15=0),0,$C15/(BM15+1))","v":0},0,{"$f":"IF(OR(BQ$5=0,SUMPRODUCT(('erreurs calcul répartCM'!$J$2:BO$2>0)*1)>0,$C15=0),0,$C15/(BO15+1))","v":0},0]
[8,{"$f":"IFERROR(VLOOKUP($A16,'2. Voix obtenues'!$U$7:$V$56,2,FALSE()),\"\")","v":0},{"$f":"SUMPRODUCT(($B16='2. Voix obtenues'!$C$7:$C$56)*('2. Voix obtenues'!$D$7:$D$56))","v":0},0,null,0,null,null,null,0,0,{"$f":"IF(OR(M$5=0,SUMPRODUCT(('erreurs calcul répartCM'!$J$2:K$2>0)*1)>0,$C16=0),0,$C16/(K16+1))","v":0},0,{"$f":"IF(OR(O$5=0,SUMPRODUCT(('erreurs calcul répartCM'!$J$2:M$2>0)*1)>0,$C16=0),0,$C16/(M16+1))","v":0},0,{"$f":"IF(OR(Q$5=0,SUMPRODUCT(('erreurs calcul répartCM'!$J$2:O$2>0)*1)>0,$C16=0),0,$C16/(O16+1))","v":0},0,{"$f":"IF(OR(S$5=0,SUMPRODUCT(('erreurs calcul répartCM'!$J$2:Q$2>0)*1)>0,$C16=0),0,$C16/(Q16+1))","v":0},0,{"$f":"IF(OR(U$5=0,SUMPRODUCT(('erreurs calcul répartCM'!$J$2:S$2>0)*1)>0,$C16=0),0,$C16/(S16+1))","v":0},0,{"$f":"IF(OR(W$5=0,SUMPRODUCT(('erreurs calcul répartCM'!$J$2:U$2>0)*1)>0,$C16=0),0,$C16/(U16+1))","v":0},0,{"$f":"IF(OR(Y$5=0,SUMPRODUCT(('erreurs calcul répartCM'!$J$2:W$2>0)*1)>0,$C16=0),0,$C16/(W16+1))","v":0},0,{"$f":"IF(OR(AA$5=0,SUMPRODUCT(('erreurs calcul répartCM'!$J$2:Y$2>0)*1)>0,$C16=0),0,$C16/(Y16+1))","v":0},0,{"$f":"IF(OR(AC$5=0,SUMPRODUCT(('erreurs calcul répartCM'!$J$2:AA$2>0)*1)>0,$C16=0),0,$C16/(AA16+1))","v":0},0,{"$f":"IF(OR(AE$5=0,SUMPRODUCT(('erreurs calcul répartCM'!$J$2:AC$2>0)*1)>0,$C16=0),0,$C16/(AC16+1))","v":0},0,{"$f":"IF(OR(AG$5=0,SUMPRODUCT(('erreurs calcul répartCM'!$J$2:AE$2>0)*1)>0,$C16=0),0,$C16/(AE16+1))","v":0},0,{"$f":"IF(OR(AI$5=0,SUMPRODUCT(('erreurs calcul répartCM'!$J$2:AG$2>0)*1)>0,$C16=0),0,$C16/(AG16+1))","v":0},0,{"$f":"IF(OR(AK$5=0,SUMPRODUCT(('erreurs calcul répartCM'!$J$2:AI$2>0)*1)>0,$C16=0),0,$C16/(AI16+1))","v":0},0,{"$f":"IF(OR(AM$5=0,SUMPRODUCT(('erreurs calcul répartCM'!$J$2:AK$2>0)*1)>0,$C16=0),0,$C16/(AK16+1))","v":0},0,{"$f":"IF(OR(AO$5=0,SUMPRODUCT(('erreurs calcul répartCM'!$J$2:AM$2>0)*1)>0,$C16=0),0,$C16/(AM16+1))","v":0},0,{"$f":"IF(OR(AQ$5=0,SUMPRODUCT(('erreurs calcul répartCM'!$J$2:AO$2>0)*1)>0,$C16=0),0,$C16/(AO16+1))","v":0},0,{"$f":"IF(OR(AS$5=0,SUMPRODUCT(('erreurs calcul répartCM'!$J$2:AQ$2>0)*1)>0,$C16=0),0,$C16/(AQ16+1))","v":0},0,{"$f":"IF(OR(AU$5=0,SUMPRODUCT(('erreurs calcul répartCM'!$J$2:AS$2>0)*1)>0,$C16=0),0,$C16/(AS16+1))","v":0},0,{"$f":"IF(OR(AW$5=0,SUMPRODUCT(('erreurs calcul répartCM'!$J$2:AU$2>0)*1)>0,$C16=0),0,$C16/(AU16+1))","v":0},0,{"$f":"IF(OR(AY$5=0,SUMPRODUCT(('erreurs calcul répartCM'!$J$2:AW$2>0)*1)>0,$C16=0),0,$C16/(AW16+1))","v":0},0,{"$f":"IF(OR(BA$5=0,SUMPRODUCT(('erreurs calcul répartCM'!$J$2:AY$2>0)*1)>0,$C16=0),0,$C16/(AY16+1))","v":0},0,{"$f":"IF(OR(BC$5=0,SUMPRODUCT(('erreurs calcul répartCM'!$J$2:BA$2>0)*1)>0,$C16=0),0,$C16/(BA16+1))","v":0},0,{"$f":"IF(OR(BE$5=0,SUMPRODUCT(('erreurs calcul répartCM'!$J$2:BC$2>0)*1)>0,$C16=0),0,$C16/(BC16+1))","v":0},0,{"$f":"IF(OR(BG$5=0,SUMPRODUCT(('erreurs calcul répartCM'!$J$2:BE$2>0)*1)>0,$C16=0),0,$C16/(BE16+1))","v":0},0,{"$f":"IF(OR(BI$5=0,SUMPRODUCT(('erreurs calcul répartCM'!$J$2:BG$2>0)*1)>0,$C16=0),0,$C16/(BG16+1))","v":0},0,{"$f":"IF(OR(BK$5=0,SUMPRODUCT(('erreurs calcul répartCM'!$J$2:BI$2>0)*1)>0,$C16=0),0,$C16/(BI16+1))","v":0},0,{"$f":"IF(OR(BM$5=0,SUMPRODUCT(('erreurs calcul répartCM'!$J$2:BK$2>0)*1)>0,$C16=0),0,$C16/(BK16+1))","v":0},0,{"$f":"IF(OR(BO$5=0,SUMPRODUCT(('erreurs calcul répartCM'!$J$2:BM$2>0)*1)>0,$C16=0),0,$C16/(BM16+1))","v":0},0,{"$f":"IF(OR(BQ$5=0,SUMPRODUCT(('erreurs calcul répartCM'!$J$2:BO$2>0)*1)>0,$C16=0),0,$C16/(BO16+1))","v":0},0]
[9,{"$f":"IFERROR(VLOOKUP($A17,'2. Voix obtenues'!$U$7:$V$56,2,FALSE()),\"\")","v":0},{"$f":"SUMPRODUCT(($B17='2. Voix obtenues'!$C$7:$C$56)*('2. Voix obtenues'!$D$7:$D$56))","v":0},0,null,0,null,null,null,0,0,{"$f":"IF(OR(M$5=0,SUMPRODUCT(('erreurs calcul répartCM'!$J$2:K$2>0)*1)>0,$C17=0),0,$C17/(K17+1))","v":0},0,{"$f":"IF(OR(O$5=0,SUMPRODUCT(('erreurs calcul répartCM'!$J$2:M$2>0)*1)>0,$C17=0),0,$C17/(M17+1))","v":0},0,{"$f":"IF(OR(Q$5=0,SUMPRODUCT(('erreurs calcul répartCM'!$J$2:O$2>0)*1)>0,$C17=0),0,$C17/(O17+1))","v":0},0,{"$f":"IF(OR(S$5=0,SUMPRODUCT(('erreurs calcul répartCM'!$J$2:Q$2>0)*1)>0,$C17=0),0,$C17/(Q17+1))","v":0},0,{"$f":"IF(OR(U$5=0,SUMPRODUCT(('erreurs calcul répartCM'!$J$2:S$2>0)*1)>0,$C17=0),0,$C17/(S17+1))","v":0},0,{"$f":"IF(OR(W$5=0,SUMPRODUCT(('erreurs calcul répartCM'!$J$2:U$2>0)*1)>0,$C17=0),0,$C17/(U17+1))","v":0},0,{"$f":"IF(OR(Y$5=0,SUMPRODUCT(('erreurs calcul répartCM'!$J$2:W$2>0)*1)>0,$C17=0),0,$C17/(W17+1))","v":0},0,{"$f":"IF(OR(AA$5=0,SUMPRODUCT(('erreurs calcul répartCM'!$J$2:Y$2>0)*1)>0,$C17=0),0,$C17/(Y17+1))","v":0},0,{"$f":"IF(OR(AC$5=0,SUMPRODUCT(('erreurs calcul répartCM'!$J$2:AA$2>0)*1)>0,$C17=0),0,$C17/(AA17+1))","v":0},0,{"$f":"IF(OR(AE$5=0,SUMPRODUCT(('erreurs calcul répartCM'!$J$2:AC$2>0)*1)>0,$C17=0),0,$C17/(AC17+1))","v":0},0,{"$f":"IF(OR(AG$5=0,SUMPRODUCT(('erreurs calcul répartCM'!$J$2:AE$2>0)*1)>0,$C17=0),0,$C17/(AE17+1))","v":0},0,{"$f":"IF(OR(AI$5=0,SUMPRODUCT(('erreurs calcul répartCM'!$J$2:AG$2>0)*1)>0,$C17=0),0,$C17/(AG17+1))","v":0},0,{"$f":"IF(OR(AK$5=0,SUMPRODUCT(('erreurs calcul répartCM'!$J$2:AI$2>0)*1)>0,$C17=0),0,$C17/(AI17+1))","v":0},0,{"$f":"IF(OR(AM$5=0,SUMPRODUCT(('erreurs calcul répartCM'!$J$2:AK$2>0)*1)>0,$C17=0),0,$C17/(AK17+1))","v":0},0,{"$f":"IF(OR(AO$5=0,SUMPRODUCT(('erreurs calcul répartCM'!$J$2:AM$2>0)*1)>0,$C17=0),0,$C17/(AM17+1))","v":0},0,{"$f":"IF(OR(AQ$5=0,SUMPRODUCT(('erreurs calcul répartCM'!$J$2:AO$2>0)*1)>0,$C17=0),0,$C17/(AO17+1))","v":0},0,{"$f":"IF(OR(AS$5=0,SUMPRODUCT(('erreurs calcul répartCM'!$J$2:AQ$2>0)*1)>0,$C17=0),0,$C17/(AQ17+1))","v":0},0,{"$f":"IF(OR(AU$5=0,SUMPRODUCT(('erreurs calcul répartCM'!$J$2:AS$2>0)*1)>0,$C17=0),0,$C17/(AS17+1))","v":0},0,{"$f":"IF(OR(AW$5=0,SUMPRODUCT(('erreurs calcul répartCM'!$J$2:AU$2>0)*1)>0,$C17=0),0,$C17/(AU17+1))","v":0},0,{"$f":"IF(OR(AY$5=0,SUMPRODUCT(('erreurs calcul répartCM'!$J$2:AW$2>0)*1)>0,$C17=0),0,$C17/(AW17+1))","v":0},0,{"$f":"IF(OR(BA$5=0,SUMPRODUCT(('erreurs calcul répartCM'!$J$2:AY$2>0)*1)>0,$C17=0),0,$C17/(AY17+1))","v":0},0,{"$f":"IF(OR(BC$5=0,SUMPRODUCT(('erreurs calcul répartCM'!$J$2:BA$2>0)*1)>0,$C17=0),0,$C17/(BA17+1))","v":0},0,{"$f":"IF(OR(BE$5=0,SUMPRODUCT(('erreurs calcul répartCM'!$J$2:BC$2>0)*1)>0,$C17=0),0,$C17/(BC17+1))","v":0},0,{"$f":"IF(OR(BG$5=0,SUMPRODUCT(('erreurs calcul répartCM'!$J$2:BE$2>0)*1)>0,$C17=0),0,$C17/(BE17+1))","v":0},0,{"$f":"IF(OR(BI$5=0,SUMPRODUCT(('erreurs calcul répartCM'!$J$2:BG$2>0)*1)>0,$C17=0),0,$C17/(BG17+1))","v":0},0,{"$f":"IF(OR(BK$5=0,SUMPRODUCT(('erreurs calcul répartCM'!$J$2:BI$2>0)*1)>0,$C17=0),0,$C17/(BI17+1))","v":0},0,{"$f":"IF(OR(BM$5=0,SUMPRODUCT(('erreurs calcul répartCM'!$J$2:BK$2>0)*1)>0,$C17=0),0,$C17/(BK17+1))","v":0},0,{"$f":"IF(OR(BO$5=0,SUMPRODUCT(('erreurs calcul répartCM'!$J$2:BM$2>0)*1)>0,$C17=0),0,$C17/(BM17+1))","v":0},0,{"$f":"IF(OR(BQ$5=0,SUMPRODUCT(('erreurs calcul répartCM'!$J$2:BO$2>0)*1)>0,$C17=0),0,$C17/(BO17+1))","v":0},0]
[10,{"$f":"IFERROR(VLOOKUP($A18,'2. Voix obtenues'!$U$7:$V$56,2,FALSE()),\"\")","v":0},{"$f":"SUMPRODUCT(($B18='2. Voix obtenues'!$C$7:$C$56)*('2. Voix obtenues'!$D$7:$D$56))","v":0},0,null,0,null,null,null,0,0,{"$f":"IF(OR(M$5=0,SUMPRODUCT(('erreurs calcul répartCM'!$J$2:K$2>0)*1)>0,$C18=0),0,$C18/(K18+1))","v":0},0,{"$f":"IF(OR(O$5=0,SUMPRODUCT(('erreurs calcul répartCM'!$J$2:M$2>0)*1)>0,$C18=0),0,$C18/(M18+1))","v":0},0,{"$f":"IF(OR(Q$5=0,SUMPRODUCT(('erreurs calcul répartCM'!$J$2:O$2>0)*1)>0,$C18=0),0,$C18/(O18+1))","v":0},0,{"$f":"IF(OR(S$5=0,SUMPRODUCT(('erreurs calcul répartCM'!$J$2:Q$2>0)*1)>0,$C18=0),0,$C18/(Q18+1))","v":0},0,{"$f":"IF(OR(U$5=0,SUMPRODUCT(('erreurs calcul répartCM'!$J$2:S$2>0)*1)>0,$C18=0),0,$C18/(S18+1))","v":0},0,{"$f":"IF(OR(W$5=0,SUMPRODUCT(('erreurs calcul répartCM'!$J$2:U$2>0)*1)>0,$C18=0),0,$C18/(U18+1))","v":0},0,{"$f":"IF(OR(Y$5=0,SUMPRODUCT(('erreurs calcul répartCM'!$J$2:W$2>0)*1)>0,$C18=0),0,$C18/(W18+1))","v":0},0,{"$f":"IF(OR(AA$5=0,SUMPRODUCT(('erreurs calcul répartCM'!$J$2:Y$2>0)*1)>0,$C18=0),0,$C18/(Y18+1))","v":0},0,{"$f":"IF(OR(AC$5=0,SUMPRODUCT(('erreurs calcul répartCM'!$J$2:AA$2>0)*1)>0,$C18=0),0,$C18/(AA18+1))","v":0},0,{"$f":"IF(OR(AE$5=0,SUMPRODUCT(('erreurs calcul répartCM'!$J$2:AC$2>0)*1)>0,$C18=0),0,$C18/(AC18+1))","v":0},0,{"$f":"IF(OR(AG$5=0,SUMPRODUCT(('erreurs calcul répartCM'!$J$2:AE$2>0)*1)>0,$C18=0),0,$C18/(AE18+1))","v":0},0,{"$f":"IF(OR(AI$5=0,SUMPRODUCT(('erreurs calcul répartCM'!$J$2:AG$2>0)*1)>0,$C18=0),0,$C18/(AG18+1))","v":0},0,{"$f":"IF(OR(AK$5=0,SUMPRODUCT(('erreurs calcul répartCM'!$J$2:AI$2>0)*1)>0,$C18=0),0,$C18/(AI18+1))","v":0},0,{"$f":"IF(OR(AM$5=0,SUMPRODUCT(('erreurs calcul répartCM'!$J$2:AK$2>0)*1)>0,$C18=0),0,$C18/(AK18+1))","v":0},0,{"$f":"IF(OR(AO$5=0,SUMPRODUCT(('erreurs calcul répartCM'!$J$2:AM$2>0)*1)>0,$C18=0),0,$C18/(AM18+1))","v":0},0,{"$f":"IF(OR(AQ$5=0,SUMPRODUCT(('erreurs calcul répartCM'!$J$2:AO$2>0)*1)>0,$C18=0),0,$C18/(AO18+1))","v":0},0,{"$f":"IF(OR(AS$5=0,SUMPRODUCT(('erreurs calcul répartCM'!$J$2:AQ$2>0)*1)>0,$C18=0),0,$C18/(AQ18+1))","v":0},0,{"$f":"IF(OR(AU$5=0,SUMPRODUCT(('erreurs calcul répartCM'!$J$2:AS$2>0)*1)>0,$C18=0),0,$C18/(AS18+1))","v":0},0,{"$f":"IF(OR(AW$5=0,SUMPRODUCT(('erreurs calcul répartCM'!$J$2:AU$2>0)*1)>0,$C18=0),0,$C18/(AU18+1))","v":0},0,{"$f":"IF(OR(AY$5=0,SUMPRODUCT(('erreurs calcul répartCM'!$J$2:AW$2>0)*1)>0,$C18=0),0,$C18/(AW18+1))","v":0},0,{"$f":"IF(OR(BA$5=0,SUMPRODUCT(('erreurs calcul répartCM'!$J$2:AY$2>0)*1)>0,$C18=0),0,$C18/(AY18+1))","v":0},0,{"$f":"IF(OR(BC$5=0,SUMPRODUCT(('erreurs calcul répartCM'!$J$2:BA$2>0)*1)>0,$C18=0),0,$C18/(BA18+1))","v":0},0,{"$f":"IF(OR(BE$5=0,SUMPRODUCT(('erreurs calcul répartCM'!$J$2:BC$2>0)*1)>0,$C18=0),0,$C18/(BC18+1))","v":0},0,{"$f":"IF(OR(BG$5=0,SUMPRODUCT(('erreurs calcul répartCM'!$J$2:BE$2>0)*1)>0,$C18=0),0,$C18/(BE18+1))","v":0},0,{"$f":"IF(OR(BI$5=0,SUMPRODUCT(('erreurs calcul répartCM'!$J$2:BG$2>0)*1)>0,$C18=0),0,$C18/(BG18+1))","v":0},0,{"$f":"IF(OR(BK$5=0,SUMPRODUCT(('erreurs calcul répartCM'!$J$2:BI$2>0)*1)>0,$C18=0),0,$C18/(BI18+1))","v":0},0,{"$f":"IF(OR(BM$5=0,SUMPRODUCT(('erreurs calcul répartCM'!$J$2:BK$2>0)*1)>0,$C18=0),0,$C18/(BK18+1))","v":0},0,{"$f":"IF(OR(BO$5=0,SUMPRODUCT(('erreurs calcul répartCM'!$J$2:BM$2>0)*1)>0,$C18=0),0,$C18/(BM18+1))","v":0},0,{"$f":"IF(OR(BQ$5=0,SUMPRODUCT(('erreurs calcul répartCM'!$J$2:BO$2>0)*1)>0,$C18=0),0,$C18/(BO18+1))","v":0},0]
[11,{"$f":"IFERROR(VLOOKUP($A19,'2. Voix obtenues'!$U$7:$V$56,2,FALSE()),\"\")","v":0},{"$f":"SUMPRODUCT(($B19='2. Voix obtenues'!$C$7:$C$56)*('2. Voix obtenues'!$D$7:$D$56))","v":0},0,null,0,null,null,null,0,0,{"$f":"IF(OR(M$5=0,SUMPRODUCT(('erreurs calcul répartCM'!$J$2:K$2>0)*1)>0,$C19=0),0,$C19/(K19+1))","v":0},0,{"$f":"IF(OR(O$5=0,SUMPRODUCT(('erreurs calcul répartCM'!$J$2:M$2>0)*1)>0,$C19=0),0,$C19/(M19+1))","v":0},0,{"$f":"IF(OR(Q$5=0,SUMPRODUCT(('erreurs calcul répartCM'!$J$2:O$2>0)*1)>0,$C19=0),0,$C19/(O19+1))","v":0},0,{"$f":"IF(OR(S$5=0,SUMPRODUCT(('erreurs calcul répartCM'!$J$2:Q$2>0)*1)>0,$C19=0),0,$C19/(Q19+1))","v":0},0,{"$f":"IF(OR(U$5=0,SUMPRODUCT(('erreurs calcul répartCM'!$J$2:S$2>0)*1)>0,$C19=0),0,$C19/(S19+1))","v":0},0,{"$f":"IF(OR(W$5=0,SUMPRODUCT(('erreurs calcul répartCM'!$J$2:U$2>0)*1)>0,$C19=0),0,$C19/(U19+1))","v":0},0,{"$f":"IF(OR(Y$5=0,SUMPRODUCT(('erreurs calcul répartCM'!$J$2:W$2>0)*1)>0,$C19=0),0,$C19/(W19+1))","v":0},0,{"$f":"IF(OR(AA$5=0,SUMPRODUCT(('erreurs calcul répartCM'!$J$2:Y$2>0)*1)>0,$C19=0),0,$C19/(Y19+1))","v":0},0,{"$f":"IF(OR(AC$5=0,SUMPRODUCT(('erreurs calcul répartCM'!$J$2:AA$2>0)*1)>0,$C19=0),0,$C19/(AA19+1))","v":0},0,{"$f":"IF(OR(AE$5=0,SUMPRODUCT(('erreurs calcul répartCM'!$J$2:AC$2>0)*1)>0,$C19=0),0,$C19/(AC19+1))","v":0},0,{"$f":"IF(OR(AG$5=0,SUMPRODUCT(('erreurs calcul répartCM'!$J$2:AE$2>0)*1)>0,$C19=0),0,$C19/(AE19+1))","v":0},0,{"$f":"IF(OR(AI$5=0,SUMPRODUCT(('erreurs calcul répartCM'!$J$2:AG$2>0)*1)>0,$C19=0),0,$C19/(AG19+1))","v":0},0,{"$f":"IF(OR(AK$5=0,SUMPRODUCT(('erreurs calcul répartCM'!$J$2:AI$2>0)*1)>0,$C19=0),0,$C19/(AI19+1))","v":0},0,{"$f":"IF(OR(AM$5=0,SUMPRODUCT(('erreurs calcul répartCM'!$J$2:AK$2>0)*1)>0,$C19=0),0,$C19/(AK19+1))","v":0},0,{"$f":"IF(OR(AO$5=0,SUMPRODUCT(('erreurs calcul répartCM'!$J$2:AM$2>0)*1)>0,$C19=0),0,$C19/(AM19+1))","v":0},0,{"$f":"IF(OR(AQ$5=0,SUMPRODUCT(('erreurs calcul répartCM'!$J$2:AO$2>0)*1)>0,$C19=0),0,$C19/(AO19+1))","v":0},0,{"$f":"IF(OR(AS$5=0,SUMPRODUCT(('erreurs calcul répartCM'!$J$2:AQ$2>0)*1)>0,$C19=0),0,$C19/(AQ19+1))","v":0},0,{"$f":"IF(OR(AU$5=0,SUMPRODUCT(('erreurs calcul répartCM'!$J$2:AS$2>0)*1)>0,$C19=0),0,$C19/(AS19+1))","v":0},0,{"$f":"IF(OR(AW$5=0,SUMPRODUCT(('erreurs calcul répartCM'!$J$2:AU$2>0)*1)>0,$C19=0),0,$C19/(AU19+1))","v":0},0,{"$f":"IF(OR(AY$5=0,SUMPRODUCT(('erreurs calcul répartCM'!$J$2:AW$2>0)*1)>0,$C19=0),0,$C19/(AW19+1))","v":0},0,{"$f":"IF(OR(BA$5=0,SUMPRODUCT(('erreurs calcul répartCM'!$J$2:AY$2>0)*1)>0,$C19=0),0,$C19/(AY19+1))","v":0},0,{"$f":"IF(OR(BC$5=0,SUMPRODUCT(('erreurs calcul répartCM'!$J$2:BA$2>0)*1)>0,$C19=0),0,$C19/(BA19+1))","v":0},0,{"$f":"IF(OR(BE$5=0,SUMPRODUCT(('erreurs calcul répartCM'!$J$2:BC$2>0)*1)>0,$C19=0),0,$C19/(BC19+1))","v":0},0,{"$f":"IF(OR(BG$5=0,SUMPRODUCT(('erreurs calcul répartCM'!$J$2:BE$2>0)*1)>0,$C19=0),0,$C19/(BE19+1))","v":0},0,{"$f":"IF(OR(BI$5=0,SUMPRODUCT(('erreurs calcul répartCM'!$J$2:BG$2>0)*1)>0,$C19=0),0,$C19/(BG19+1))","v":0},0,{"$f":"IF(OR(BK$5=0,SUMPRODUCT(('erreurs calcul répartCM'!$J$2:BI$2>0)*1)>0,$C19=0),0,$C19/(BI19+1))","v":0},0,{"$f":"IF(OR(BM$5=0,SUMPRODUCT(('erreurs calcul répartCM'!$J$2:BK$2>0)*1)>0,$C19=0),0,$C19/(BK19+1))","v":0},0,{"$f":"IF(OR(BO$5=0,SUMPRODUCT(('erreurs calcul répartCM'!$J$2:BM$2>0)*1)>0,$C19=0),0,$C19/(BM19+1))","v":0},0,{"$f":"IF(OR(BQ$5=0,SUMPRODUCT(('erreurs calcul répartCM'!$J$2:BO$2>0)*1)>0,$C19=0),0,$C19/(BO19+1))","v":0},0]
[12,{"$f":"IFERROR(VLOOKUP($A20,'2. Voix obtenues'!$U$7:$V$56,2,FALSE()),\"\")","v":0},{"$f":"SUMPRODUCT(($B20='2. Voix obtenues'!$C$7:$C$56)*('2. Voix obtenues'!$D$7:$D$56))","v":0},0,null,0,null,null,null,0,0,{"$f":"IF(OR(M$5=0,SUMPRODUCT(('erreurs calcul répartCM'!$J$2:K$2>0)*1)>0,$C20=0),0,$C20/(K20+1))","v":0},0,{"$f":"IF(OR(O$5=0,SUMPRODUCT(('erreurs calcul répartCM'!$J$2:M$2>0)*1)>0,$C20=0),0,$C20/(M20+1))","v":0},0,{"$f":"IF(OR(Q$5=0,SUMPRODUCT(('erreurs calcul répartCM'!$J$2:O$2>0)*1)>0,$C20=0),0,$C20/(O20+1))","v":0},0,{"$f":"IF(OR(S$5=0,SUMPRODUCT(('erreurs calcul répartCM'!$J$2:Q$2>0)*1)>0,$C20=0),0,$C20/(Q20+1))","v":0},0,{"$f":"IF(OR(U$5=0,SUMPRODUCT(('erreurs calcul répartCM'!$J$2:S$2>0)*1)>0,$C20=0),0,$C20/(S20+1))","v":0},0,{"$f":"IF(OR(W$5=0,SUMPRODUCT(('erreurs calcul répartCM'!$J$2:U$2>0)*1)>0,$C20=0),0,$C20/(U20+1))","v":0},0,{"$f":"IF(OR(Y$5=0,SUMPRODUCT(('erreurs calcul répartCM'!$J$2:W$2>0)*1)>0,$C20=0),0,$C20/(W20+1))","v":0},0,{"$f":"IF(OR(AA$5=0,SUMPRODUCT(('erreurs calcul répartCM'!$J$2:Y$2>0)*1)>0,$C20=0),0,$C20/(Y20+1))","v":0},0,{"$f":"IF(OR(AC$5=0,SUMPRODUCT(('erreurs calcul répartCM'!$J$2:AA$2>0)*1)>0,$C20=0),0,$C20/(AA20+1))","v":0},0,{"$f":"IF(OR(AE$5=0,SUMPRODUCT(('erreurs calcul répartCM'!$J$2:AC$2>0)*1)>0,$C20=0),0,$C20/(AC20+1))","v":0},0,{"$f":"IF(OR(AG$5=0,SUMPRODUCT(('erreurs calcul répartCM'!$J$2:AE$2>0)*1)>0,$C20=0),0,$C20/(AE20+1))","v":0},0,{"$f":"IF(OR(AI$5=0,SUMPRODUCT(('erreurs calcul répartCM'!$J$2:AG$2>0)*1)>0,$C20=0),0,$C20/(AG20+1))","v":0},0,{"$f":"IF(OR(AK$5=0,SUMPRODUCT(('erreurs calcul répartCM'!$J$2:AI$2>0)*1)>0,$C20=0),0,$C20/(AI20+1))","v":0},0,{"$f":"IF(OR(AM$5=0,SUMPRODUCT(('erreurs calcul répartCM'!$J$2:AK$2>0)*1)>0,$C20=0),0,$C20/(AK20+1))","v":0},0,{"$f":"IF(OR(AO$5=0,SUMPRODUCT(('erreurs calcul répartCM'!$J$2:AM$2>0)*1)>0,$C20=0),0,$C20/(AM20+1))","v":0},0,{"$f":"IF(OR(AQ$5=0,SUMPRODUCT(('erreurs calcul répartCM'!$J$2:AO$2>0)*1)>0,$C20=0),0,$C20/(AO20+1))","v":0},0,{"$f":"IF(OR(AS$5=0,SUMPRODUCT(('erreurs calcul répartCM'!$J$2:AQ$2>0)*1)>0,$C20=0),0,$C20/(AQ20+1))","v":0},0,{"$f":"IF(OR(AU$5=0,SUMPRODUCT(('erreurs calcul répartCM'!$J$2:AS$2>0)*1)>0,$C20=0),0,$C20/(AS20+1))","v":0},0,{"$f":"IF(OR(AW$5=0,SUMPRODUCT(('erreurs calcul répartCM'!$J$2:AU$2>0)*1)>0,$C20=0),0,$C20/(AU20+1))","v":0},0,{"$f":"IF(OR(AY$5=0,SUMPRODUCT(('erreurs calcul répartCM'!$J$2:AW$2>0)*1)>0,$C20=0),0,$C20/(AW20+1))","v":0},0,{"$f":"IF(OR(BA$5=0,SUMPRODUCT(('erreurs calcul répartCM'!$J$2:AY$2>0)*1)>0,$C20=0),0,$C20/(AY20+1))","v":0},0,{"$f":"IF(OR(BC$5=0,SUMPRODUCT(('erreurs calcul répartCM'!$J$2:BA$2>0)*1)>0,$C20=0),0,$C20/(BA20+1))","v":0},0,{"$f":"IF(OR(BE$5=0,SUMPRODUCT(('erreurs calcul répartCM'!$J$2:BC$2>0)*1)>0,$C20=0),0,$C20/(BC20+1))","v":0},0,{"$f":"IF(OR(BG$5=0,SUMPRODUCT(('erreurs calcul répartCM'!$J$2:BE$2>0)*1)>0,$C20=0),0,$C20/(BE20+1))","v":0},0,{"$f":"IF(OR(BI$5=0,SUMPRODUCT(('erreurs calcul répartCM'!$J$2:BG$2>0)*1)>0,$C20=0),0,$C20/(BG20+1))","v":0},0,{"$f":"IF(OR(BK$5=0,SUMPRODUCT(('erreurs calcul répartCM'!$J$2:BI$2>0)*1)>0,$C20=0),0,$C20/(BI20+1))","v":0},0,{"$f":"IF(OR(BM$5=0,SUMPRODUCT(('erreurs calcul répartCM'!$J$2:BK$2>0)*1)>0,$C20=0),0,$C20/(BK20+1))","v":0},0,{"$f":"IF(OR(BO$5=0,SUMPRODUCT(('erreurs calcul répartCM'!$J$2:BM$2>0)*1)>0,$C20=0),0,$C20/(BM20+1))","v":0},0,{"$f":"IF(OR(BQ$5=0,SUMPRODUCT(('erreurs calcul répartCM'!$J$2:BO$2>0)*1)>0,$C20=0),0,$C20/(BO20+1))","v":0},0]
[13,{"$f":"IFERROR(VLOOKUP($A21,'2. Voix obtenues'!$U$7:$V$56,2,FALSE()),\"\")","v":0},{"$f":"SUMPRODUCT(($B21='2. Voix obtenues'!$C$7:$C$56)*('2. Voix obtenues'!$D$7:$D$56))","v":0},0,null,0,null,null,null,0,0,{"$f":"IF(OR(M$5=0,SUMPRODUCT(('erreurs calcul répartCM'!$J$2:K$2>0)*1)>0,$C21=0),0,$C21/(K21+1))","v":0},0,{"$f":"IF(OR(O$5=0,SUMPRODUCT(('erreurs calcul répartCM'!$J$2:M$2>0)*1)>0,$C21=0),0,$C21/(M21+1))","v":0},0,{"$f":"IF(OR(Q$5=0,SUMPRODUCT(('erreurs calcul répartCM'!$J$2:O$2>0)*1)>0,$C21=0),0,$C21/(O21+1))","v":0},0,{"$f":"IF(OR(S$5=0,SUMPRODUCT(('erreurs calcul répartCM'!$J$2:Q$2>0)*1)>0,$C21=0),0,$C21/(Q21+1))","v":0},0,{"$f":"IF(OR(U$5=0,SUMPRODUCT(('erreurs calcul répartCM'!$J$2:S$2>0)*1)>0,$C21=0),0,$C21/(S21+1))","v":0},0,{"$f":"IF(OR(W$5=0,SUMPRODUCT(('erreurs calcul répartCM'!$J$2:U$2>0)*1)>0,$C21=0),0,$C21/(U21+1))","v":0},0,{"$f":"IF(OR(Y$5=0,SUMPRODUCT(('erreurs calcul répartCM'!$J$2:W$2>0)*1)>0,$C21=0),0,$C21/(W21+1))","v":0},0,{"$f":"IF(OR(AA$5=0,SUMPRODUCT(('erreurs calcul répartCM'!$J$2:Y$2>0)*1)>0,$C21=0),0,$C21/(Y21+1))","v":0},0,{"$f":"IF(OR(AC$5=0,SUMPRODUCT(('erreurs calcul répartCM'!$J$2:AA$2>0)*1)>0,$C21=0),0,$C21/(AA21+1))","v":0},0,{"$f":"IF(OR(AE$5=0,SUMPRODUCT(('erreurs calcul répartCM'!$J$2:AC$2>0)*1)>0,$C21=0),0,$C21/(AC21+1))","v":0},0,{"$f":"IF(OR(AG$5=0,SUMPRODUCT(('erreurs calcul répartCM'!$J$2:AE$2>0)*1)>0,$C21=0),0,$C21/(AE21+1))","v":0},0,{"$f":"IF(OR(AI$5=0,SUMPRODUCT(('erreurs calcul répartCM'!$J$2:AG$2>0)*1)>0,$C21=0),0,$C21/(AG21+1))","v":0},0,{"$f":"IF(OR(AK$5=0,SUMPRODUCT(('erreurs calcul répartCM'!$J$2:AI$2>0)*1)>0,$C21=0),0,$C21/(AI21+1))","v":0},0,{"$f":"IF(OR(AM$5=0,SUMPRODUCT(('erreurs calcul répartCM'!$J$2:AK$2>0)*1)>0,$C21=0),0,$C21/(AK21+1))","v":0},0,{"$f":"IF(OR(AO$5=0,SUMPRODUCT(('erreurs calcul répartCM'!$J$2:AM$2>0)*1)>0,$C21=0),0,$C21/(AM21+1))","v":0},0,{"$f":"IF(OR(AQ$5=0,SUMPRODUCT(('erreurs calcul répartCM'!$J$2:AO$2>0)*1)>0,$C21=0),0,$C21/(AO21+1))","v":0},0,{"$f":"IF(OR(AS$5=0,SUMPRODUCT(('erreurs calcul répartCM'!$J$2:AQ$2>0)*1)>0,$C21=0),0,$C21/(AQ21+1))","v":0},0,{"$f":"IF(OR(AU$5=0,SUMPRODUCT(('erreurs calcul répartCM'!$J$2:AS$2>0)*1)>0,$C21=0),0,$C21/(AS21+1))","v":0},0,{"$f":"IF(OR(AW$5=0,SUMPRODUCT(('erreurs calcul répartCM'!$J$2:AU$2>0)*1)>0,$C21=0),0,$C21/(AU21+1))","v":0},0,{"$f":"IF(OR(AY$5=0,SUMPRODUCT(('erreurs calcul répartCM'!$J$2:AW$2>0)*1)>0,$C21=0),0,$C21/(AW21+1))","v":0},0,{"$f":"IF(OR(BA$5=0,SUMPRODUCT(('erreurs calcul répartCM'!$J$2:AY$2>0)*1)>0,$C21=0),0,$C21/(AY21+1))","v":0},0,{"$f":"IF(OR(BC$5=0,SUMPRODUCT(('erreurs calcul répartCM'!$J$2:BA$2>0)*1)>0,$C21=0),0,$C21/(BA21+1))","v":0},0,{"$f":"IF(OR(BE$5=0,SUMPRODUCT(('erreurs calcul répartCM'!$J$2:BC$2>0)*1)>0,$C21=0),0,$C21/(BC21+1))","v":0},0,{"$f":"IF(OR(BG$5=0,SUMPRODUCT(('erreurs calcul répartCM'!$J$2:BE$2>0)*1)>0,$C21=0),0,$C21/(BE21+1))","v":0},0,{"$f":"IF(OR(BI$5=0,SUMPRODUCT(('erreurs calcul répartCM'!$J$2:BG$2>0)*1)>0,$C21=0),0,$C21/(BG21+1))","v":0},0,{"$f":"IF(OR(BK$5=0,SUMPRODUCT(('erreurs calcul répartCM'!$J$2:BI$2>0)*1)>0,$C21=0),0,$C21/(BI21+1))","v":0},0,{"$f":"IF(OR(BM$5=0,SUMPRODUCT(('erreurs calcul répartCM'!$J$2:BK$2>0)*1)>0,$C21=0),0,$C21/(BK21+1))","v":0},0,{"$f":"IF(OR(BO$5=0,SUMPRODUCT(('erreurs calcul répartCM'!$J$2:BM$2>0)*1)>0,$C21=0),0,$C21/(BM21+1))","v":0},0,{"$f":"IF(OR(BQ$5=0,SUMPRODUCT(('erreurs calcul répartCM'!$J$2:BO$2>0)*1)>0,$C21=0),0,$C21/(BO21+1))","v":0},0]
[14,{"$f":"IFERROR(VLOOKUP($A22,'2. Voix obtenues'!$U$7:$V$56,2,FALSE()),\"\")","v":0},{"$f":"SUMPRODUCT(($B22='2. Voix obtenues'!$C$7:$C$56)*('2. Voix obtenues'!$D$7:$D$56))","v":0},0,null,0,null,null,null,0,0,{"$f":"IF(OR(M$5=0,SUMPRODUCT(('erreurs calcul répartCM'!$J$2:K$2>0)*1)>0,$C22=0),0,$C22/(K22+1))","v":0},0,{"$f":"IF(OR(O$5=0,SUMPRODUCT(('erreurs calcul répartCM'!$J$2:M$2>0)*1)>0,$C22=0),0,$C22/(M22+1))","v":0},0,{"$f":"IF(OR(Q$5=0,SUMPRODUCT(('erreurs calcul répartCM'!$J$2:O$2>0)*1)>0,$C22=0),0,$C22/(O22+1))","v":0},0,{"$f":"IF(OR(S$5=0,SUMPRODUCT(('erreurs calcul répartCM'!$J$2:Q$2>0)*1)>0,$C22=0),0,$C22/(Q22+1))","v":0},0,{"$f":"IF(OR(U$5=0,SUMPRODUCT(('erreurs calcul répartCM'!$J$2:S$2>0)*1)>0,$C22=0),0,$C22/(S22+1))","v":0},0,{"$f":"IF(OR(W$5=0,SUMPRODUCT(('erreurs calcul répartCM'!$J$2:U$2>0)*1)>0,$C22=0),0,$C22/(U22+1))","v":0},0,{"$f":"IF(OR(Y$5=0,SUMPRODUCT(('erreurs calcul répartCM'!$J$2:W$2>0)*1)>0,$C22=0),0,$C22/(W22+1))","v":0},0,{"$f":"IF(OR(AA$5=0,SUMPRODUCT(('erreurs calcul répartCM'!$J$2:Y$2>0)*1)>0,$C22=0),0,$C22/(Y22+1))","v":0},0,{"$f":"IF(OR(AC$5=0,SUMPRODUCT(('erreurs calcul répartCM'!$J$2:AA$2>0)*1)>0,$C22=0),0,$C22/(AA22+1))","v":0},0,{"$f":"IF(OR(AE$5=0,SUMPRODUCT(('erreurs calcul répartCM'!$J$2:AC$2>0)*1)>0,$C22=0),0,$C22/(AC22+1))","v":0},0,{"$f":"IF(OR(AG$5=0,SUMPRODUCT(('erreurs calcul répartCM'!$J$2:AE$2>0)*1)>0,$C22=0),0,$C22/(AE22+1))","v":0},0,{"$f":"IF(OR(AI$5=0,SUMPRODUCT(('erreurs calcul répartCM'!$J$2:AG$2>0)*1)>0,$C22=0),0,$C22/(AG22+1))","v":0},0,{"$f":"IF(OR(AK$5=0,SUMPRODUCT(('erreurs calcul répartCM'!$J$2:AI$2>0)*1)>0,$C22=0),0,$C22/(AI22+1))","v":0},0,{"$f":"IF(OR(AM$5=0,SUMPRODUCT(('erreurs calcul répartCM'!$J$2:AK$2>0)*1)>0,$C22=0),0,$C22/(AK22+1))","v":0},0,{"$f":"IF(OR(AO$5=0,SUMPRODUCT(('erreurs calcul répartCM'!$J$2:AM$2>0)*1)>0,$C22=0),0,$C22/(AM22+1))","v":0},0,{"$f":"IF(OR(AQ$5=0,SUMPRODUCT(('erreurs calcul répartCM'!$J$2:AO$2>0)*1)>0,$C22=0),0,$C22/(AO22+1))","v":0},0,{"$f":"IF(OR(AS$5=0,SUMPRODUCT(('erreurs calcul répartCM'!$J$2:AQ$2>0)*1)>0,$C22=0),0,$C22/(AQ22+1))","v":0},0,{"$f":"IF(OR(AU$5=0,SUMPRODUCT(('erreurs calcul répartCM'!$J$2:AS$2>0)*1)>0,$C22=0),0,$C22/(AS22+1))","v":0},0,{"$f":"IF(OR(AW$5=0,SUMPRODUCT(('erreurs calcul répartCM'!$J$2:AU$2>0)*1)>0,$C22=0),0,$C22/(AU22+1))","v":0},0,{"$f":"IF(OR(AY$5=0,SUMPRODUCT(('erreurs calcul répartCM'!$J$2:AW$2>0)*1)>0,$C22=0),0,$C22/(AW22+1))","v":0},0,{"$f":"IF(OR(BA$5=0,SUMPRODUCT(('erreurs calcul répartCM'!$J$2:AY$2>0)*1)>0,$C22=0),0,$C22/(AY22+1))","v":0},0,{"$f":"IF(OR(BC$5=0,SUMPRODUCT(('erreurs calcul répartCM'!$J$2:BA$2>0)*1)>0,$C22=0),0,$C22/(BA22+1))","v":0},0,{"$f":"IF(OR(BE$5=0,SUMPRODUCT(('erreurs calcul répartCM'!$J$2:BC$2>0)*1)>0,$C22=0),0,$C22/(BC22+1))","v":0},0,{"$f":"IF(OR(BG$5=0,SUMPRODUCT(('erreurs calcul répartCM'!$J$2:BE$2>0)*1)>0,$C22=0),0,$C22/(BE22+1))","v":0},0,{"$f":"IF(OR(BI$5=0,SUMPRODUCT(('erreurs calcul répartCM'!$J$2:BG$2>0)*1)>0,$C22=0),0,$C22/(BG22+1))","v":0},0,{"$f":"IF(OR(BK$5=0,SUMPRODUCT(('erreurs calcul répartCM'!$J$2:BI$2>0)*1)>0,$C22=0),0,$C22/(BI22+1))","v":0},0,{"$f":"IF(OR(BM$5=0,SUMPRODUCT(('erreurs calcul répartCM'!$J$2:BK$2>0)*1)>0,$C22=0),0,$C22/(BK22+1))","v":0},0,{"$f":"IF(OR(BO$5=0,SUMPRODUCT(('erreurs calcul répartCM'!$J$2:BM$2>0)*1)>0,$C22=0),0,$C22/(BM22+1))","v":0},0,{"$f":"IF(OR(BQ$5=0,SUMPRODUCT(('erreurs calcul répartCM'!$J$2:BO$2>0)*1)>0,$C22=0),0,$C22/(BO22+1))","v":0},0]
[15,{"$f":"IFERROR(VLOOKUP($A23,'2. Voix obtenues'!$U$7:$V$56,2,FALSE()),\"\")","v":0},{"$f":"SUMPRODUCT(($B23='2. Voix obtenues'!$C$7:$C$56)*('2. Voix obtenues'!$D$7:$D$56))","v":0},0,null,0,null,null,null,0,0,{"$f":"IF(OR(M$5=0,SUMPRODUCT(('erreurs calcul répartCM'!$J$2:K$2>0)*1)>0,$C23=0),0,$C23/(K23+1))","v":0},0,{"$f":"IF(OR(O$5=0,SUMPRODUCT(('erreurs calcul répartCM'!$J$2:M$2>0)*1)>0,$C23=0),0,$C23/(M23+1))","v":0},0,{"$f":"IF(OR(Q$5=0,SUMPRODUCT(('erreurs calcul répartCM'!$J$2:O$2>0)*1)>0,$C23=0),0,$C23/(O23+1))","v":0},0,{"$f":"IF(OR(S$5=0,SUMPRODUCT(('erreurs calcul répartCM'!$J$2:Q$2>0)*1)>0,$C23=0),0,$C23/(Q23+1))","v":0},0,{"$f":"IF(OR(U$5=0,SUMPRODUCT(('erreurs calcul répartCM'!$J$2:S$2>0)*1)>0,$C23=0),0,$C23/(S23+1))","v":0},0,{"$f":"IF(OR(W$5=0,SUMPRODUCT(('erreurs calcul répartCM'!$J$2:U$2>0)*1)>0,$C23=0),0,$C23/(U23+1))","v":0},0,{"$f":"IF(OR(Y$5=0,SUMPRODUCT(('erreurs calcul répartCM'!$J$2:W$2>0)*1)>0,$C23=0),0,$C23/(W23+1))","v":0},0,{"$f":"IF(OR(AA$5=0,SUMPRODUCT(('erreurs calcul répartCM'!$J$2:Y$2>0)*1)>0,$C23=0),0,$C23/(Y23+1))","v":0},0,{"$f":"IF(OR(AC$5=0,SUMPRODUCT(('erreurs calcul répartCM'!$J$2:AA$2>0)*1)>0,$C23=0),0,$C23/(AA23+1))","v":0},0,{"$f":"IF(OR(AE$5=0,SUMPRODUCT(('erreurs calcul répartCM'!$J$2:AC$2>0)*1)>0,$C23=0),0,$C23/(AC23+1))","v":0},0,{"$f":"IF(OR(AG$5=0,SUMPRODUCT(('erreurs calcul répartCM'!$J$2:AE$2>0)*1)>0,$C23=0),0,$C23/(AE23+1))","v":0},0,{"$f":"IF(OR(AI$5=0,SUMPRODUCT(('erreurs calcul répartCM'!$J$2:AG$2>0)*1)>0,$C23=0),0,$C23/(AG23+1))","v":0},0,{"$f":"IF(OR(AK$5=0,SUMPRODUCT(('erreurs calcul répartCM'!$J$2:AI$2>0)*1)>0,$C23=0),0,$C23/(AI23+1))","v":0},0,{"$f":"IF(OR(AM$5=0,SUMPRODUCT(('erreurs calcul répartCM'!$J$2:AK$2>0)*1)>0,$C23=0),0,$C23/(AK23+1))","v":0},0,{"$f":"IF(OR(AO$5=0,SUMPRODUCT(('erreurs calcul répartCM'!$J$2:AM$2>0)*1)>0,$C23=0),0,$C23/(AM23+1))","v":0},0,{"$f":"IF(OR(AQ$5=0,SUMPRODUCT(('erreurs calcul répartCM'!$J$2:AO$2>0)*1)>0,$C23=0),0,$C23/(AO23+1))","v":0},0,{"$f":"IF(OR(AS$5=0,SUMPRODUCT(('erreurs calcul répartCM'!$J$2:AQ$2>0)*1)>0,$C23=0),0,$C23/(AQ23+1))","v":0},0,{"$f":"IF(OR(AU$5=0,SUMPRODUCT(('erreurs calcul répartCM'!$J$2:AS$2>0)*1)>0,$C23=0),0,$C23/(AS23+1))","v":0},0,{"$f":"IF(OR(AW$5=0,SUMPRODUCT(('erreurs calcul répartCM'!$J$2:AU$2>0)*1)>0,$C23=0),0,$C23/(AU23+1))","v":0},0,{"$f":"IF(OR(AY$5=0,SUMPRODUCT(('erreurs calcul répartCM'!$J$2:AW$2>0)*1)>0,$C23=0),0,$C23/(AW23+1))","v":0},0,{"$f":"IF(OR(BA$5=0,SUMPRODUCT(('erreurs calcul répartCM'!$J$2:AY$2>0)*1)>0,$C23=0),0,$C23/(AY23+1))","v":0},0,{"$f":"IF(OR(BC$5=0,SUMPRODUCT(('erreurs calcul répartCM'!$J$2:BA$2>0)*1)>0,$C23=0),0,$C23/(BA23+1))","v":0},0,{"$f":"IF(OR(BE$5=0,SUMPRODUCT(('erreurs calcul répartCM'!$J$2:BC$2>0)*1)>0,$C23=0),0,$C23/(BC23+1))","v":0},0,{"$f":"IF(OR(BG$5=0,SUMPRODUCT(('erreurs calcul répartCM'!$J$2:BE$2>0)*1)>0,$C23=0),0,$C23/(BE23+1))","v":0},0,{"$f":"IF(OR(BI$5=0,SUMPRODUCT(('erreurs calcul répartCM'!$J$2:BG$2>0)*1)>0,$C23=0),0,$C23/(BG23+1))","v":0},0,{"$f":"IF(OR(BK$5=0,SUMPRODUCT(('erreurs calcul répartCM'!$J$2:BI$2>0)*1)>0,$C23=0),0,$C23/(BI23+1))","v":0},0,{"$f":"IF(OR(BM$5=0,SUMPRODUCT(('erreurs calcul répartCM'!$J$2:BK$2>0)*1)>0,$C23=0),0,$C23/(BK23+1))","v":0},0,{"$f":"IF(OR(BO$5=0,SUMPRODUCT(('erreurs calcul répartCM'!$J$2:BM$2>0)*1)>0,$C23=0),0,$C23/(BM23+1))","v":0},0,{"$f":"IF(OR(BQ$5=0,SUMPRODUCT(('erreurs calcul répartCM'!$J$2:BO$2>0)*1)>0,$C23=0),0,$C23/(BO23+1))","v":0},0]
[16,{"$f":"IFERROR(VLOOKUP($A24,'2. Voix obtenues'!$U$7:$V$56,2,FALSE()),\"\")","v":0},{"$f":"SUMPRODUCT(($B24='2. Voix obtenues'!$C$7:$C$56)*('2. Voix obtenues'!$D$7:$D$56))","v":0},0,null,0,null,null,null,0,0,{"$f":"IF(OR(M$5=0,SUMPRODUCT(('erreurs calcul répartCM'!$J$2:K$2>0)*1)>0,$C24=0),0,$C24/(K24+1))","v":0},0,{"$f":"IF(OR(O$5=0,SUMPRODUCT(('erreurs calcul répartCM'!$J$2:M$2>0)*1)>0,$C24=0),0,$C24/(M24+1))","v":0},0,{"$f":"IF(OR(Q$5=0,SUMPRODUCT(('erreurs calcul répartCM'!$J$2:O$2>0)*1)>0,$C24=0),0,$C24/(O24+1))","v":0},0,{"$f":"IF(OR(S$5=0,SUMPRODUCT(('erreurs calcul répartCM'!$J$2:Q$2>0)*1)>0,$C24=0),0,$C24/(Q24+1))","v":0},0,{"$f":"IF(OR(U$5=0,SUMPRODUCT(('erreurs calcul répartCM'!$J$2:S$2>0)*1)>0,$C24=0),0,$C24/(S24+1))","v":0},0,{"$f":"IF(OR(W$5=0,SUMPRODUCT(('erreurs calcul répartCM'!$J$2:U$2>0)*1)>0,$C24=0),0,$C24/(U24+1))","v":0},0,{"$f":"IF(OR(Y$5=0,SUMPRODUCT(('erreurs calcul répartCM'!$J$2:W$2>0)*1)>0,$C24=0),0,$C24/(W24+1))","v":0},0,{"$f":"IF(OR(AA$5=0,SUMPRODUCT(('erreurs calcul répartCM'!$J$2:Y$2>0)*1)>0,$C24=0),0,$C24/(Y24+1))","v":0},0,{"$f":"IF(OR(AC$5=0,SUMPRODUCT(('erreurs calcul répartCM'!$J$2:AA$2>0)*1)>0,$C24=0),0,$C24/(AA24+1))","v":0},0,{"$f":"IF(OR(AE$5=0,SUMPRODUCT(('erreurs calcul répartCM'!$J$2:AC$2>0)*1)>0,$C24=0),0,$C24/(AC24+1))","v":0},0,{"$f":"IF(OR(AG$5=0,SUMPRODUCT(('erreurs calcul répartCM'!$J$2:AE$2>0)*1)>0,$C24=0),0,$C24/(AE24+1))","v":0},0,{"$f":"IF(OR(AI$5=0,SUMPRODUCT(('erreurs calcul répartCM'!$J$2:AG$2>0)*1)>0,$C24=0),0,$C24/(AG24+1))","v":0},0,{"$f":"IF(OR(AK$5=0,SUMPRODUCT(('erreurs calcul répartCM'!$J$2:AI$2>0)*1)>0,$C24=0),0,$C24/(AI24+1))","v":0},0,{"$f":"IF(OR(AM$5=0,SUMPRODUCT(('erreurs calcul répartCM'!$J$2:AK$2>0)*1)>0,$C24=0),0,$C24/(AK24+1))","v":0},0,{"$f":"IF(OR(AO$5=0,SUMPRODUCT(('erreurs calcul répartCM'!$J$2:AM$2>0)*1)>0,$C24=0),0,$C24/(AM24+1))","v":0},0,{"$f":"IF(OR(AQ$5=0,SUMPRODUCT(('erreurs calcul répartCM'!$J$2:AO$2>0)*1)>0,$C24=0),0,$C24/(AO24+1))","v":0},0,{"$f":"IF(OR(AS$5=0,SUMPRODUCT(('erreurs calcul répartCM'!$J$2:AQ$2>0)*1)>0,$C24=0),0,$C24/(AQ24+1))","v":0},0,{"$f":"IF(OR(AU$5=0,SUMPRODUCT(('erreurs calcul répartCM'!$J$2:AS$2>0)*1)>0,$C24=0),0,$C24/(AS24+1))","v":0},0,{"$f":"IF(OR(AW$5=0,SUMPRODUCT(('erreurs calcul répartCM'!$J$2:AU$2>0)*1)>0,$C24=0),0,$C24/(AU24+1))","v":0},0,{"$f":"IF(OR(AY$5=0,SUMPRODUCT(('erreurs calcul répartCM'!$J$2:AW$2>0)*1)>0,$C24=0),0,$C24/(AW24+1))","v":0},0,{"$f":"IF(OR(BA$5=0,SUMPRODUCT(('erreurs calcul répartCM'!$J$2:AY$2>0)*1)>0,$C24=0),0,$C24/(AY24+1))","v":0},0,{"$f":"IF(OR(BC$5=0,SUMPRODUCT(('erreurs calcul répartCM'!$J$2:BA$2>0)*1)>0,$C24=0),0,$C24/(BA24+1))","v":0},0,{"$f":"IF(OR(BE$5=0,SUMPRODUCT(('erreurs calcul répartCM'!$J$2:BC$2>0)*1)>0,$C24=0),0,$C24/(BC24+1))","v":0},0,{"$f":"IF(OR(BG$5=0,SUMPRODUCT(('erreurs calcul répartCM'!$J$2:BE$2>0)*1)>0,$C24=0),0,$C24/(BE24+1))","v":0},0,{"$f":"IF(OR(BI$5=0,SUMPRODUCT(('erreurs calcul répartCM'!$J$2:BG$2>0)*1)>0,$C24=0),0,$C24/(BG24+1))","v":0},0,{"$f":"IF(OR(BK$5=0,SUMPRODUCT(('erreurs calcul répartCM'!$J$2:BI$2>0)*1)>0,$C24=0),0,$C24/(BI24+1))","v":0},0,{"$f":"IF(OR(BM$5=0,SUMPRODUCT(('erreurs calcul répartCM'!$J$2:BK$2>0)*1)>0,$C24=0),0,$C24/(BK24+1))","v":0},0,{"$f":"IF(OR(BO$5=0,SUMPRODUCT(('erreurs calcul répartCM'!$J$2:BM$2>0)*1)>0,$C24=0),0,$C24/(BM24+1))","v":0},0,{"$f":"IF(OR(BQ$5=0,SUMPRODUCT(('erreurs calcul répartCM'!$J$2:BO$2>0)*1)>0,$C24=0),0,$C24/(BO24+1))","v":0},0]
[17,{"$f":"IFERROR(VLOOKUP($A25,'2. Voix obtenues'!$U$7:$V$56,2,FALSE()),\"\")","v":0},{"$f":"SUMPRODUCT(($B25='2. Voix obtenues'!$C$7:$C$56)*('2. Voix obtenues'!$D$7:$D$56))","v":0},0,null,0,null,null,null,0,0,{"$f":"IF(OR(M$5=0,SUMPRODUCT(('erreurs calcul répartCM'!$J$2:K$2>0)*1)>0,$C25=0),0,$C25/(K25+1))","v":0},0,{"$f":"IF(OR(O$5=0,SUMPRODUCT(('erreurs calcul répartCM'!$J$2:M$2>0)*1)>0,$C25=0),0,$C25/(M25+1))","v":0},0,{"$f":"IF(OR(Q$5=0,SUMPRODUCT(('erreurs calcul répartCM'!$J$2:O$2>0)*1)>0,$C25=0),0,$C25/(O25+1))","v":0},0,{"$f":"IF(OR(S$5=0,SUMPRODUCT(('erreurs calcul répartCM'!$J$2:Q$2>0)*1)>0,$C25=0),0,$C25/(Q25+1))","v":0},0,{"$f":"IF(OR(U$5=0,SUMPRODUCT(('erreurs calcul répartCM'!$J$2:S$2>0)*1)>0,$C25=0),0,$C25/(S25+1))","v":0},0,{"$f":"IF(OR(W$5=0,SUMPRODUCT(('erreurs calcul répartCM'!$J$2:U$2>0)*1)>0,$C25=0),0,$C25/(U25+1))","v":0},0,{"$f":"IF(OR(Y$5=0,SUMPRODUCT(('erreurs calcul répartCM'!$J$2:W$2>0)*1)>0,$C25=0),0,$C25/(W25+1))","v":0},0,{"$f":"IF(OR(AA$5=0,SUMPRODUCT(('erreurs calcul répartCM'!$J$2:Y$2>0)*1)>0,$C25=0),0,$C25/(Y25+1))","v":0},0,{"$f":"IF(OR(AC$5=0,SUMPRODUCT(('erreurs calcul répartCM'!$J$2:AA$2>0)*1)>0,$C25=0),0,$C25/(AA25+1))","v":0},0,{"$f":"IF(OR(AE$5=0,SUMPRODUCT(('erreurs calcul répartCM'!$J$2:AC$2>0)*1)>0,$C25=0),0,$C25/(AC25+1))","v":0},0,{"$f":"IF(OR(AG$5=0,SUMPRODUCT(('erreurs calcul répartCM'!$J$2:AE$2>0)*1)>0,$C25=0),0,$C25/(AE25+1))","v":0},0,{"$f":"IF(OR(AI$5=0,SUMPRODUCT(('erreurs calcul répartCM'!$J$2:AG$2>0)*1)>0,$C25=0),0,$C25/(AG25+1))","v":0},0,{"$f":"IF(OR(AK$5=0,SUMPRODUCT(('erreurs calcul répartCM'!$J$2:AI$2>0)*1)>0,$C25=0),0,$C25/(AI25+1))","v":0},0,{"$f":"IF(OR(AM$5=0,SUMPRODUCT(('erreurs calcul répartCM'!$J$2:AK$2>0)*1)>0,$C25=0),0,$C25/(AK25+1))","v":0},0,{"$f":"IF(OR(AO$5=0,SUMPRODUCT(('erreurs calcul répartCM'!$J$2:AM$2>0)*1)>0,$C25=0),0,$C25/(AM25+1))","v":0},0,{"$f":"IF(OR(AQ$5=0,SUMPRODUCT(('erreurs calcul répartCM'!$J$2:AO$2>0)*1)>0,$C25=0),0,$C25/(AO25+1))","v":0},0,{"$f":"IF(OR(AS$5=0,SUMPRODUCT(('erreurs calcul répartCM'!$J$2:AQ$2>0)*1)>0,$C25=0),0,$C25/(AQ25+1))","v":0},0,{"$f":"IF(OR(AU$5=0,SUMPRODUCT(('erreurs calcul répartCM'!$J$2:AS$2>0)*1)>0,$C25=0),0,$C25/(AS25+1))","v":0},0,{"$f":"IF(OR(AW$5=0,SUMPRODUCT(('erreurs calcul répartCM'!$J$2:AU$2>0)*1)>0,$C25=0),0,$C25/(AU25+1))","v":0},0,{"$f":"IF(OR(AY$5=0,SUMPRODUCT(('erreurs calcul répartCM'!$J$2:AW$2>0)*1)>0,$C25=0),0,$C25/(AW25+1))","v":0},0,{"$f":"IF(OR(BA$5=0,SUMPRODUCT(('erreurs calcul répartCM'!$J$2:AY$2>0)*1)>0,$C25=0),0,$C25/(AY25+1))","v":0},0,{"$f":"IF(OR(BC$5=0,SUMPRODUCT(('erreurs calcul répartCM'!$J$2:BA$2>0)*1)>0,$C25=0),0,$C25/(BA25+1))","v":0},0,{"$f":"IF(OR(BE$5=0,SUMPRODUCT(('erreurs calcul répartCM'!$J$2:BC$2>0)*1)>0,$C25=0),0,$C25/(BC25+1))","v":0},0,{"$f":"IF(OR(BG$5=0,SUMPRODUCT(('erreurs calcul répartCM'!$J$2:BE$2>0)*1)>0,$C25=0),0,$C25/(BE25+1))","v":0},0,{"$f":"IF(OR(BI$5=0,SUMPRODUCT(('erreurs calcul répartCM'!$J$2:BG$2>0)*1)>0,$C25=0),0,$C25/(BG25+1))","v":0},0,{"$f":"IF(OR(BK$5=0,SUMPRODUCT(('erreurs calcul répartCM'!$J$2:BI$2>0)*1)>0,$C25=0),0,$C25/(BI25+1))","v":0},0,{"$f":"IF(OR(BM$5=0,SUMPRODUCT(('erreurs calcul répartCM'!$J$2:BK$2>0)*1)>0,$C25=0),0,$C25/(BK25+1))","v":0},0,{"$f":"IF(OR(BO$5=0,SUMPRODUCT(('erreurs calcul répartCM'!$J$2:BM$2>0)*1)>0,$C25=0),0,$C25/(BM25+1))","v":0},0,{"$f":"IF(OR(BQ$5=0,SUMPRODUCT(('erreurs calcul répartCM'!$J$2:BO$2>0)*1)>0,$C25=0),0,$C25/(BO25+1))","v":0},0]
[18,{"$f":"IFERROR(VLOOKUP($A26,'2. Voix obtenues'!$U$7:$V$56,2,FALSE()),\"\")","v":0},{"$f":"SUMPRODUCT(($B26='2. Voix obtenues'!$C$7:$C$56)*('2. Voix obtenues'!$D$7:$D$56))","v":0},0,null,0,null,null,null,0,0,{"$f":"IF(OR(M$5=0,SUMPRODUCT(('erreurs calcul répartCM'!$J$2:K$2>0)*1)>0,$C26=0),0,$C26/(K26+1))","v":0},0,{"$f":"IF(OR(O$5=0,SUMPRODUCT(('erreurs calcul répartCM'!$J$2:M$2>0)*1)>0,$C26=0),0,$C26/(M26+1))","v":0},0,{"$f":"IF(OR(Q$5=0,SUMPRODUCT(('erreurs calcul répartCM'!$J$2:O$2>0)*1)>0,$C26=0),0,$C26/(O26+1))","v":0},0,{"$f":"IF(OR(S$5=0,SUMPRODUCT(('erreurs calcul répartCM'!$J$2:Q$2>0)*1)>0,$C26=0),0,$C26/(Q26+1))","v":0},0,{"$f":"IF(OR(U$5=0,SUMPRODUCT(('erreurs calcul répartCM'!$J$2:S$2>0)*1)>0,$C26=0),0,$C26/(S26+1))","v":0},0,{"$f":"IF(OR(W$5=0,SUMPRODUCT(('erreurs calcul répartCM'!$J$2:U$2>0)*1)>0,$C26=0),0,$C26/(U26+1))","v":0},0,{"$f":"IF(OR(Y$5=0,SUMPRODUCT(('erreurs calcul répartCM'!$J$2:W$2>0)*1)>0,$C26=0),0,$C26/(W26+1))","v":0},0,{"$f":"IF(OR(AA$5=0,SUMPRODUCT(('erreurs calcul répartCM'!$J$2:Y$2>0)*1)>0,$C26=0),0,$C26/(Y26+1))","v":0},0,{"$f":"IF(OR(AC$5=0,SUMPRODUCT(('erreurs calcul répartCM'!$J$2:AA$2>0)*1)>0,$C26=0),0,$C26/(AA26+1))","v":0},0,{"$f":"IF(OR(AE$5=0,SUMPRODUCT(('erreurs calcul répartCM'!$J$2:AC$2>0)*1)>0,$C26=0),0,$C26/(AC26+1))","v":0},0,{"$f":"IF(OR(AG$5=0,SUMPRODUCT(('erreurs calcul répartCM'!$J$2:AE$2>0)*1)>0,$C26=0),0,$C26/(AE26+1))","v":0},0,{"$f":"IF(OR(AI$5=0,SUMPRODUCT(('erreurs calcul répartCM'!$J$2:AG$2>0)*1)>0,$C26=0),0,$C26/(AG26+1))","v":0},0,{"$f":"IF(OR(AK$5=0,SUMPRODUCT(('erreurs calcul répartCM'!$J$2:AI$2>0)*1)>0,$C26=0),0,$C26/(AI26+1))","v":0},0,{"$f":"IF(OR(AM$5=0,SUMPRODUCT(('erreurs calcul répartCM'!$J$2:AK$2>0)*1)>0,$C26=0),0,$C26/(AK26+1))","v":0},0,{"$f":"IF(OR(AO$5=0,SUMPRODUCT(('erreurs calcul répartCM'!$J$2:AM$2>0)*1)>0,$C26=0),0,$C26/(AM26+1))","v":0},0,{"$f":"IF(OR(AQ$5=0,SUMPRODUCT(('erreurs calcul répartCM'!$J$2:AO$2>0)*1)>0,$C26=0),0,$C26/(AO26+1))","v":0},0,{"$f":"IF(OR(AS$5=0,SUMPRODUCT(('erreurs calcul répartCM'!$J$2:AQ$2>0)*1)>0,$C26=0),0,$C26/(AQ26+1))","v":0},0,{"$f":"IF(OR(AU$5=0,SUMPRODUCT(('erreurs calcul répartCM'!$J$2:AS$2>0)*1)>0,$C26=0),0,$C26/(AS26+1))","v":0},0,{"$f":"IF(OR(AW$5=0,SUMPRODUCT(('erreurs calcul répartCM'!$J$2:AU$2>0)*1)>0,$C26=0),0,$C26/(AU26+1))","v":0},0,{"$f":"IF(OR(AY$5=0,SUMPRODUCT(('erreurs calcul répartCM'!$J$2:AW$2>0)*1)>0,$C26=0),0,$C26/(AW26+1))","v":0},0,{"$f":"IF(OR(BA$5=0,SUMPRODUCT(('erreurs calcul répartCM'!$J$2:AY$2>0)*1)>0,$C26=0),0,$C26/(AY26+1))","v":0},0,{"$f":"IF(OR(BC$5=0,SUMPRODUCT(('erreurs calcul répartCM'!$J$2:BA$2>0)*1)>0,$C26=0),0,$C26/(BA26+1))","v":0},0,{"$f":"IF(OR(BE$5=0,SUMPRODUCT(('erreurs calcul répartCM'!$J$2:BC$2>0)*1)>0,$C26=0),0,$C26/(BC26+1))","v":0},0,{"$f":"IF(OR(BG$5=0,SUMPRODUCT(('erreurs calcul répartCM'!$J$2:BE$2>0)*1)>0,$C26=0),0,$C26/(BE26+1))","v":0},0,{"$f":"IF(OR(BI$5=0,SUMPRODUCT(('erreurs calcul répartCM'!$J$2:BG$2>0)*1)>0,$C26=0),0,$C26/(BG26+1))","v":0},0,{"$f":"IF(OR(BK$5=0,SUMPRODUCT(('erreurs calcul répartCM'!$J$2:BI$2>0)*1)>0,$C26=0),0,$C26/(BI26+1))","v":0},0,{"$f":"IF(OR(BM$5=0,SUMPRODUCT(('erreurs calcul répartCM'!$J$2:BK$2>0)*1)>0,$C26=0),0,$C26/(BK26+1))","v":0},0,{"$f":"IF(OR(BO$5=0,SUMPRODUCT(('erreurs calcul répartCM'!$J$2:BM$2>0)*1)>0,$C26=0),0,$C26/(BM26+1))","v":0},0,{"$f":"IF(OR(BQ$5=0,SUMPRODUCT(('erreurs calcul répartCM'!$J$2:BO$2>0)*1)>0,$C26=0),0,$C26/(BO26+1))","v":0},0]
[19,{"$f":"IFERROR(VLOOKUP($A27,'2. Voix obtenues'!$U$7:$V$56,2,FALSE()),\"\")","v":0},{"$f":"SUMPRODUCT(($B27='2. Voix obtenues'!$C$7:$C$56)*('2. Voix obtenues'!$D$7:$D$56))","v":0},0,null,0,null,null,null,0,0,{"$f":"IF(OR(M$5=0,SUMPRODUCT(('erreurs calcul répartCM'!$J$2:K$2>0)*1)>0,$C27=0),0,$C27/(K27+1))","v":0},0,{"$f":"IF(OR(O$5=0,SUMPRODUCT(('erreurs calcul répartCM'!$J$2:M$2>0)*1)>0,$C27=0),0,$C27/(M27+1))","v":0},0,{"$f":"IF(OR(Q$5=0,SUMPRODUCT(('erreurs calcul répartCM'!$J$2:O$2>0)*1)>0,$C27=0),0,$C27/(O27+1))","v":0},0,{"$f":"IF(OR(S$5=0,SUMPRODUCT(('erreurs calcul répartCM'!$J$2:Q$2>0)*1)>0,$C27=0),0,$C27/(Q27+1))","v":0},0,{"$f":"IF(OR(U$5=0,SUMPRODUCT(('erreurs calcul répartCM'!$J$2:S$2>0)*1)>0,$C27=0),0,$C27/(S27+1))","v":0},0,{"$f":"IF(OR(W$5=0,SUMPRODUCT(('erreurs calcul répartCM'!$J$2:U$2>0)*1)>0,$C27=0),0,$C27/(U27+1))","v":0},0,{"$f":"IF(OR(Y$5=0,SUMPRODUCT(('erreurs calcul répartCM'!$J$2:W$2>0)*1)>0,$C27=0),0,$C27/(W27+1))","v":0},0,{"$f":"IF(OR(AA$5=0,SUMPRODUCT(('erreurs calcul répartCM'!$J$2:Y$2>0)*1)>0,$C27=0),0,$C27/(Y27+1))","v":0},0,{"$f":"IF(OR(AC$5=0,SUMPRODUCT(('erreurs calcul répartCM'!$J$2:AA$2>0)*1)>0,$C27=0),0,$C27/(AA27+1))","v":0},0,{"$f":"IF(OR(AE$5=0,SUMPRODUCT(('erreurs calcul répartCM'!$J$2:AC$2>0)*1)>0,$C27=0),0,$C27/(AC27+1))","v":0},0,{"$f":"IF(OR(AG$5=0,SUMPRODUCT(('erreurs calcul répartCM'!$J$2:AE$2>0)*1)>0,$C27=0),0,$C27/(AE27+1))","v":0},0,{"$f":"IF(OR(AI$5=0,SUMPRODUCT(('erreurs calcul répartCM'!$J$2:AG$2>0)*1)>0,$C27=0),0,$C27/(AG27+1))","v":0},0,{"$f":"IF(OR(AK$5=0,SUMPRODUCT(('erreurs calcul répartCM'!$J$2:AI$2>0)*1)>0,$C27=0),0,$C27/(AI27+1))","v":0},0,{"$f":"IF(OR(AM$5=0,SUMPRODUCT(('erreurs calcul répartCM'!$J$2:AK$2>0)*1)>0,$C27=0),0,$C27/(AK27+1))","v":0},0,{"$f":"IF(OR(AO$5=0,SUMPRODUCT(('erreurs calcul répartCM'!$J$2:AM$2>0)*1)>0,$C27=0),0,$C27/(AM27+1))","v":0},0,{"$f":"IF(OR(AQ$5=0,SUMPRODUCT(('erreurs calcul répartCM'!$J$2:AO$2>0)*1)>0,$C27=0),0,$C27/(AO27+1))","v":0},0,{"$f":"IF(OR(AS$5=0,SUMPRODUCT(('erreurs calcul répartCM'!$J$2:AQ$2>0)*1)>0,$C27=0),0,$C27/(AQ27+1))","v":0},0,{"$f":"IF(OR(AU$5=0,SUMPRODUCT(('erreurs calcul répartCM'!$J$2:AS$2>0)*1)>0,$C27=0),0,$C27/(AS27+1))","v":0},0,{"$f":"IF(OR(AW$5=0,SUMPRODUCT(('erreurs calcul répartCM'!$J$2:AU$2>0)*1)>0,$C27=0),0,$C27/(AU27+1))","v":0},0,{"$f":"IF(OR(AY$5=0,SUMPRODUCT(('erreurs calcul répartCM'!$J$2:AW$2>0)*1)>0,$C27=0),0,$C27/(AW27+1))","v":0},0,{"$f":"IF(OR(BA$5=0,SUMPRODUCT(('erreurs calcul répartCM'!$J$2:AY$2>0)*1)>0,$C27=0),0,$C27/(AY27+1))","v":0},0,{"$f":"IF(OR(BC$5=0,SUMPRODUCT(('erreurs calcul répartCM'!$J$2:BA$2>0)*1)>0,$C27=0),0,$C27/(BA27+1))","v":0},0,{"$f":"IF(OR(BE$5=0,SUMPRODUCT(('erreurs calcul répartCM'!$J$2:BC$2>0)*1)>0,$C27=0),0,$C27/(BC27+1))","v":0},0,{"$f":"IF(OR(BG$5=0,SUMPRODUCT(('erreurs calcul répartCM'!$J$2:BE$2>0)*1)>0,$C27=0),0,$C27/(BE27+1))","v":0},0,{"$f":"IF(OR(BI$5=0,SUMPRODUCT(('erreurs calcul répartCM'!$J$2:BG$2>0)*1)>0,$C27=0),0,$C27/(BG27+1))","v":0},0,{"$f":"IF(OR(BK$5=0,SUMPRODUCT(('erreurs calcul répartCM'!$J$2:BI$2>0)*1)>0,$C27=0),0,$C27/(BI27+1))","v":0},0,{"$f":"IF(OR(BM$5=0,SUMPRODUCT(('erreurs calcul répartCM'!$J$2:BK$2>0)*1)>0,$C27=0),0,$C27/(BK27+1))","v":0},0,{"$f":"IF(OR(BO$5=0,SUMPRODUCT(('erreurs calcul répartCM'!$J$2:BM$2>0)*1)>0,$C27=0),0,$C27/(BM27+1))","v":0},0,{"$f":"IF(OR(BQ$5=0,SUMPRODUCT(('erreurs calcul répartCM'!$J$2:BO$2>0)*1)>0,$C27=0),0,$C27/(BO27+1))","v":0},0]
[20,{"$f":"IFERROR(VLOOKUP($A28,'2. Voix obtenues'!$U$7:$V$56,2,FALSE()),\"\")","v":0},{"$f":"SUMPRODUCT(($B28='2. Voix obtenues'!$C$7:$C$56)*('2. Voix obtenues'!$D$7:$D$56))","v":0},0,null,0,null,null,null,0,0,{"$f":"IF(OR(M$5=0,SUMPRODUCT(('erreurs calcul répartCM'!$J$2:K$2>0)*1)>0,$C28=0),0,$C28/(K28+1))","v":0},0,{"$f":"IF(OR(O$5=0,SUMPRODUCT(('erreurs calcul répartCM'!$J$2:M$2>0)*1)>0,$C28=0),0,$C28/(M28+1))","v":0},0,{"$f":"IF(OR(Q$5=0,SUMPRODUCT(('erreurs calcul répartCM'!$J$2:O$2>0)*1)>0,$C28=0),0,$C28/(O28+1))","v":0},0,{"$f":"IF(OR(S$5=0,SUMPRODUCT(('erreurs calcul répartCM'!$J$2:Q$2>0)*1)>0,$C28=0),0,$C28/(Q28+1))","v":0},0,{"$f":"IF(OR(U$5=0,SUMPRODUCT(('erreurs calcul répartCM'!$J$2:S$2>0)*1)>0,$C28=0),0,$C28/(S28+1))","v":0},0,{"$f":"IF(OR(W$5=0,SUMPRODUCT(('erreurs calcul répartCM'!$J$2:U$2>0)*1)>0,$C28=0),0,$C28/(U28+1))","v":0},0,{"$f":"IF(OR(Y$5=0,SUMPRODUCT(('erreurs calcul répartCM'!$J$2:W$2>0)*1)>0,$C28=0),0,$C28/(W28+1))","v":0},0,{"$f":"IF(OR(AA$5=0,SUMPRODUCT(('erreurs calcul répartCM'!$J$2:Y$2>0)*1)>0,$C28=0),0,$C28/(Y28+1))","v":0},0,{"$f":"IF(OR(AC$5=0,SUMPRODUCT(('erreurs calcul répartCM'!$J$2:AA$2>0)*1)>0,$C28=0),0,$C28/(AA28+1))","v":0},0,{"$f":"IF(OR(AE$5=0,SUMPRODUCT(('erreurs calcul répartCM'!$J$2:AC$2>0)*1)>0,$C28=0),0,$C28/(AC28+1))","v":0},0,{"$f":"IF(OR(AG$5=0,SUMPRODUCT(('erreurs calcul répartCM'!$J$2:AE$2>0)*1)>0,$C28=0),0,$C28/(AE28+1))","v":0},0,{"$f":"IF(OR(AI$5=0,SUMPRODUCT(('erreurs calcul répartCM'!$J$2:AG$2>0)*1)>0,$C28=0),0,$C28/(AG28+1))","v":0},0,{"$f":"IF(OR(AK$5=0,SUMPRODUCT(('erreurs calcul répartCM'!$J$2:AI$2>0)*1)>0,$C28=0),0,$C28/(AI28+1))","v":0},0,{"$f":"IF(OR(AM$5=0,SUMPRODUCT(('erreurs calcul répartCM'!$J$2:AK$2>0)*1)>0,$C28=0),0,$C28/(AK28+1))","v":0},0,{"$f":"IF(OR(AO$5=0,SUMPRODUCT(('erreurs calcul répartCM'!$J$2:AM$2>0)*1)>0,$C28=0),0,$C28/(AM28+1))","v":0},0,{"$f":"IF(OR(AQ$5=0,SUMPRODUCT(('erreurs calcul répartCM'!$J$2:AO$2>0)*1)>0,$C28=0),0,$C28/(AO28+1))","v":0},0,{"$f":"IF(OR(AS$5=0,SUMPRODUCT(('erreurs calcul répartCM'!$J$2:AQ$2>0)*1)>0,$C28=0),0,$C28/(AQ28+1))","v":0},0,{"$f":"IF(OR(AU$5=0,SUMPRODUCT(('erreurs calcul répartCM'!$J$2:AS$2>0)*1)>0,$C28=0),0,$C28/(AS28+1))","v":0},0,{"$f":"IF(OR(AW$5=0,SUMPRODUCT(('erreurs calcul répartCM'!$J$2:AU$2>0)*1)>0,$C28=0),0,$C28/(AU28+1))","v":0},0,{"$f":"IF(OR(AY$5=0,SUMPRODUCT(('erreurs calcul répartCM'!$J$2:AW$2>0)*1)>0,$C28=0),0,$C28/(AW28+1))","v":0},0,{"$f":"IF(OR(BA$5=0,SUMPRODUCT(('erreurs calcul répartCM'!$J$2:AY$2>0)*1)>0,$C28=0),0,$C28/(AY28+1))","v":0},0,{"$f":"IF(OR(BC$5=0,SUMPRODUCT(('erreurs calcul répartCM'!$J$2:BA$2>0)*1)>0,$C28=0),0,$C28/(BA28+1))","v":0},0,{"$f":"IF(OR(BE$5=0,SUMPRODUCT(('erreurs calcul répartCM'!$J$2:BC$2>0)*1)>0,$C28=0),0,$C28/(BC28+1))","v":0},0,{"$f":"IF(OR(BG$5=0,SUMPRODUCT(('erreurs calcul répartCM'!$J$2:BE$2>0)*1)>0,$C28=0),0,$C28/(BE28+1))","v":0},0,{"$f":"IF(OR(BI$5=0,SUMPRODUCT(('erreurs calcul répartCM'!$J$2:BG$2>0)*1)>0,$C28=0),0,$C28/(BG28+1))","v":0},0,{"$f":"IF(OR(BK$5=0,SUMPRODUCT(('erreurs calcul répartCM'!$J$2:BI$2>0)*1)>0,$C28=0),0,$C28/(BI28+1))","v":0},0,{"$f":"IF(OR(BM$5=0,SUMPRODUCT(('erreurs calcul répartCM'!$J$2:BK$2>0)*1)>0,$C28=0),0,$C28/(BK28+1))","v":0},0,{"$f":"IF(OR(BO$5=0,SUMPRODUCT(('erreurs calcul répartCM'!$J$2:BM$2>0)*1)>0,$C28=0),0,$C28/(BM28+1))","v":0},0,{"$f":"IF(OR(BQ$5=0,SUMPRODUCT(('erreurs calcul répartCM'!$J$2:BO$2>0)*1)>0,$C28=0),0,$C28/(BO28+1))","v":0},0]
[21,{"$f":"IFERROR(VLOOKUP($A29,'2. Voix obtenues'!$U$7:$V$56,2,FALSE()),\"\")","v":0},{"$f":"SUMPRODUCT(($B29='2. Voix obtenues'!$C$7:$C$56)*('2. Voix obtenues'!$D$7:$D$56))","v":0},0,null,0,null,null,null,0,0,{"$f":"IF(OR(M$5=0,SUMPRODUCT(('erreurs calcul répartCM'!$J$2:K$2>0)*1)>0,$C29=0),0,$C29/(K29+1))","v":0},0,{"$f":"IF(OR(O$5=0,SUMPRODUCT(('erreurs calcul répartCM'!$J$2:M$2>0)*1)>0,$C29=0),0,$C29/(M29+1))","v":0},0,{"$f":"IF(OR(Q$5=0,SUMPRODUCT(('erreurs calcul répartCM'!$J$2:O$2>0)*1)>0,$C29=0),0,$C29/(O29+1))","v":0},0,{"$f":"IF(OR(S$5=0,SUMPRODUCT(('erreurs calcul répartCM'!$J$2:Q$2>0)*1)>0,$C29=0),0,$C29/(Q29+1))","v":0},0,{"$f":"IF(OR(U$5=0,SUMPRODUCT(('erreurs calcul répartCM'!$J$2:S$2>0)*1)>0,$C29=0),0,$C29/(S29+1))","v":0},0,{"$f":"IF(OR(W$5=0,SUMPRODUCT(('erreurs calcul répartCM'!$J$2:U$2>0)*1)>0,$C29=0),0,$C29/(U29+1))","v":0},0,{"$f":"IF(OR(Y$5=0,SUMPRODUCT(('erreurs calcul répartCM'!$J$2:W$2>0)*1)>0,$C29=0),0,$C29/(W29+1))","v":0},0,{"$f":"IF(OR(AA$5=0,SUMPRODUCT(('erreurs calcul répartCM'!$J$2:Y$2>0)*1)>0,$C29=0),0,$C29/(Y29+1))","v":0},0,{"$f":"IF(OR(AC$5=0,SUMPRODUCT(('erreurs calcul répartCM'!$J$2:AA$2>0)*1)>0,$C29=0),0,$C29/(AA29+1))","v":0},0,{"$f":"IF(OR(AE$5=0,SUMPRODUCT(('erreurs calcul répartCM'!$J$2:AC$2>0)*1)>0,$C29=0),0,$C29/(AC29+1))","v":0},0,{"$f":"IF(OR(AG$5=0,SUMPRODUCT(('erreurs calcul répartCM'!$J$2:AE$2>0)*1)>0,$C29=0),0,$C29/(AE29+1))","v":0},0,{"$f":"IF(OR(AI$5=0,SUMPRODUCT(('erreurs calcul répartCM'!$J$2:AG$2>0)*1)>0,$C29=0),0,$C29/(AG29+1))","v":0},0,{"$f":"IF(OR(AK$5=0,SUMPRODUCT(('erreurs calcul répartCM'!$J$2:AI$2>0)*1)>0,$C29=0),0,$C29/(AI29+1))","v":0},0,{"$f":"IF(OR(AM$5=0,SUMPRODUCT(('erreurs calcul répartCM'!$J$2:AK$2>0)*1)>0,$C29=0),0,$C29/(AK29+1))","v":0},0,{"$f":"IF(OR(AO$5=0,SUMPRODUCT(('erreurs calcul répartCM'!$J$2:AM$2>0)*1)>0,$C29=0),0,$C29/(AM29+1))","v":0},0,{"$f":"IF(OR(AQ$5=0,SUMPRODUCT(('erreurs calcul répartCM'!$J$2:AO$2>0)*1)>0,$C29=0),0,$C29/(AO29+1))","v":0},0,{"$f":"IF(OR(AS$5=0,SUMPRODUCT(('erreurs calcul répartCM'!$J$2:AQ$2>0)*1)>0,$C29=0),0,$C29/(AQ29+1))","v":0},0,{"$f":"IF(OR(AU$5=0,SUMPRODUCT(('erreurs calcul répartCM'!$J$2:AS$2>0)*1)>0,$C29=0),0,$C29/(AS29+1))","v":0},0,{"$f":"IF(OR(AW$5=0,SUMPRODUCT(('erreurs calcul répartCM'!$J$2:AU$2>0)*1)>0,$C29=0),0,$C29/(AU29+1))","v":0},0,{"$f":"IF(OR(AY$5=0,SUMPRODUCT(('erreurs calcul répartCM'!$J$2:AW$2>0)*1)>0,$C29=0),0,$C29/(AW29+1))","v":0},0,{"$f":"IF(OR(BA$5=0,SUMPRODUCT(('erreurs calcul répartCM'!$J$2:AY$2>0)*1)>0,$C29=0),0,$C29/(AY29+1))","v":0},0,{"$f":"IF(OR(BC$5=0,SUMPRODUCT(('erreurs calcul répartCM'!$J$2:BA$2>0)*1)>0,$C29=0),0,$C29/(BA29+1))","v":0},0,{"$f":"IF(OR(BE$5=0,SUMPRODUCT(('erreurs calcul répartCM'!$J$2:BC$2>0)*1)>0,$C29=0),0,$C29/(BC29+1))","v":0},0,{"$f":"IF(OR(BG$5=0,SUMPRODUCT(('erreurs calcul répartCM'!$J$2:BE$2>0)*1)>0,$C29=0),0,$C29/(BE29+1))","v":0},0,{"$f":"IF(OR(BI$5=0,SUMPRODUCT(('erreurs calcul répartCM'!$J$2:BG$2>0)*1)>0,$C29=0),0,$C29/(BG29+1))","v":0},0,{"$f":"IF(OR(BK$5=0,SUMPRODUCT(('erreurs calcul répartCM'!$J$2:BI$2>0)*1)>0,$C29=0),0,$C29/(BI29+1))","v":0},0,{"$f":"IF(OR(BM$5=0,SUMPRODUCT(('erreurs calcul répartCM'!$J$2:BK$2>0)*1)>0,$C29=0),0,$C29/(BK29+1))","v":0},0,{"$f":"IF(OR(BO$5=0,SUMPRODUCT(('erreurs calcul répartCM'!$J$2:BM$2>0)*1)>0,$C29=0),0,$C29/(BM29+1))","v":0},0,{"$f":"IF(OR(BQ$5=0,SUMPRODUCT(('erreurs calcul répartCM'!$J$2:BO$2>0)*1)>0,$C29=0),0,$C29/(BO29+1))","v":0},0]
[22,{"$f":"IFERROR(VLOOKUP($A30,'2. Voix obtenues'!$U$7:$V$56,2,FALSE()),\"\")","v":0},{"$f":"SUMPRODUCT(($B30='2. Voix obtenues'!$C$7:$C$56)*('2. Voix obtenues'!$D$7:$D$56))","v":0},0,null,0,null,null,null,0,0,{"$f":"IF(OR(M$5=0,SUMPRODUCT(('erreurs calcul répartCM'!$J$2:K$2>0)*1)>0,$C30=0),0,$C30/(K30+1))","v":0},0,{"$f":"IF(OR(O$5=0,SUMPRODUCT(('erreurs calcul répartCM'!$J$2:M$2>0)*1)>0,$C30=0),0,$C30/(M30+1))","v":0},0,{"$f":"IF(OR(Q$5=0,SUMPRODUCT(('erreurs calcul répartCM'!$J$2:O$2>0)*1)>0,$C30=0),0,$C30/(O30+1))","v":0},0,{"$f":"IF(OR(S$5=0,SUMPRODUCT(('erreurs calcul répartCM'!$J$2:Q$2>0)*1)>0,$C30=0),0,$C30/(Q30+1))","v":0},0,{"$f":"IF(OR(U$5=0,SUMPRODUCT(('erreurs calcul répartCM'!$J$2:S$2>0)*1)>0,$C30=0),0,$C30/(S30+1))","v":0},0,{"$f":"IF(OR(W$5=0,SUMPRODUCT(('erreurs calcul répartCM'!$J$2:U$2>0)*1)>0,$C30=0),0,$C30/(U30+1))","v":0},0,{"$f":"IF(OR(Y$5=0,SUMPRODUCT(('erreurs calcul répartCM'!$J$2:W$2>0)*1)>0,$C30=0),0,$C30/(W30+1))","v":0},0,{"$f":"IF(OR(AA$5=0,SUMPRODUCT(('erreurs calcul répartCM'!$J$2:Y$2>0)*1)>0,$C30=0),0,$C30/(Y30+1))","v":0},0,{"$f":"IF(OR(AC$5=0,SUMPRODUCT(('erreurs calcul répartCM'!$J$2:AA$2>0)*1)>0,$C30=0),0,$C30/(AA30+1))","v":0},0,{"$f":"IF(OR(AE$5=0,SUMPRODUCT(('erreurs calcul répartCM'!$J$2:AC$2>0)*1)>0,$C30=0),0,$C30/(AC30+1))","v":0},0,{"$f":"IF(OR(AG$5=0,SUMPRODUCT(('erreurs calcul répartCM'!$J$2:AE$2>0)*1)>0,$C30=0),0,$C30/(AE30+1))","v":0},0,{"$f":"IF(OR(AI$5=0,SUMPRODUCT(('erreurs calcul répartCM'!$J$2:AG$2>0)*1)>0,$C30=0),0,$C30/(AG30+1))","v":0},0,{"$f":"IF(OR(AK$5=0,SUMPRODUCT(('erreurs calcul répartCM'!$J$2:AI$2>0)*1)>0,$C30=0),0,$C30/(AI30+1))","v":0},0,{"$f":"IF(OR(AM$5=0,SUMPRODUCT(('erreurs calcul répartCM'!$J$2:AK$2>0)*1)>0,$C30=0),0,$C30/(AK30+1))","v":0},0,{"$f":"IF(OR(AO$5=0,SUMPRODUCT(('erreurs calcul répartCM'!$J$2:AM$2>0)*1)>0,$C30=0),0,$C30/(AM30+1))","v":0},0,{"$f":"IF(OR(AQ$5=0,SUMPRODUCT(('erreurs calcul répartCM'!$J$2:AO$2>0)*1)>0,$C30=0),0,$C30/(AO30+1))","v":0},0,{"$f":"IF(OR(AS$5=0,SUMPRODUCT(('erreurs calcul répartCM'!$J$2:AQ$2>0)*1)>0,$C30=0),0,$C30/(AQ30+1))","v":0},0,{"$f":"IF(OR(AU$5=0,SUMPRODUCT(('erreurs calcul répartCM'!$J$2:AS$2>0)*1)>0,$C30=0),0,$C30/(AS30+1))","v":0},0,{"$f":"IF(OR(AW$5=0,SUMPRODUCT(('erreurs calcul répartCM'!$J$2:AU$2>0)*1)>0,$C30=0),0,$C30/(AU30+1))","v":0},0,{"$f":"IF(OR(AY$5=0,SUMPRODUCT(('erreurs calcul répartCM'!$J$2:AW$2>0)*1)>0,$C30=0),0,$C30/(AW30+1))","v":0},0,{"$f":"IF(OR(BA$5=0,SUMPRODUCT(('erreurs calcul répartCM'!$J$2:AY$2>0)*1)>0,$C30=0),0,$C30/(AY30+1))","v":0},0,{"$f":"IF(OR(BC$5=0,SUMPRODUCT(('erreurs calcul répartCM'!$J$2:BA$2>0)*1)>0,$C30=0),0,$C30/(BA30+1))","v":0},0,{"$f":"IF(OR(BE$5=0,SUMPRODUCT(('erreurs calcul répartCM'!$J$2:BC$2>0)*1)>0,$C30=0),0,$C30/(BC30+1))","v":0},0,{"$f":"IF(OR(BG$5=0,SUMPRODUCT(('erreurs calcul répartCM'!$J$2:BE$2>0)*1)>0,$C30=0),0,$C30/(BE30+1))","v":0},0,{"$f":"IF(OR(BI$5=0,SUMPRODUCT(('erreurs calcul répartCM'!$J$2:BG$2>0)*1)>0,$C30=0),0,$C30/(BG30+1))","v":0},0,{"$f":"IF(OR(BK$5=0,SUMPRODUCT(('erreurs calcul répartCM'!$J$2:BI$2>0)*1)>0,$C30=0),0,$C30/(BI30+1))","v":0},0,{"$f":"IF(OR(BM$5=0,SUMPRODUCT(('erreurs calcul répartCM'!$J$2:BK$2>0)*1)>0,$C30=0),0,$C30/(BK30+1))","v":0},0,{"$f":"IF(OR(BO$5=0,SUMPRODUCT(('erreurs calcul répartCM'!$J$2:BM$2>0)*1)>0,$C30=0),0,$C30/(BM30+1))","v":0},0,{"$f":"IF(OR(BQ$5=0,SUMPRODUCT(('erreurs calcul répartCM'!$J$2:BO$2>0)*1)>0,$C30=0),0,$C30/(BO30+1))","v":0},0]
[23,{"$f":"IFERROR(VLOOKUP($A31,'2. Voix obtenues'!$U$7:$V$56,2,FALSE()),\"\")","v":0},{"$f":"SUMPRODUCT(($B31='2. Voix obtenues'!$C$7:$C$56)*('2. Voix obtenues'!$D$7:$D$56))","v":0},0,null,0,null,null,null,0,0,{"$f":"IF(OR(M$5=0,SUMPRODUCT(('erreurs calcul répartCM'!$J$2:K$2>0)*1)>0,$C31=0),0,$C31/(K31+1))","v":0},0,{"$f":"IF(OR(O$5=0,SUMPRODUCT(('erreurs calcul répartCM'!$J$2:M$2>0)*1)>0,$C31=0),0,$C31/(M31+1))","v":0},0,{"$f":"IF(OR(Q$5=0,SUMPRODUCT(('erreurs calcul répartCM'!$J$2:O$2>0)*1)>0,$C31=0),0,$C31/(O31+1))","v":0},0,{"$f":"IF(OR(S$5=0,SUMPRODUCT(('erreurs calcul répartCM'!$J$2:Q$2>0)*1)>0,$C31=0),0,$C31/(Q31+1))","v":0},0,{"$f":"IF(OR(U$5=0,SUMPRODUCT(('erreurs calcul répartCM'!$J$2:S$2>0)*1)>0,$C31=0),0,$C31/(S31+1))","v":0},0,{"$f":"IF(OR(W$5=0,SUMPRODUCT(('erreurs calcul répartCM'!$J$2:U$2>0)*1)>0,$C31=0),0,$C31/(U31+1))","v":0},0,{"$f":"IF(OR(Y$5=0,SUMPRODUCT(('erreurs calcul répartCM'!$J$2:W$2>0)*1)>0,$C31=0),0,$C31/(W31+1))","v":0},0,{"$f":"IF(OR(AA$5=0,SUMPRODUCT(('erreurs calcul répartCM'!$J$2:Y$2>0)*1)>0,$C31=0),0,$C31/(Y31+1))","v":0},0,{"$f":"IF(OR(AC$5=0,SUMPRODUCT(('erreurs calcul répartCM'!$J$2:AA$2>0)*1)>0,$C31=0),0,$C31/(AA31+1))","v":0},0,{"$f":"IF(OR(AE$5=0,SUMPRODUCT(('erreurs calcul répartCM'!$J$2:AC$2>0)*1)>0,$C31=0),0,$C31/(AC31+1))","v":0},0,{"$f":"IF(OR(AG$5=0,SUMPRODUCT(('erreurs calcul répartCM'!$J$2:AE$2>0)*1)>0,$C31=0),0,$C31/(AE31+1))","v":0},0,{"$f":"IF(OR(AI$5=0,SUMPRODUCT(('erreurs calcul répartCM'!$J$2:AG$2>0)*1)>0,$C31=0),0,$C31/(AG31+1))","v":0},0,{"$f":"IF(OR(AK$5=0,SUMPRODUCT(('erreurs calcul répartCM'!$J$2:AI$2>0)*1)>0,$C31=0),0,$C31/(AI31+1))","v":0},0,{"$f":"IF(OR(AM$5=0,SUMPRODUCT(('erreurs calcul répartCM'!$J$2:AK$2>0)*1)>0,$C31=0),0,$C31/(AK31+1))","v":0},0,{"$f":"IF(OR(AO$5=0,SUMPRODUCT(('erreurs calcul répartCM'!$J$2:AM$2>0)*1)>0,$C31=0),0,$C31/(AM31+1))","v":0},0,{"$f":"IF(OR(AQ$5=0,SUMPRODUCT(('erreurs calcul répartCM'!$J$2:AO$2>0)*1)>0,$C31=0),0,$C31/(AO31+1))","v":0},0,{"$f":"IF(OR(AS$5=0,SUMPRODUCT(('erreurs calcul répartCM'!$J$2:AQ$2>0)*1)>0,$C31=0),0,$C31/(AQ31+1))","v":0},0,{"$f":"IF(OR(AU$5=0,SUMPRODUCT(('erreurs calcul répartCM'!$J$2:AS$2>0)*1)>0,$C31=0),0,$C31/(AS31+1))","v":0},0,{"$f":"IF(OR(AW$5=0,SUMPRODUCT(('erreurs calcul répartCM'!$J$2:AU$2>0)*1)>0,$C31=0),0,$C31/(AU31+1))","v":0},0,{"$f":"IF(OR(AY$5=0,SUMPRODUCT(('erreurs calcul répartCM'!$J$2:AW$2>0)*1)>0,$C31=0),0,$C31/(AW31+1))","v":0},0,{"$f":"IF(OR(BA$5=0,SUMPRODUCT(('erreurs calcul répartCM'!$J$2:AY$2>0)*1)>0,$C31=0),0,$C31/(AY31+1))","v":0},0,{"$f":"IF(OR(BC$5=0,SUMPRODUCT(('erreurs calcul répartCM'!$J$2:BA$2>0)*1)>0,$C31=0),0,$C31/(BA31+1))","v":0},0,{"$f":"IF(OR(BE$5=0,SUMPRODUCT(('erreurs calcul répartCM'!$J$2:BC$2>0)*1)>0,$C31=0),0,$C31/(BC31+1))","v":0},0,{"$f":"IF(OR(BG$5=0,SUMPRODUCT(('erreurs calcul répartCM'!$J$2:BE$2>0)*1)>0,$C31=0),0,$C31/(BE31+1))","v":0},0,{"$f":"IF(OR(BI$5=0,SUMPRODUCT(('erreurs calcul répartCM'!$J$2:BG$2>0)*1)>0,$C31=0),0,$C31/(BG31+1))","v":0},0,{"$f":"IF(OR(BK$5=0,SUMPRODUCT(('erreurs calcul répartCM'!$J$2:BI$2>0)*1)>0,$C31=0),0,$C31/(BI31+1))","v":0},0,{"$f":"IF(OR(BM$5=0,SUMPRODUCT(('erreurs calcul répartCM'!$J$2:BK$2>0)*1)>0,$C31=0),0,$C31/(BK31+1))","v":0},0,{"$f":"IF(OR(BO$5=0,SUMPRODUCT(('erreurs calcul répartCM'!$J$2:BM$2>0)*1)>0,$C31=0),0,$C31/(BM31+1))","v":0},0,{"$f":"IF(OR(BQ$5=0,SUMPRODUCT(('erreurs calcul répartCM'!$J$2:BO$2>0)*1)>0,$C31=0),0,$C31/(BO31+1))","v":0},0]
[24,{"$f":"IFERROR(VLOOKUP($A32,'2. Voix obtenues'!$U$7:$V$56,2,FALSE()),\"\")","v":0},{"$f":"SUMPRODUCT(($B32='2. Voix obtenues'!$C$7:$C$56)*('2. Voix obtenues'!$D$7:$D$56))","v":0},0,null,0,null,null,null,0,0,{"$f":"IF(OR(M$5=0,SUMPRODUCT(('erreurs calcul répartCM'!$J$2:K$2>0)*1)>0,$C32=0),0,$C32/(K32+1))","v":0},0,{"$f":"IF(OR(O$5=0,SUMPRODUCT(('erreurs calcul répartCM'!$J$2:M$2>0)*1)>0,$C32=0),0,$C32/(M32+1))","v":0},0,{"$f":"IF(OR(Q$5=0,SUMPRODUCT(('erreurs calcul répartCM'!$J$2:O$2>0)*1)>0,$C32=0),0,$C32/(O32+1))","v":0},0,{"$f":"IF(OR(S$5=0,SUMPRODUCT(('erreurs calcul répartCM'!$J$2:Q$2>0)*1)>0,$C32=0),0,$C32/(Q32+1))","v":0},0,{"$f":"IF(OR(U$5=0,SUMPRODUCT(('erreurs calcul répartCM'!$J$2:S$2>0)*1)>0,$C32=0),0,$C32/(S32+1))","v":0},0,{"$f":"IF(OR(W$5=0,SUMPRODUCT(('erreurs calcul répartCM'!$J$2:U$2>0)*1)>0,$C32=0),0,$C32/(U32+1))","v":0},0,{"$f":"IF(OR(Y$5=0,SUMPRODUCT(('erreurs calcul répartCM'!$J$2:W$2>0)*1)>0,$C32=0),0,$C32/(W32+1))","v":0},0,{"$f":"IF(OR(AA$5=0,SUMPRODUCT(('erreurs calcul répartCM'!$J$2:Y$2>0)*1)>0,$C32=0),0,$C32/(Y32+1))","v":0},0,{"$f":"IF(OR(AC$5=0,SUMPRODUCT(('erreurs calcul répartCM'!$J$2:AA$2>0)*1)>0,$C32=0),0,$C32/(AA32+1))","v":0},0,{"$f":"IF(OR(AE$5=0,SUMPRODUCT(('erreurs calcul répartCM'!$J$2:AC$2>0)*1)>0,$C32=0),0,$C32/(AC32+1))","v":0},0,{"$f":"IF(OR(AG$5=0,SUMPRODUCT(('erreurs calcul répartCM'!$J$2:AE$2>0)*1)>0,$C32=0),0,$C32/(AE32+1))","v":0},0,{"$f":"IF(OR(AI$5=0,SUMPRODUCT(('erreurs calcul répartCM'!$J$2:AG$2>0)*1)>0,$C32=0),0,$C32/(AG32+1))","v":0},0,{"$f":"IF(OR(AK$5=0,SUMPRODUCT(('erreurs calcul répartCM'!$J$2:AI$2>0)*1)>0,$C32=0),0,$C32/(AI32+1))","v":0},0,{"$f":"IF(OR(AM$5=0,SUMPRODUCT(('erreurs calcul répartCM'!$J$2:AK$2>0)*1)>0,$C32=0),0,$C32/(AK32+1))","v":0},0,{"$f":"IF(OR(AO$5=0,SUMPRODUCT(('erreurs calcul répartCM'!$J$2:AM$2>0)*1)>0,$C32=0),0,$C32/(AM32+1))","v":0},0,{"$f":"IF(OR(AQ$5=0,SUMPRODUCT(('erreurs calcul répartCM'!$J$2:AO$2>0)*1)>0,$C32=0),0,$C32/(AO32+1))","v":0},0,{"$f":"IF(OR(AS$5=0,SUMPRODUCT(('erreurs calcul répartCM'!$J$2:AQ$2>0)*1)>0,$C32=0),0,$C32/(AQ32+1))","v":0},0,{"$f":"IF(OR(AU$5=0,SUMPRODUCT(('erreurs calcul répartCM'!$J$2:AS$2>0)*1)>0,$C32=0),0,$C32/(AS32+1))","v":0},0,{"$f":"IF(OR(AW$5=0,SUMPRODUCT(('erreurs calcul répartCM'!$J$2:AU$2>0)*1)>0,$C32=0),0,$C32/(AU32+1))","v":0},0,{"$f":"IF(OR(AY$5=0,SUMPRODUCT(('erreurs calcul répartCM'!$J$2:AW$2>0)*1)>0,$C32=0),0,$C32/(AW32+1))","v":0},0,{"$f":"IF(OR(BA$5=0,SUMPRODUCT(('erreurs calcul répartCM'!$J$2:AY$2>0)*1)>0,$C32=0),0,$C32/(AY32+1))","v":0},0,{"$f":"IF(OR(BC$5=0,SUMPRODUCT(('erreurs calcul répartCM'!$J$2:BA$2>0)*1)>0,$C32=0),0,$C32/(BA32+1))","v":0},0,{"$f":"IF(OR(BE$5=0,SUMPRODUCT(('erreurs calcul répartCM'!$J$2:BC$2>0)*1)>0,$C32=0),0,$C32/(BC32+1))","v":0},0,{"$f":"IF(OR(BG$5=0,SUMPRODUCT(('erreurs calcul répartCM'!$J$2:BE$2>0)*1)>0,$C32=0),0,$C32/(BE32+1))","v":0},0,{"$f":"IF(OR(BI$5=0,SUMPRODUCT(('erreurs calcul répartCM'!$J$2:BG$2>0)*1)>0,$C32=0),0,$C32/(BG32+1))","v":0},0,{"$f":"IF(OR(BK$5=0,SUMPRODUCT(('erreurs calcul répartCM'!$J$2:BI$2>0)*1)>0,$C32=0),0,$C32/(BI32+1))","v":0},0,{"$f":"IF(OR(BM$5=0,SUMPRODUCT(('erreurs calcul répartCM'!$J$2:BK$2>0)*1)>0,$C32=0),0,$C32/(BK32+1))","v":0},0,{"$f":"IF(OR(BO$5=0,SUMPRODUCT(('erreurs calcul répartCM'!$J$2:BM$2>0)*1)>0,$C32=0),0,$C32/(BM32+1))","v":0},0,{"$f":"IF(OR(BQ$5=0,SUMPRODUCT(('erreurs calcul répartCM'!$J$2:BO$2>0)*1)>0,$C32=0),0,$C32/(BO32+1))","v":0},0]
[25,{"$f":"IFERROR(VLOOKUP($A33,'2. Voix obtenues'!$U$7:$V$56,2,FALSE()),\"\")","v":0},{"$f":"SUMPRODUCT(($B33='2. Voix obtenues'!$C$7:$C$56)*('2. Voix obtenues'!$D$7:$D$56))","v":0},0,null,0,null,null,null,0,0,{"$f":"IF(OR(M$5=0,SUMPRODUCT(('erreurs calcul répartCM'!$J$2:K$2>0)*1)>0,$C33=0),0,$C33/(K33+1))","v":0},0,{"$f":"IF(OR(O$5=0,SUMPRODUCT(('erreurs calcul répartCM'!$J$2:M$2>0)*1)>0,$C33=0),0,$C33/(M33+1))","v":0},0,{"$f":"IF(OR(Q$5=0,SUMPRODUCT(('erreurs calcul répartCM'!$J$2:O$2>0)*1)>0,$C33=0),0,$C33/(O33+1))","v":0},0,{"$f":"IF(OR(S$5=0,SUMPRODUCT(('erreurs calcul répartCM'!$J$2:Q$2>0)*1)>0,$C33=0),0,$C33/(Q33+1))","v":0},0,{"$f":"IF(OR(U$5=0,SUMPRODUCT(('erreurs calcul répartCM'!$J$2:S$2>0)*1)>0,$C33=0),0,$C33/(S33+1))","v":0},0,{"$f":"IF(OR(W$5=0,SUMPRODUCT(('erreurs calcul répartCM'!$J$2:U$2>0)*1)>0,$C33=0),0,$C33/(U33+1))","v":0},0,{"$f":"IF(OR(Y$5=0,SUMPRODUCT(('erreurs calcul répartCM'!$J$2:W$2>0)*1)>0,$C33=0),0,$C33/(W33+1))","v":0},0,{"$f":"IF(OR(AA$5=0,SUMPRODUCT(('erreurs calcul répartCM'!$J$2:Y$2>0)*1)>0,$C33=0),0,$C33/(Y33+1))","v":0},0,{"$f":"IF(OR(AC$5=0,SUMPRODUCT(('erreurs calcul répartCM'!$J$2:AA$2>0)*1)>0,$C33=0),0,$C33/(AA33+1))","v":0},0,{"$f":"IF(OR(AE$5=0,SUMPRODUCT(('erreurs calcul répartCM'!$J$2:AC$2>0)*1)>0,$C33=0),0,$C33/(AC33+1))","v":0},0,{"$f":"IF(OR(AG$5=0,SUMPRODUCT(('erreurs calcul répartCM'!$J$2:AE$2>0)*1)>0,$C33=0),0,$C33/(AE33+1))","v":0},0,{"$f":"IF(OR(AI$5=0,SUMPRODUCT(('erreurs calcul répartCM'!$J$2:AG$2>0)*1)>0,$C33=0),0,$C33/(AG33+1))","v":0},0,{"$f":"IF(OR(AK$5=0,SUMPRODUCT(('erreurs calcul répartCM'!$J$2:AI$2>0)*1)>0,$C33=0),0,$C33/(AI33+1))","v":0},0,{"$f":"IF(OR(AM$5=0,SUMPRODUCT(('erreurs calcul répartCM'!$J$2:AK$2>0)*1)>0,$C33=0),0,$C33/(AK33+1))","v":0},0,{"$f":"IF(OR(AO$5=0,SUMPRODUCT(('erreurs calcul répartCM'!$J$2:AM$2>0)*1)>0,$C33=0),0,$C33/(AM33+1))","v":0},0,{"$f":"IF(OR(AQ$5=0,SUMPRODUCT(('erreurs calcul répartCM'!$J$2:AO$2>0)*1)>0,$C33=0),0,$C33/(AO33+1))","v":0},0,{"$f":"IF(OR(AS$5=0,SUMPRODUCT(('erreurs calcul répartCM'!$J$2:AQ$2>0)*1)>0,$C33=0),0,$C33/(AQ33+1))","v":0},0,{"$f":"IF(OR(AU$5=0,SUMPRODUCT(('erreurs calcul répartCM'!$J$2:AS$2>0)*1)>0,$C33=0),0,$C33/(AS33+1))","v":0},0,{"$f":"IF(OR(AW$5=0,SUMPRODUCT(('erreurs calcul répartCM'!$J$2:AU$2>0)*1)>0,$C33=0),0,$C33/(AU33+1))","v":0},0,{"$f":"IF(OR(AY$5=0,SUMPRODUCT(('erreurs calcul répartCM'!$J$2:AW$2>0)*1)>0,$C33=0),0,$C33/(AW33+1))","v":0},0,{"$f":"IF(OR(BA$5=0,SUMPRODUCT(('erreurs calcul répartCM'!$J$2:AY$2>0)*1)>0,$C33=0),0,$C33/(AY33+1))","v":0},0,{"$f":"IF(OR(BC$5=0,SUMPRODUCT(('erreurs calcul répartCM'!$J$2:BA$2>0)*1)>0,$C33=0),0,$C33/(BA33+1))","v":0},0,{"$f":"IF(OR(BE$5=0,SUMPRODUCT(('erreurs calcul répartCM'!$J$2:BC$2>0)*1)>0,$C33=0),0,$C33/(BC33+1))","v":0},0,{"$f":"IF(OR(BG$5=0,SUMPRODUCT(('erreurs calcul répartCM'!$J$2:BE$2>0)*1)>0,$C33=0),0,$C33/(BE33+1))","v":0},0,{"$f":"IF(OR(BI$5=0,SUMPRODUCT(('erreurs calcul répartCM'!$J$2:BG$2>0)*1)>0,$C33=0),0,$C33/(BG33+1))","v":0},0,{"$f":"IF(OR(BK$5=0,SUMPRODUCT(('erreurs calcul répartCM'!$J$2:BI$2>0)*1)>0,$C33=0),0,$C33/(BI33+1))","v":0},0,{"$f":"IF(OR(BM$5=0,SUMPRODUCT(('erreurs calcul répartCM'!$J$2:BK$2>0)*1)>0,$C33=0),0,$C33/(BK33+1))","v":0},0,{"$f":"IF(OR(BO$5=0,SUMPRODUCT(('erreurs calcul répartCM'!$J$2:BM$2>0)*1)>0,$C33=0),0,$C33/(BM33+1))","v":0},0,{"$f":"IF(OR(BQ$5=0,SUMPRODUCT(('erreurs calcul répartCM'!$J$2:BO$2>0)*1)>0,$C33=0),0,$C33/(BO33+1))","v":0},0]
[26,{"$f":"IFERROR(VLOOKUP($A34,'2. Voix obtenues'!$U$7:$V$56,2,FALSE()),\"\")","v":0},{"$f":"SUMPRODUCT(($B34='2. Voix obtenues'!$C$7:$C$56)*('2. Voix obtenues'!$D$7:$D$56))","v":0},0,null,0,null,null,null,0,0,{"$f":"IF(OR(M$5=0,SUMPRODUCT(('erreurs calcul répartCM'!$J$2:K$2>0)*1)>0,$C34=0),0,$C34/(K34+1))","v":0},0,{"$f":"IF(OR(O$5=0,SUMPRODUCT(('erreurs calcul répartCM'!$J$2:M$2>0)*1)>0,$C34=0),0,$C34/(M34+1))","v":0},0,{"$f":"IF(OR(Q$5=0,SUMPRODUCT(('erreurs calcul répartCM'!$J$2:O$2>0)*1)>0,$C34=0),0,$C34/(O34+1))","v":0},0,{"$f":"IF(OR(S$5=0,SUMPRODUCT(('erreurs calcul répartCM'!$J$2:Q$2>0)*1)>0,$C34=0),0,$C34/(Q34+1))","v":0},0,{"$f":"IF(OR(U$5=0,SUMPRODUCT(('erreurs calcul répartCM'!$J$2:S$2>0)*1)>0,$C34=0),0,$C34/(S34+1))","v":0},0,{"$f":"IF(OR(W$5=0,SUMPRODUCT(('erreurs calcul répartCM'!$J$2:U$2>0)*1)>0,$C34=0),0,$C34/(U34+1))","v":0},0,{"$f":"IF(OR(Y$5=0,SUMPRODUCT(('erreurs calcul répartCM'!$J$2:W$2>0)*1)>0,$C34=0),0,$C34/(W34+1))","v":0},0,{"$f":"IF(OR(AA$5=0,SUMPRODUCT(('erreurs calcul répartCM'!$J$2:Y$2>0)*1)>0,$C34=0),0,$C34/(Y34+1))","v":0},0,{"$f":"IF(OR(AC$5=0,SUMPRODUCT(('erreurs calcul répartCM'!$J$2:AA$2>0)*1)>0,$C34=0),0,$C34/(AA34+1))","v":0},0,{"$f":"IF(OR(AE$5=0,SUMPRODUCT(('erreurs calcul répartCM'!$J$2:AC$2>0)*1)>0,$C34=0),0,$C34/(AC34+1))","v":0},0,{"$f":"IF(OR(AG$5=0,SUMPRODUCT(('erreurs calcul répartCM'!$J$2:AE$2>0)*1)>0,$C34=0),0,$C34/(AE34+1))","v":0},0,{"$f":"IF(OR(AI$5=0,SUMPRODUCT(('erreurs calcul répartCM'!$J$2:AG$2>0)*1)>0,$C34=0),0,$C34/(AG34+1))","v":0},0,{"$f":"IF(OR(AK$5=0,SUMPRODUCT(('erreurs calcul répartCM'!$J$2:AI$2>0)*1)>0,$C34=0),0,$C34/(AI34+1))","v":0},0,{"$f":"IF(OR(AM$5=0,SUMPRODUCT(('erreurs calcul répartCM'!$J$2:AK$2>0)*1)>0,$C34=0),0,$C34/(AK34+1))","v":0},0,{"$f":"IF(OR(AO$5=0,SUMPRODUCT(('erreurs calcul répartCM'!$J$2:AM$2>0)*1)>0,$C34=0),0,$C34/(AM34+1))","v":0},0,{"$f":"IF(OR(AQ$5=0,SUMPRODUCT(('erreurs calcul répartCM'!$J$2:AO$2>0)*1)>0,$C34=0),0,$C34/(AO34+1))","v":0},0,{"$f":"IF(OR(AS$5=0,SUMPRODUCT(('erreurs calcul répartCM'!$J$2:AQ$2>0)*1)>0,$C34=0),0,$C34/(AQ34+1))","v":0},0,{"$f":"IF(OR(AU$5=0,SUMPRODUCT(('erreurs calcul répartCM'!$J$2:AS$2>0)*1)>0,$C34=0),0,$C34/(AS34+1))","v":0},0,{"$f":"IF(OR(AW$5=0,SUMPRODUCT(('erreurs calcul répartCM'!$J$2:AU$2>0)*1)>0,$C34=0),0,$C34/(AU34+1))","v":0},0,{"$f":"IF(OR(AY$5=0,SUMPRODUCT(('erreurs calcul répartCM'!$J$2:AW$2>0)*1)>0,$C34=0),0,$C34/(AW34+1))","v":0},0,{"$f":"IF(OR(BA$5=0,SUMPRODUCT(('erreurs calcul répartCM'!$J$2:AY$2>0)*1)>0,$C34=0),0,$C34/(AY34+1))","v":0},0,{"$f":"IF(OR(BC$5=0,SUMPRODUCT(('erreurs calcul répartCM'!$J$2:BA$2>0)*1)>0,$C34=0),0,$C34/(BA34+1))","v":0},0,{"$f":"IF(OR(BE$5=0,SUMPRODUCT(('erreurs calcul répartCM'!$J$2:BC$2>0)*1)>0,$C34=0),0,$C34/(BC34+1))","v":0},0,{"$f":"IF(OR(BG$5=0,SUMPRODUCT(('erreurs calcul répartCM'!$J$2:BE$2>0)*1)>0,$C34=0),0,$C34/(BE34+1))","v":0},0,{"$f":"IF(OR(BI$5=0,SUMPRODUCT(('erreurs calcul répartCM'!$J$2:BG$2>0)*1)>0,$C34=0),0,$C34/(BG34+1))","v":0},0,{"$f":"IF(OR(BK$5=0,SUMPRODUCT(('erreurs calcul répartCM'!$J$2:BI$2>0)*1)>0,$C34=0),0,$C34/(BI34+1))","v":0},0,{"$f":"IF(OR(BM$5=0,SUMPRODUCT(('erreurs calcul répartCM'!$J$2:BK$2>0)*1)>0,$C34=0),0,$C34/(BK34+1))","v":0},0,{"$f":"IF(OR(BO$5=0,SUMPRODUCT(('erreurs calcul répartCM'!$J$2:BM$2>0)*1)>0,$C34=0),0,$C34/(BM34+1))","v":0},0,{"$f":"IF(OR(BQ$5=0,SUMPRODUCT(('erreurs calcul répartCM'!$J$2:BO$2>0)*1)>0,$C34=0),0,$C34/(BO34+1))","v":0},0]
[27,{"$f":"IFERROR(VLOOKUP($A35,'2. Voix obtenues'!$U$7:$V$56,2,FALSE()),\"\")","v":0},{"$f":"SUMPRODUCT(($B35='2. Voix obtenues'!$C$7:$C$56)*('2. Voix obtenues'!$D$7:$D$56))","v":0},0,null,0,null,null,null,0,0,{"$f":"IF(OR(M$5=0,SUMPRODUCT(('erreurs calcul répartCM'!$J$2:K$2>0)*1)>0,$C35=0),0,$C35/(K35+1))","v":0},0,{"$f":"IF(OR(O$5=0,SUMPRODUCT(('erreurs calcul répartCM'!$J$2:M$2>0)*1)>0,$C35=0),0,$C35/(M35+1))","v":0},0,{"$f":"IF(OR(Q$5=0,SUMPRODUCT(('erreurs calcul répartCM'!$J$2:O$2>0)*1)>0,$C35=0),0,$C35/(O35+1))","v":0},0,{"$f":"IF(OR(S$5=0,SUMPRODUCT(('erreurs calcul répartCM'!$J$2:Q$2>0)*1)>0,$C35=0),0,$C35/(Q35+1))","v":0},0,{"$f":"IF(OR(U$5=0,SUMPRODUCT(('erreurs calcul répartCM'!$J$2:S$2>0)*1)>0,$C35=0),0,$C35/(S35+1))","v":0},0,{"$f":"IF(OR(W$5=0,SUMPRODUCT(('erreurs calcul répartCM'!$J$2:U$2>0)*1)>0,$C35=0),0,$C35/(U35+1))","v":0},0,{"$f":"IF(OR(Y$5=0,SUMPRODUCT(('erreurs calcul répartCM'!$J$2:W$2>0)*1)>0,$C35=0),0,$C35/(W35+1))","v":0},0,{"$f":"IF(OR(AA$5=0,SUMPRODUCT(('erreurs calcul répartCM'!$J$2:Y$2>0)*1)>0,$C35=0),0,$C35/(Y35+1))","v":0},0,{"$f":"IF(OR(AC$5=0,SUMPRODUCT(('erreurs calcul répartCM'!$J$2:AA$2>0)*1)>0,$C35=0),0,$C35/(AA35+1))","v":0},0,{"$f":"IF(OR(AE$5=0,SUMPRODUCT(('erreurs calcul répartCM'!$J$2:AC$2>0)*1)>0,$C35=0),0,$C35/(AC35+1))","v":0},0,{"$f":"IF(OR(AG$5=0,SUMPRODUCT(('erreurs calcul répartCM'!$J$2:AE$2>0)*1)>0,$C35=0),0,$C35/(AE35+1))","v":0},0,{"$f":"IF(OR(AI$5=0,SUMPRODUCT(('erreurs calcul répartCM'!$J$2:AG$2>0)*1)>0,$C35=0),0,$C35/(AG35+1))","v":0},0,{"$f":"IF(OR(AK$5=0,SUMPRODUCT(('erreurs calcul répartCM'!$J$2:AI$2>0)*1)>0,$C35=0),0,$C35/(AI35+1))","v":0},0,{"$f":"IF(OR(AM$5=0,SUMPRODUCT(('erreurs calcul répartCM'!$J$2:AK$2>0)*1)>0,$C35=0),0,$C35/(AK35+1))","v":0},0,{"$f":"IF(OR(AO$5=0,SUMPRODUCT(('erreurs calcul répartCM'!$J$2:AM$2>0)*1)>0,$C35=0),0,$C35/(AM35+1))","v":0},0,{"$f":"IF(OR(AQ$5=0,SUMPRODUCT(('erreurs calcul répartCM'!$J$2:AO$2>0)*1)>0,$C35=0),0,$C35/(AO35+1))","v":0},0,{"$f":"IF(OR(AS$5=0,SUMPRODUCT(('erreurs calcul répartCM'!$J$2:AQ$2>0)*1)>0,$C35=0),0,$C35/(AQ35+1))","v":0},0,{"$f":"IF(OR(AU$5=0,SUMPRODUCT(('erreurs calcul répartCM'!$J$2:AS$2>0)*1)>0,$C35=0),0,$C35/(AS35+1))","v":0},0,{"$f":"IF(OR(AW$5=0,SUMPRODUCT(('erreurs calcul répartCM'!$J$2:AU$2>0)*1)>0,$C35=0),0,$C35/(AU35+1))","v":0},0,{"$f":"IF(OR(AY$5=0,SUMPRODUCT(('erreurs calcul répartCM'!$J$2:AW$2>0)*1)>0,$C35=0),0,$C35/(AW35+1))","v":0},0,{"$f":"IF(OR(BA$5=0,SUMPRODUCT(('erreurs calcul répartCM'!$J$2:AY$2>0)*1)>0,$C35=0),0,$C35/(AY35+1))","v":0},0,{"$f":"IF(OR(BC$5=0,SUMPRODUCT(('erreurs calcul répartCM'!$J$2:BA$2>0)*1)>0,$C35=0),0,$C35/(BA35+1))","v":0},0,{"$f":"IF(OR(BE$5=0,SUMPRODUCT(('erreurs calcul répartCM'!$J$2:BC$2>0)*1)>0,$C35=0),0,$C35/(BC35+1))","v":0},0,{"$f":"IF(OR(BG$5=0,SUMPRODUCT(('erreurs calcul répartCM'!$J$2:BE$2>0)*1)>0,$C35=0),0,$C35/(BE35+1))","v":0},0,{"$f":"IF(OR(BI$5=0,SUMPRODUCT(('erreurs calcul répartCM'!$J$2:BG$2>0)*1)>0,$C35=0),0,$C35/(BG35+1))","v":0},0,{"$f":"IF(OR(BK$5=0,SUMPRODUCT(('erreurs calcul répartCM'!$J$2:BI$2>0)*1)>0,$C35=0),0,$C35/(BI35+1))","v":0},0,{"$f":"IF(OR(BM$5=0,SUMPRODUCT(('erreurs calcul répartCM'!$J$2:BK$2>0)*1)>0,$C35=0),0,$C35/(BK35+1))","v":0},0,{"$f":"IF(OR(BO$5=0,SUMPRODUCT(('erreurs calcul répartCM'!$J$2:BM$2>0)*1)>0,$C35=0),0,$C35/(BM35+1))","v":0},0,{"$f":"IF(OR(BQ$5=0,SUMPRODUCT(('erreurs calcul répartCM'!$J$2:BO$2>0)*1)>0,$C35=0),0,$C35/(BO35+1))","v":0},0]
[28,{"$f":"IFERROR(VLOOKUP($A36,'2. Voix obtenues'!$U$7:$V$56,2,FALSE()),\"\")","v":0},{"$f":"SUMPRODUCT(($B36='2. Voix obtenues'!$C$7:$C$56)*('2. Voix obtenues'!$D$7:$D$56))","v":0},0,null,0,null,null,null,0,0,{"$f":"IF(OR(M$5=0,SUMPRODUCT(('erreurs calcul répartCM'!$J$2:K$2>0)*1)>0,$C36=0),0,$C36/(K36+1))","v":0},0,{"$f":"IF(OR(O$5=0,SUMPRODUCT(('erreurs calcul répartCM'!$J$2:M$2>0)*1)>0,$C36=0),0,$C36/(M36+1))","v":0},0,{"$f":"IF(OR(Q$5=0,SUMPRODUCT(('erreurs calcul répartCM'!$J$2:O$2>0)*1)>0,$C36=0),0,$C36/(O36+1))","v":0},0,{"$f":"IF(OR(S$5=0,SUMPRODUCT(('erreurs calcul répartCM'!$J$2:Q$2>0)*1)>0,$C36=0),0,$C36/(Q36+1))","v":0},0,{"$f":"IF(OR(U$5=0,SUMPRODUCT(('erreurs calcul répartCM'!$J$2:S$2>0)*1)>0,$C36=0),0,$C36/(S36+1))","v":0},0,{"$f":"IF(OR(W$5=0,SUMPRODUCT(('erreurs calcul répartCM'!$J$2:U$2>0)*1)>0,$C36=0),0,$C36/(U36+1))","v":0},0,{"$f":"IF(OR(Y$5=0,SUMPRODUCT(('erreurs calcul répartCM'!$J$2:W$2>0)*1)>0,$C36=0),0,$C36/(W36+1))","v":0},0,{"$f":"IF(OR(AA$5=0,SUMPRODUCT(('erreurs calcul répartCM'!$J$2:Y$2>0)*1)>0,$C36=0),0,$C36/(Y36+1))","v":0},0,{"$f":"IF(OR(AC$5=0,SUMPRODUCT(('erreurs calcul répartCM'!$J$2:AA$2>0)*1)>0,$C36=0),0,$C36/(AA36+1))","v":0},0,{"$f":"IF(OR(AE$5=0,SUMPRODUCT(('erreurs calcul répartCM'!$J$2:AC$2>0)*1)>0,$C36=0),0,$C36/(AC36+1))","v":0},0,{"$f":"IF(OR(AG$5=0,SUMPRODUCT(('erreurs calcul répartCM'!$J$2:AE$2>0)*1)>0,$C36=0),0,$C36/(AE36+1))","v":0},0,{"$f":"IF(OR(AI$5=0,SUMPRODUCT(('erreurs calcul répartCM'!$J$2:AG$2>0)*1)>0,$C36=0),0,$C36/(AG36+1))","v":0},0,{"$f":"IF(OR(AK$5=0,SUMPRODUCT(('erreurs calcul répartCM'!$J$2:AI$2>0)*1)>0,$C36=0),0,$C36/(AI36+1))","v":0},0,{"$f":"IF(OR(AM$5=0,SUMPRODUCT(('erreurs calcul répartCM'!$J$2:AK$2>0)*1)>0,$C36=0),0,$C36/(AK36+1))","v":0},0,{"$f":"IF(OR(AO$5=0,SUMPRODUCT(('erreurs calcul répartCM'!$J$2:AM$2>0)*1)>0,$C36=0),0,$C36/(AM36+1))","v":0},0,{"$f":"IF(OR(AQ$5=0,SUMPRODUCT(('erreurs calcul répartCM'!$J$2:AO$2>0)*1)>0,$C36=0),0,$C36/(AO36+1))","v":0},0,{"$f":"IF(OR(AS$5=0,SUMPRODUCT(('erreurs calcul répartCM'!$J$2:AQ$2>0)*1)>0,$C36=0),0,$C36/(AQ36+1))","v":0},0,{"$f":"IF(OR(AU$5=0,SUMPRODUCT(('erreurs calcul répartCM'!$J$2:AS$2>0)*1)>0,$C36=0),0,$C36/(AS36+1))","v":0},0,{"$f":"IF(OR(AW$5=0,SUMPRODUCT(('erreurs calcul répartCM'!$J$2:AU$2>0)*1)>0,$C36=0),0,$C36/(AU36+1))","v":0},0,{"$f":"IF(OR(AY$5=0,SUMPRODUCT(('erreurs calcul répartCM'!$J$2:AW$2>0)*1)>0,$C36=0),0,$C36/(AW36+1))","v":0},0,{"$f":"IF(OR(BA$5=0,SUMPRODUCT(('erreurs calcul répartCM'!$J$2:AY$2>0)*1)>0,$C36=0),0,$C36/(AY36+1))","v":0},0,{"$f":"IF(OR(BC$5=0,SUMPRODUCT(('erreurs calcul répartCM'!$J$2:BA$2>0)*1)>0,$C36=0),0,$C36/(BA36+1))","v":0},0,{"$f":"IF(OR(BE$5=0,SUMPRODUCT(('erreurs calcul répartCM'!$J$2:BC$2>0)*1)>0,$C36=0),0,$C36/(BC36+1))","v":0},0,{"$f":"IF(OR(BG$5=0,SUMPRODUCT(('erreurs calcul répartCM'!$J$2:BE$2>0)*1)>0,$C36=0),0,$C36/(BE36+1))","v":0},0,{"$f":"IF(OR(BI$5=0,SUMPRODUCT(('erreurs calcul répartCM'!$J$2:BG$2>0)*1)>0,$C36=0),0,$C36/(BG36+1))","v":0},0,{"$f":"IF(OR(BK$5=0,SUMPRODUCT(('erreurs calcul répartCM'!$J$2:BI$2>0)*1)>0,$C36=0),0,$C36/(BI36+1))","v":0},0,{"$f":"IF(OR(BM$5=0,SUMPRODUCT(('erreurs calcul répartCM'!$J$2:BK$2>0)*1)>0,$C36=0),0,$C36/(BK36+1))","v":0},0,{"$f":"IF(OR(BO$5=0,SUMPRODUCT(('erreurs calcul répartCM'!$J$2:BM$2>0)*1)>0,$C36=0),0,$C36/(BM36+1))","v":0},0,{"$f":"IF(OR(BQ$5=0,SUMPRODUCT(('erreurs calcul répartCM'!$J$2:BO$2>0)*1)>0,$C36=0),0,$C36/(BO36+1))","v":0},0]
[29,{"$f":"IFERROR(VLOOKUP($A37,'2. Voix obtenues'!$U$7:$V$56,2,FALSE()),\"\")","v":0},{"$f":"SUMPRODUCT(($B37='2. Voix obtenues'!$C$7:$C$56)*('2. Voix obtenues'!$D$7:$D$56))","v":0},0,null,0,null,null,null,0,0,{"$f":"IF(OR(M$5=0,SUMPRODUCT(('erreurs calcul répartCM'!$J$2:K$2>0)*1)>0,$C37=0),0,$C37/(K37+1))","v":0},0,{"$f":"IF(OR(O$5=0,SUMPRODUCT(('erreurs calcul répartCM'!$J$2:M$2>0)*1)>0,$C37=0),0,$C37/(M37+1))","v":0},0,{"$f":"IF(OR(Q$5=0,SUMPRODUCT(('erreurs calcul répartCM'!$J$2:O$2>0)*1)>0,$C37=0),0,$C37/(O37+1))","v":0},0,{"$f":"IF(OR(S$5=0,SUMPRODUCT(('erreurs calcul répartCM'!$J$2:Q$2>0)*1)>0,$C37=0),0,$C37/(Q37+1))","v":0},0,{"$f":"IF(OR(U$5=0,SUMPRODUCT(('erreurs calcul répartCM'!$J$2:S$2>0)*1)>0,$C37=0),0,$C37/(S37+1))","v":0},0,{"$f":"IF(OR(W$5=0,SUMPRODUCT(('erreurs calcul répartCM'!$J$2:U$2>0)*1)>0,$C37=0),0,$C37/(U37+1))","v":0},0,{"$f":"IF(OR(Y$5=0,SUMPRODUCT(('erreurs calcul répartCM'!$J$2:W$2>0)*1)>0,$C37=0),0,$C37/(W37+1))","v":0},0,{"$f":"IF(OR(AA$5=0,SUMPRODUCT(('erreurs calcul répartCM'!$J$2:Y$2>0)*1)>0,$C37=0),0,$C37/(Y37+1))","v":0},0,{"$f":"IF(OR(AC$5=0,SUMPRODUCT(('erreurs calcul répartCM'!$J$2:AA$2>0)*1)>0,$C37=0),0,$C37/(AA37+1))","v":0},0,{"$f":"IF(OR(AE$5=0,SUMPRODUCT(('erreurs calcul répartCM'!$J$2:AC$2>0)*1)>0,$C37=0),0,$C37/(AC37+1))","v":0},0,{"$f":"IF(OR(AG$5=0,SUMPRODUCT(('erreurs calcul répartCM'!$J$2:AE$2>0)*1)>0,$C37=0),0,$C37/(AE37+1))","v":0},0,{"$f":"IF(OR(AI$5=0,SUMPRODUCT(('erreurs calcul répartCM'!$J$2:AG$2>0)*1)>0,$C37=0),0,$C37/(AG37+1))","v":0},0,{"$f":"IF(OR(AK$5=0,SUMPRODUCT(('erreurs calcul répartCM'!$J$2:AI$2>0)*1)>0,$C37=0),0,$C37/(AI37+1))","v":0},0,{"$f":"IF(OR(AM$5=0,SUMPRODUCT(('erreurs calcul répartCM'!$J$2:AK$2>0)*1)>0,$C37=0),0,$C37/(AK37+1))","v":0},0,{"$f":"IF(OR(AO$5=0,SUMPRODUCT(('erreurs calcul répartCM'!$J$2:AM$2>0)*1)>0,$C37=0),0,$C37/(AM37+1))","v":0},0,{"$f":"IF(OR(AQ$5=0,SUMPRODUCT(('erreurs calcul répartCM'!$J$2:AO$2>0)*1)>0,$C37=0),0,$C37/(AO37+1))","v":0},0,{"$f":"IF(OR(AS$5=0,SUMPRODUCT(('erreurs calcul répartCM'!$J$2:AQ$2>0)*1)>0,$C37=0),0,$C37/(AQ37+1))","v":0},0,{"$f":"IF(OR(AU$5=0,SUMPRODUCT(('erreurs calcul répartCM'!$J$2:AS$2>0)*1)>0,$C37=0),0,$C37/(AS37+1))","v":0},0,{"$f":"IF(OR(AW$5=0,SUMPRODUCT(('erreurs calcul répartCM'!$J$2:AU$2>0)*1)>0,$C37=0),0,$C37/(AU37+1))","v":0},0,{"$f":"IF(OR(AY$5=0,SUMPRODUCT(('erreurs calcul répartCM'!$J$2:AW$2>0)*1)>0,$C37=0),0,$C37/(AW37+1))","v":0},0,{"$f":"IF(OR(BA$5=0,SUMPRODUCT(('erreurs calcul répartCM'!$J$2:AY$2>0)*1)>0,$C37=0),0,$C37/(AY37+1))","v":0},0,{"$f":"IF(OR(BC$5=0,SUMPRODUCT(('erreurs calcul répartCM'!$J$2:BA$2>0)*1)>0,$C37=0),0,$C37/(BA37+1))","v":0},0,{"$f":"IF(OR(BE$5=0,SUMPRODUCT(('erreurs calcul répartCM'!$J$2:BC$2>0)*1)>0,$C37=0),0,$C37/(BC37+1))","v":0},0,{"$f":"IF(OR(BG$5=0,SUMPRODUCT(('erreurs calcul répartCM'!$J$2:BE$2>0)*1)>0,$C37=0),0,$C37/(BE37+1))","v":0},0,{"$f":"IF(OR(BI$5=0,SUMPRODUCT(('erreurs calcul répartCM'!$J$2:BG$2>0)*1)>0,$C37=0),0,$C37/(BG37+1))","v":0},0,{"$f":"IF(OR(BK$5=0,SUMPRODUCT(('erreurs calcul répartCM'!$J$2:BI$2>0)*1)>0,$C37=0),0,$C37/(BI37+1))","v":0},0,{"$f":"IF(OR(BM$5=0,SUMPRODUCT(('erreurs calcul répartCM'!$J$2:BK$2>0)*1)>0,$C37=0),0,$C37/(BK37+1))","v":0},0,{"$f":"IF(OR(BO$5=0,SUMPRODUCT(('erreurs calcul répartCM'!$J$2:BM$2>0)*1)>0,$C37=0),0,$C37/(BM37+1))","v":0},0,{"$f":"IF(OR(BQ$5=0,SUMPRODUCT(('erreurs calcul répartCM'!$J$2:BO$2>0)*1)>0,$C37=0),0,$C37/(BO37+1))","v":0},0]
[30,{"$f":"IFERROR(VLOOKUP($A38,'2. Voix obtenues'!$U$7:$V$56,2,FALSE()),\"\")","v":0},{"$f":"SUMPRODUCT(($B38='2. Voix obtenues'!$C$7:$C$56)*('2. Voix obtenues'!$D$7:$D$56))","v":0},0,null,0,null,null,null,0,0,{"$f":"IF(OR(M$5=0,SUMPRODUCT(('erreurs calcul répartCM'!$J$2:K$2>0)*1)>0,$C38=0),0,$C38/(K38+1))","v":0},0,{"$f":"IF(OR(O$5=0,SUMPRODUCT(('erreurs calcul répartCM'!$J$2:M$2>0)*1)>0,$C38=0),0,$C38/(M38+1))","v":0},0,{"$f":"IF(OR(Q$5=0,SUMPRODUCT(('erreurs calcul répartCM'!$J$2:O$2>0)*1)>0,$C38=0),0,$C38/(O38+1))","v":0},0,{"$f":"IF(OR(S$5=0,SUMPRODUCT(('erreurs calcul répartCM'!$J$2:Q$2>0)*1)>0,$C38=0),0,$C38/(Q38+1))","v":0},0,{"$f":"IF(OR(U$5=0,SUMPRODUCT(('erreurs calcul répartCM'!$J$2:S$2>0)*1)>0,$C38=0),0,$C38/(S38+1))","v":0},0,{"$f":"IF(OR(W$5=0,SUMPRODUCT(('erreurs calcul répartCM'!$J$2:U$2>0)*1)>0,$C38=0),0,$C38/(U38+1))","v":0},0,{"$f":"IF(OR(Y$5=0,SUMPRODUCT(('erreurs calcul répartCM'!$J$2:W$2>0)*1)>0,$C38=0),0,$C38/(W38+1))","v":0},0,{"$f":"IF(OR(AA$5=0,SUMPRODUCT(('erreurs calcul répartCM'!$J$2:Y$2>0)*1)>0,$C38=0),0,$C38/(Y38+1))","v":0},0,{"$f":"IF(OR(AC$5=0,SUMPRODUCT(('erreurs calcul répartCM'!$J$2:AA$2>0)*1)>0,$C38=0),0,$C38/(AA38+1))","v":0},0,{"$f":"IF(OR(AE$5=0,SUMPRODUCT(('erreurs calcul répartCM'!$J$2:AC$2>0)*1)>0,$C38=0),0,$C38/(AC38+1))","v":0},0,{"$f":"IF(OR(AG$5=0,SUMPRODUCT(('erreurs calcul répartCM'!$J$2:AE$2>0)*1)>0,$C38=0),0,$C38/(AE38+1))","v":0},0,{"$f":"IF(OR(AI$5=0,SUMPRODUCT(('erreurs calcul répartCM'!$J$2:AG$2>0)*1)>0,$C38=0),0,$C38/(AG38+1))","v":0},0,{"$f":"IF(OR(AK$5=0,SUMPRODUCT(('erreurs calcul répartCM'!$J$2:AI$2>0)*1)>0,$C38=0),0,$C38/(AI38+1))","v":0},0,{"$f":"IF(OR(AM$5=0,SUMPRODUCT(('erreurs calcul répartCM'!$J$2:AK$2>0)*1)>0,$C38=0),0,$C38/(AK38+1))","v":0},0,{"$f":"IF(OR(AO$5=0,SUMPRODUCT(('erreurs calcul répartCM'!$J$2:AM$2>0)*1)>0,$C38=0),0,$C38/(AM38+1))","v":0},0,{"$f":"IF(OR(AQ$5=0,SUMPRODUCT(('erreurs calcul répartCM'!$J$2:AO$2>0)*1)>0,$C38=0),0,$C38/(AO38+1))","v":0},0,{"$f":"IF(OR(AS$5=0,SUMPRODUCT(('erreurs calcul répartCM'!$J$2:AQ$2>0)*1)>0,$C38=0),0,$C38/(AQ38+1))","v":0},0,{"$f":"IF(OR(AU$5=0,SUMPRODUCT(('erreurs calcul répartCM'!$J$2:AS$2>0)*1)>0,$C38=0),0,$C38/(AS38+1))","v":0},0,{"$f":"IF(OR(AW$5=0,SUMPRODUCT(('erreurs calcul répartCM'!$J$2:AU$2>0)*1)>0,$C38=0),0,$C38/(AU38+1))","v":0},0,{"$f":"IF(OR(AY$5=0,SUMPRODUCT(('erreurs calcul répartCM'!$J$2:AW$2>0)*1)>0,$C38=0),0,$C38/(AW38+1))","v":0},0,{"$f":"IF(OR(BA$5=0,SUMPRODUCT(('erreurs calcul répartCM'!$J$2:AY$2>0)*1)>0,$C38=0),0,$C38/(AY38+1))","v":0},0,{"$f":"IF(OR(BC$5=0,SUMPRODUCT(('erreurs calcul répartCM'!$J$2:BA$2>0)*1)>0,$C38=0),0,$C38/(BA38+1))","v":0},0,{"$f":"IF(OR(BE$5=0,SUMPRODUCT(('erreurs calcul répartCM'!$J$2:BC$2>0)*1)>0,$C38=0),0,$C38/(BC38+1))","v":0},0,{"$f":"IF(OR(BG$5=0,SUMPRODUCT(('erreurs calcul répartCM'!$J$2:BE$2>0)*1)>0,$C38=0),0,$C38/(BE38+1))","v":0},0,{"$f":"IF(OR(BI$5=0,SUMPRODUCT(('erreurs calcul répartCM'!$J$2:BG$2>0)*1)>0,$C38=0),0,$C38/(BG38+1))","v":0},0,{"$f":"IF(OR(BK$5=0,SUMPRODUCT(('erreurs calcul répartCM'!$J$2:BI$2>0)*1)>0,$C38=0),0,$C38/(BI38+1))","v":0},0,{"$f":"IF(OR(BM$5=0,SUMPRODUCT(('erreurs calcul répartCM'!$J$2:BK$2>0)*1)>0,$C38=0),0,$C38/(BK38+1))","v":0},0,{"$f":"IF(OR(BO$5=0,SUMPRODUCT(('erreurs calcul répartCM'!$J$2:BM$2>0)*1)>0,$C38=0),0,$C38/(BM38+1))","v":0},0,{"$f":"IF(OR(BQ$5=0,SUMPRODUCT(('erreurs calcul répartCM'!$J$2:BO$2>0)*1)>0,$C38=0),0,$C38/(BO38+1))","v":0},0]
[31,{"$f":"IFERROR(VLOOKUP($A39,'2. Voix obtenues'!$U$7:$V$56,2,FALSE()),\"\")","v":0},{"$f":"SUMPRODUCT(($B39='2. Voix obtenues'!$C$7:$C$56)*('2. Voix obtenues'!$D$7:$D$56))","v":0},0,null,0,null,null,null,0,0,{"$f":"IF(OR(M$5=0,SUMPRODUCT(('erreurs calcul répartCM'!$J$2:K$2>0)*1)>0,$C39=0),0,$C39/(K39+1))","v":0},0,{"$f":"IF(OR(O$5=0,SUMPRODUCT(('erreurs calcul répartCM'!$J$2:M$2>0)*1)>0,$C39=0),0,$C39/(M39+1))","v":0},0,{"$f":"IF(OR(Q$5=0,SUMPRODUCT(('erreurs calcul répartCM'!$J$2:O$2>0)*1)>0,$C39=0),0,$C39/(O39+1))","v":0},0,{"$f":"IF(OR(S$5=0,SUMPRODUCT(('erreurs calcul répartCM'!$J$2:Q$2>0)*1)>0,$C39=0),0,$C39/(Q39+1))","v":0},0,{"$f":"IF(OR(U$5=0,SUMPRODUCT(('erreurs calcul répartCM'!$J$2:S$2>0)*1)>0,$C39=0),0,$C39/(S39+1))","v":0},0,{"$f":"IF(OR(W$5=0,SUMPRODUCT(('erreurs calcul répartCM'!$J$2:U$2>0)*1)>0,$C39=0),0,$C39/(U39+1))","v":0},0,{"$f":"IF(OR(Y$5=0,SUMPRODUCT(('erreurs calcul répartCM'!$J$2:W$2>0)*1)>0,$C39=0),0,$C39/(W39+1))","v":0},0,{"$f":"IF(OR(AA$5=0,SUMPRODUCT(('erreurs calcul répartCM'!$J$2:Y$2>0)*1)>0,$C39=0),0,$C39/(Y39+1))","v":0},0,{"$f":"IF(OR(AC$5=0,SUMPRODUCT(('erreurs calcul répartCM'!$J$2:AA$2>0)*1)>0,$C39=0),0,$C39/(AA39+1))","v":0},0,{"$f":"IF(OR(AE$5=0,SUMPRODUCT(('erreurs calcul répartCM'!$J$2:AC$2>0)*1)>0,$C39=0),0,$C39/(AC39+1))","v":0},0,{"$f":"IF(OR(AG$5=0,SUMPRODUCT(('erreurs calcul répartCM'!$J$2:AE$2>0)*1)>0,$C39=0),0,$C39/(AE39+1))","v":0},0,{"$f":"IF(OR(AI$5=0,SUMPRODUCT(('erreurs calcul répartCM'!$J$2:AG$2>0)*1)>0,$C39=0),0,$C39/(AG39+1))","v":0},0,{"$f":"IF(OR(AK$5=0,SUMPRODUCT(('erreurs calcul répartCM'!$J$2:AI$2>0)*1)>0,$C39=0),0,$C39/(AI39+1))","v":0},0,{"$f":"IF(OR(AM$5=0,SUMPRODUCT(('erreurs calcul répartCM'!$J$2:AK$2>0)*1)>0,$C39=0),0,$C39/(AK39+1))","v":0},0,{"$f":"IF(OR(AO$5=0,SUMPRODUCT(('erreurs calcul répartCM'!$J$2:AM$2>0)*1)>0,$C39=0),0,$C39/(AM39+1))","v":0},0,{"$f":"IF(OR(AQ$5=0,SUMPRODUCT(('erreurs calcul répartCM'!$J$2:AO$2>0)*1)>0,$C39=0),0,$C39/(AO39+1))","v":0},0,{"$f":"IF(OR(AS$5=0,SUMPRODUCT(('erreurs calcul répartCM'!$J$2:AQ$2>0)*1)>0,$C39=0),0,$C39/(AQ39+1))","v":0},0,{"$f":"IF(OR(AU$5=0,SUMPRODUCT(('erreurs calcul répartCM'!$J$2:AS$2>0)*1)>0,$C39=0),0,$C39/(AS39+1))","v":0},0,{"$f":"IF(OR(AW$5=0,SUMPRODUCT(('erreurs calcul répartCM'!$J$2:AU$2>0)*1)>0,$C39=0),0,$C39/(AU39+1))","v":0},0,{"$f":"IF(OR(AY$5=0,SUMPRODUCT(('erreurs calcul répartCM'!$J$2:AW$2>0)*1)>0,$C39=0),0,$C39/(AW39+1))","v":0},0,{"$f":"IF(OR(BA$5=0,SUMPRODUCT(('erreurs calcul répartCM'!$J$2:AY$2>0)*1)>0,$C39=0),0,$C39/(AY39+1))","v":0},0,{"$f":"IF(OR(BC$5=0,SUMPRODUCT(('erreurs calcul répartCM'!$J$2:BA$2>0)*1)>0,$C39=0),0,$C39/(BA39+1))","v":0},0,{"$f":"IF(OR(BE$5=0,SUMPRODUCT(('erreurs calcul répartCM'!$J$2:BC$2>0)*1)>0,$C39=0),0,$C39/(BC39+1))","v":0},0,{"$f":"IF(OR(BG$5=0,SUMPRODUCT(('erreurs calcul répartCM'!$J$2:BE$2>0)*1)>0,$C39=0),0,$C39/(BE39+1))","v":0},0,{"$f":"IF(OR(BI$5=0,SUMPRODUCT(('erreurs calcul répartCM'!$J$2:BG$2>0)*1)>0,$C39=0),0,$C39/(BG39+1))","v":0},0,{"$f":"IF(OR(BK$5=0,SUMPRODUCT(('erreurs calcul répartCM'!$J$2:BI$2>0)*1)>0,$C39=0),0,$C39/(BI39+1))","v":0},0,{"$f":"IF(OR(BM$5=0,SUMPRODUCT(('erreurs calcul répartCM'!$J$2:BK$2>0)*1)>0,$C39=0),0,$C39/(BK39+1))","v":0},0,{"$f":"IF(OR(BO$5=0,SUMPRODUCT(('erreurs calcul répartCM'!$J$2:BM$2>0)*1)>0,$C39=0),0,$C39/(BM39+1))","v":0},0,{"$f":"IF(OR(BQ$5=0,SUMPRODUCT(('erreurs calcul répartCM'!$J$2:BO$2>0)*1)>0,$C39=0),0,$C39/(BO39+1))","v":0},0]
[32,{"$f":"IFERROR(VLOOKUP($A40,'2. Voix obtenues'!$U$7:$V$56,2,FALSE()),\"\")","v":0},{"$f":"SUMPRODUCT(($B40='2. Voix obtenues'!$C$7:$C$56)*('2. Voix obtenues'!$D$7:$D$56))","v":0},0,null,0,null,null,null,0,0,{"$f":"IF(OR(M$5=0,SUMPRODUCT(('erreurs calcul répartCM'!$J$2:K$2>0)*1)>0,$C40=0),0,$C40/(K40+1))","v":0},0,{"$f":"IF(OR(O$5=0,SUMPRODUCT(('erreurs calcul répartCM'!$J$2:M$2>0)*1)>0,$C40=0),0,$C40/(M40+1))","v":0},0,{"$f":"IF(OR(Q$5=0,SUMPRODUCT(('erreurs calcul répartCM'!$J$2:O$2>0)*1)>0,$C40=0),0,$C40/(O40+1))","v":0},0,{"$f":"IF(OR(S$5=0,SUMPRODUCT(('erreurs calcul répartCM'!$J$2:Q$2>0)*1)>0,$C40=0),0,$C40/(Q40+1))","v":0},0,{"$f":"IF(OR(U$5=0,SUMPRODUCT(('erreurs calcul répartCM'!$J$2:S$2>0)*1)>0,$C40=0),0,$C40/(S40+1))","v":0},0,{"$f":"IF(OR(W$5=0,SUMPRODUCT(('erreurs calcul répartCM'!$J$2:U$2>0)*1)>0,$C40=0),0,$C40/(U40+1))","v":0},0,{"$f":"IF(OR(Y$5=0,SUMPRODUCT(('erreurs calcul répartCM'!$J$2:W$2>0)*1)>0,$C40=0),0,$C40/(W40+1))","v":0},0,{"$f":"IF(OR(AA$5=0,SUMPRODUCT(('erreurs calcul répartCM'!$J$2:Y$2>0)*1)>0,$C40=0),0,$C40/(Y40+1))","v":0},0,{"$f":"IF(OR(AC$5=0,SUMPRODUCT(('erreurs calcul répartCM'!$J$2:AA$2>0)*1)>0,$C40=0),0,$C40/(AA40+1))","v":0},0,{"$f":"IF(OR(AE$5=0,SUMPRODUCT(('erreurs calcul répartCM'!$J$2:AC$2>0)*1)>0,$C40=0),0,$C40/(AC40+1))","v":0},0,{"$f":"IF(OR(AG$5=0,SUMPRODUCT(('erreurs calcul répartCM'!$J$2:AE$2>0)*1)>0,$C40=0),0,$C40/(AE40+1))","v":0},0,{"$f":"IF(OR(AI$5=0,SUMPRODUCT(('erreurs calcul répartCM'!$J$2:AG$2>0)*1)>0,$C40=0),0,$C40/(AG40+1))","v":0},0,{"$f":"IF(OR(AK$5=0,SUMPRODUCT(('erreurs calcul répartCM'!$J$2:AI$2>0)*1)>0,$C40=0),0,$C40/(AI40+1))","v":0},0,{"$f":"IF(OR(AM$5=0,SUMPRODUCT(('erreurs calcul répartCM'!$J$2:AK$2>0)*1)>0,$C40=0),0,$C40/(AK40+1))","v":0},0,{"$f":"IF(OR(AO$5=0,SUMPRODUCT(('erreurs calcul répartCM'!$J$2:AM$2>0)*1)>0,$C40=0),0,$C40/(AM40+1))","v":0},0,{"$f":"IF(OR(AQ$5=0,SUMPRODUCT(('erreurs calcul répartCM'!$J$2:AO$2>0)*1)>0,$C40=0),0,$C40/(AO40+1))","v":0},0,{"$f":"IF(OR(AS$5=0,SUMPRODUCT(('erreurs calcul répartCM'!$J$2:AQ$2>0)*1)>0,$C40=0),0,$C40/(AQ40+1))","v":0},0,{"$f":"IF(OR(AU$5=0,SUMPRODUCT(('erreurs calcul répartCM'!$J$2:AS$2>0)*1)>0,$C40=0),0,$C40/(AS40+1))","v":0},0,{"$f":"IF(OR(AW$5=0,SUMPRODUCT(('erreurs calcul répartCM'!$J$2:AU$2>0)*1)>0,$C40=0),0,$C40/(AU40+1))","v":0},0,{"$f":"IF(OR(AY$5=0,SUMPRODUCT(('erreurs calcul répartCM'!$J$2:AW$2>0)*1)>0,$C40=0),0,$C40/(AW40+1))","v":0},0,{"$f":"IF(OR(BA$5=0,SUMPRODUCT(('erreurs calcul répartCM'!$J$2:AY$2>0)*1)>0,$C40=0),0,$C40/(AY40+1))","v":0},0,{"$f":"IF(OR(BC$5=0,SUMPRODUCT(('erreurs calcul répartCM'!$J$2:BA$2>0)*1)>0,$C40=0),0,$C40/(BA40+1))","v":0},0,{"$f":"IF(OR(BE$5=0,SUMPRODUCT(('erreurs calcul répartCM'!$J$2:BC$2>0)*1)>0,$C40=0),0,$C40/(BC40+1))","v":0},0,{"$f":"IF(OR(BG$5=0,SUMPRODUCT(('erreurs calcul répartCM'!$J$2:BE$2>0)*1)>0,$C40=0),0,$C40/(BE40+1))","v":0},0,{"$f":"IF(OR(BI$5=0,SUMPRODUCT(('erreurs calcul répartCM'!$J$2:BG$2>0)*1)>0,$C40=0),0,$C40/(BG40+1))","v":0},0,{"$f":"IF(OR(BK$5=0,SUMPRODUCT(('erreurs calcul répartCM'!$J$2:BI$2>0)*1)>0,$C40=0),0,$C40/(BI40+1))","v":0},0,{"$f":"IF(OR(BM$5=0,SUMPRODUCT(('erreurs calcul répartCM'!$J$2:BK$2>0)*1)>0,$C40=0),0,$C40/(BK40+1))","v":0},0,{"$f":"IF(OR(BO$5=0,SUMPRODUCT(('erreurs calcul répartCM'!$J$2:BM$2>0)*1)>0,$C40=0),0,$C40/(BM40+1))","v":0},0,{"$f":"IF(OR(BQ$5=0,SUMPRODUCT(('erreurs calcul répartCM'!$J$2:BO$2>0)*1)>0,$C40=0),0,$C40/(BO40+1))","v":0},0]
[33,{"$f":"IFERROR(VLOOKUP($A41,'2. Voix obtenues'!$U$7:$V$56,2,FALSE()),\"\")","v":0},{"$f":"SUMPRODUCT(($B41='2. Voix obtenues'!$C$7:$C$56)*('2. Voix obtenues'!$D$7:$D$56))","v":0},{"$f":"IFERROR(INT(C41/$C$4),0)","v":0},null,{"$f":"IF($D$6<>$C$2,MAX(K41,M41,O41,Q41,S41,U41,W41,Y41,AA41,AC41,AE41,AG41,AI41,AK41,AM41,AO41,AQ41,AS41,AU41,AW41,AY41,BA41,BC41,BE41,BG41,BI41,BK41,BM41,BO41,BQ41),0)","v":0},null,null,null,{"$f":"IF(K$5=0,0,IF($C41=\"\",0,$C41/($D41+1)))","v":0},{"$f":"IF(OR(K$5=0,J41=0),0,IF(K$7=\"\",IF(J41=MAX(J$9:J$58),D41+1,D41),\n                                                                IF(K$7=$B41,D41+1,D41)))","v":0},{"$f":"IF(OR(M$5=0,SUMPRODUCT(('erreurs calcul répartCM'!$J$2:K$2>0)*1)>0,$C41=0),0,$C41/(K41+1))","v":0},{"$f":"IF(OR(M$5=0,L41=0),0,IF(M$7=\"\",IF(L41=MAX(L$9:L$58),K41+1,K41),\n                                                                IF(M$7=$B41,K41+1,K41)))","v":0},{"$f":"IF(OR(O$5=0,SUMPRODUCT(('erreurs calcul répartCM'!$J$2:M$2>0)*1)>0,$C41=0),0,$C41/(M41+1))","v":0},{"$f":"IF(OR(O$5=0,N41=0),0,IF(O$7=\"\",IF(N41=MAX(N$9:N$58),M41+1,M41),\n                                                                IF(O$7=$B41,M41+1,M41)))","v":0},{"$f":"IF(OR(Q$5=0,SUMPRODUCT(('erreurs calcul répartCM'!$J$2:O$2>0)*1)>0,$C41=0),0,$C41/(O41+1))","v":0},{"$f":"IF(OR(Q$5=0,P41=0),0,IF(Q$7=\"\",IF(P41=MAX(P$9:P$58),O41+1,O41),\n                                                                IF(Q$7=$B41,O41+1,O41)))","v":0},{"$f":"IF(OR(S$5=0,SUMPRODUCT(('erreurs calcul répartCM'!$J$2:Q$2>0)*1)>0,$C41=0),0,$C41/(Q41+1))","v":0},{"$f":"IF(OR(S$5=0,R41=0),0,IF(S$7=\"\",IF(R41=MAX(R$9:R$58),Q41+1,Q41),\n                                                                IF(S$7=$B41,Q41+1,Q41)))","v":0},{"$f":"IF(OR(U$5=0,SUMPRODUCT(('erreurs calcul répartCM'!$J$2:S$2>0)*1)>0,$C41=0),0,$C41/(S41+1))","v":0},{"$f":"IF(OR(U$5=0,T41=0),0,IF(U$7=\"\",IF(T41=MAX(T$9:T$58),S41+1,S41),\n                                                                IF(U$7=$B41,S41+1,S41)))","v":0},{"$f":"IF(OR(W$5=0,SUMPRODUCT(('erreurs calcul répartCM'!$J$2:U$2>0)*1)>0,$C41=0),0,$C41/(U41+1))","v":0},{"$f":"IF(OR(W$5=0,V41=0),0,IF(W$7=\"\",IF(V41=MAX(V$9:V$58),U41+1,U41),\n                                                                IF(W$7=$B41,U41+1,U41)))","v":0},{"$f":"IF(OR(Y$5=0,SUMPRODUCT(('erreurs calcul répartCM'!$J$2:W$2>0)*1)>0,$C41=0),0,$C41/(W41+1))","v":0},{"$f":"IF(OR(Y$5=0,X41=0),0,IF(Y$7=\"\",IF(X41=MAX(X$9:X$58),W41+1,W41),\n                                                                IF(Y$7=$B41,W41+1,W41)))","v":0},{"$f":"IF(OR(AA$5=0,SUMPRODUCT(('erreurs calcul répartCM'!$J$2:Y$2>0)*1)>0,$C41=0),0,$C41/(Y41+1))","v":0},{"$f":"IF(OR(AA$5=0,Z41=0),0,IF(AA$7=\"\",IF(Z41=MAX(Z$9:Z$58),Y41+1,Y41),\n                                                                IF(AA$7=$B41,Y41+1,Y41)))","v":0},{"$f":"IF(OR(AC$5=0,SUMPRODUCT(('erreurs calcul répartCM'!$J$2:AA$2>0)*1)>0,$C41=0),0,$C41/(AA41+1))","v":0},{"$f":"IF(OR(AC$5=0,AB41=0),0,IF(AC$7=\"\",IF(AB41=MAX(AB$9:AB$58),AA41+1,AA41),\n                                                                IF(AC$7=$B41,AA41+1,AA41)))","v":0},{"$f":"IF(OR(AE$5=0,SUMPRODUCT(('erreurs calcul répartCM'!$J$2:AC$2>0)*1)>0,$C41=0),0,$C41/(AC41+1))","v":0},{"$f":"IF(OR(AE$5=0,AD41=0),0,IF(AE$7=\"\",IF(AD41=MAX(AD$9:AD$58),AC41+1,AC41),\n                                                                IF(AE$7=$B41,AC41+1,AC41)))","v":0},{"$f":"IF(OR(AG$5=0,SUMPRODUCT(('erreurs calcul répartCM'!$J$2:AE$2>0)*1)>0,$C41=0),0,$C41/(AE41+1))","v":0},{"$f":"IF(OR(AG$5=0,AF41=0),0,IF(AG$7=\"\",IF(AF41=MAX(AF$9:AF$58),AE41+1,AE41),\n                                                                IF(AG$7=$B41,AE41+1,AE41)))","v":0},{"$f":"IF(OR(AI$5=0,SUMPRODUCT(('erreurs calcul répartCM'!$J$2:AG$2>0)*1)>0,$C41=0),0,$C41/(AG41+1))","v":0},{"$f":"IF(OR(AI$5=0,AH41=0),0,IF(AI$7=\"\",IF(AH41=MAX(AH$9:AH$58),AG41+1,AG41),\n                                                                IF(AI$7=$B41,AG41+1,AG41)))","v":0},{"$f":"IF(OR(AK$5=0,SUMPRODUCT(('erreurs calcul répartCM'!$J$2:AI$2>0)*1)>0,$C41=0),0,$C41/(AI41+1))","v":0},{"$f":"IF(OR(AK$5=0,AJ41=0),0,IF(AK$7=\"\",IF(AJ41=MAX(AJ$9:AJ$58),AI41+1,AI41),\n                                                                IF(AK$7=$B41,AI41+1,AI41)))","v":0},{"$f":"IF(OR(AM$5=0,SUMPRODUCT(('erreurs calcul répartCM'!$J$2:AK$2>0)*1)>0,$C41=0),0,$C41/(AK41+1))","v":0},{"$f":"IF(OR(AM$5=0,AL41=0),0,IF(AM$7=\"\",IF(AL41=MAX(AL$9:AL$58),AK41+1,AK41),\n                                                                IF(AM$7=$B41,AK41+1,AK41)))","v":0},{"$f":"IF(OR(AO$5=0,SUMPRODUCT(('erreurs calcul répartCM'!$J$2:AM$2>0)*1)>0,$C41=0),0,$C41/(AM41+1))","v":0},{"$f":"IF(OR(AO$5=0,AN41=0),0,IF(AO$7=\"\",IF(AN41=MAX(AN$9:AN$58),AM41+1,AM41),\n                                                                IF(AO$7=$B41,AM41+1,AM41)))","v":0},{"$f":"IF(OR(AQ$5=0,SUMPRODUCT(('erreurs calcul répartCM'!$J$2:AO$2>0)*1)>0,$C41=0),0,$C41/(AO41+1))","v":0},{"$f":"IF(OR(AQ$5=0,AP41=0),0,IF(AQ$7=\"\",IF(AP41=MAX(AP$9:AP$58),AO41+1,AO41),\n                                                                IF(AQ$7=$B41,AO41+1,AO41)))","v":0},{"$f":"IF(OR(AS$5=0,SUMPRODUCT(('erreurs calcul répartCM'!$J$2:AQ$2>0)*1)>0,$C41=0),0,$C41/(AQ41+1))","v":0},{"$f":"IF(OR(AS$5=0,AR41=0),0,IF(AS$7=\"\",IF(AR41=MAX(AR$9:AR$58),AQ41+1,AQ41),\n                                                                IF(AS$7=$B41,AQ41+1,AQ41)))","v":0},{"$f":"IF(OR(AU$5=0,SUMPRODUCT(('erreurs calcul répartCM'!$J$2:AS$2>0)*1)>0,$C41=0),0,$C41/(AS41+1))","v":0},{"$f":"IF(OR(AU$5=0,AT41=0),0,IF(AU$7=\"\",IF(AT41=MAX(AT$9:AT$58),AS41+1,AS41),\n                                                                IF(AU$7=$B41,AS41+1,AS41)))","v":0},{"$f":"IF(OR(AW$5=0,SUMPRODUCT(('erreurs calcul répartCM'!$J$2:AU$2>0)*1)>0,$C41=0),0,$C41/(AU41+1))","v":0},{"$f":"IF(OR(AW$5=0,AV41=0),0,IF(AW$7=\"\",IF(AV41=MAX(AV$9:AV$58),AU41+1,AU41),\n                                                                IF(AW$7=$B41,AU41+1,AU41)))","v":0},{"$f":"IF(OR(AY$5=0,SUMPRODUCT(('erreurs calcul répartCM'!$J$2:AW$2>0)*1)>0,$C41=0),0,$C41/(AW41+1))","v":0},{"$f":"IF(OR(AY$5=0,AX41=0),0,IF(AY$7=\"\",IF(AX41=MAX(AX$9:AX$58),AW41+1,AW41),\n                                                                IF(AY$7=$B41,AW41+1,AW41)))","v":0},{"$f":"IF(OR(BA$5=0,SUMPRODUCT(('erreurs calcul répartCM'!$J$2:AY$2>0)*1)>0,$C41=0),0,$C41/(AY41+1))","v":0},{"$f":"IF(OR(BA$5=0,AZ41=0),0,IF(BA$7=\"\",IF(AZ41=MAX(AZ$9:AZ$58),AY41+1,AY41),\n                                                                IF(BA$7=$B41,AY41+1,AY41)))","v":0},{"$f":"IF(OR(BC$5=0,SUMPRODUCT(('erreurs calcul répartCM'!$J$2:BA$2>0)*1)>0,$C41=0),0,$C41/(BA41+1))","v":0},{"$f":"IF(OR(BC$5=0,BB41=0),0,IF(BC$7=\"\",IF(BB41=MAX(BB$9:BB$58),BA41+1,BA41),\n                                                                IF(BC$7=$B41,BA41+1,BA41)))","v":0},{"$f":"IF(OR(BE$5=0,SUMPRODUCT(('erreurs calcul répartCM'!$J$2:BC$2>0)*1)>0,$C41=0),0,$C41/(BC41+1))","v":0},{"$f":"IF(OR(BE$5=0,BD41=0),0,IF(BE$7=\"\",IF(BD41=MAX(BD$9:BD$58),BC41+1,BC41),\n                                                                IF(BE$7=$B41,BC41+1,BC41)))","v":0},{"$f":"IF(OR(BG$5=0,SUMPRODUCT(('erreurs calcul répartCM'!$J$2:BE$2>0)*1)>0,$C41=0),0,$C41/(BE41+1))","v":0},{"$f":"IF(OR(BG$5=0,BF41=0),0,IF(BG$7=\"\",IF(BF41=MAX(BF$9:BF$58),BE41+1,BE41),\n                                                                IF(BG$7=$B41,BE41+1,BE41)))","v":0},{"$f":"IF(OR(BI$5=0,SUMPRODUCT(('erreurs calcul répartCM'!$J$2:BG$2>0)*1)>0,$C41=0),0,$C41/(BG41+1))","v":0},{"$f":"IF(OR(BI$5=0,BH41=0),0,IF(BI$7=\"\",IF(BH41=MAX(BH$9:BH$58),BG41+1,BG41),\n                                                                IF(BI$7=$B41,BG41+1,BG41)))","v":0},{"$f":"IF(OR(BK$5=0,SUMPRODUCT(('erreurs calcul répartCM'!$J$2:BI$2>0)*1)>0,$C41=0),0,$C41/(BI41+1))","v":0},{"$f":"IF(OR(BK$5=0,BJ41=0),0,IF(BK$7=\"\",IF(BJ41=MAX(BJ$9:BJ$58),BI41+1,BI41),\n                                                                IF(BK$7=$B41,BI41+1,BI41)))","v":0},{"$f":"IF(OR(BM$5=0,SUMPRODUCT(('erreurs calcul répartCM'!$J$2:BK$2>0)*1)>0,$C41=0),0,$C41/(BK41+1))","v":0},{"$f":"IF(OR(BM$5=0,BL41=0),0,IF(BM$7=\"\",IF(BL41=MAX(BL$9:BL$58),BK41+1,BK41),\n                                                                IF(BM$7=$B41,BK41+1,BK41)))","v":0},{"$f":"IF(OR(BO$5=0,SUMPRODUCT(('erreurs calcul répartCM'!$J$2:BM$2>0)*1)>0,$C41=0),0,$C41/(BM41+1))","v":0},{"$f":"IF(OR(BO$5=0,BN41=0),0,IF(BO$7=\"\",IF(BN41=MAX(BN$9:BN$58),BM41+1,BM41),\n                                                                IF(BO$7=$B41,BM41+1,BM41)))","v":0},{"$f":"IF(OR(BQ$5=0,SUMPRODUCT(('erreurs calcul répartCM'!$J$2:BO$2>0)*1)>0,$C41=0),0,$C41/(BO41+1))","v":0},{"$f":"IF(OR(BQ$5=0,BP41=0),0,IF(BQ$7=\"\",IF(BP41=MAX(BP$9:BP$58),BO41+1,BO41),\n                                                                IF(BQ$7=$B41,BO41+1,BO41)))","v":0}]
[{"$f":"A41+1","v":34},{"$f":"IFERROR(VLOOKUP($A42,'2. Voix obtenues'!$U$7:$V$56,2,FALSE()),\"\")","v":0},{"$f":"SUMPRODUCT(($B42='2. Voix obtenues'!$C$7:$C$56)*('2. Voix obtenues'!$D$7:$D$56))","v":0},0,null,0,null,null,null,0,0,{"$f":"IF(OR(M$5=0,SUMPRODUCT(('erreurs calcul répartCM'!$J$2:K$2>0)*1)>0,$C42=0),0,$C42/(K42+1))","v":0},0,{"$f":"IF(OR(O$5=0,SUMPRODUCT(('erreurs calcul répartCM'!$J$2:M$2>0)*1)>0,$C42=0),0,$C42/(M42+1))","v":0},0,{"$f":"IF(OR(Q$5=0,SUMPRODUCT(('erreurs calcul répartCM'!$J$2:O$2>0)*1)>0,$C42=0),0,$C42/(O42+1))","v":0},0,{"$f":"IF(OR(S$5=0,SUMPRODUCT(('erreurs calcul répartCM'!$J$2:Q$2>0)*1)>0,$C42=0),0,$C42/(Q42+1))","v":0},0,{"$f":"IF(OR(U$5=0,SUMPRODUCT(('erreurs calcul répartCM'!$J$2:S$2>0)*1)>0,$C42=0),0,$C42/(S42+1))","v":0},0,{"$f":"IF(OR(W$5=0,SUMPRODUCT(('erreurs calcul répartCM'!$J$2:U$2>0)*1)>0,$C42=0),0,$C42/(U42+1))","v":0},0,{"$f":"IF(OR(Y$5=0,SUMPRODUCT(('erreurs calcul répartCM'!$J$2:W$2>0)*1)>0,$C42=0),0,$C42/(W42+1))","v":0},0,{"$f":"IF(OR(AA$5=0,SUMPRODUCT(('erreurs calcul répartCM'!$J$2:Y$2>0)*1)>0,$C42=0),0,$C42/(Y42+1))","v":0},0,{"$f":"IF(OR(AC$5=0,SUMPRODUCT(('erreurs calcul répartCM'!$J$2:AA$2>0)*1)>0,$C42=0),0,$C42/(AA42+1))","v":0},0,{"$f":"IF(OR(AE$5=0,SUMPRODUCT(('erreurs calcul répartCM'!$J$2:AC$2>0)*1)>0,$C42=0),0,$C42/(AC42+1))","v":0},0,{"$f":"IF(OR(AG$5=0,SUMPRODUCT(('erreurs calcul répartCM'!$J$2:AE$2>0)*1)>0,$C42=0),0,$C42/(AE42+1))","v":0},0,{"$f":"IF(OR(AI$5=0,SUMPRODUCT(('erreurs calcul répartCM'!$J$2:AG$2>0)*1)>0,$C42=0),0,$C42/(AG42+1))","v":0},0,{"$f":"IF(OR(AK$5=0,SUMPRODUCT(('erreurs calcul répartCM'!$J$2:AI$2>0)*1)>0,$C42=0),0,$C42/(AI42+1))","v":0},0,{"$f":"IF(OR(AM$5=0,SUMPRODUCT(('erreurs calcul répartCM'!$J$2:AK$2>0)*1)>0,$C42=0),0,$C42/(AK42+1))","v":0},0,{"$f":"IF(OR(AO$5=0,SUMPRODUCT(('erreurs calcul répartCM'!$J$2:AM$2>0)*1)>0,$C42=0),0,$C42/(AM42+1))","v":0},0,{"$f":"IF(OR(AQ$5=0,SUMPRODUCT(('erreurs calcul répartCM'!$J$2:AO$2>0)*1)>0,$C42=0),0,$C42/(AO42+1))","v":0},0,{"$f":"IF(OR(AS$5=0,SUMPRODUCT(('erreurs calcul répartCM'!$J$2:AQ$2>0)*1)>0,$C42=0),0,$C42/(AQ42+1))","v":0},0,{"$f":"IF(OR(AU$5=0,SUMPRODUCT(('erreurs calcul répartCM'!$J$2:AS$2>0)*1)>0,$C42=0),0,$C42/(AS42+1))","v":0},0,{"$f":"IF(OR(AW$5=0,SUMPRODUCT(('erreurs calcul répartCM'!$J$2:AU$2>0)*1)>0,$C42=0),0,$C42/(AU42+1))","v":0},0,{"$f":"IF(OR(AY$5=0,SUMPRODUCT(('erreurs calcul répartCM'!$J$2:AW$2>0)*1)>0,$C42=0),0,$C42/(AW42+1))","v":0},0,{"$f":"IF(OR(BA$5=0,SUMPRODUCT(('erreurs calcul répartCM'!$J$2:AY$2>0)*1)>0,$C42=0),0,$C42/(AY42+1))","v":0},0,{"$f":"IF(OR(BC$5=0,SUMPRODUCT(('erreurs calcul répartCM'!$J$2:BA$2>0)*1)>0,$C42=0),0,$C42/(BA42+1))","v":0},0,{"$f":"IF(OR(BE$5=0,SUMPRODUCT(('erreurs calcul répartCM'!$J$2:BC$2>0)*1)>0,$C42=0),0,$C42/(BC42+1))","v":0},0,{"$f":"IF(OR(BG$5=0,SUMPRODUCT(('erreurs calcul répartCM'!$J$2:BE$2>0)*1)>0,$C42=0),0,$C42/(BE42+1))","v":0},0,{"$f":"IF(OR(BI$5=0,SUMPRODUCT(('erreurs calcul répartCM'!$J$2:BG$2>0)*1)>0,$C42=0),0,$C42/(BG42+1))","v":0},0,{"$f":"IF(OR(BK$5=0,SUMPRODUCT(('erreurs calcul répartCM'!$J$2:BI$2>0)*1)>0,$C42=0),0,$C42/(BI42+1))","v":0},0,{"$f":"IF(OR(BM$5=0,SUMPRODUCT(('erreurs calcul répartCM'!$J$2:BK$2>0)*1)>0,$C42=0),0,$C42/(BK42+1))","v":0},0,{"$f":"IF(OR(BO$5=0,SUMPRODUCT(('erreurs calcul répartCM'!$J$2:BM$2>0)*1)>0,$C42=0),0,$C42/(BM42+1))","v":0},0,{"$f":"IF(OR(BQ$5=0,SUMPRODUCT(('erreurs calcul répartCM'!$J$2:BO$2>0)*1)>0,$C42=0),0,$C42/(BO42+1))","v":0},0]
[35,{"$f":"IFERROR(VLOOKUP($A43,'2. Voix obtenues'!$U$7:$V$56,2,FALSE()),\"\")","v":0},{"$f":"SUMPRODUCT(($B43='2. Voix obtenues'!$C$7:$C$56)*('2. Voix obtenues'!$D$7:$D$56))","v":0},0,null,0,null,null,null,0,0,{"$f":"IF(OR(M$5=0,SUMPRODUCT(('erreurs calcul répartCM'!$J$2:K$2>0)*1)>0,$C43=0),0,$C43/(K43+1))","v":0},0,{"$f":"IF(OR(O$5=0,SUMPRODUCT(('erreurs calcul répartCM'!$J$2:M$2>0)*1)>0,$C43=0),0,$C43/(M43+1))","v":0},0,{"$f":"IF(OR(Q$5=0,SUMPRODUCT(('erreurs calcul répartCM'!$J$2:O$2>0)*1)>0,$C43=0),0,$C43/(O43+1))","v":0},0,{"$f":"IF(OR(S$5=0,SUMPRODUCT(('erreurs calcul répartCM'!$J$2:Q$2>0)*1)>0,$C43=0),0,$C43/(Q43+1))","v":0},0,{"$f":"IF(OR(U$5=0,SUMPRODUCT(('erreurs calcul répartCM'!$J$2:S$2>0)*1)>0,$C43=0),0,$C43/(S43+1))","v":0},0,{"$f":"IF(OR(W$5=0,SUMPRODUCT(('erreurs calcul répartCM'!$J$2:U$2>0)*1)>0,$C43=0),0,$C43/(U43+1))","v":0},0,{"$f":"IF(OR(Y$5=0,SUMPRODUCT(('erreurs calcul répartCM'!$J$2:W$2>0)*1)>0,$C43=0),0,$C43/(W43+1))","v":0},0,{"$f":"IF(OR(AA$5=0,SUMPRODUCT(('erreurs calcul répartCM'!$J$2:Y$2>0)*1)>0,$C43=0),0,$C43/(Y43+1))","v":0},0,{"$f":"IF(OR(AC$5=0,SUMPRODUCT(('erreurs calcul répartCM'!$J$2:AA$2>0)*1)>0,$C43=0),0,$C43/(AA43+1))","v":0},0,{"$f":"IF(OR(AE$5=0,SUMPRODUCT(('erreurs calcul répartCM'!$J$2:AC$2>0)*1)>0,$C43=0),0,$C43/(AC43+1))","v":0},0,{"$f":"IF(OR(AG$5=0,SUMPRODUCT(('erreurs calcul répartCM'!$J$2:AE$2>0)*1)>0,$C43=0),0,$C43/(AE43+1))","v":0},0,{"$f":"IF(OR(AI$5=0,SUMPRODUCT(('erreurs calcul répartCM'!$J$2:AG$2>0)*1)>0,$C43=0),0,$C43/(AG43+1))","v":0},0,{"$f":"IF(OR(AK$5=0,SUMPRODUCT(('erreurs calcul répartCM'!$J$2:AI$2>0)*1)>0,$C43=0),0,$C43/(AI43+1))","v":0},0,{"$f":"IF(OR(AM$5=0,SUMPRODUCT(('erreurs calcul répartCM'!$J$2:AK$2>0)*1)>0,$C43=0),0,$C43/(AK43+1))","v":0},0,{"$f":"IF(OR(AO$5=0,SUMPRODUCT(('erreurs calcul répartCM'!$J$2:AM$2>0)*1)>0,$C43=0),0,$C43/(AM43+1))","v":0},0,{"$f":"IF(OR(AQ$5=0,SUMPRODUCT(('erreurs calcul répartCM'!$J$2:AO$2>0)*1)>0,$C43=0),0,$C43/(AO43+1))","v":0},0,{"$f":"IF(OR(AS$5=0,SUMPRODUCT(('erreurs calcul répartCM'!$J$2:AQ$2>0)*1)>0,$C43=0),0,$C43/(AQ43+1))","v":0},0,{"$f":"IF(OR(AU$5=0,SUMPRODUCT(('erreurs calcul répartCM'!$J$2:AS$2>0)*1)>0,$C43=0),0,$C43/(AS43+1))","v":0},0,{"$f":"IF(OR(AW$5=0,SUMPRODUCT(('erreurs calcul répartCM'!$J$2:AU$2>0)*1)>0,$C43=0),0,$C43/(AU43+1))","v":0},0,{"$f":"IF(OR(AY$5=0,SUMPRODUCT(('erreurs calcul répartCM'!$J$2:AW$2>0)*1)>0,$C43=0),0,$C43/(AW43+1))","v":0},0,{"$f":"IF(OR(BA$5=0,SUMPRODUCT(('erreurs calcul répartCM'!$J$2:AY$2>0)*1)>0,$C43=0),0,$C43/(AY43+1))","v":0},0,{"$f":"IF(OR(BC$5=0,SUMPRODUCT(('erreurs calcul répartCM'!$J$2:BA$2>0)*1)>0,$C43=0),0,$C43/(BA43+1))","v":0},0,{"$f":"IF(OR(BE$5=0,SUMPRODUCT(('erreurs calcul répartCM'!$J$2:BC$2>0)*1)>0,$C43=0),0,$C43/(BC43+1))","v":0},0,{"$f":"IF(OR(BG$5=0,SUMPRODUCT(('erreurs calcul répartCM'!$J$2:BE$2>0)*1)>0,$C43=0),0,$C43/(BE43+1))","v":0},0,{"$f":"IF(OR(BI$5=0,SUMPRODUCT(('erreurs calcul répartCM'!$J$2:BG$2>0)*1)>0,$C43=0),0,$C43/(BG43+1))","v":0},0,{"$f":"IF(OR(BK$5=0,SUMPRODUCT(('erreurs calcul répartCM'!$J$2:BI$2>0)*1)>0,$C43=0),0,$C43/(BI43+1))","v":0},0,{"$f":"IF(OR(BM$5=0,SUMPRODUCT(('erreurs calcul répartCM'!$J$2:BK$2>0)*1)>0,$C43=0),0,$C43/(BK43+1))","v":0},0,{"$f":"IF(OR(BO$5=0,SUMPRODUCT(('erreurs calcul répartCM'!$J$2:BM$2>0)*1)>0,$C43=0),0,$C43/(BM43+1))","v":0},0,{"$f":"IF(OR(BQ$5=0,SUMPRODUCT(('erreurs calcul répartCM'!$J$2:BO$2>0)*1)>0,$C43=0),0,$C43/(BO43+1))","v":0},0]
[36,{"$f":"IFERROR(VLOOKUP($A44,'2. Voix obtenues'!$U$7:$V$56,2,FALSE()),\"\")","v":0},{"$f":"SUMPRODUCT(($B44='2. Voix obtenues'!$C$7:$C$56)*('2. Voix obtenues'!$D$7:$D$56))","v":0},0,null,0,null,null,null,0,0,{"$f":"IF(OR(M$5=0,SUMPRODUCT(('erreurs calcul répartCM'!$J$2:K$2>0)*1)>0,$C44=0),0,$C44/(K44+1))","v":0},0,{"$f":"IF(OR(O$5=0,SUMPRODUCT(('erreurs calcul répartCM'!$J$2:M$2>0)*1)>0,$C44=0),0,$C44/(M44+1))","v":0},0,{"$f":"IF(OR(Q$5=0,SUMPRODUCT(('erreurs calcul répartCM'!$J$2:O$2>0)*1)>0,$C44=0),0,$C44/(O44+1))","v":0},0,{"$f":"IF(OR(S$5=0,SUMPRODUCT(('erreurs calcul répartCM'!$J$2:Q$2>0)*1)>0,$C44=0),0,$C44/(Q44+1))","v":0},0,{"$f":"IF(OR(U$5=0,SUMPRODUCT(('erreurs calcul répartCM'!$J$2:S$2>0)*1)>0,$C44=0),0,$C44/(S44+1))","v":0},0,{"$f":"IF(OR(W$5=0,SUMPRODUCT(('erreurs calcul répartCM'!$J$2:U$2>0)*1)>0,$C44=0),0,$C44/(U44+1))","v":0},0,{"$f":"IF(OR(Y$5=0,SUMPRODUCT(('erreurs calcul répartCM'!$J$2:W$2>0)*1)>0,$C44=0),0,$C44/(W44+1))","v":0},0,{"$f":"IF(OR(AA$5=0,SUMPRODUCT(('erreurs calcul répartCM'!$J$2:Y$2>0)*1)>0,$C44=0),0,$C44/(Y44+1))","v":0},0,{"$f":"IF(OR(AC$5=0,SUMPRODUCT(('erreurs calcul répartCM'!$J$2:AA$2>0)*1)>0,$C44=0),0,$C44/(AA44+1))","v":0},0,{"$f":"IF(OR(AE$5=0,SUMPRODUCT(('erreurs calcul répartCM'!$J$2:AC$2>0)*1)>0,$C44=0),0,$C44/(AC44+1))","v":0},0,{"$f":"IF(OR(AG$5=0,SUMPRODUCT(('erreurs calcul répartCM'!$J$2:AE$2>0)*1)>0,$C44=0),0,$C44/(AE44+1))","v":0},0,{"$f":"IF(OR(AI$5=0,SUMPRODUCT(('erreurs calcul répartCM'!$J$2:AG$2>0)*1)>0,$C44=0),0,$C44/(AG44+1))","v":0},0,{"$f":"IF(OR(AK$5=0,SUMPRODUCT(('erreurs calcul répartCM'!$J$2:AI$2>0)*1)>0,$C44=0),0,$C44/(AI44+1))","v":0},0,{"$f":"IF(OR(AM$5=0,SUMPRODUCT(('erreurs calcul répartCM'!$J$2:AK$2>0)*1)>0,$C44=0),0,$C44/(AK44+1))","v":0},0,{"$f":"IF(OR(AO$5=0,SUMPRODUCT(('erreurs calcul répartCM'!$J$2:AM$2>0)*1)>0,$C44=0),0,$C44/(AM44+1))","v":0},0,{"$f":"IF(OR(AQ$5=0,SUMPRODUCT(('erreurs calcul répartCM'!$J$2:AO$2>0)*1)>0,$C44=0),0,$C44/(AO44+1))","v":0},0,{"$f":"IF(OR(AS$5=0,SUMPRODUCT(('erreurs calcul répartCM'!$J$2:AQ$2>0)*1)>0,$C44=0),0,$C44/(AQ44+1))","v":0},0,{"$f":"IF(OR(AU$5=0,SUMPRODUCT(('erreurs calcul répartCM'!$J$2:AS$2>0)*1)>0,$C44=0),0,$C44/(AS44+1))","v":0},0,{"$f":"IF(OR(AW$5=0,SUMPRODUCT(('erreurs calcul répartCM'!$J$2:AU$2>0)*1)>0,$C44=0),0,$C44/(AU44+1))","v":0},0,{"$f":"IF(OR(AY$5=0,SUMPRODUCT(('erreurs calcul répartCM'!$J$2:AW$2>0)*1)>0,$C44=0),0,$C44/(AW44+1))","v":0},0,{"$f":"IF(OR(BA$5=0,SUMPRODUCT(('erreurs calcul répartCM'!$J$2:AY$2>0)*1)>0,$C44=0),0,$C44/(AY44+1))","v":0},0,{"$f":"IF(OR(BC$5=0,SUMPRODUCT(('erreurs calcul répartCM'!$J$2:BA$2>0)*1)>0,$C44=0),0,$C44/(BA44+1))","v":0},0,{"$f":"IF(OR(BE$5=0,SUMPRODUCT(('erreurs calcul répartCM'!$J$2:BC$2>0)*1)>0,$C44=0),0,$C44/(BC44+1))","v":0},0,{"$f":"IF(OR(BG$5=0,SUMPRODUCT(('erreurs calcul répartCM'!$J$2:BE$2>0)*1)>0,$C44=0),0,$C44/(BE44+1))","v":0},0,{"$f":"IF(OR(BI$5=0,SUMPRODUCT(('erreurs calcul répartCM'!$J$2:BG$2>0)*1)>0,$C44=0),0,$C44/(BG44+1))","v":0},0,{"$f":"IF(OR(BK$5=0,SUMPRODUCT(('erreurs calcul répartCM'!$J$2:BI$2>0)*1)>0,$C44=0),0,$C44/(BI44+1))","v":0},0,{"$f":"IF(OR(BM$5=0,SUMPRODUCT(('erreurs calcul répartCM'!$J$2:BK$2>0)*1)>0,$C44=0),0,$C44/(BK44+1))","v":0},0,{"$f":"IF(OR(BO$5=0,SUMPRODUCT(('erreurs calcul répartCM'!$J$2:BM$2>0)*1)>0,$C44=0),0,$C44/(BM44+1))","v":0},0,{"$f":"IF(OR(BQ$5=0,SUMPRODUCT(('erreurs calcul répartCM'!$J$2:BO$2>0)*1)>0,$C44=0),0,$C44/(BO44+1))","v":0},0]
[37,{"$f":"IFERROR(VLOOKUP($A45,'2. Voix obtenues'!$U$7:$V$56,2,FALSE()),\"\")","v":0},{"$f":"SUMPRODUCT(($B45='2. Voix obtenues'!$C$7:$C$56)*('2. Voix obtenues'!$D$7:$D$56))","v":0},0,null,0,null,null,null,0,0,{"$f":"IF(OR(M$5=0,SUMPRODUCT(('erreurs calcul répartCM'!$J$2:K$2>0)*1)>0,$C45=0),0,$C45/(K45+1))","v":0},0,{"$f":"IF(OR(O$5=0,SUMPRODUCT(('erreurs calcul répartCM'!$J$2:M$2>0)*1)>0,$C45=0),0,$C45/(M45+1))","v":0},0,{"$f":"IF(OR(Q$5=0,SUMPRODUCT(('erreurs calcul répartCM'!$J$2:O$2>0)*1)>0,$C45=0),0,$C45/(O45+1))","v":0},0,{"$f":"IF(OR(S$5=0,SUMPRODUCT(('erreurs calcul répartCM'!$J$2:Q$2>0)*1)>0,$C45=0),0,$C45/(Q45+1))","v":0},0,{"$f":"IF(OR(U$5=0,SUMPRODUCT(('erreurs calcul répartCM'!$J$2:S$2>0)*1)>0,$C45=0),0,$C45/(S45+1))","v":0},0,{"$f":"IF(OR(W$5=0,SUMPRODUCT(('erreurs calcul répartCM'!$J$2:U$2>0)*1)>0,$C45=0),0,$C45/(U45+1))","v":0},0,{"$f":"IF(OR(Y$5=0,SUMPRODUCT(('erreurs calcul répartCM'!$J$2:W$2>0)*1)>0,$C45=0),0,$C45/(W45+1))","v":0},0,{"$f":"IF(OR(AA$5=0,SUMPRODUCT(('erreurs calcul répartCM'!$J$2:Y$2>0)*1)>0,$C45=0),0,$C45/(Y45+1))","v":0},0,{"$f":"IF(OR(AC$5=0,SUMPRODUCT(('erreurs calcul répartCM'!$J$2:AA$2>0)*1)>0,$C45=0),0,$C45/(AA45+1))","v":0},0,{"$f":"IF(OR(AE$5=0,SUMPRODUCT(('erreurs calcul répartCM'!$J$2:AC$2>0)*1)>0,$C45=0),0,$C45/(AC45+1))","v":0},0,{"$f":"IF(OR(AG$5=0,SUMPRODUCT(('erreurs calcul répartCM'!$J$2:AE$2>0)*1)>0,$C45=0),0,$C45/(AE45+1))","v":0},0,{"$f":"IF(OR(AI$5=0,SUMPRODUCT(('erreurs calcul répartCM'!$J$2:AG$2>0)*1)>0,$C45=0),0,$C45/(AG45+1))","v":0},0,{"$f":"IF(OR(AK$5=0,SUMPRODUCT(('erreurs calcul répartCM'!$J$2:AI$2>0)*1)>0,$C45=0),0,$C45/(AI45+1))","v":0},0,{"$f":"IF(OR(AM$5=0,SUMPRODUCT(('erreurs calcul répartCM'!$J$2:AK$2>0)*1)>0,$C45=0),0,$C45/(AK45+1))","v":0},0,{"$f":"IF(OR(AO$5=0,SUMPRODUCT(('erreurs calcul répartCM'!$J$2:AM$2>0)*1)>0,$C45=0),0,$C45/(AM45+1))","v":0},0,{"$f":"IF(OR(AQ$5=0,SUMPRODUCT(('erreurs calcul répartCM'!$J$2:AO$2>0)*1)>0,$C45=0),0,$C45/(AO45+1))","v":0},0,{"$f":"IF(OR(AS$5=0,SUMPRODUCT(('erreurs calcul répartCM'!$J$2:AQ$2>0)*1)>0,$C45=0),0,$C45/(AQ45+1))","v":0},0,{"$f":"IF(OR(AU$5=0,SUMPRODUCT(('erreurs calcul répartCM'!$J$2:AS$2>0)*1)>0,$C45=0),0,$C45/(AS45+1))","v":0},0,{"$f":"IF(OR(AW$5=0,SUMPRODUCT(('erreurs calcul répartCM'!$J$2:AU$2>0)*1)>0,$C45=0),0,$C45/(AU45+1))","v":0},0,{"$f":"IF(OR(AY$5=0,SUMPRODUCT(('erreurs calcul répartCM'!$J$2:AW$2>0)*1)>0,$C45=0),0,$C45/(AW45+1))","v":0},0,{"$f":"IF(OR(BA$5=0,SUMPRODUCT(('erreurs calcul répartCM'!$J$2:AY$2>0)*1)>0,$C45=0),0,$C45/(AY45+1))","v":0},0,{"$f":"IF(OR(BC$5=0,SUMPRODUCT(('erreurs calcul répartCM'!$J$2:BA$2>0)*1)>0,$C45=0),0,$C45/(BA45+1))","v":0},0,{"$f":"IF(OR(BE$5=0,SUMPRODUCT(('erreurs calcul répartCM'!$J$2:BC$2>0)*1)>0,$C45=0),0,$C45/(BC45+1))","v":0},0,{"$f":"IF(OR(BG$5=0,SUMPRODUCT(('erreurs calcul répartCM'!$J$2:BE$2>0)*1)>0,$C45=0),0,$C45/(BE45+1))","v":0},0,{"$f":"IF(OR(BI$5=0,SUMPRODUCT(('erreurs calcul répartCM'!$J$2:BG$2>0)*1)>0,$C45=0),0,$C45/(BG45+1))","v":0},0,{"$f":"IF(OR(BK$5=0,SUMPRODUCT(('erreurs calcul répartCM'!$J$2:BI$2>0)*1)>0,$C45=0),0,$C45/(BI45+1))","v":0},0,{"$f":"IF(OR(BM$5=0,SUMPRODUCT(('erreurs calcul répartCM'!$J$2:BK$2>0)*1)>0,$C45=0),0,$C45/(BK45+1))","v":0},0,{"$f":"IF(OR(BO$5=0,SUMPRODUCT(('erreurs calcul répartCM'!$J$2:BM$2>0)*1)>0,$C45=0),0,$C45/(BM45+1))","v":0},0,{"$f":"IF(OR(BQ$5=0,SUMPRODUCT(('erreurs calcul répartCM'!$J$2:BO$2>0)*1)>0,$C45=0),0,$C45/(BO45+1))","v":0},0]
[38,{"$f":"IFERROR(VLOOKUP($A46,'2. Voix obtenues'!$U$7:$V$56,2,FALSE()),\"\")","v":0},{"$f":"SUMPRODUCT(($B46='2. Voix obtenues'!$C$7:$C$56)*('2. Voix obtenues'!$D$7:$D$56))","v":0},0,null,0,null,null,null,0,0,{"$f":"IF(OR(M$5=0,SUMPRODUCT(('erreurs calcul répartCM'!$J$2:K$2>0)*1)>0,$C46=0),0,$C46/(K46+1))","v":0},0,{"$f":"IF(OR(O$5=0,SUMPRODUCT(('erreurs calcul répartCM'!$J$2:M$2>0)*1)>0,$C46=0),0,$C46/(M46+1))","v":0},0,{"$f":"IF(OR(Q$5=0,SUMPRODUCT(('erreurs calcul répartCM'!$J$2:O$2>0)*1)>0,$C46=0),0,$C46/(O46+1))","v":0},0,{"$f":"IF(OR(S$5=0,SUMPRODUCT(('erreurs calcul répartCM'!$J$2:Q$2>0)*1)>0,$C46=0),0,$C46/(Q46+1))","v":0},0,{"$f":"IF(OR(U$5=0,SUMPRODUCT(('erreurs calcul répartCM'!$J$2:S$2>0)*1)>0,$C46=0),0,$C46/(S46+1))","v":0},0,{"$f":"IF(OR(W$5=0,SUMPRODUCT(('erreurs calcul répartCM'!$J$2:U$2>0)*1)>0,$C46=0),0,$C46/(U46+1))","v":0},0,{"$f":"IF(OR(Y$5=0,SUMPRODUCT(('erreurs calcul répartCM'!$J$2:W$2>0)*1)>0,$C46=0),0,$C46/(W46+1))","v":0},0,{"$f":"IF(OR(AA$5=0,SUMPRODUCT(('erreurs calcul répartCM'!$J$2:Y$2>0)*1)>0,$C46=0),0,$C46/(Y46+1))","v":0},0,{"$f":"IF(OR(AC$5=0,SUMPRODUCT(('erreurs calcul répartCM'!$J$2:AA$2>0)*1)>0,$C46=0),0,$C46/(AA46+1))","v":0},0,{"$f":"IF(OR(AE$5=0,SUMPRODUCT(('erreurs calcul répartCM'!$J$2:AC$2>0)*1)>0,$C46=0),0,$C46/(AC46+1))","v":0},0,{"$f":"IF(OR(AG$5=0,SUMPRODUCT(('erreurs calcul répartCM'!$J$2:AE$2>0)*1)>0,$C46=0),0,$C46/(AE46+1))","v":0},0,{"$f":"IF(OR(AI$5=0,SUMPRODUCT(('erreurs calcul répartCM'!$J$2:AG$2>0)*1)>0,$C46=0),0,$C46/(AG46+1))","v":0},0,{"$f":"IF(OR(AK$5=0,SUMPRODUCT(('erreurs calcul répartCM'!$J$2:AI$2>0)*1)>0,$C46=0),0,$C46/(AI46+1))","v":0},0,{"$f":"IF(OR(AM$5=0,SUMPRODUCT(('erreurs calcul répartCM'!$J$2:AK$2>0)*1)>0,$C46=0),0,$C46/(AK46+1))","v":0},0,{"$f":"IF(OR(AO$5=0,SUMPRODUCT(('erreurs calcul répartCM'!$J$2:AM$2>0)*1)>0,$C46=0),0,$C46/(AM46+1))","v":0},0,{"$f":"IF(OR(AQ$5=0,SUMPRODUCT(('erreurs calcul répartCM'!$J$2:AO$2>0)*1)>0,$C46=0),0,$C46/(AO46+1))","v":0},0,{"$f":"IF(OR(AS$5=0,SUMPRODUCT(('erreurs calcul répartCM'!$J$2:AQ$2>0)*1)>0,$C46=0),0,$C46/(AQ46+1))","v":0},0,{"$f":"IF(OR(AU$5=0,SUMPRODUCT(('erreurs calcul répartCM'!$J$2:AS$2>0)*1)>0,$C46=0),0,$C46/(AS46+1))","v":0},0,{"$f":"IF(OR(AW$5=0,SUMPRODUCT(('erreurs calcul répartCM'!$J$2:AU$2>0)*1)>0,$C46=0),0,$C46/(AU46+1))","v":0},0,{"$f":"IF(OR(AY$5=0,SUMPRODUCT(('erreurs calcul répartCM'!$J$2:AW$2>0)*1)>0,$C46=0),0,$C46/(AW46+1))","v":0},0,{"$f":"IF(OR(BA$5=0,SUMPRODUCT(('erreurs calcul répartCM'!$J$2:AY$2>0)*1)>0,$C46=0),0,$C46/(AY46+1))","v":0},0,{"$f":"IF(OR(BC$5=0,SUMPRODUCT(('erreurs calcul répartCM'!$J$2:BA$2>0)*1)>0,$C46=0),0,$C46/(BA46+1))","v":0},0,{"$f":"IF(OR(BE$5=0,SUMPRODUCT(('erreurs calcul répartCM'!$J$2:BC$2>0)*1)>0,$C46=0),0,$C46/(BC46+1))","v":0},0,{"$f":"IF(OR(BG$5=0,SUMPRODUCT(('erreurs calcul répartCM'!$J$2:BE$2>0)*1)>0,$C46=0),0,$C46/(BE46+1))","v":0},0,{"$f":"IF(OR(BI$5=0,SUMPRODUCT(('erreurs calcul répartCM'!$J$2:BG$2>0)*1)>0,$C46=0),0,$C46/(BG46+1))","v":0},0,{"$f":"IF(OR(BK$5=0,SUMPRODUCT(('erreurs calcul répartCM'!$J$2:BI$2>0)*1)>0,$C46=0),0,$C46/(BI46+1))","v":0},0,{"$f":"IF(OR(BM$5=0,SUMPRODUCT(('erreurs calcul répartCM'!$J$2:BK$2>0)*1)>0,$C46=0),0,$C46/(BK46+1))","v":0},0,{"$f":"IF(OR(BO$5=0,SUMPRODUCT(('erreurs calcul répartCM'!$J$2:BM$2>0)*1)>0,$C46=0),0,$C46/(BM46+1))","v":0},0,{"$f":"IF(OR(BQ$5=0,SUMPRODUCT(('erreurs calcul répartCM'!$J$2:BO$2>0)*1)>0,$C46=0),0,$C46/(BO46+1))","v":0},0]
[39,{"$f":"IFERROR(VLOOKUP($A47,'2. Voix obtenues'!$U$7:$V$56,2,FALSE()),\"\")","v":0},{"$f":"SUMPRODUCT(($B47='2. Voix obtenues'!$C$7:$C$56)*('2. Voix obtenues'!$D$7:$D$56))","v":0},0,null,0,null,null,null,0,0,{"$f":"IF(OR(M$5=0,SUMPRODUCT(('erreurs calcul répartCM'!$J$2:K$2>0)*1)>0,$C47=0),0,$C47/(K47+1))","v":0},0,{"$f":"IF(OR(O$5=0,SUMPRODUCT(('erreurs calcul répartCM'!$J$2:M$2>0)*1)>0,$C47=0),0,$C47/(M47+1))","v":0},0,{"$f":"IF(OR(Q$5=0,SUMPRODUCT(('erreurs calcul répartCM'!$J$2:O$2>0)*1)>0,$C47=0),0,$C47/(O47+1))","v":0},0,{"$f":"IF(OR(S$5=0,SUMPRODUCT(('erreurs calcul répartCM'!$J$2:Q$2>0)*1)>0,$C47=0),0,$C47/(Q47+1))","v":0},0,{"$f":"IF(OR(U$5=0,SUMPRODUCT(('erreurs calcul répartCM'!$J$2:S$2>0)*1)>0,$C47=0),0,$C47/(S47+1))","v":0},0,{"$f":"IF(OR(W$5=0,SUMPRODUCT(('erreurs calcul répartCM'!$J$2:U$2>0)*1)>0,$C47=0),0,$C47/(U47+1))","v":0},0,{"$f":"IF(OR(Y$5=0,SUMPRODUCT(('erreurs calcul répartCM'!$J$2:W$2>0)*1)>0,$C47=0),0,$C47/(W47+1))","v":0},0,{"$f":"IF(OR(AA$5=0,SUMPRODUCT(('erreurs calcul répartCM'!$J$2:Y$2>0)*1)>0,$C47=0),0,$C47/(Y47+1))","v":0},0,{"$f":"IF(OR(AC$5=0,SUMPRODUCT(('erreurs calcul répartCM'!$J$2:AA$2>0)*1)>0,$C47=0),0,$C47/(AA47+1))","v":0},0,{"$f":"IF(OR(AE$5=0,SUMPRODUCT(('erreurs calcul répartCM'!$J$2:AC$2>0)*1)>0,$C47=0),0,$C47/(AC47+1))","v":0},0,{"$f":"IF(OR(AG$5=0,SUMPRODUCT(('erreurs calcul répartCM'!$J$2:AE$2>0)*1)>0,$C47=0),0,$C47/(AE47+1))","v":0},0,{"$f":"IF(OR(AI$5=0,SUMPRODUCT(('erreurs calcul répartCM'!$J$2:AG$2>0)*1)>0,$C47=0),0,$C47/(AG47+1))","v":0},0,{"$f":"IF(OR(AK$5=0,SUMPRODUCT(('erreurs calcul répartCM'!$J$2:AI$2>0)*1)>0,$C47=0),0,$C47/(AI47+1))","v":0},0,{"$f":"IF(OR(AM$5=0,SUMPRODUCT(('erreurs calcul répartCM'!$J$2:AK$2>0)*1)>0,$C47=0),0,$C47/(AK47+1))","v":0},0,{"$f":"IF(OR(AO$5=0,SUMPRODUCT(('erreurs calcul répartCM'!$J$2:AM$2>0)*1)>0,$C47=0),0,$C47/(AM47+1))","v":0},0,{"$f":"IF(OR(AQ$5=0,SUMPRODUCT(('erreurs calcul répartCM'!$J$2:AO$2>0)*1)>0,$C47=0),0,$C47/(AO47+1))","v":0},0,{"$f":"IF(OR(AS$5=0,SUMPRODUCT(('erreurs calcul répartCM'!$J$2:AQ$2>0)*1)>0,$C47=0),0,$C47/(AQ47+1))","v":0},0,{"$f":"IF(OR(AU$5=0,SUMPRODUCT(('erreurs calcul répartCM'!$J$2:AS$2>0)*1)>0,$C47=0),0,$C47/(AS47+1))","v":0},0,{"$f":"IF(OR(AW$5=0,SUMPRODUCT(('erreurs calcul répartCM'!$J$2:AU$2>0)*1)>0,$C47=0),0,$C47/(AU47+1))","v":0},0,{"$f":"IF(OR(AY$5=0,SUMPRODUCT(('erreurs calcul répartCM'!$J$2:AW$2>0)*1)>0,$C47=0),0,$C47/(AW47+1))","v":0},0,{"$f":"IF(OR(BA$5=0,SUMPRODUCT(('erreurs calcul répartCM'!$J$2:AY$2>0)*1)>0,$C47=0),0,$C47/(AY47+1))","v":0},0,{"$f":"IF(OR(BC$5=0,SUMPRODUCT(('erreurs calcul répartCM'!$J$2:BA$2>0)*1)>0,$C47=0),0,$C47/(BA47+1))","v":0},0,{"$f":"IF(OR(BE$5=0,SUMPRODUCT(('erreurs calcul répartCM'!$J$2:BC$2>0)*1)>0,$C47=0),0,$C47/(BC47+1))","v":0},0,{"$f":"IF(OR(BG$5=0,SUMPRODUCT(('erreurs calcul répartCM'!$J$2:BE$2>0)*1)>0,$C47=0),0,$C47/(BE47+1))","v":0},0,{"$f":"IF(OR(BI$5=0,SUMPRODUCT(('erreurs calcul répartCM'!$J$2:BG$2>0)*1)>0,$C47=0),0,$C47/(BG47+1))","v":0},0,{"$f":"IF(OR(BK$5=0,SUMPRODUCT(('erreurs calcul répartCM'!$J$2:BI$2>0)*1)>0,$C47=0),0,$C47/(BI47+1))","v":0},0,{"$f":"IF(OR(BM$5=0,SUMPRODUCT(('erreurs calcul répartCM'!$J$2:BK$2>0)*1)>0,$C47=0),0,$C47/(BK47+1))","v":0},0,{"$f":"IF(OR(BO$5=0,SUMPRODUCT(('erreurs calcul répartCM'!$J$2:BM$2>0)*1)>0,$C47=0),0,$C47/(BM47+1))","v":0},0,{"$f":"IF(OR(BQ$5=0,SUMPRODUCT(('erreurs calcul répartCM'!$J$2:BO$2>0)*1)>0,$C47=0),0,$C47/(BO47+1))","v":0},0]
[40,{"$f":"IFERROR(VLOOKUP($A48,'2. Voix obtenues'!$U$7:$V$56,2,FALSE()),\"\")","v":0},{"$f":"SUMPRODUCT(($B48='2. Voix obtenues'!$C$7:$C$56)*('2. Voix obtenues'!$D$7:$D$56))","v":0},0,null,0,null,null,null,0,0,{"$f":"IF(OR(M$5=0,SUMPRODUCT(('erreurs calcul répartCM'!$J$2:K$2>0)*1)>0,$C48=0),0,$C48/(K48+1))","v":0},0,{"$f":"IF(OR(O$5=0,SUMPRODUCT(('erreurs calcul répartCM'!$J$2:M$2>0)*1)>0,$C48=0),0,$C48/(M48+1))","v":0},0,{"$f":"IF(OR(Q$5=0,SUMPRODUCT(('erreurs calcul répartCM'!$J$2:O$2>0)*1)>0,$C48=0),0,$C48/(O48+1))","v":0},0,{"$f":"IF(OR(S$5=0,SUMPRODUCT(('erreurs calcul répartCM'!$J$2:Q$2>0)*1)>0,$C48=0),0,$C48/(Q48+1))","v":0},0,{"$f":"IF(OR(U$5=0,SUMPRODUCT(('erreurs calcul répartCM'!$J$2:S$2>0)*1)>0,$C48=0),0,$C48/(S48+1))","v":0},0,{"$f":"IF(OR(W$5=0,SUMPRODUCT(('erreurs calcul répartCM'!$J$2:U$2>0)*1)>0,$C48=0),0,$C48/(U48+1))","v":0},0,{"$f":"IF(OR(Y$5=0,SUMPRODUCT(('erreurs calcul répartCM'!$J$2:W$2>0)*1)>0,$C48=0),0,$C48/(W48+1))","v":0},0,{"$f":"IF(OR(AA$5=0,SUMPRODUCT(('erreurs calcul répartCM'!$J$2:Y$2>0)*1)>0,$C48=0),0,$C48/(Y48+1))","v":0},0,{"$f":"IF(OR(AC$5=0,SUMPRODUCT(('erreurs calcul répartCM'!$J$2:AA$2>0)*1)>0,$C48=0),0,$C48/(AA48+1))","v":0},0,{"$f":"IF(OR(AE$5=0,SUMPRODUCT(('erreurs calcul répartCM'!$J$2:AC$2>0)*1)>0,$C48=0),0,$C48/(AC48+1))","v":0},0,{"$f":"IF(OR(AG$5=0,SUMPRODUCT(('erreurs calcul répartCM'!$J$2:AE$2>0)*1)>0,$C48=0),0,$C48/(AE48+1))","v":0},0,{"$f":"IF(OR(AI$5=0,SUMPRODUCT(('erreurs calcul répartCM'!$J$2:AG$2>0)*1)>0,$C48=0),0,$C48/(AG48+1))","v":0},0,{"$f":"IF(OR(AK$5=0,SUMPRODUCT(('erreurs calcul répartCM'!$J$2:AI$2>0)*1)>0,$C48=0),0,$C48/(AI48+1))","v":0},0,{"$f":"IF(OR(AM$5=0,SUMPRODUCT(('erreurs calcul répartCM'!$J$2:AK$2>0)*1)>0,$C48=0),0,$C48/(AK48+1))","v":0},0,{"$f":"IF(OR(AO$5=0,SUMPRODUCT(('erreurs calcul répartCM'!$J$2:AM$2>0)*1)>0,$C48=0),0,$C48/(AM48+1))","v":0},0,{"$f":"IF(OR(AQ$5=0,SUMPRODUCT(('erreurs calcul répartCM'!$J$2:AO$2>0)*1)>0,$C48=0),0,$C48/(AO48+1))","v":0},0,{"$f":"IF(OR(AS$5=0,SUMPRODUCT(('erreurs calcul répartCM'!$J$2:AQ$2>0)*1)>0,$C48=0),0,$C48/(AQ48+1))","v":0},0,{"$f":"IF(OR(AU$5=0,SUMPRODUCT(('erreurs calcul répartCM'!$J$2:AS$2>0)*1)>0,$C48=0),0,$C48/(AS48+1))","v":0},0,{"$f":"IF(OR(AW$5=0,SUMPRODUCT(('erreurs calcul répartCM'!$J$2:AU$2>0)*1)>0,$C48=0),0,$C48/(AU48+1))","v":0},0,{"$f":"IF(OR(AY$5=0,SUMPRODUCT(('erreurs calcul répartCM'!$J$2:AW$2>0)*1)>0,$C48=0),0,$C48/(AW48+1))","v":0},0,{"$f":"IF(OR(BA$5=0,SUMPRODUCT(('erreurs calcul répartCM'!$J$2:AY$2>0)*1)>0,$C48=0),0,$C48/(AY48+1))","v":0},0,{"$f":"IF(OR(BC$5=0,SUMPRODUCT(('erreurs calcul répartCM'!$J$2:BA$2>0)*1)>0,$C48=0),0,$C48/(BA48+1))","v":0},0,{"$f":"IF(OR(BE$5=0,SUMPRODUCT(('erreurs calcul répartCM'!$J$2:BC$2>0)*1)>0,$C48=0),0,$C48/(BC48+1))","v":0},0,{"$f":"IF(OR(BG$5=0,SUMPRODUCT(('erreurs calcul répartCM'!$J$2:BE$2>0)*1)>0,$C48=0),0,$C48/(BE48+1))","v":0},0,{"$f":"IF(OR(BI$5=0,SUMPRODUCT(('erreurs calcul répartCM'!$J$2:BG$2>0)*1)>0,$C48=0),0,$C48/(BG48+1))","v":0},0,{"$f":"IF(OR(BK$5=0,SUMPRODUCT(('erreurs calcul répartCM'!$J$2:BI$2>0)*1)>0,$C48=0),0,$C48/(BI48+1))","v":0},0,{"$f":"IF(OR(BM$5=0,SUMPRODUCT(('erreurs calcul répartCM'!$J$2:BK$2>0)*1)>0,$C48=0),0,$C48/(BK48+1))","v":0},0,{"$f":"IF(OR(BO$5=0,SUMPRODUCT(('erreurs calcul répartCM'!$J$2:BM$2>0)*1)>0,$C48=0),0,$C48/(BM48+1))","v":0},0,{"$f":"IF(OR(BQ$5=0,SUMPRODUCT(('erreurs calcul répartCM'!$J$2:BO$2>0)*1)>0,$C48=0),0,$C48/(BO48+1))","v":0},0]
[41,{"$f":"IFERROR(VLOOKUP($A49,'2. Voix obtenues'!$U$7:$V$56,2,FALSE()),\"\")","v":0},{"$f":"SUMPRODUCT(($B49='2. Voix obtenues'!$C$7:$C$56)*('2. Voix obtenues'!$D$7:$D$56))","v":0},0,null,0,null,null,null,0,0,{"$f":"IF(OR(M$5=0,SUMPRODUCT(('erreurs calcul répartCM'!$J$2:K$2>0)*1)>0,$C49=0),0,$C49/(K49+1))","v":0},0,{"$f":"IF(OR(O$5=0,SUMPRODUCT(('erreurs calcul répartCM'!$J$2:M$2>0)*1)>0,$C49=0),0,$C49/(M49+1))","v":0},0,{"$f":"IF(OR(Q$5=0,SUMPRODUCT(('erreurs calcul répartCM'!$J$2:O$2>0)*1)>0,$C49=0),0,$C49/(O49+1))","v":0},0,{"$f":"IF(OR(S$5=0,SUMPRODUCT(('erreurs calcul répartCM'!$J$2:Q$2>0)*1)>0,$C49=0),0,$C49/(Q49+1))","v":0},0,{"$f":"IF(OR(U$5=0,SUMPRODUCT(('erreurs calcul répartCM'!$J$2:S$2>0)*1)>0,$C49=0),0,$C49/(S49+1))","v":0},0,{"$f":"IF(OR(W$5=0,SUMPRODUCT(('erreurs calcul répartCM'!$J$2:U$2>0)*1)>0,$C49=0),0,$C49/(U49+1))","v":0},0,{"$f":"IF(OR(Y$5=0,SUMPRODUCT(('erreurs calcul répartCM'!$J$2:W$2>0)*1)>0,$C49=0),0,$C49/(W49+1))","v":0},0,{"$f":"IF(OR(AA$5=0,SUMPRODUCT(('erreurs calcul répartCM'!$J$2:Y$2>0)*1)>0,$C49=0),0,$C49/(Y49+1))","v":0},0,{"$f":"IF(OR(AC$5=0,SUMPRODUCT(('erreurs calcul répartCM'!$J$2:AA$2>0)*1)>0,$C49=0),0,$C49/(AA49+1))","v":0},0,{"$f":"IF(OR(AE$5=0,SUMPRODUCT(('erreurs calcul répartCM'!$J$2:AC$2>0)*1)>0,$C49=0),0,$C49/(AC49+1))","v":0},0,{"$f":"IF(OR(AG$5=0,SUMPRODUCT(('erreurs calcul répartCM'!$J$2:AE$2>0)*1)>0,$C49=0),0,$C49/(AE49+1))","v":0},0,{"$f":"IF(OR(AI$5=0,SUMPRODUCT(('erreurs calcul répartCM'!$J$2:AG$2>0)*1)>0,$C49=0),0,$C49/(AG49+1))","v":0},0,{"$f":"IF(OR(AK$5=0,SUMPRODUCT(('erreurs calcul répartCM'!$J$2:AI$2>0)*1)>0,$C49=0),0,$C49/(AI49+1))","v":0},0,{"$f":"IF(OR(AM$5=0,SUMPRODUCT(('erreurs calcul répartCM'!$J$2:AK$2>0)*1)>0,$C49=0),0,$C49/(AK49+1))","v":0},0,{"$f":"IF(OR(AO$5=0,SUMPRODUCT(('erreurs calcul répartCM'!$J$2:AM$2>0)*1)>0,$C49=0),0,$C49/(AM49+1))","v":0},0,{"$f":"IF(OR(AQ$5=0,SUMPRODUCT(('erreurs calcul répartCM'!$J$2:AO$2>0)*1)>0,$C49=0),0,$C49/(AO49+1))","v":0},0,{"$f":"IF(OR(AS$5=0,SUMPRODUCT(('erreurs calcul répartCM'!$J$2:AQ$2>0)*1)>0,$C49=0),0,$C49/(AQ49+1))","v":0},0,{"$f":"IF(OR(AU$5=0,SUMPRODUCT(('erreurs calcul répartCM'!$J$2:AS$2>0)*1)>0,$C49=0),0,$C49/(AS49+1))","v":0},0,{"$f":"IF(OR(AW$5=0,SUMPRODUCT(('erreurs calcul répartCM'!$J$2:AU$2>0)*1)>0,$C49=0),0,$C49/(AU49+1))","v":0},0,{"$f":"IF(OR(AY$5=0,SUMPRODUCT(('erreurs calcul répartCM'!$J$2:AW$2>0)*1)>0,$C49=0),0,$C49/(AW49+1))","v":0},0,{"$f":"IF(OR(BA$5=0,SUMPRODUCT(('erreurs calcul répartCM'!$J$2:AY$2>0)*1)>0,$C49=0),0,$C49/(AY49+1))","v":0},0,{"$f":"IF(OR(BC$5=0,SUMPRODUCT(('erreurs calcul répartCM'!$J$2:BA$2>0)*1)>0,$C49=0),0,$C49/(BA49+1))","v":0},0,{"$f":"IF(OR(BE$5=0,SUMPRODUCT(('erreurs calcul répartCM'!$J$2:BC$2>0)*1)>0,$C49=0),0,$C49/(BC49+1))","v":0},0,{"$f":"IF(OR(BG$5=0,SUMPRODUCT(('erreurs calcul répartCM'!$J$2:BE$2>0)*1)>0,$C49=0),0,$C49/(BE49+1))","v":0},0,{"$f":"IF(OR(BI$5=0,SUMPRODUCT(('erreurs calcul répartCM'!$J$2:BG$2>0)*1)>0,$C49=0),0,$C49/(BG49+1))","v":0},0,{"$f":"IF(OR(BK$5=0,SUMPRODUCT(('erreurs calcul répartCM'!$J$2:BI$2>0)*1)>0,$C49=0),0,$C49/(BI49+1))","v":0},0,{"$f":"IF(OR(BM$5=0,SUMPRODUCT(('erreurs calcul répartCM'!$J$2:BK$2>0)*1)>0,$C49=0),0,$C49/(BK49+1))","v":0},0,{"$f":"IF(OR(BO$5=0,SUMPRODUCT(('erreurs calcul répartCM'!$J$2:BM$2>0)*1)>0,$C49=0),0,$C49/(BM49+1))","v":0},0,{"$f":"IF(OR(BQ$5=0,SUMPRODUCT(('erreurs calcul répartCM'!$J$2:BO$2>0)*1)>0,$C49=0),0,$C49/(BO49+1))","v":0},0]
[42,{"$f":"IFERROR(VLOOKUP($A50,'2. Voix obtenues'!$U$7:$V$56,2,FALSE()),\"\")","v":0},{"$f":"SUMPRODUCT(($B50='2. Voix obtenues'!$C$7:$C$56)*('2. Voix obtenues'!$D$7:$D$56))","v":0},0,null,0,null,null,null,0,0,{"$f":"IF(OR(M$5=0,SUMPRODUCT(('erreurs calcul répartCM'!$J$2:K$2>0)*1)>0,$C50=0),0,$C50/(K50+1))","v":0},0,{"$f":"IF(OR(O$5=0,SUMPRODUCT(('erreurs calcul répartCM'!$J$2:M$2>0)*1)>0,$C50=0),0,$C50/(M50+1))","v":0},0,{"$f":"IF(OR(Q$5=0,SUMPRODUCT(('erreurs calcul répartCM'!$J$2:O$2>0)*1)>0,$C50=0),0,$C50/(O50+1))","v":0},0,{"$f":"IF(OR(S$5=0,SUMPRODUCT(('erreurs calcul répartCM'!$J$2:Q$2>0)*1)>0,$C50=0),0,$C50/(Q50+1))","v":0},0,{"$f":"IF(OR(U$5=0,SUMPRODUCT(('erreurs calcul répartCM'!$J$2:S$2>0)*1)>0,$C50=0),0,$C50/(S50+1))","v":0},0,{"$f":"IF(OR(W$5=0,SUMPRODUCT(('erreurs calcul répartCM'!$J$2:U$2>0)*1)>0,$C50=0),0,$C50/(U50+1))","v":0},0,{"$f":"IF(OR(Y$5=0,SUMPRODUCT(('erreurs calcul répartCM'!$J$2:W$2>0)*1)>0,$C50=0),0,$C50/(W50+1))","v":0},0,{"$f":"IF(OR(AA$5=0,SUMPRODUCT(('erreurs calcul répartCM'!$J$2:Y$2>0)*1)>0,$C50=0),0,$C50/(Y50+1))","v":0},0,{"$f":"IF(OR(AC$5=0,SUMPRODUCT(('erreurs calcul répartCM'!$J$2:AA$2>0)*1)>0,$C50=0),0,$C50/(AA50+1))","v":0},0,{"$f":"IF(OR(AE$5=0,SUMPRODUCT(('erreurs calcul répartCM'!$J$2:AC$2>0)*1)>0,$C50=0),0,$C50/(AC50+1))","v":0},0,{"$f":"IF(OR(AG$5=0,SUMPRODUCT(('erreurs calcul répartCM'!$J$2:AE$2>0)*1)>0,$C50=0),0,$C50/(AE50+1))","v":0},0,{"$f":"IF(OR(AI$5=0,SUMPRODUCT(('erreurs calcul répartCM'!$J$2:AG$2>0)*1)>0,$C50=0),0,$C50/(AG50+1))","v":0},0,{"$f":"IF(OR(AK$5=0,SUMPRODUCT(('erreurs calcul répartCM'!$J$2:AI$2>0)*1)>0,$C50=0),0,$C50/(AI50+1))","v":0},0,{"$f":"IF(OR(AM$5=0,SUMPRODUCT(('erreurs calcul répartCM'!$J$2:AK$2>0)*1)>0,$C50=0),0,$C50/(AK50+1))","v":0},0,{"$f":"IF(OR(AO$5=0,SUMPRODUCT(('erreurs calcul répartCM'!$J$2:AM$2>0)*1)>0,$C50=0),0,$C50/(AM50+1))","v":0},0,{"$f":"IF(OR(AQ$5=0,SUMPRODUCT(('erreurs calcul répartCM'!$J$2:AO$2>0)*1)>0,$C50=0),0,$C50/(AO50+1))","v":0},0,{"$f":"IF(OR(AS$5=0,SUMPRODUCT(('erreurs calcul répartCM'!$J$2:AQ$2>0)*1)>0,$C50=0),0,$C50/(AQ50+1))","v":0},0,{"$f":"IF(OR(AU$5=0,SUMPRODUCT(('erreurs calcul répartCM'!$J$2:AS$2>0)*1)>0,$C50=0),0,$C50/(AS50+1))","v":0},0,{"$f":"IF(OR(AW$5=0,SUMPRODUCT(('erreurs calcul répartCM'!$J$2:AU$2>0)*1)>0,$C50=0),0,$C50/(AU50+1))","v":0},0,{"$f":"IF(OR(AY$5=0,SUMPRODUCT(('erreurs calcul répartCM'!$J$2:AW$2>0)*1)>0,$C50=0),0,$C50/(AW50+1))","v":0},0,{"$f":"IF(OR(BA$5=0,SUMPRODUCT(('erreurs calcul répartCM'!$J$2:AY$2>0)*1)>0,$C50=0),0,$C50/(AY50+1))","v":0},0,{"$f":"IF(OR(BC$5=0,SUMPRODUCT(('erreurs calcul répartCM'!$J$2:BA$2>0)*1)>0,$C50=0),0,$C50/(BA50+1))","v":0},0,{"$f":"IF(OR(BE$5=0,SUMPRODUCT(('erreurs calcul répartCM'!$J$2:BC$2>0)*1)>0,$C50=0),0,$C50/(BC50+1))","v":0},0,{"$f":"IF(OR(BG$5=0,SUMPRODUCT(('erreurs calcul répartCM'!$J$2:BE$2>0)*1)>0,$C50=0),0,$C50/(BE50+1))","v":0},0,{"$f":"IF(OR(BI$5=0,SUMPRODUCT(('erreurs calcul répartCM'!$J$2:BG$2>0)*1)>0,$C50=0),0,$C50/(BG50+1))","v":0},0,{"$f":"IF(OR(BK$5=0,SUMPRODUCT(('erreurs calcul répartCM'!$J$2:BI$2>0)*1)>0,$C50=0),0,$C50/(BI50+1))","v":0},0,{"$f":"IF(OR(BM$5=0,SUMPRODUCT(('erreurs calcul répartCM'!$J$2:BK$2>0)*1)>0,$C50=0),0,$C50/(BK50+1))","v":0},0,{"$f":"IF(OR(BO$5=0,SUMPRODUCT(('erreurs calcul répartCM'!$J$2:BM$2>0)*1)>0,$C50=0),0,$C50/(BM50+1))","v":0},0,{"$f":"IF(OR(BQ$5=0,SUMPRODUCT(('erreurs calcul répartCM'!$J$2:BO$2>0)*1)>0,$C50=0),0,$C50/(BO50+1))","v":0},0]
[43,{"$f":"IFERROR(VLOOKUP($A51,'2. Voix obtenues'!$U$7:$V$56,2,FALSE()),\"\")","v":0},{"$f":"SUMPRODUCT(($B51='2. Voix obtenues'!$C$7:$C$56)*('2. Voix obtenues'!$D$7:$D$56))","v":0},0,null,0,null,null,null,0,0,{"$f":"IF(OR(M$5=0,SUMPRODUCT(('erreurs calcul répartCM'!$J$2:K$2>0)*1)>0,$C51=0),0,$C51/(K51+1))","v":0},0,{"$f":"IF(OR(O$5=0,SUMPRODUCT(('erreurs calcul répartCM'!$J$2:M$2>0)*1)>0,$C51=0),0,$C51/(M51+1))","v":0},0,{"$f":"IF(OR(Q$5=0,SUMPRODUCT(('erreurs calcul répartCM'!$J$2:O$2>0)*1)>0,$C51=0),0,$C51/(O51+1))","v":0},0,{"$f":"IF(OR(S$5=0,SUMPRODUCT(('erreurs calcul répartCM'!$J$2:Q$2>0)*1)>0,$C51=0),0,$C51/(Q51+1))","v":0},0,{"$f":"IF(OR(U$5=0,SUMPRODUCT(('erreurs calcul répartCM'!$J$2:S$2>0)*1)>0,$C51=0),0,$C51/(S51+1))","v":0},0,{"$f":"IF(OR(W$5=0,SUMPRODUCT(('erreurs calcul répartCM'!$J$2:U$2>0)*1)>0,$C51=0),0,$C51/(U51+1))","v":0},0,{"$f":"IF(OR(Y$5=0,SUMPRODUCT(('erreurs calcul répartCM'!$J$2:W$2>0)*1)>0,$C51=0),0,$C51/(W51+1))","v":0},0,{"$f":"IF(OR(AA$5=0,SUMPRODUCT(('erreurs calcul répartCM'!$J$2:Y$2>0)*1)>0,$C51=0),0,$C51/(Y51+1))","v":0},0,{"$f":"IF(OR(AC$5=0,SUMPRODUCT(('erreurs calcul répartCM'!$J$2:AA$2>0)*1)>0,$C51=0),0,$C51/(AA51+1))","v":0},0,{"$f":"IF(OR(AE$5=0,SUMPRODUCT(('erreurs calcul répartCM'!$J$2:AC$2>0)*1)>0,$C51=0),0,$C51/(AC51+1))","v":0},0,{"$f":"IF(OR(AG$5=0,SUMPRODUCT(('erreurs calcul répartCM'!$J$2:AE$2>0)*1)>0,$C51=0),0,$C51/(AE51+1))","v":0},0,{"$f":"IF(OR(AI$5=0,SUMPRODUCT(('erreurs calcul répartCM'!$J$2:AG$2>0)*1)>0,$C51=0),0,$C51/(AG51+1))","v":0},0,{"$f":"IF(OR(AK$5=0,SUMPRODUCT(('erreurs calcul répartCM'!$J$2:AI$2>0)*1)>0,$C51=0),0,$C51/(AI51+1))","v":0},0,{"$f":"IF(OR(AM$5=0,SUMPRODUCT(('erreurs calcul répartCM'!$J$2:AK$2>0)*1)>0,$C51=0),0,$C51/(AK51+1))","v":0},0,{"$f":"IF(OR(AO$5=0,SUMPRODUCT(('erreurs calcul répartCM'!$J$2:AM$2>0)*1)>0,$C51=0),0,$C51/(AM51+1))","v":0},0,{"$f":"IF(OR(AQ$5=0,SUMPRODUCT(('erreurs calcul répartCM'!$J$2:AO$2>0)*1)>0,$C51=0),0,$C51/(AO51+1))","v":0},0,{"$f":"IF(OR(AS$5=0,SUMPRODUCT(('erreurs calcul répartCM'!$J$2:AQ$2>0)*1)>0,$C51=0),0,$C51/(AQ51+1))","v":0},0,{"$f":"IF(OR(AU$5=0,SUMPRODUCT(('erreurs calcul répartCM'!$J$2:AS$2>0)*1)>0,$C51=0),0,$C51/(AS51+1))","v":0},0,{"$f":"IF(OR(AW$5=0,SUMPRODUCT(('erreurs calcul répartCM'!$J$2:AU$2>0)*1)>0,$C51=0),0,$C51/(AU51+1))","v":0},0,{"$f":"IF(OR(AY$5=0,SUMPRODUCT(('erreurs calcul répartCM'!$J$2:AW$2>0)*1)>0,$C51=0),0,$C51/(AW51+1))","v":0},0,{"$f":"IF(OR(BA$5=0,SUMPRODUCT(('erreurs calcul répartCM'!$J$2:AY$2>0)*1)>0,$C51=0),0,$C51/(AY51+1))","v":0},0,{"$f":"IF(OR(BC$5=0,SUMPRODUCT(('erreurs calcul répartCM'!$J$2:BA$2>0)*1)>0,$C51=0),0,$C51/(BA51+1))","v":0},0,{"$f":"IF(OR(BE$5=0,SUMPRODUCT(('erreurs calcul répartCM'!$J$2:BC$2>0)*1)>0,$C51=0),0,$C51/(BC51+1))","v":0},0,{"$f":"IF(OR(BG$5=0,SUMPRODUCT(('erreurs calcul répartCM'!$J$2:BE$2>0)*1)>0,$C51=0),0,$C51/(BE51+1))","v":0},0,{"$f":"IF(OR(BI$5=0,SUMPRODUCT(('erreurs calcul répartCM'!$J$2:BG$2>0)*1)>0,$C51=0),0,$C51/(BG51+1))","v":0},0,{"$f":"IF(OR(BK$5=0,SUMPRODUCT(('erreurs calcul répartCM'!$J$2:BI$2>0)*1)>0,$C51=0),0,$C51/(BI51+1))","v":0},0,{"$f":"IF(OR(BM$5=0,SUMPRODUCT(('erreurs calcul répartCM'!$J$2:BK$2>0)*1)>0,$C51=0),0,$C51/(BK51+1))","v":0},0,{"$f":"IF(OR(BO$5=0,SUMPRODUCT(('erreurs calcul répartCM'!$J$2:BM$2>0)*1)>0,$C51=0),0,$C51/(BM51+1))","v":0},0,{"$f":"IF(OR(BQ$5=0,SUMPRODUCT(('erreurs calcul répartCM'!$J$2:BO$2>0)*1)>0,$C51=0),0,$C51/(BO51+1))","v":0},0]
[44,{"$f":"IFERROR(VLOOKUP($A52,'2. Voix obtenues'!$U$7:$V$56,2,FALSE()),\"\")","v":0},{"$f":"SUMPRODUCT(($B52='2. Voix obtenues'!$C$7:$C$56)*('2. Voix obtenues'!$D$7:$D$56))","v":0},0,null,0,null,null,null,0,0,{"$f":"IF(OR(M$5=0,SUMPRODUCT(('erreurs calcul répartCM'!$J$2:K$2>0)*1)>0,$C52=0),0,$C52/(K52+1))","v":0},0,{"$f":"IF(OR(O$5=0,SUMPRODUCT(('erreurs calcul répartCM'!$J$2:M$2>0)*1)>0,$C52=0),0,$C52/(M52+1))","v":0},0,{"$f":"IF(OR(Q$5=0,SUMPRODUCT(('erreurs calcul répartCM'!$J$2:O$2>0)*1)>0,$C52=0),0,$C52/(O52+1))","v":0},0,{"$f":"IF(OR(S$5=0,SUMPRODUCT(('erreurs calcul répartCM'!$J$2:Q$2>0)*1)>0,$C52=0),0,$C52/(Q52+1))","v":0},0,{"$f":"IF(OR(U$5=0,SUMPRODUCT(('erreurs calcul répartCM'!$J$2:S$2>0)*1)>0,$C52=0),0,$C52/(S52+1))","v":0},0,{"$f":"IF(OR(W$5=0,SUMPRODUCT(('erreurs calcul répartCM'!$J$2:U$2>0)*1)>0,$C52=0),0,$C52/(U52+1))","v":0},0,{"$f":"IF(OR(Y$5=0,SUMPRODUCT(('erreurs calcul répartCM'!$J$2:W$2>0)*1)>0,$C52=0),0,$C52/(W52+1))","v":0},0,{"$f":"IF(OR(AA$5=0,SUMPRODUCT(('erreurs calcul répartCM'!$J$2:Y$2>0)*1)>0,$C52=0),0,$C52/(Y52+1))","v":0},0,{"$f":"IF(OR(AC$5=0,SUMPRODUCT(('erreurs calcul répartCM'!$J$2:AA$2>0)*1)>0,$C52=0),0,$C52/(AA52+1))","v":0},0,{"$f":"IF(OR(AE$5=0,SUMPRODUCT(('erreurs calcul répartCM'!$J$2:AC$2>0)*1)>0,$C52=0),0,$C52/(AC52+1))","v":0},0,{"$f":"IF(OR(AG$5=0,SUMPRODUCT(('erreurs calcul répartCM'!$J$2:AE$2>0)*1)>0,$C52=0),0,$C52/(AE52+1))","v":0},0,{"$f":"IF(OR(AI$5=0,SUMPRODUCT(('erreurs calcul répartCM'!$J$2:AG$2>0)*1)>0,$C52=0),0,$C52/(AG52+1))","v":0},0,{"$f":"IF(OR(AK$5=0,SUMPRODUCT(('erreurs calcul répartCM'!$J$2:AI$2>0)*1)>0,$C52=0),0,$C52/(AI52+1))","v":0},0,{"$f":"IF(OR(AM$5=0,SUMPRODUCT(('erreurs calcul répartCM'!$J$2:AK$2>0)*1)>0,$C52=0),0,$C52/(AK52+1))","v":0},0,{"$f":"IF(OR(AO$5=0,SUMPRODUCT(('erreurs calcul répartCM'!$J$2:AM$2>0)*1)>0,$C52=0),0,$C52/(AM52+1))","v":0},0,{"$f":"IF(OR(AQ$5=0,SUMPRODUCT(('erreurs calcul répartCM'!$J$2:AO$2>0)*1)>0,$C52=0),0,$C52/(AO52+1))","v":0},0,{"$f":"IF(OR(AS$5=0,SUMPRODUCT(('erreurs calcul répartCM'!$J$2:AQ$2>0)*1)>0,$C52=0),0,$C52/(AQ52+1))","v":0},0,{"$f":"IF(OR(AU$5=0,SUMPRODUCT(('erreurs calcul répartCM'!$J$2:AS$2>0)*1)>0,$C52=0),0,$C52/(AS52+1))","v":0},0,{"$f":"IF(OR(AW$5=0,SUMPRODUCT(('erreurs calcul répartCM'!$J$2:AU$2>0)*1)>0,$C52=0),0,$C52/(AU52+1))","v":0},0,{"$f":"IF(OR(AY$5=0,SUMPRODUCT(('erreurs calcul répartCM'!$J$2:AW$2>0)*1)>0,$C52=0),0,$C52/(AW52+1))","v":0},0,{"$f":"IF(OR(BA$5=0,SUMPRODUCT(('erreurs calcul répartCM'!$J$2:AY$2>0)*1)>0,$C52=0),0,$C52/(AY52+1))","v":0},0,{"$f":"IF(OR(BC$5=0,SUMPRODUCT(('erreurs calcul répartCM'!$J$2:BA$2>0)*1)>0,$C52=0),0,$C52/(BA52+1))","v":0},0,{"$f":"IF(OR(BE$5=0,SUMPRODUCT(('erreurs calcul répartCM'!$J$2:BC$2>0)*1)>0,$C52=0),0,$C52/(BC52+1))","v":0},0,{"$f":"IF(OR(BG$5=0,SUMPRODUCT(('erreurs calcul répartCM'!$J$2:BE$2>0)*1)>0,$C52=0),0,$C52/(BE52+1))","v":0},0,{"$f":"IF(OR(BI$5=0,SUMPRODUCT(('erreurs calcul répartCM'!$J$2:BG$2>0)*1)>0,$C52=0),0,$C52/(BG52+1))","v":0},0,{"$f":"IF(OR(BK$5=0,SUMPRODUCT(('erreurs calcul répartCM'!$J$2:BI$2>0)*1)>0,$C52=0),0,$C52/(BI52+1))","v":0},0,{"$f":"IF(OR(BM$5=0,SUMPRODUCT(('erreurs calcul répartCM'!$J$2:BK$2>0)*1)>0,$C52=0),0,$C52/(BK52+1))","v":0},0,{"$f":"IF(OR(BO$5=0,SUMPRODUCT(('erreurs calcul répartCM'!$J$2:BM$2>0)*1)>0,$C52=0),0,$C52/(BM52+1))","v":0},0,{"$f":"IF(OR(BQ$5=0,SUMPRODUCT(('erreurs calcul répartCM'!$J$2:BO$2>0)*1)>0,$C52=0),0,$C52/(BO52+1))","v":0},0]
[45,{"$f":"IFERROR(VLOOKUP($A53,'2. Voix obtenues'!$U$7:$V$56,2,FALSE()),\"\")","v":0},{"$f":"SUMPRODUCT(($B53='2. Voix obtenues'!$C$7:$C$56)*('2. Voix obtenues'!$D$7:$D$56))","v":0},0,null,0,null,null,null,0,0,{"$f":"IF(OR(M$5=0,SUMPRODUCT(('erreurs calcul répartCM'!$J$2:K$2>0)*1)>0,$C53=0),0,$C53/(K53+1))","v":0},0,{"$f":"IF(OR(O$5=0,SUMPRODUCT(('erreurs calcul répartCM'!$J$2:M$2>0)*1)>0,$C53=0),0,$C53/(M53+1))","v":0},0,{"$f":"IF(OR(Q$5=0,SUMPRODUCT(('erreurs calcul répartCM'!$J$2:O$2>0)*1)>0,$C53=0),0,$C53/(O53+1))","v":0},0,{"$f":"IF(OR(S$5=0,SUMPRODUCT(('erreurs calcul répartCM'!$J$2:Q$2>0)*1)>0,$C53=0),0,$C53/(Q53+1))","v":0},0,{"$f":"IF(OR(U$5=0,SUMPRODUCT(('erreurs calcul répartCM'!$J$2:S$2>0)*1)>0,$C53=0),0,$C53/(S53+1))","v":0},0,{"$f":"IF(OR(W$5=0,SUMPRODUCT(('erreurs calcul répartCM'!$J$2:U$2>0)*1)>0,$C53=0),0,$C53/(U53+1))","v":0},0,{"$f":"IF(OR(Y$5=0,SUMPRODUCT(('erreurs calcul répartCM'!$J$2:W$2>0)*1)>0,$C53=0),0,$C53/(W53+1))","v":0},0,{"$f":"IF(OR(AA$5=0,SUMPRODUCT(('erreurs calcul répartCM'!$J$2:Y$2>0)*1)>0,$C53=0),0,$C53/(Y53+1))","v":0},0,{"$f":"IF(OR(AC$5=0,SUMPRODUCT(('erreurs calcul répartCM'!$J$2:AA$2>0)*1)>0,$C53=0),0,$C53/(AA53+1))","v":0},0,{"$f":"IF(OR(AE$5=0,SUMPRODUCT(('erreurs calcul répartCM'!$J$2:AC$2>0)*1)>0,$C53=0),0,$C53/(AC53+1))","v":0},0,{"$f":"IF(OR(AG$5=0,SUMPRODUCT(('erreurs calcul répartCM'!$J$2:AE$2>0)*1)>0,$C53=0),0,$C53/(AE53+1))","v":0},0,{"$f":"IF(OR(AI$5=0,SUMPRODUCT(('erreurs calcul répartCM'!$J$2:AG$2>0)*1)>0,$C53=0),0,$C53/(AG53+1))","v":0},0,{"$f":"IF(OR(AK$5=0,SUMPRODUCT(('erreurs calcul répartCM'!$J$2:AI$2>0)*1)>0,$C53=0),0,$C53/(AI53+1))","v":0},0,{"$f":"IF(OR(AM$5=0,SUMPRODUCT(('erreurs calcul répartCM'!$J$2:AK$2>0)*1)>0,$C53=0),0,$C53/(AK53+1))","v":0},0,{"$f":"IF(OR(AO$5=0,SUMPRODUCT(('erreurs calcul répartCM'!$J$2:AM$2>0)*1)>0,$C53=0),0,$C53/(AM53+1))","v":0},0,{"$f":"IF(OR(AQ$5=0,SUMPRODUCT(('erreurs calcul répartCM'!$J$2:AO$2>0)*1)>0,$C53=0),0,$C53/(AO53+1))","v":0},0,{"$f":"IF(OR(AS$5=0,SUMPRODUCT(('erreurs calcul répartCM'!$J$2:AQ$2>0)*1)>0,$C53=0),0,$C53/(AQ53+1))","v":0},0,{"$f":"IF(OR(AU$5=0,SUMPRODUCT(('erreurs calcul répartCM'!$J$2:AS$2>0)*1)>0,$C53=0),0,$C53/(AS53+1))","v":0},0,{"$f":"IF(OR(AW$5=0,SUMPRODUCT(('erreurs calcul répartCM'!$J$2:AU$2>0)*1)>0,$C53=0),0,$C53/(AU53+1))","v":0},0,{"$f":"IF(OR(AY$5=0,SUMPRODUCT(('erreurs calcul répartCM'!$J$2:AW$2>0)*1)>0,$C53=0),0,$C53/(AW53+1))","v":0},0,{"$f":"IF(OR(BA$5=0,SUMPRODUCT(('erreurs calcul répartCM'!$J$2:AY$2>0)*1)>0,$C53=0),0,$C53/(AY53+1))","v":0},0,{"$f":"IF(OR(BC$5=0,SUMPRODUCT(('erreurs calcul répartCM'!$J$2:BA$2>0)*1)>0,$C53=0),0,$C53/(BA53+1))","v":0},0,{"$f":"IF(OR(BE$5=0,SUMPRODUCT(('erreurs calcul répartCM'!$J$2:BC$2>0)*1)>0,$C53=0),0,$C53/(BC53+1))","v":0},0,{"$f":"IF(OR(BG$5=0,SUMPRODUCT(('erreurs calcul répartCM'!$J$2:BE$2>0)*1)>0,$C53=0),0,$C53/(BE53+1))","v":0},0,{"$f":"IF(OR(BI$5=0,SUMPRODUCT(('erreurs calcul répartCM'!$J$2:BG$2>0)*1)>0,$C53=0),0,$C53/(BG53+1))","v":0},0,{"$f":"IF(OR(BK$5=0,SUMPRODUCT(('erreurs calcul répartCM'!$J$2:BI$2>0)*1)>0,$C53=0),0,$C53/(BI53+1))","v":0},0,{"$f":"IF(OR(BM$5=0,SUMPRODUCT(('erreurs calcul répartCM'!$J$2:BK$2>0)*1)>0,$C53=0),0,$C53/(BK53+1))","v":0},0,{"$f":"IF(OR(BO$5=0,SUMPRODUCT(('erreurs calcul répartCM'!$J$2:BM$2>0)*1)>0,$C53=0),0,$C53/(BM53+1))","v":0},0,{"$f":"IF(OR(BQ$5=0,SUMPRODUCT(('erreurs calcul répartCM'!$J$2:BO$2>0)*1)>0,$C53=0),0,$C53/(BO53+1))","v":0},0]
[46,{"$f":"IFERROR(VLOOKUP($A54,'2. Voix obtenues'!$U$7:$V$56,2,FALSE()),\"\")","v":0},{"$f":"SUMPRODUCT(($B54='2. Voix obtenues'!$C$7:$C$56)*('2. Voix obtenues'!$D$7:$D$56))","v":0},0,null,0,null,null,null,0,0,{"$f":"IF(OR(M$5=0,SUMPRODUCT(('erreurs calcul répartCM'!$J$2:K$2>0)*1)>0,$C54=0),0,$C54/(K54+1))","v":0},0,{"$f":"IF(OR(O$5=0,SUMPRODUCT(('erreurs calcul répartCM'!$J$2:M$2>0)*1)>0,$C54=0),0,$C54/(M54+1))","v":0},0,{"$f":"IF(OR(Q$5=0,SUMPRODUCT(('erreurs calcul répartCM'!$J$2:O$2>0)*1)>0,$C54=0),0,$C54/(O54+1))","v":0},0,{"$f":"IF(OR(S$5=0,SUMPRODUCT(('erreurs calcul répartCM'!$J$2:Q$2>0)*1)>0,$C54=0),0,$C54/(Q54+1))","v":0},0,{"$f":"IF(OR(U$5=0,SUMPRODUCT(('erreurs calcul répartCM'!$J$2:S$2>0)*1)>0,$C54=0),0,$C54/(S54+1))","v":0},0,{"$f":"IF(OR(W$5=0,SUMPRODUCT(('erreurs calcul répartCM'!$J$2:U$2>0)*1)>0,$C54=0),0,$C54/(U54+1))","v":0},0,{"$f":"IF(OR(Y$5=0,SUMPRODUCT(('erreurs calcul répartCM'!$J$2:W$2>0)*1)>0,$C54=0),0,$C54/(W54+1))","v":0},0,{"$f":"IF(OR(AA$5=0,SUMPRODUCT(('erreurs calcul répartCM'!$J$2:Y$2>0)*1)>0,$C54=0),0,$C54/(Y54+1))","v":0},0,{"$f":"IF(OR(AC$5=0,SUMPRODUCT(('erreurs calcul répartCM'!$J$2:AA$2>0)*1)>0,$C54=0),0,$C54/(AA54+1))","v":0},0,{"$f":"IF(OR(AE$5=0,SUMPRODUCT(('erreurs calcul répartCM'!$J$2:AC$2>0)*1)>0,$C54=0),0,$C54/(AC54+1))","v":0},0,{"$f":"IF(OR(AG$5=0,SUMPRODUCT(('erreurs calcul répartCM'!$J$2:AE$2>0)*1)>0,$C54=0),0,$C54/(AE54+1))","v":0},0,{"$f":"IF(OR(AI$5=0,SUMPRODUCT(('erreurs calcul répartCM'!$J$2:AG$2>0)*1)>0,$C54=0),0,$C54/(AG54+1))","v":0},0,{"$f":"IF(OR(AK$5=0,SUMPRODUCT(('erreurs calcul répartCM'!$J$2:AI$2>0)*1)>0,$C54=0),0,$C54/(AI54+1))","v":0},0,{"$f":"IF(OR(AM$5=0,SUMPRODUCT(('erreurs calcul répartCM'!$J$2:AK$2>0)*1)>0,$C54=0),0,$C54/(AK54+1))","v":0},0,{"$f":"IF(OR(AO$5=0,SUMPRODUCT(('erreurs calcul répartCM'!$J$2:AM$2>0)*1)>0,$C54=0),0,$C54/(AM54+1))","v":0},0,{"$f":"IF(OR(AQ$5=0,SUMPRODUCT(('erreurs calcul répartCM'!$J$2:AO$2>0)*1)>0,$C54=0),0,$C54/(AO54+1))","v":0},0,{"$f":"IF(OR(AS$5=0,SUMPRODUCT(('erreurs calcul répartCM'!$J$2:AQ$2>0)*1)>0,$C54=0),0,$C54/(AQ54+1))","v":0},0,{"$f":"IF(OR(AU$5=0,SUMPRODUCT(('erreurs calcul répartCM'!$J$2:AS$2>0)*1)>0,$C54=0),0,$C54/(AS54+1))","v":0},0,{"$f":"IF(OR(AW$5=0,SUMPRODUCT(('erreurs calcul répartCM'!$J$2:AU$2>0)*1)>0,$C54=0),0,$C54/(AU54+1))","v":0},0,{"$f":"IF(OR(AY$5=0,SUMPRODUCT(('erreurs calcul répartCM'!$J$2:AW$2>0)*1)>0,$C54=0),0,$C54/(AW54+1))","v":0},0,{"$f":"IF(OR(BA$5=0,SUMPRODUCT(('erreurs calcul répartCM'!$J$2:AY$2>0)*1)>0,$C54=0),0,$C54/(AY54+1))","v":0},0,{"$f":"IF(OR(BC$5=0,SUMPRODUCT(('erreurs calcul répartCM'!$J$2:BA$2>0)*1)>0,$C54=0),0,$C54/(BA54+1))","v":0},0,{"$f":"IF(OR(BE$5=0,SUMPRODUCT(('erreurs calcul répartCM'!$J$2:BC$2>0)*1)>0,$C54=0),0,$C54/(BC54+1))","v":0},0,{"$f":"IF(OR(BG$5=0,SUMPRODUCT(('erreurs calcul répartCM'!$J$2:BE$2>0)*1)>0,$C54=0),0,$C54/(BE54+1))","v":0},0,{"$f":"IF(OR(BI$5=0,SUMPRODUCT(('erreurs calcul répartCM'!$J$2:BG$2>0)*1)>0,$C54=0),0,$C54/(BG54+1))","v":0},0,{"$f":"IF(OR(BK$5=0,SUMPRODUCT(('erreurs calcul répartCM'!$J$2:BI$2>0)*1)>0,$C54=0),0,$C54/(BI54+1))","v":0},0,{"$f":"IF(OR(BM$5=0,SUMPRODUCT(('erreurs calcul répartCM'!$J$2:BK$2>0)*1)>0,$C54=0),0,$C54/(BK54+1))","v":0},0,{"$f":"IF(OR(BO$5=0,SUMPRODUCT(('erreurs calcul répartCM'!$J$2:BM$2>0)*1)>0,$C54=0),0,$C54/(BM54+1))","v":0},0,{"$f":"IF(OR(BQ$5=0,SUMPRODUCT(('erreurs calcul répartCM'!$J$2:BO$2>0)*1)>0,$C54=0),0,$C54/(BO54+1))","v":0},0]
[47,{"$f":"IFERROR(VLOOKUP($A55,'2. Voix obtenues'!$U$7:$V$56,2,FALSE()),\"\")","v":0},{"$f":"SUMPRODUCT(($B55='2. Voix obtenues'!$C$7:$C$56)*('2. Voix obtenues'!$D$7:$D$56))","v":0},0,null,0,null,null,null,0,0,{"$f":"IF(OR(M$5=0,SUMPRODUCT(('erreurs calcul répartCM'!$J$2:K$2>0)*1)>0,$C55=0),0,$C55/(K55+1))","v":0},0,{"$f":"IF(OR(O$5=0,SUMPRODUCT(('erreurs calcul répartCM'!$J$2:M$2>0)*1)>0,$C55=0),0,$C55/(M55+1))","v":0},0,{"$f":"IF(OR(Q$5=0,SUMPRODUCT(('erreurs calcul répartCM'!$J$2:O$2>0)*1)>0,$C55=0),0,$C55/(O55+1))","v":0},0,{"$f":"IF(OR(S$5=0,SUMPRODUCT(('erreurs calcul répartCM'!$J$2:Q$2>0)*1)>0,$C55=0),0,$C55/(Q55+1))","v":0},0,{"$f":"IF(OR(U$5=0,SUMPRODUCT(('erreurs calcul répartCM'!$J$2:S$2>0)*1)>0,$C55=0),0,$C55/(S55+1))","v":0},0,{"$f":"IF(OR(W$5=0,SUMPRODUCT(('erreurs calcul répartCM'!$J$2:U$2>0)*1)>0,$C55=0),0,$C55/(U55+1))","v":0},0,{"$f":"IF(OR(Y$5=0,SUMPRODUCT(('erreurs calcul répartCM'!$J$2:W$2>0)*1)>0,$C55=0),0,$C55/(W55+1))","v":0},0,{"$f":"IF(OR(AA$5=0,SUMPRODUCT(('erreurs calcul répartCM'!$J$2:Y$2>0)*1)>0,$C55=0),0,$C55/(Y55+1))","v":0},0,{"$f":"IF(OR(AC$5=0,SUMPRODUCT(('erreurs calcul répartCM'!$J$2:AA$2>0)*1)>0,$C55=0),0,$C55/(AA55+1))","v":0},0,{"$f":"IF(OR(AE$5=0,SUMPRODUCT(('erreurs calcul répartCM'!$J$2:AC$2>0)*1)>0,$C55=0),0,$C55/(AC55+1))","v":0},0,{"$f":"IF(OR(AG$5=0,SUMPRODUCT(('erreurs calcul répartCM'!$J$2:AE$2>0)*1)>0,$C55=0),0,$C55/(AE55+1))","v":0},0,{"$f":"IF(OR(AI$5=0,SUMPRODUCT(('erreurs calcul répartCM'!$J$2:AG$2>0)*1)>0,$C55=0),0,$C55/(AG55+1))","v":0},0,{"$f":"IF(OR(AK$5=0,SUMPRODUCT(('erreurs calcul répartCM'!$J$2:AI$2>0)*1)>0,$C55=0),0,$C55/(AI55+1))","v":0},0,{"$f":"IF(OR(AM$5=0,SUMPRODUCT(('erreurs calcul répartCM'!$J$2:AK$2>0)*1)>0,$C55=0),0,$C55/(AK55+1))","v":0},0,{"$f":"IF(OR(AO$5=0,SUMPRODUCT(('erreurs calcul répartCM'!$J$2:AM$2>0)*1)>0,$C55=0),0,$C55/(AM55+1))","v":0},0,{"$f":"IF(OR(AQ$5=0,SUMPRODUCT(('erreurs calcul répartCM'!$J$2:AO$2>0)*1)>0,$C55=0),0,$C55/(AO55+1))","v":0},0,{"$f":"IF(OR(AS$5=0,SUMPRODUCT(('erreurs calcul répartCM'!$J$2:AQ$2>0)*1)>0,$C55=0),0,$C55/(AQ55+1))","v":0},0,{"$f":"IF(OR(AU$5=0,SUMPRODUCT(('erreurs calcul répartCM'!$J$2:AS$2>0)*1)>0,$C55=0),0,$C55/(AS55+1))","v":0},0,{"$f":"IF(OR(AW$5=0,SUMPRODUCT(('erreurs calcul répartCM'!$J$2:AU$2>0)*1)>0,$C55=0),0,$C55/(AU55+1))","v":0},0,{"$f":"IF(OR(AY$5=0,SUMPRODUCT(('erreurs calcul répartCM'!$J$2:AW$2>0)*1)>0,$C55=0),0,$C55/(AW55+1))","v":0},0,{"$f":"IF(OR(BA$5=0,SUMPRODUCT(('erreurs calcul répartCM'!$J$2:AY$2>0)*1)>0,$C55=0),0,$C55/(AY55+1))","v":0},0,{"$f":"IF(OR(BC$5=0,SUMPRODUCT(('erreurs calcul répartCM'!$J$2:BA$2>0)*1)>0,$C55=0),0,$C55/(BA55+1))","v":0},0,{"$f":"IF(OR(BE$5=0,SUMPRODUCT(('erreurs calcul répartCM'!$J$2:BC$2>0)*1)>0,$C55=0),0,$C55/(BC55+1))","v":0},0,{"$f":"IF(OR(BG$5=0,SUMPRODUCT(('erreurs calcul répartCM'!$J$2:BE$2>0)*1)>0,$C55=0),0,$C55/(BE55+1))","v":0},0,{"$f":"IF(OR(BI$5=0,SUMPRODUCT(('erreurs calcul répartCM'!$J$2:BG$2>0)*1)>0,$C55=0),0,$C55/(BG55+1))","v":0},0,{"$f":"IF(OR(BK$5=0,SUMPRODUCT(('erreurs calcul répartCM'!$J$2:BI$2>0)*1)>0,$C55=0),0,$C55/(BI55+1))","v":0},0,{"$f":"IF(OR(BM$5=0,SUMPRODUCT(('erreurs calcul répartCM'!$J$2:BK$2>0)*1)>0,$C55=0),0,$C55/(BK55+1))","v":0},0,{"$f":"IF(OR(BO$5=0,SUMPRODUCT(('erreurs calcul répartCM'!$J$2:BM$2>0)*1)>0,$C55=0),0,$C55/(BM55+1))","v":0},0,{"$f":"IF(OR(BQ$5=0,SUMPRODUCT(('erreurs calcul répartCM'!$J$2:BO$2>0)*1)>0,$C55=0),0,$C55/(BO55+1))","v":0},0]
[48,{"$f":"IFERROR(VLOOKUP($A56,'2. Voix obtenues'!$U$7:$V$56,2,FALSE()),\"\")","v":0},{"$f":"SUMPRODUCT(($B56='2. Voix obtenues'!$C$7:$C$56)*('2. Voix obtenues'!$D$7:$D$56))","v":0},0,null,0,null,null,null,0,0,{"$f":"IF(OR(M$5=0,SUMPRODUCT(('erreurs calcul répartCM'!$J$2:K$2>0)*1)>0,$C56=0),0,$C56/(K56+1))","v":0},0,{"$f":"IF(OR(O$5=0,SUMPRODUCT(('erreurs calcul répartCM'!$J$2:M$2>0)*1)>0,$C56=0),0,$C56/(M56+1))","v":0},0,{"$f":"IF(OR(Q$5=0,SUMPRODUCT(('erreurs calcul répartCM'!$J$2:O$2>0)*1)>0,$C56=0),0,$C56/(O56+1))","v":0},0,{"$f":"IF(OR(S$5=0,SUMPRODUCT(('erreurs calcul répartCM'!$J$2:Q$2>0)*1)>0,$C56=0),0,$C56/(Q56+1))","v":0},0,{"$f":"IF(OR(U$5=0,SUMPRODUCT(('erreurs calcul répartCM'!$J$2:S$2>0)*1)>0,$C56=0),0,$C56/(S56+1))","v":0},0,{"$f":"IF(OR(W$5=0,SUMPRODUCT(('erreurs calcul répartCM'!$J$2:U$2>0)*1)>0,$C56=0),0,$C56/(U56+1))","v":0},0,{"$f":"IF(OR(Y$5=0,SUMPRODUCT(('erreurs calcul répartCM'!$J$2:W$2>0)*1)>0,$C56=0),0,$C56/(W56+1))","v":0},0,{"$f":"IF(OR(AA$5=0,SUMPRODUCT(('erreurs calcul répartCM'!$J$2:Y$2>0)*1)>0,$C56=0),0,$C56/(Y56+1))","v":0},0,{"$f":"IF(OR(AC$5=0,SUMPRODUCT(('erreurs calcul répartCM'!$J$2:AA$2>0)*1)>0,$C56=0),0,$C56/(AA56+1))","v":0},0,{"$f":"IF(OR(AE$5=0,SUMPRODUCT(('erreurs calcul répartCM'!$J$2:AC$2>0)*1)>0,$C56=0),0,$C56/(AC56+1))","v":0},0,{"$f":"IF(OR(AG$5=0,SUMPRODUCT(('erreurs calcul répartCM'!$J$2:AE$2>0)*1)>0,$C56=0),0,$C56/(AE56+1))","v":0},0,{"$f":"IF(OR(AI$5=0,SUMPRODUCT(('erreurs calcul répartCM'!$J$2:AG$2>0)*1)>0,$C56=0),0,$C56/(AG56+1))","v":0},0,{"$f":"IF(OR(AK$5=0,SUMPRODUCT(('erreurs calcul répartCM'!$J$2:AI$2>0)*1)>0,$C56=0),0,$C56/(AI56+1))","v":0},0,{"$f":"IF(OR(AM$5=0,SUMPRODUCT(('erreurs calcul répartCM'!$J$2:AK$2>0)*1)>0,$C56=0),0,$C56/(AK56+1))","v":0},0,{"$f":"IF(OR(AO$5=0,SUMPRODUCT(('erreurs calcul répartCM'!$J$2:AM$2>0)*1)>0,$C56=0),0,$C56/(AM56+1))","v":0},0,{"$f":"IF(OR(AQ$5=0,SUMPRODUCT(('erreurs calcul répartCM'!$J$2:AO$2>0)*1)>0,$C56=0),0,$C56/(AO56+1))","v":0},0,{"$f":"IF(OR(AS$5=0,SUMPRODUCT(('erreurs calcul répartCM'!$J$2:AQ$2>0)*1)>0,$C56=0),0,$C56/(AQ56+1))","v":0},0,{"$f":"IF(OR(AU$5=0,SUMPRODUCT(('erreurs calcul répartCM'!$J$2:AS$2>0)*1)>0,$C56=0),0,$C56/(AS56+1))","v":0},0,{"$f":"IF(OR(AW$5=0,SUMPRODUCT(('erreurs calcul répartCM'!$J$2:AU$2>0)*1)>0,$C56=0),0,$C56/(AU56+1))","v":0},0,{"$f":"IF(OR(AY$5=0,SUMPRODUCT(('erreurs calcul répartCM'!$J$2:AW$2>0)*1)>0,$C56=0),0,$C56/(AW56+1))","v":0},0,{"$f":"IF(OR(BA$5=0,SUMPRODUCT(('erreurs calcul répartCM'!$J$2:AY$2>0)*1)>0,$C56=0),0,$C56/(AY56+1))","v":0},0,{"$f":"IF(OR(BC$5=0,SUMPRODUCT(('erreurs calcul répartCM'!$J$2:BA$2>0)*1)>0,$C56=0),0,$C56/(BA56+1))","v":0},0,{"$f":"IF(OR(BE$5=0,SUMPRODUCT(('erreurs calcul répartCM'!$J$2:BC$2>0)*1)>0,$C56=0),0,$C56/(BC56+1))","v":0},0,{"$f":"IF(OR(BG$5=0,SUMPRODUCT(('erreurs calcul répartCM'!$J$2:BE$2>0)*1)>0,$C56=0),0,$C56/(BE56+1))","v":0},0,{"$f":"IF(OR(BI$5=0,SUMPRODUCT(('erreurs calcul répartCM'!$J$2:BG$2>0)*1)>0,$C56=0),0,$C56/(BG56+1))","v":0},0,{"$f":"IF(OR(BK$5=0,SUMPRODUCT(('erreurs calcul répartCM'!$J$2:BI$2>0)*1)>0,$C56=0),0,$C56/(BI56+1))","v":0},0,{"$f":"IF(OR(BM$5=0,SUMPRODUCT(('erreurs calcul répartCM'!$J$2:BK$2>0)*1)>0,$C56=0),0,$C56/(BK56+1))","v":0},0,{"$f":"IF(OR(BO$5=0,SUMPRODUCT(('erreurs calcul répartCM'!$J$2:BM$2>0)*1)>0,$C56=0),0,$C56/(BM56+1))","v":0},0,{"$f":"IF(OR(BQ$5=0,SUMPRODUCT(('erreurs calcul répartCM'!$J$2:BO$2>0)*1)>0,$C56=0),0,$C56/(BO56+1))","v":0},0]
[49,{"$f":"IFERROR(VLOOKUP($A57,'2. Voix obtenues'!$U$7:$V$56,2,FALSE()),\"\")","v":0},{"$f":"SUMPRODUCT(($B57='2. Voix obtenues'!$C$7:$C$56)*('2. Voix obtenues'!$D$7:$D$56))","v":0},0,null,0,null,null,null,0,0,{"$f":"IF(OR(M$5=0,SUMPRODUCT(('erreurs calcul répartCM'!$J$2:K$2>0)*1)>0,$C57=0),0,$C57/(K57+1))","v":0},0,{"$f":"IF(OR(O$5=0,SUMPRODUCT(('erreurs calcul répartCM'!$J$2:M$2>0)*1)>0,$C57=0),0,$C57/(M57+1))","v":0},0,{"$f":"IF(OR(Q$5=0,SUMPRODUCT(('erreurs calcul répartCM'!$J$2:O$2>0)*1)>0,$C57=0),0,$C57/(O57+1))","v":0},0,{"$f":"IF(OR(S$5=0,SUMPRODUCT(('erreurs calcul répartCM'!$J$2:Q$2>0)*1)>0,$C57=0),0,$C57/(Q57+1))","v":0},0,{"$f":"IF(OR(U$5=0,SUMPRODUCT(('erreurs calcul répartCM'!$J$2:S$2>0)*1)>0,$C57=0),0,$C57/(S57+1))","v":0},0,{"$f":"IF(OR(W$5=0,SUMPRODUCT(('erreurs calcul répartCM'!$J$2:U$2>0)*1)>0,$C57=0),0,$C57/(U57+1))","v":0},0,{"$f":"IF(OR(Y$5=0,SUMPRODUCT(('erreurs calcul répartCM'!$J$2:W$2>0)*1)>0,$C57=0),0,$C57/(W57+1))","v":0},0,{"$f":"IF(OR(AA$5=0,SUMPRODUCT(('erreurs calcul répartCM'!$J$2:Y$2>0)*1)>0,$C57=0),0,$C57/(Y57+1))","v":0},0,{"$f":"IF(OR(AC$5=0,SUMPRODUCT(('erreurs calcul répartCM'!$J$2:AA$2>0)*1)>0,$C57=0),0,$C57/(AA57+1))","v":0},0,{"$f":"IF(OR(AE$5=0,SUMPRODUCT(('erreurs calcul répartCM'!$J$2:AC$2>0)*1)>0,$C57=0),0,$C57/(AC57+1))","v":0},0,{"$f":"IF(OR(AG$5=0,SUMPRODUCT(('erreurs calcul répartCM'!$J$2:AE$2>0)*1)>0,$C57=0),0,$C57/(AE57+1))","v":0},0,{"$f":"IF(OR(AI$5=0,SUMPRODUCT(('erreurs calcul répartCM'!$J$2:AG$2>0)*1)>0,$C57=0),0,$C57/(AG57+1))","v":0},0,{"$f":"IF(OR(AK$5=0,SUMPRODUCT(('erreurs calcul répartCM'!$J$2:AI$2>0)*1)>0,$C57=0),0,$C57/(AI57+1))","v":0},0,{"$f":"IF(OR(AM$5=0,SUMPRODUCT(('erreurs calcul répartCM'!$J$2:AK$2>0)*1)>0,$C57=0),0,$C57/(AK57+1))","v":0},0,{"$f":"IF(OR(AO$5=0,SUMPRODUCT(('erreurs calcul répartCM'!$J$2:AM$2>0)*1)>0,$C57=0),0,$C57/(AM57+1))","v":0},0,{"$f":"IF(OR(AQ$5=0,SUMPRODUCT(('erreurs calcul répartCM'!$J$2:AO$2>0)*1)>0,$C57=0),0,$C57/(AO57+1))","v":0},0,{"$f":"IF(OR(AS$5=0,SUMPRODUCT(('erreurs calcul répartCM'!$J$2:AQ$2>0)*1)>0,$C57=0),0,$C57/(AQ57+1))","v":0},0,{"$f":"IF(OR(AU$5=0,SUMPRODUCT(('erreurs calcul répartCM'!$J$2:AS$2>0)*1)>0,$C57=0),0,$C57/(AS57+1))","v":0},0,{"$f":"IF(OR(AW$5=0,SUMPRODUCT(('erreurs calcul répartCM'!$J$2:AU$2>0)*1)>0,$C57=0),0,$C57/(AU57+1))","v":0},0,{"$f":"IF(OR(AY$5=0,SUMPRODUCT(('erreurs calcul répartCM'!$J$2:AW$2>0)*1)>0,$C57=0),0,$C57/(AW57+1))","v":0},0,{"$f":"IF(OR(BA$5=0,SUMPRODUCT(('erreurs calcul répartCM'!$J$2:AY$2>0)*1)>0,$C57=0),0,$C57/(AY57+1))","v":0},0,{"$f":"IF(OR(BC$5=0,SUMPRODUCT(('erreurs calcul répartCM'!$J$2:BA$2>0)*1)>0,$C57=0),0,$C57/(BA57+1))","v":0},0,{"$f":"IF(OR(BE$5=0,SUMPRODUCT(('erreurs calcul répartCM'!$J$2:BC$2>0)*1)>0,$C57=0),0,$C57/(BC57+1))","v":0},0,{"$f":"IF(OR(BG$5=0,SUMPRODUCT(('erreurs calcul répartCM'!$J$2:BE$2>0)*1)>0,$C57=0),0,$C57/(BE57+1))","v":0},0,{"$f":"IF(OR(BI$5=0,SUMPRODUCT(('erreurs calcul répartCM'!$J$2:BG$2>0)*1)>0,$C57=0),0,$C57/(BG57+1))","v":0},0,{"$f":"IF(OR(BK$5=0,SUMPRODUCT(('erreurs calcul répartCM'!$J$2:BI$2>0)*1)>0,$C57=0),0,$C57/(BI57+1))","v":0},0,{"$f":"IF(OR(BM$5=0,SUMPRODUCT(('erreurs calcul répartCM'!$J$2:BK$2>0)*1)>0,$C57=0),0,$C57/(BK57+1))","v":0},0,{"$f":"IF(OR(BO$5=0,SUMPRODUCT(('erreurs calcul répartCM'!$J$2:BM$2>0)*1)>0,$C57=0),0,$C57/(BM57+1))","v":0},0,{"$f":"IF(OR(BQ$5=0,SUMPRODUCT(('erreurs calcul répartCM'!$J$2:BO$2>0)*1)>0,$C57=0),0,$C57/(BO57+1))","v":0},0]
[50,{"$f":"IFERROR(VLOOKUP($A58,'2. Voix obtenues'!$U$7:$V$56,2,FALSE()),\"\")","v":0},{"$f":"SUMPRODUCT(($B58='2. Voix obtenues'!$C$7:$C$56)*('2. Voix obtenues'!$D$7:$D$56))","v":0},0,null,0,null,null,null,0,0,{"$f":"IF(OR(M$5=0,SUMPRODUCT(('erreurs calcul répartCM'!$J$2:K$2>0)*1)>0,$C58=0),0,$C58/(K58+1))","v":0},0,{"$f":"IF(OR(O$5=0,SUMPRODUCT(('erreurs calcul répartCM'!$J$2:M$2>0)*1)>0,$C58=0),0,$C58/(M58+1))","v":0},0,{"$f":"IF(OR(Q$5=0,SUMPRODUCT(('erreurs calcul répartCM'!$J$2:O$2>0)*1)>0,$C58=0),0,$C58/(O58+1))","v":0},0,{"$f":"IF(OR(S$5=0,SUMPRODUCT(('erreurs calcul répartCM'!$J$2:Q$2>0)*1)>0,$C58=0),0,$C58/(Q58+1))","v":0},0,{"$f":"IF(OR(U$5=0,SUMPRODUCT(('erreurs calcul répartCM'!$J$2:S$2>0)*1)>0,$C58=0),0,$C58/(S58+1))","v":0},0,{"$f":"IF(OR(W$5=0,SUMPRODUCT(('erreurs calcul répartCM'!$J$2:U$2>0)*1)>0,$C58=0),0,$C58/(U58+1))","v":0},0,{"$f":"IF(OR(Y$5=0,SUMPRODUCT(('erreurs calcul répartCM'!$J$2:W$2>0)*1)>0,$C58=0),0,$C58/(W58+1))","v":0},0,{"$f":"IF(OR(AA$5=0,SUMPRODUCT(('erreurs calcul répartCM'!$J$2:Y$2>0)*1)>0,$C58=0),0,$C58/(Y58+1))","v":0},0,{"$f":"IF(OR(AC$5=0,SUMPRODUCT(('erreurs calcul répartCM'!$J$2:AA$2>0)*1)>0,$C58=0),0,$C58/(AA58+1))","v":0},0,{"$f":"IF(OR(AE$5=0,SUMPRODUCT(('erreurs calcul répartCM'!$J$2:AC$2>0)*1)>0,$C58=0),0,$C58/(AC58+1))","v":0},0,{"$f":"IF(OR(AG$5=0,SUMPRODUCT(('erreurs calcul répartCM'!$J$2:AE$2>0)*1)>0,$C58=0),0,$C58/(AE58+1))","v":0},0,{"$f":"IF(OR(AI$5=0,SUMPRODUCT(('erreurs calcul répartCM'!$J$2:AG$2>0)*1)>0,$C58=0),0,$C58/(AG58+1))","v":0},0,{"$f":"IF(OR(AK$5=0,SUMPRODUCT(('erreurs calcul répartCM'!$J$2:AI$2>0)*1)>0,$C58=0),0,$C58/(AI58+1))","v":0},0,{"$f":"IF(OR(AM$5=0,SUMPRODUCT(('erreurs calcul répartCM'!$J$2:AK$2>0)*1)>0,$C58=0),0,$C58/(AK58+1))","v":0},0,{"$f":"IF(OR(AO$5=0,SUMPRODUCT(('erreurs calcul répartCM'!$J$2:AM$2>0)*1)>0,$C58=0),0,$C58/(AM58+1))","v":0},0,{"$f":"IF(OR(AQ$5=0,SUMPRODUCT(('erreurs calcul répartCM'!$J$2:AO$2>0)*1)>0,$C58=0),0,$C58/(AO58+1))","v":0},0,{"$f":"IF(OR(AS$5=0,SUMPRODUCT(('erreurs calcul répartCM'!$J$2:AQ$2>0)*1)>0,$C58=0),0,$C58/(AQ58+1))","v":0},0,{"$f":"IF(OR(AU$5=0,SUMPRODUCT(('erreurs calcul répartCM'!$J$2:AS$2>0)*1)>0,$C58=0),0,$C58/(AS58+1))","v":0},0,{"$f":"IF(OR(AW$5=0,SUMPRODUCT(('erreurs calcul répartCM'!$J$2:AU$2>0)*1)>0,$C58=0),0,$C58/(AU58+1))","v":0},0,{"$f":"IF(OR(AY$5=0,SUMPRODUCT(('erreurs calcul répartCM'!$J$2:AW$2>0)*1)>0,$C58=0),0,$C58/(AW58+1))","v":0},0,{"$f":"IF(OR(BA$5=0,SUMPRODUCT(('erreurs calcul répartCM'!$J$2:AY$2>0)*1)>0,$C58=0),0,$C58/(AY58+1))","v":0},0,{"$f":"IF(OR(BC$5=0,SUMPRODUCT(('erreurs calcul répartCM'!$J$2:BA$2>0)*1)>0,$C58=0),0,$C58/(BA58+1))","v":0},0,{"$f":"IF(OR(BE$5=0,SUMPRODUCT(('erreurs calcul répartCM'!$J$2:BC$2>0)*1)>0,$C58=0),0,$C58/(BC58+1))","v":0},0,{"$f":"IF(OR(BG$5=0,SUMPRODUCT(('erreurs calcul répartCM'!$J$2:BE$2>0)*1)>0,$C58=0),0,$C58/(BE58+1))","v":0},0,{"$f":"IF(OR(BI$5=0,SUMPRODUCT(('erreurs calcul répartCM'!$J$2:BG$2>0)*1)>0,$C58=0),0,$C58/(BG58+1))","v":0},0,{"$f":"IF(OR(BK$5=0,SUMPRODUCT(('erreurs calcul répartCM'!$J$2:BI$2>0)*1)>0,$C58=0),0,$C58/(BI58+1))","v":0},0,{"$f":"IF(OR(BM$5=0,SUMPRODUCT(('erreurs calcul répartCM'!$J$2:BK$2>0)*1)>0,$C58=0),0,$C58/(BK58+1))","v":0},0,{"$f":"IF(OR(BO$5=0,SUMPRODUCT(('erreurs calcul répartCM'!$J$2:BM$2>0)*1)>0,$C58=0),0,$C58/(BM58+1))","v":0},0,{"$f":"IF(OR(BQ$5=0,SUMPRODUCT(('erreurs calcul répartCM'!$J$2:BO$2>0)*1)>0,$C58=0),0,$C58/(BO58+1))","v":0},0]

{"sheet":"erreurs calcul répartCM","index":5,"n_rows":53,"n_cols":69,"rows_kept":53,"cut":false,"hidden":true,"merged":[]}
[null,null,null,null,null,null,null,null,"N° SIEGE",{"$f":"'3bis. Calcul répartition CM'!K4","v":1},{"$f":"J1","v":1},{"$f":"'3bis. Calcul répartition CM'!M4","v":2},{"$f":"'3bis. Calcul répartition CM'!M4","v":2},{"$f":"'3bis. Calcul répartition CM'!O4","v":3},{"$f":"'3bis. Calcul répartition CM'!O4","v":3},{"$f":"'3bis. Calcul répartition CM'!Q4","v":4},{"$f":"'3bis. Calcul répartition CM'!Q4","v":4},{"$f":"'3bis. Calcul répartition CM'!S4","v":5},{"$f":"'3bis. Calcul répartition CM'!S4","v":5},{"$f":"'3bis. Calcul répartition CM'!U4","v":6},{"$f":"'3bis. Calcul répartition CM'!U4","v":6},{"$f":"'3bis. Calcul répartition CM'!W4","v":7},{"$f":"'3bis. Calcul répartition CM'!W4","v":7},{"$f":"'3bis. Calcul répartition CM'!Y4","v":8},{"$f":"'3bis. Calcul répartition CM'!Y4","v":8},{"$f":"'3bis. Calcul répartition CM'!AA4","v":9},{"$f":"'3bis. Calcul répartition CM'!AA4","v":9},{"$f":"'3bis. Calcul répartition CM'!AC4","v":10},{"$f":"'3bis. Calcul répartition CM'!AC4","v":10},{"$f":"'3bis. Calcul répartition CM'!AE4","v":11},{"$f":"'3bis. Calcul répartition CM'!AE4","v":11},{"$f":"'3bis. Calcul répartition CM'!AG4","v":12},{"$f":"'3bis. Calcul répartition CM'!AG4","v":12},{"$f":"'3bis. Calcul répartition CM'!AI4","v":13},{"$f":"'3bis. Calcul répartition CM'!AI4","v":13},{"$f":"'3bis. Calcul répartition CM'!AK4","v":14},{"$f":"'3bis. Calcul répartition CM'!AK4","v":14},{"$f":"'3bis. Calcul répartition CM'!AM4","v":15},{"$f":"'3bis. Calcul répartition CM'!AM4","v":15},{"$f":"'3bis. Calcul répartition CM'!AO4","v":16},{"$f":"'3bis. Calcul répartition CM'!AO4","v":16},{"$f":"'3bis. Calcul répartition CM'!AQ4","v":17},{"$f":"'3bis. Calcul répartition CM'!AQ4","v":17},{"$f":"'3bis. Calcul répartition CM'!AS4","v":18},{"$f":"'3bis. Calcul répartition CM'!AS4","v":18},{"$f":"'3bis. Calcul répartition CM'!AU4","v":19},{"$f":"'3bis. Calcul répartition CM'!AU4","v":19},{"$f":"'3bis. Calcul répartition CM'!AW4","v":20},{"$f":"'3bis. Calcul répartition CM'!AW4","v":20},{"$f":"'3bis. Calcul répartition CM'!AY4","v":21},{"$f":"'3bis. Calcul répartition CM'!AY4","v":21},{"$f":"'3bis. Calcul répartition CM'!BA4","v":22},{"$f":"'3bis. Calcul répartition CM'!BA4","v":22},{"$f":"'3bis. Calcul répartition CM'!BC4","v":23},{"$f":"'3bis. Calcul répartition CM'!BC4","v":23},{"$f":"'3bis. Calcul répartition CM'!BE4","v":24},{"$f":"'3bis. Calcul répartition CM'!BE4","v":24},{"$f":"'3bis. Calcul répartition CM'!BG4","v":25},{"$f":"'3bis. Calcul répartition CM'!BG4","v":25},{"$f":"'3bis. Calcul répartition CM'!BI4","v":26},{"$f":"'3bis. Calcul répartition CM'!BI4","v":26},{"$f":"'3bis. Calcul répartition CM'!BK4","v":27},{"$f":"'3bis. Calcul répartition CM'!BK4","v":27},{"$f":"'3bis. Calcul répartition CM'!BM4","v":28},{"$f":"'3bis. Calcul répartition CM'!BM4","v":28},{"$f":"'3bis. Calcul répartition CM'!BO4","v":29},{"$f":"'3bis. Calcul répartition CM'!BO4","v":29},{"$f":"'3bis. Calcul répartition CM'!BQ4","v":30},{"$f":"'3bis. Calcul répartition CM'!BQ4","v":30}]
[null,null,null,null,null,null,null,null,"ERREUR :",null,{"$f":"IF(SUMPRODUCT((J4:J53=\"erreur\")*1)>1,1,0)","v":0},null,{"$f":"IF(SUMPRODUCT((L4:L53=\"erreur\")*1)>1,1,0)","v":0},null,{"$f":"IF(SUMPRODUCT((N4:N53=\"erreur\")*1)>1,1,0)","v":0},null,{"$f":"IF(SUMPRODUCT((P4:P53=\"erreur\")*1)>1,1,0)","v":0},null,{"$f":"IF(SUMPRODUCT((R4:R53=\"erreur\")*1)>1,1,0)","v":0},null,{"$f":"IF(SUMPRODUCT((T4:T53=\"erreur\")*1)>1,1,0)","v":0},null,{"$f":"IF(SUMPRODUCT((V4:V53=\"erreur\")*1)>1,1,0)","v":0},null,{"$f":"IF(SUMPRODUCT((X4:X53=\"erreur\")*1)>1,1,0)","v":0},null,{"$f":"IF(SUMPRODUCT((Z4:Z53=\"erreur\")*1)>1,1,0)","v":0},null,{"$f":"IF(SUMPRODUCT((AB4:AB53=\"erreur\")*1)>1,1,0)","v":0},null,{"$f":"IF(SUMPRODUCT((AD4:AD53=\"erreur\")*1)>1,1,0)","v":0},null,{"$f":"IF(SUMPRODUCT((AF4:AF53=\"erreur\")*1)>1,1,0)","v":0},null,{"$f":"IF(SUMPRODUCT((AH4:AH53=\"erreur\")*1)>1,1,0)","v":0},null,{"$f":"IF(SUMPRODUCT((AJ4:AJ53=\"erreur\")*1)>1,1,0)","v":0},null,{"$f":"IF(SUMPRODUCT((AL4:AL53=\"erreur\")*1)>1,1,0)","v":0},null,{"$f":"IF(SUMPRODUCT((AN4:AN53=\"erreur\")*1)>1,1,0)","v":0},null,{"$f":"IF(SUMPRODUCT((AP4:AP53=\"erreur\")*1)>1,1,0)","v":0},null,{"$f":"IF(SUMPRODUCT((AR4:AR53=\"erreur\")*1)>1,1,0)","v":0},null,{"$f":"IF(SUMPRODUCT((AT4:AT53=\"erreur\")*1)>1,1,0)","v":0},null,{"$f":"IF(SUMPRODUCT((AV4:AV53=\"erreur\")*1)>1,1,0)","v":0},null,{"$f":"IF(SUMPRODUCT((AX4:AX53=\"erreur\")*1)>1,1,0)","v":0},null,{"$f":"IF(SUMPRODUCT((AZ4:AZ53=\"erreur\")*1)>1,1,0)","v":0},null,{"$f":"IF(SUMPRODUCT((BB4:BB53=\"erreur\")*1)>1,1,0)","v":0},null,{"$f":"IF(SUMPRODUCT((BD4:BD53=\"erreur\")*1)>1,1,0)","v":0},null,{"$f":"IF(SUMPRODUCT((BF4:BF53=\"erreur\")*1)>1,1,0)","v":0},null,{"$f":"IF(SUMPRODUCT((BH4:BH53=\"erreur\")*1)>1,1,0)","v":0},null,{"$f":"IF(SUMPRODUCT((BJ4:BJ53=\"erreur\")*1)>1,1,0)","v":0},null,{"$f":"IF(SUMPRODUCT((BL4:BL53=\"erreur\")*1)>1,1,0)","v":0},null,{"$f":"IF(SUMPRODUCT((BN4:BN53=\"erreur\")*1)>1,1,0)","v":0},null,{"$f":"IF(SUMPRODUCT((BP4:BP53=\"erreur\")*1)>1,1,0)","v":0}]
[null,null,null,null,null,null,null,null,"SIEGE AVEC ERREUR",{"$f":"IF(K2>0,'3bis. Calcul répartition CM'!K4,0)","v":0},null,{"$f":"IF(AND(M2>0,SUM($J2:K2)=0),'3bis. Calcul répartition CM'!M4,0)","v":0},null,{"$f":"IF(AND(O2>0,SUM($J2:M2)=0),'3bis. Calcul répartition CM'!O4,0)","v":0},null,{"$f":"IF(AND(Q2>0,SUM($J2:O2)=0),'3bis. Calcul répartition CM'!Q4,0)","v":0},null,{"$f":"IF(AND(S2>0,SUM($J2:Q2)=0),'3bis. Calcul répartition CM'!S4,0)","v":0},null,{"$f":"IF(AND(U2>0,SUM($J2:S2)=0),'3bis. Calcul répartition CM'!U4,0)","v":0},null,{"$f":"IF(AND(W2>0,SUM($J2:U2)=0),'3bis. Calcul répartition CM'!W4,0)","v":0},null,{"$f":"IF(AND(Y2>0,SUM($J2:W2)=0),'3bis. Calcul répartition CM'!Y4,0)","v":0},null,{"$f":"IF(AND(AA2>0,SUM($J2:Y2)=0),'3bis. Calcul répartition CM'!AA4,0)","v":0},null,{"$f":"IF(AND(AC2>0,SUM($J2:AA2)=0),'3bis. Calcul répartition CM'!AC4,0)","v":0},null,{"$f":"IF(AND(AE2>0,SUM($J2:AC2)=0),'3bis. Calcul répartition CM'!AE4,0)","v":0},null,{"$f":"IF(AND(AG2>0,SUM($J2:AE2)=0),'3bis. Calcul répartition CM'!AG4,0)","v":0},null,{"$f":"IF(AND(AI2>0,SUM($J2:AG2)=0),'3bis. Calcul répartition CM'!AI4,0)","v":0},null,{"$f":"IF(AND(AK2>0,SUM($J2:AI2)=0),'3bis. Calcul répartition CM'!AK4,0)","v":0},null,{"$f":"IF(AND(AM2>0,SUM($J2:AK2)=0),'3bis. Calcul répartition CM'!AM4,0)","v":0},null,{"$f":"IF(AND(AO2>0,SUM($J2:AM2)=0),'3bis. Calcul répartition CM'!AO4,0)","v":0},null,{"$f":"IF(AND(AQ2>0,SUM($J2:AO2)=0),'3bis. Calcul répartition CM'!AQ4,0)","v":0},null,{"$f":"IF(AND(AS2>0,SUM($J2:AQ2)=0),'3bis. Calcul répartition CM'!AS4,0)","v":0},null,{"$f":"IF(AND(AU2>0,SUM($J2:AS2)=0),'3bis. Calcul répartition CM'!AU4,0)","v":0},null,{"$f":"IF(AND(AW2>0,SUM($J2:AU2)=0),'3bis. Calcul répartition CM'!AW4,0)","v":0},null,{"$f":"IF(AND(AY2>0,SUM($J2:AW2)=0),'3bis. Calcul répartition CM'!AY4,0)","v":0},null,{"$f":"IF(AND(BA2>0,SUM($J2:AY2)=0),'3bis. Calcul répartition CM'!BA4,0)","v":0},null,{"$f":"IF(AND(BC2>0,SUM($J2:BA2)=0),'3bis. Calcul répartition CM'!BC4,0)","v":0},null,{"$f":"IF(AND(BE2>0,SUM($J2:BC2)=0),'3bis. Calcul répartition CM'!BE4,0)","v":0},null,{"$f":"IF(AND(BG2>0,SUM($J2:BE2)=0),'3bis. Calcul répartition CM'!BG4,0)","v":0},null,{"$f":"IF(AND(BI2>0,SUM($J2:BG2)=0),'3bis. Calcul répartition CM'!BI4,0)","v":0},null,{"$f":"IF(AND(BK2>0,SUM($J2:BI2)=0),'3bis. Calcul répartition CM'!BK4,0)","v":0},null,{"$f":"IF(AND(BM2>0,SUM($J2:BK2)=0),'3bis. Calcul répartition CM'!BM4,0)","v":0},null,{"$f":"IF(AND(BO2>0,SUM($J2:BM2)=0),'3bis. Calcul répartition CM'!BO4,0)","v":0},null,{"$f":"IF(AND(BQ2>0,SUM($J2:BO2)=0),'3bis. Calcul répartition CM'!BQ4,0)","v":0}]
[null,null,null,null,null,null,null,null,{"$f":"'3bis. Calcul répartition CM'!B9","v":0},{"$f":"IF(AND('3bis. Calcul répartition CM'!J9=MAX('3bis. Calcul répartition CM'!J$9:J$58),'3bis. Calcul répartition CM'!J9>0,COUNTIF('3bis. Calcul répartition CM'!J$9:J$58,'3bis. Calcul répartition CM'!J9)>1,SUM('3bis. Calcul répartition CM'!$K$9:$K$58)-SUM('3bis. Calcul répartition CM'!$D$9:$D$58)>1),\"erreur\",\"\")","v":""},{"$f":"IF(J4=\"erreur\",0,IF(OR('3bis. Calcul répartition CM'!K$5=0,'3bis. Calcul répartition CM'!J9=0),0,IF('3bis. Calcul répartition CM'!K9-'3bis. Calcul répartition CM'!D9>0,1,0)))","v":0},{"$f":"IF(AND('3bis. Calcul répartition CM'!L9=MAX('3bis. Calcul répartition CM'!L$9:L$58),'3bis. Calcul répartition CM'!L9>0,COUNTIF('3bis. Calcul répartition CM'!L$9:L$58,'3bis. Calcul répartition CM'!L9)>1,SUM('3bis. Calcul répartition CM'!M$9:M$58)-SUM('3bis. Calcul répartition CM'!K$9:K$58)>1),\"erreur\",\"\")","v":""},{"$f":"IF(L4=\"erreur\",0,IF(OR('3bis. Calcul répartition CM'!M$5=0,'3bis. Calcul répartition CM'!L9=0),0,IF('3bis. Calcul répartition CM'!M9-'3bis. Calcul répartition CM'!K9>0,1,0)))","v":0},{"$f":"IF(AND('3bis. Calcul répartition CM'!N9=MAX('3bis. Calcul répartition CM'!N$9:N$58),'3bis. Calcul répartition CM'!N9>0,COUNTIF('3bis. Calcul répartition CM'!N$9:N$58,'3bis. Calcul répartition CM'!N9)>1,SUM('3bis. Calcul répartition CM'!O$9:O$58)-SUM('3bis. Calcul répartition CM'!M$9:M$58)>1),\"erreur\",\"\")","v":""},{"$f":"IF(N4=\"erreur\",0,IF(OR('3bis. Calcul répartition CM'!O$5=0,'3bis. Calcul répartition CM'!N9=0),0,IF('3bis. Calcul répartition CM'!O9-'3bis. Calcul répartition CM'!M9>0,1,0)))","v":0},{"$f":"IF(AND('3bis. Calcul répartition CM'!P9=MAX('3bis. Calcul répartition CM'!P$9:P$58),'3bis. Calcul répartition CM'!P9>0,COUNTIF('3bis. Calcul répartition CM'!P$9:P$58,'3bis. Calcul répartition CM'!P9)>1,SUM('3bis. Calcul répartition CM'!Q$9:Q$58)-SUM('3bis. Calcul répartition CM'!O$9:O$58)>1),\"erreur\",\"\")","v":""},{"$f":"IF(P4=\"erreur\",0,IF(OR('3bis. Calcul répartition CM'!Q$5=0,'3bis. Calcul répartition CM'!P9=0),0,IF('3bis. Calcul répartition CM'!Q9-'3bis. Calcul répartition CM'!O9>0,1,0)))","v":0},{"$f":"IF(AND('3bis. Calcul répartition CM'!R9=MAX('3bis. Calcul répartition CM'!R$9:R$58),'3bis. Calcul répartition CM'!R9>0,COUNTIF('3bis. Calcul répartition CM'!R$9:R$58,'3bis. Calcul répartition CM'!R9)>1,SUM('3bis. Calcul répartition CM'!S$9:S$58)-SUM('3bis. Calcul répartition CM'!Q$9:Q$58)>1),\"erreur\",\"\")","v":""},{"$f":"IF(R4=\"erreur\",0,IF(OR('3bis. Calcul répartition CM'!S$5=0,'3bis. Calcul répartition CM'!R9=0),0,IF('3bis. Calcul répartition CM'!S9-'3bis. Calcul répartition CM'!Q9>0,1,0)))","v":0},{"$f":"IF(AND('3bis. Calcul répartition CM'!T9=MAX('3bis. Calcul répartition CM'!T$9:T$58),'3bis. Calcul répartition CM'!T9>0,COUNTIF('3bis. Calcul répartition CM'!T$9:T$58,'3bis. Calcul répartition CM'!T9)>1,SUM('3bis. Calcul répartition CM'!U$9:U$58)-SUM('3bis. Calcul répartition CM'!S$9:S$58)>1),\"erreur\",\"\")","v":""},{"$f":"IF(T4=\"erreur\",0,IF(OR('3bis. Calcul répartition CM'!U$5=0,'3bis. Calcul répartition CM'!T9=0),0,IF('3bis. Calcul répartition CM'!U9-'3bis. Calcul répartition CM'!S9>0,1,0)))","v":0},{"$f":"IF(AND('3bis. Calcul répartition CM'!V9=MAX('3bis. Calcul répartition CM'!V$9:V$58),'3bis. Calcul répartition CM'!V9>0,COUNTIF('3bis. Calcul répartition CM'!V$9:V$58,'3bis. Calcul répartition CM'!V9)>1,SUM('3bis. Calcul répartition CM'!W$9:W$58)-SUM('3bis. Calcul répartition CM'!U$9:U$58)>1),\"erreur\",\"\")","v":""},{"$f":"IF(V4=\"erreur\",0,IF(OR('3bis. Calcul répartition CM'!W$5=0,'3bis. Calcul répartition CM'!V9=0),0,IF('3bis. Calcul répartition CM'!W9-'3bis. Calcul répartition CM'!U9>0,1,0)))","v":0},{"$f":"IF(AND('3bis. Calcul répartition CM'!X9=MAX('3bis. Calcul répartition CM'!X$9:X$58),'3bis. Calcul répartition CM'!X9>0,COUNTIF('3bis. Calcul répartition CM'!X$9:X$58,'3bis. Calcul répartition CM'!X9)>1,SUM('3bis. Calcul répartition CM'!Y$9:Y$58)-SUM('3bis. Calcul répartition CM'!W$9:W$58)>1),\"erreur\",\"\")","v":""},{"$f":"IF(X4=\"erreur\",0,IF(OR('3bis. Calcul répartition CM'!Y$5=0,'3bis. Calcul répartition CM'!X9=0),0,IF('3bis. Calcul répartition CM'!Y9-'3bis. Calcul répartition CM'!W9>0,1,0)))","v":0},{"$f":"IF(AND('3bis. Calcul répartition CM'!Z9=MAX('3bis. Calcul répartition CM'!Z$9:Z$58),'3bis. Calcul répartition CM'!Z9>0,COUNTIF('3bis. Calcul répartition CM'!Z$9:Z$58,'3bis. Calcul répartition CM'!Z9)>1,SUM('3bis. Calcul répartition CM'!AA$9:AA$58)-SUM('3bis. Calcul répartition CM'!Y$9:Y$58)>1),\"erreur\",\"\")","v":""},{"$f":"IF(Z4=\"erreur\",0,IF(OR('3bis. Calcul répartition CM'!AA$5=0,'3bis. Calcul répartition CM'!Z9=0),0,IF('3bis. Calcul répartition CM'!AA9-'3bis. Calcul répartition CM'!Y9>0,1,0)))","v":0},{"$f":"IF(AND('3bis. Calcul répartition CM'!AB9=MAX('3bis. Calcul répartition CM'!AB$9:AB$58),'3bis. Calcul répartition CM'!AB9>0,COUNTIF('3bis. Calcul répartition CM'!AB$9:AB$58,'3bis. Calcul répartition CM'!AB9)>1,SUM('3bis. Calcul répartition CM'!AC$9:AC$58)-SUM('3bis. Calcul répartition CM'!AA$9:AA$58)>1),\"erreur\",\"\")","v":""},{"$f":"IF(AB4=\"erreur\",0,IF(OR('3bis. Calcul répartition CM'!AC$5=0,'3bis. Calcul répartition CM'!AB9=0),0,IF('3bis. Calcul répartition CM'!AC9-'3bis. Calcul répartition CM'!AA9>0,1,0)))","v":0},{"$f":"IF(AND('3bis. Calcul répartition CM'!AD9=MAX('3bis. Calcul répartition CM'!AD$9:AD$58),'3bis. Calcul répartition CM'!AD9>0,COUNTIF('3bis. Calcul répartition CM'!AD$9:AD$58,'3bis. Calcul répartition CM'!AD9)>1,SUM('3bis. Calcul répartition CM'!AE$9:AE$58)-SUM('3bis. Calcul répartition CM'!AC$9:AC$58)>1),\"erreur\",\"\")","v":""},{"$f":"IF(AD4=\"erreur\",0,IF(OR('3bis. Calcul répartition CM'!AE$5=0,'3bis. Calcul répartition CM'!AD9=0),0,IF('3bis. Calcul répartition CM'!AE9-'3bis. Calcul répartition CM'!AC9>0,1,0)))","v":0},{"$f":"IF(AND('3bis. Calcul répartition CM'!AF9=MAX('3bis. Calcul répartition CM'!AF$9:AF$58),'3bis. Calcul répartition CM'!AF9>0,COUNTIF('3bis. Calcul répartition CM'!AF$9:AF$58,'3bis. Calcul répartition CM'!AF9)>1,SUM('3bis. Calcul répartition CM'!AG$9:AG$58)-SUM('3bis. Calcul répartition CM'!AE$9:AE$58)>1),\"erreur\",\"\")","v":""},{"$f":"IF(AF4=\"erreur\",0,IF(OR('3bis. Calcul répartition CM'!AG$5=0,'3bis. Calcul répartition CM'!AF9=0),0,IF('3bis. Calcul répartition CM'!AG9-'3bis. Calcul répartition CM'!AE9>0,1,0)))","v":0},{"$f":"IF(AND('3bis. Calcul répartition CM'!AH9=MAX('3bis. Calcul répartition CM'!AH$9:AH$58),'3bis. Calcul répartition CM'!AH9>0,COUNTIF('3bis. Calcul répartition CM'!AH$9:AH$58,'3bis. Calcul répartition CM'!AH9)>1,SUM('3bis. Calcul répartition CM'!AI$9:AI$58)-SUM('3bis. Calcul répartition CM'!AG$9:AG$58)>1),\"erreur\",\"\")","v":""},{"$f":"IF(AH4=\"erreur\",0,IF(OR('3bis. Calcul répartition CM'!AI$5=0,'3bis. Calcul répartition CM'!AH9=0),0,IF('3bis. Calcul répartition CM'!AI9-'3bis. Calcul répartition CM'!AG9>0,1,0)))","v":0},{"$f":"IF(AND('3bis. Calcul répartition CM'!AJ9=MAX('3bis. Calcul répartition CM'!AJ$9:AJ$58),'3bis. Calcul répartition CM'!AJ9>0,COUNTIF('3bis. Calcul répartition CM'!AJ$9:AJ$58,'3bis. Calcul répartition CM'!AJ9)>1,SUM('3bis. Calcul répartition CM'!AK$9:AK$58)-SUM('3bis. Calcul répartition CM'!AI$9:AI$58)>1),\"erreur\",\"\")","v":""},{"$f":"IF(AJ4=\"erreur\",0,IF(OR('3bis. Calcul répartition CM'!AK$5=0,'3bis. Calcul répartition CM'!AJ9=0),0,IF('3bis. Calcul répartition CM'!AK9-'3bis. Calcul répartition CM'!AI9>0,1,0)))","v":0},{"$f":"IF(AND('3bis. Calcul répartition CM'!AL9=MAX('3bis. Calcul répartition CM'!AL$9:AL$58),'3bis. Calcul répartition CM'!AL9>0,COUNTIF('3bis. Calcul répartition CM'!AL$9:AL$58,'3bis. Calcul répartition CM'!AL9)>1,SUM('3bis. Calcul répartition CM'!AM$9:AM$58)-SUM('3bis. Calcul répartition CM'!AK$9:AK$58)>1),\"erreur\",\"\")","v":""},{"$f":"IF(AL4=\"erreur\",0,IF(OR('3bis. Calcul répartition CM'!AM$5=0,'3bis. Calcul répartition CM'!AL9=0),0,IF('3bis. Calcul répartition CM'!AM9-'3bis. Calcul répartition CM'!AK9>0,1,0)))","v":0},{"$f":"IF(AND('3bis. Calcul répartition CM'!AN9=MAX('3bis. Calcul répartition CM'!AN$9:AN$58),'3bis. Calcul répartition CM'!AN9>0,COUNTIF('3bis. Calcul répartition CM'!AN$9:AN$58,'3bis. Calcul répartition CM'!AN9)>1,SUM('3bis. Calcul répartition CM'!AO$9:AO$58)-SUM('3bis. Calcul répartition CM'!AM$9:AM$58)>1),\"erreur\",\"\")","v":""},{"$f":"IF(AN4=\"erreur\",0,IF(OR('3bis. Calcul répartition CM'!AO$5=0,'3bis. Calcul répartition CM'!AN9=0),0,IF('3bis. Calcul répartition CM'!AO9-'3bis. Calcul répartition CM'!AM9>0,1,0)))","v":0},{"$f":"IF(AND('3bis. Calcul répartition CM'!AP9=MAX('3bis. Calcul répartition CM'!AP$9:AP$58),'3bis. Calcul répartition CM'!AP9>0,COUNTIF('3bis. Calcul répartition CM'!AP$9:AP$58,'3bis. Calcul répartition CM'!AP9)>1,SUM('3bis. Calcul répartition CM'!AQ$9:AQ$58)-SUM('3bis. Calcul répartition CM'!AO$9:AO$58)>1),\"erreur\",\"\")","v":""},{"$f":"IF(AP4=\"erreur\",0,IF(OR('3bis. Calcul répartition CM'!AQ$5=0,'3bis. Calcul répartition CM'!AP9=0),0,IF('3bis. Calcul répartition CM'!AQ9-'3bis. Calcul répartition CM'!AO9>0,1,0)))","v":0},{"$f":"IF(AND('3bis. Calcul répartition CM'!AR9=MAX('3bis. Calcul répartition CM'!AR$9:AR$58),'3bis. Calcul répartition CM'!AR9>0,COUNTIF('3bis. Calcul répartition CM'!AR$9:AR$58,'3bis. Calcul répartition CM'!AR9)>1,SUM('3bis. Calcul répartition CM'!AS$9:AS$58)-SUM('3bis. Calcul répartition CM'!AQ$9:AQ$58)>1),\"erreur\",\"\")","v":""},{"$f":"IF(AR4=\"erreur\",0,IF(OR('3bis. Calcul répartition CM'!AS$5=0,'3bis. Calcul répartition CM'!AR9=0),0,IF('3bis. Calcul répartition CM'!AS9-'3bis. Calcul répartition CM'!AQ9>0,1,0)))","v":0},{"$f":"IF(AND('3bis. Calcul répartition CM'!AT9=MAX('3bis. Calcul répartition CM'!AT$9:AT$58),'3bis. Calcul répartition CM'!AT9>0,COUNTIF('3bis. Calcul répartition CM'!AT$9:AT$58,'3bis. Calcul répartition CM'!AT9)>1,SUM('3bis. Calcul répartition CM'!AU$9:AU$58)-SUM('3bis. Calcul répartition CM'!AS$9:AS$58)>1),\"erreur\",\"\")","v":""},{"$f":"IF(AT4=\"erreur\",0,IF(OR('3bis. Calcul répartition CM'!AU$5=0,'3bis. Calcul répartition CM'!AT9=0),0,IF('3bis. Calcul répartition CM'!AU9-'3bis. Calcul répartition CM'!AS9>0,1,0)))","v":0},{"$f":"IF(AND('3bis. Calcul répartition CM'!AV9=MAX('3bis. Calcul répartition CM'!AV$9:AV$58),'3bis. Calcul répartition CM'!AV9>0,COUNTIF('3bis. Calcul répartition CM'!AV$9:AV$58,'3bis. Calcul répartition CM'!AV9)>1,SUM('3bis. Calcul répartition CM'!AW$9:AW$58)-SUM('3bis. Calcul répartition CM'!AU$9:AU$58)>1),\"erreur\",\"\")","v":""},{"$f":"IF(AV4=\"erreur\",0,IF(OR('3bis. Calcul répartition CM'!AW$5=0,'3bis. Calcul répartition CM'!AV9=0),0,IF('3bis. Calcul répartition CM'!AW9-'3bis. Calcul répartition CM'!AU9>0,1,0)))","v":0},{"$f":"IF(AND('3bis. Calcul répartition CM'!AX9=MAX('3bis. Calcul répartition CM'!AX$9:AX$58),'3bis. Calcul répartition CM'!AX9>0,COUNTIF('3bis. Calcul répartition CM'!AX$9:AX$58,'3bis. Calcul répartition CM'!AX9)>1,SUM('3bis. Calcul répartition CM'!AY$9:AY$58)-SUM('3bis. Calcul répartition CM'!AW$9:AW$58)>1),\"erreur\",\"\")","v":""},{"$f":"IF(AX4=\"erreur\",0,IF(OR('3bis. Calcul répartition CM'!AY$5=0,'3bis. Calcul répartition CM'!AX9=0),0,IF('3bis. Calcul répartition CM'!AY9-'3bis. Calcul répartition CM'!AW9>0,1,0)))","v":0},{"$f":"IF(AND('3bis. Calcul répartition CM'!AZ9=MAX('3bis. Calcul répartition CM'!AZ$9:AZ$58),'3bis. Calcul répartition CM'!AZ9>0,COUNTIF('3bis. Calcul répartition CM'!AZ$9:AZ$58,'3bis. Calcul répartition CM'!AZ9)>1,SUM('3bis. Calcul répartition CM'!BA$9:BA$58)-SUM('3bis. Calcul répartition CM'!AY$9:AY$58)>1),\"erreur\",\"\")","v":""},{"$f":"IF(AZ4=\"erreur\",0,IF(OR('3bis. Calcul répartition CM'!BA$5=0,'3bis. Calcul répartition CM'!AZ9=0),0,IF('3bis. Calcul répartition CM'!BA9-'3bis. Calcul répartition CM'!AY9>0,1,0)))","v":0},{"$f":"IF(AND('3bis. Calcul répartition CM'!BB9=MAX('3bis. Calcul répartition CM'!BB$9:BB$58),'3bis. Calcul répartition CM'!BB9>0,COUNTIF('3bis. Calcul répartition CM'!BB$9:BB$58,'3bis. Calcul répartition CM'!BB9)>1,SUM('3bis. Calcul répartition CM'!BC$9:BC$58)-SUM('3bis. Calcul répartition CM'!BA$9:BA$58)>1),\"erreur\",\"\")","v":""},{"$f":"IF(BB4=\"erreur\",0,IF(OR('3bis. Calcul répartition CM'!BC$5=0,'3bis. Calcul répartition CM'!BB9=0),0,IF('3bis. Calcul répartition CM'!BC9-'3bis. Calcul répartition CM'!BA9>0,1,0)))","v":0},{"$f":"IF(AND('3bis. Calcul répartition CM'!BD9=MAX('3bis. Calcul répartition CM'!BD$9:BD$58),'3bis. Calcul répartition CM'!BD9>0,COUNTIF('3bis. Calcul répartition CM'!BD$9:BD$58,'3bis. Calcul répartition CM'!BD9)>1,SUM('3bis. Calcul répartition CM'!BE$9:BE$58)-SUM('3bis. Calcul répartition CM'!BC$9:BC$58)>1),\"erreur\",\"\")","v":""},{"$f":"IF(BD4=\"erreur\",0,IF(OR('3bis. Calcul répartition CM'!BE$5=0,'3bis. Calcul répartition CM'!BD9=0),0,IF('3bis. Calcul répartition CM'!BE9-'3bis. Calcul répartition CM'!BC9>0,1,0)))","v":0},{"$f":"IF(AND('3bis. Calcul répartition CM'!BF9=MAX('3bis. Calcul répartition CM'!BF$9:BF$58),'3bis. Calcul répartition CM'!BF9>0,COUNTIF('3bis. Calcul répartition CM'!BF$9:BF$58,'3bis. Calcul répartition CM'!BF9)>1,SUM('3bis. Calcul répartition CM'!BG$9:BG$58)-SUM('3bis. Calcul répartition CM'!BE$9:BE$58)>1),\"erreur\",\"\")","v":""},{"$f":"IF(BF4=\"erreur\",0,IF(OR('3bis. Calcul répartition CM'!BG$5=0,'3bis. Calcul répartition CM'!BF9=0),0,IF('3bis. Calcul répartition CM'!BG9-'3bis. Calcul répartition CM'!BE9>0,1,0)))","v":0},{"$f":"IF(AND('3bis. Calcul répartition CM'!BH9=MAX('3bis. Calcul répartition CM'!BH$9:BH$58),'3bis. Calcul répartition CM'!BH9>0,COUNTIF('3bis. Calcul répartition CM'!BH$9:BH$58,'3bis. Calcul répartition CM'!BH9)>1,SUM('3bis. Calcul répartition CM'!BI$9:BI$58)-SUM('3bis. Calcul répartition CM'!BG$9:BG$58)>1),\"erreur\",\"\")","v":""},{"$f":"IF(BH4=\"erreur\",0,IF(OR('3bis. Calcul répartition CM'!BI$5=0,'3bis. Calcul répartition CM'!BH9=0),0,IF('3bis. Calcul répartition CM'!BI9-'3bis. Calcul répartition CM'!BG9>0,1,0)))","v":0},{"$f":"IF(AND('3bis. Calcul répartition CM'!BJ9=MAX('3bis. Calcul répartition CM'!BJ$9:BJ$58),'3bis. Calcul répartition CM'!BJ9>0,COUNTIF('3bis. Calcul répartition CM'!BJ$9:BJ$58,'3bis. Calcul répartition CM'!BJ9)>1,SUM('3bis. Calcul répartition CM'!BK$9:BK$58)-SUM('3bis. Calcul répartition CM'!BI$9:BI$58)>1),\"erreur\",\"\")","v":""},{"$f":"IF(BJ4=\"erreur\",0,IF(OR('3bis. Calcul répartition CM'!BK$5=0,'3bis. Calcul répartition CM'!BJ9=0),0,IF('3bis. Calcul répartition CM'!BK9-'3bis. Calcul répartition CM'!BI9>0,1,0)))","v":0},{"$f":"IF(AND('3bis. Calcul répartition CM'!BL9=MAX('3bis. Calcul répartition CM'!BL$9:BL$58),'3bis. Calcul répartition CM'!BL9>0,COUNTIF('3bis. Calcul répartition CM'!BL$9:BL$58,'3bis. Calcul répartition CM'!BL9)>1,SUM('3bis. Calcul répartition CM'!BM$9:BM$58)-SUM('3bis. Calcul répartition CM'!BK$9:BK$58)>1),\"erreur\",\"\")","v":""},{"$f":"IF(BL4=\"erreur\",0,IF(OR('3bis. Calcul répartition CM'!BM$5=0,'3bis. Calcul répartition CM'!BL9=0),0,IF('3bis. Calcul répartition CM'!BM9-'3bis. Calcul répartition CM'!BK9>0,1,0)))","v":0},{"$f":"IF(AND('3bis. Calcul répartition CM'!BN9=MAX('3bis. Calcul répartition CM'!BN$9:BN$58),'3bis. Calcul répartition CM'!BN9>0,COUNTIF('3bis. Calcul répartition CM'!BN$9:BN$58,'3bis. Calcul répartition CM'!BN9)>1,SUM('3bis. Calcul répartition CM'!BO$9:BO$58)-SUM('3bis. Calcul répartition CM'!BM$9:BM$58)>1),\"erreur\",\"\")","v":""},{"$f":"IF(BN4=\"erreur\",0,IF(OR('3bis. Calcul répartition CM'!BO$5=0,'3bis. Calcul répartition CM'!BN9=0),0,IF('3bis. Calcul répartition CM'!BO9-'3bis. Calcul répartition CM'!BM9>0,1,0)))","v":0},{"$f":"IF(AND('3bis. Calcul répartition CM'!BP9=MAX('3bis. Calcul répartition CM'!BP$9:BP$58),'3bis. Calcul répartition CM'!BP9>0,COUNTIF('3bis. Calcul répartition CM'!BP$9:BP$58,'3bis. Calcul répartition CM'!BP9)>1,SUM('3bis. Calcul répartition CM'!BQ$9:BQ$58)-SUM('3bis. Calcul répartition CM'!BO$9:BO$58)>1),\"erreur\",\"\")","v":""},{"$f":"IF(BP4=\"erreur\",0,IF(OR('3bis. Calcul répartition CM'!BQ$5=0,'3bis. Calcul répartition CM'!BP9=0),0,IF('3bis. Calcul répartition CM'!BQ9-'3bis. Calcul répartition CM'!BO9>0,1,0)))","v":0}]
[null,null,null,null,null,null,null,null,{"$f":"'3bis. Calcul répartition CM'!B10","v":0},{"$f":"IF(AND('3bis. Calcul répartition CM'!J10=MAX('3bis. Calcul répartition CM'!J$9:J$58),'3bis. Calcul répartition CM'!J10>0,COUNTIF('3bis. Calcul répartition CM'!J$9:J$58,'3bis. Calcul répartition CM'!J10)>1,SUM('3bis. Calcul répartition CM'!$K$9:$K$58)-SUM('3bis. Calcul répartition CM'!$D$9:$D$58)>1),\"erreur\",\"\")","v":""},{"$f":"IF(J5=\"erreur\",0,IF(OR('3bis. Calcul répartition CM'!K$5=0,'3bis. Calcul répartition CM'!J10=0),0,IF('3bis. Calcul répartition CM'!K10-'3bis. Calcul répartition CM'!D10>0,1,0)))","v":0},{"$f":"IF(AND('3bis. Calcul répartition CM'!L10=MAX('3bis. Calcul répartition CM'!L$9:L$58),'3bis. Calcul répartition CM'!L10>0,COUNTIF('3bis. Calcul répartition CM'!L$9:L$58,'3bis. Calcul répartition CM'!L10)>1,SUM('3bis. Calcul répartition CM'!M$9:M$58)-SUM('3bis. Calcul répartition CM'!K$9:K$58)>1),\"erreur\",\"\")","v":""},{"$f":"IF(L5=\"erreur\",0,IF(OR('3bis. Calcul répartition CM'!M$5=0,'3bis. Calcul répartition CM'!L10=0),0,IF('3bis. Calcul répartition CM'!M10-'3bis. Calcul répartition CM'!K10>0,1,0)))","v":0},{"$f":"IF(AND('3bis. Calcul répartition CM'!N10=MAX('3bis. Calcul répartition CM'!N$9:N$58),'3bis. Calcul répartition CM'!N10>0,COUNTIF('3bis. Calcul répartition CM'!N$9:N$58,'3bis. Calcul répartition CM'!N10)>1,SUM('3bis. Calcul répartition CM'!O$9:O$58)-SUM('3bis. Calcul répartition CM'!M$9:M$58)>1),\"erreur\",\"\")","v":""},{"$f":"IF(N5=\"erreur\",0,IF(OR('3bis. Calcul répartition CM'!O$5=0,'3bis. Calcul répartition CM'!N10=0),0,IF('3bis. Calcul répartition CM'!O10-'3bis. Calcul répartition CM'!M10>0,1,0)))","v":0},{"$f":"IF(AND('3bis. Calcul répartition CM'!P10=MAX('3bis. Calcul répartition CM'!P$9:P$58),'3bis. Calcul répartition CM'!P10>0,COUNTIF('3bis. Calcul répartition CM'!P$9:P$58,'3bis. Calcul répartition CM'!P10)>1,SUM('3bis. Calcul répartition CM'!Q$9:Q$58)-SUM('3bis. Calcul répartition CM'!O$9:O$58)>1),\"erreur\",\"\")","v":""},{"$f":"IF(P5=\"erreur\",0,IF(OR('3bis. Calcul répartition CM'!Q$5=0,'3bis. Calcul répartition CM'!P10=0),0,IF('3bis. Calcul répartition CM'!Q10-'3bis. Calcul répartition CM'!O10>0,1,0)))","v":0},{"$f":"IF(AND('3bis. Calcul répartition CM'!R10=MAX('3bis. Calcul répartition CM'!R$9:R$58),'3bis. Calcul répartition CM'!R10>0,COUNTIF('3bis. Calcul répartition CM'!R$9:R$58,'3bis. Calcul répartition CM'!R10)>1,SUM('3bis. Calcul répartition CM'!S$9:S$58)-SUM('3bis. Calcul répartition CM'!Q$9:Q$58)>1),\"erreur\",\"\")","v":""},{"$f":"IF(R5=\"erreur\",0,IF(OR('3bis. Calcul répartition CM'!S$5=0,'3bis. Calcul répartition CM'!R10=0),0,IF('3bis. Calcul répartition CM'!S10-'3bis. Calcul répartition CM'!Q10>0,1,0)))","v":0},{"$f":"IF(AND('3bis. Calcul répartition CM'!T10=MAX('3bis. Calcul répartition CM'!T$9:T$58),'3bis. Calcul répartition CM'!T10>0,COUNTIF('3bis. Calcul répartition CM'!T$9:T$58,'3bis. Calcul répartition CM'!T10)>1,SUM('3bis. Calcul répartition CM'!U$9:U$58)-SUM('3bis. Calcul répartition CM'!S$9:S$58)>1),\"erreur\",\"\")","v":""},{"$f":"IF(T5=\"erreur\",0,IF(OR('3bis. Calcul répartition CM'!U$5=0,'3bis. Calcul répartition CM'!T10=0),0,IF('3bis. Calcul répartition CM'!U10-'3bis. Calcul répartition CM'!S10>0,1,0)))","v":0},{"$f":"IF(AND('3bis. Calcul répartition CM'!V10=MAX('3bis. Calcul répartition CM'!V$9:V$58),'3bis. Calcul répartition CM'!V10>0,COUNTIF('3bis. Calcul répartition CM'!V$9:V$58,'3bis. Calcul répartition CM'!V10)>1,SUM('3bis. Calcul répartition CM'!W$9:W$58)-SUM('3bis. Calcul répartition CM'!U$9:U$58)>1),\"erreur\",\"\")","v":""},{"$f":"IF(V5=\"erreur\",0,IF(OR('3bis. Calcul répartition CM'!W$5=0,'3bis. Calcul répartition CM'!V10=0),0,IF('3bis. Calcul répartition CM'!W10-'3bis. Calcul répartition CM'!U10>0,1,0)))","v":0},{"$f":"IF(AND('3bis. Calcul répartition CM'!X10=MAX('3bis. Calcul répartition CM'!X$9:X$58),'3bis. Calcul répartition CM'!X10>0,COUNTIF('3bis. Calcul répartition CM'!X$9:X$58,'3bis. Calcul répartition CM'!X10)>1,SUM('3bis. Calcul répartition CM'!Y$9:Y$58)-SUM('3bis. Calcul répartition CM'!W$9:W$58)>1),\"erreur\",\"\")","v":""},{"$f":"IF(X5=\"erreur\",0,IF(OR('3bis. Calcul répartition CM'!Y$5=0,'3bis. Calcul répartition CM'!X10=0),0,IF('3bis. Calcul répartition CM'!Y10-'3bis. Calcul répartition CM'!W10>0,1,0)))","v":0},{"$f":"IF(AND('3bis. Calcul répartition CM'!Z10=MAX('3bis. Calcul répartition CM'!Z$9:Z$58),'3bis. Calcul répartition CM'!Z10>0,COUNTIF('3bis. Calcul répartition CM'!Z$9:Z$58,'3bis. Calcul répartition CM'!Z10)>1,SUM('3bis. Calcul répartition CM'!AA$9:AA$58)-SUM('3bis. Calcul répartition CM'!Y$9:Y$58)>1),\"erreur\",\"\")","v":""},{"$f":"IF(Z5=\"erreur\",0,IF(OR('3bis. Calcul répartition CM'!AA$5=0,'3bis. Calcul répartition CM'!Z10=0),0,IF('3bis. Calcul répartition CM'!AA10-'3bis. Calcul répartition CM'!Y10>0,1,0)))","v":0},{"$f":"IF(AND('3bis. Calcul répartition CM'!AB10=MAX('3bis. Calcul répartition CM'!AB$9:AB$58),'3bis. Calcul répartition CM'!AB10>0,COUNTIF('3bis. Calcul répartition CM'!AB$9:AB$58,'3bis. Calcul répartition CM'!AB10)>1,SUM('3bis. Calcul répartition CM'!AC$9:AC$58)-SUM('3bis. Calcul répartition CM'!AA$9:AA$58)>1),\"erreur\",\"\")","v":""},{"$f":"IF(AB5=\"erreur\",0,IF(OR('3bis. Calcul répartition CM'!AC$5=0,'3bis. Calcul répartition CM'!AB10=0),0,IF('3bis. Calcul répartition CM'!AC10-'3bis. Calcul répartition CM'!AA10>0,1,0)))","v":0},{"$f":"IF(AND('3bis. Calcul répartition CM'!AD10=MAX('3bis. Calcul répartition CM'!AD$9:AD$58),'3bis. Calcul répartition CM'!AD10>0,COUNTIF('3bis. Calcul répartition CM'!AD$9:AD$58,'3bis. Calcul répartition CM'!AD10)>1,SUM('3bis. Calcul répartition CM'!AE$9:AE$58)-SUM('3bis. Calcul répartition CM'!AC$9:AC$58)>1),\"erreur\",\"\")","v":""},{"$f":"IF(AD5=\"erreur\",0,IF(OR('3bis. Calcul répartition CM'!AE$5=0,'3bis. Calcul répartition CM'!AD10=0),0,IF('3bis. Calcul répartition CM'!AE10-'3bis. Calcul répartition CM'!AC10>0,1,0)))","v":0},{"$f":"IF(AND('3bis. Calcul répartition CM'!AF10=MAX('3bis. Calcul répartition CM'!AF$9:AF$58),'3bis. Calcul répartition CM'!AF10>0,COUNTIF('3bis. Calcul répartition CM'!AF$9:AF$58,'3bis. Calcul répartition CM'!AF10)>1,SUM('3bis. Calcul répartition CM'!AG$9:AG$58)-SUM('3bis. Calcul répartition CM'!AE$9:AE$58)>1),\"erreur\",\"\")","v":""},{"$f":"IF(AF5=\"erreur\",0,IF(OR('3bis. Calcul répartition CM'!AG$5=0,'3bis. Calcul répartition CM'!AF10=0),0,IF('3bis. Calcul répartition CM'!AG10-'3bis. Calcul répartition CM'!AE10>0,1,0)))","v":0},{"$f":"IF(AND('3bis. Calcul répartition CM'!AH10=MAX('3bis. Calcul répartition CM'!AH$9:AH$58),'3bis. Calcul répartition CM'!AH10>0,COUNTIF('3bis. Calcul répartition CM'!AH$9:AH$58,'3bis. Calcul répartition CM'!AH10)>1,SUM('3bis. Calcul répartition CM'!AI$9:AI$58)-SUM('3bis. Calcul répartition CM'!AG$9:AG$58)>1),\"erreur\",\"\")","v":""},{"$f":"IF(AH5=\"erreur\",0,IF(OR('3bis. Calcul répartition CM'!AI$5=0,'3bis. Calcul répartition CM'!AH10=0),0,IF('3bis. Calcul répartition CM'!AI10-'3bis. Calcul répartition CM'!AG10>0,1,0)))","v":0},{"$f":"IF(AND('3bis. Calcul répartition CM'!AJ10=MAX('3bis. Calcul répartition CM'!AJ$9:AJ$58),'3bis. Calcul répartition CM'!AJ10>0,COUNTIF('3bis. Calcul répartition CM'!AJ$9:AJ$58,'3bis. Calcul répartition CM'!AJ10)>1,SUM('3bis. Calcul répartition CM'!AK$9:AK$58)-SUM('3bis. Calcul répartition CM'!AI$9:AI$58)>1),\"erreur\",\"\")","v":""},{"$f":"IF(AJ5=\"erreur\",0,IF(OR('3bis. Calcul répartition CM'!AK$5=0,'3bis. Calcul répartition CM'!AJ10=0),0,IF('3bis. Calcul répartition CM'!AK10-'3bis. Calcul répartition CM'!AI10>0,1,0)))","v":0},{"$f":"IF(AND('3bis. Calcul répartition CM'!AL10=MAX('3bis. Calcul répartition CM'!AL$9:AL$58),'3bis. Calcul répartition CM'!AL10>0,COUNTIF('3bis. Calcul répartition CM'!AL$9:AL$58,'3bis. Calcul répartition CM'!AL10)>1,SUM('3bis. Calcul répartition CM'!AM$9:AM$58)-SUM('3bis. Calcul répartition CM'!AK$9:AK$58)>1),\"erreur\",\"\")","v":""},{"$f":"IF(AL5=\"erreur\",0,IF(OR('3bis. Calcul répartition CM'!AM$5=0,'3bis. Calcul répartition CM'!AL10=0),0,IF('3bis. Calcul répartition CM'!AM10-'3bis. Calcul répartition CM'!AK10>0,1,0)))","v":0},{"$f":"IF(AND('3bis. Calcul répartition CM'!AN10=MAX('3bis. Calcul répartition CM'!AN$9:AN$58),'3bis. Calcul répartition CM'!AN10>0,COUNTIF('3bis. Calcul répartition CM'!AN$9:AN$58,'3bis. Calcul répartition CM'!AN10)>1,SUM('3bis. Calcul répartition CM'!AO$9:AO$58)-SUM('3bis. Calcul répartition CM'!AM$9:AM$58)>1),\"erreur\",\"\")","v":""},{"$f":"IF(AN5=\"erreur\",0,IF(OR('3bis. Calcul répartition CM'!AO$5=0,'3bis. Calcul répartition CM'!AN10=0),0,IF('3bis. Calcul répartition CM'!AO10-'3bis. Calcul répartition CM'!AM10>0,1,0)))","v":0},{"$f":"IF(AND('3bis. Calcul répartition CM'!AP10=MAX('3bis. Calcul répartition CM'!AP$9:AP$58),'3bis. Calcul répartition CM'!AP10>0,COUNTIF('3bis. Calcul répartition CM'!AP$9:AP$58,'3bis. Calcul répartition CM'!AP10)>1,SUM('3bis. Calcul répartition CM'!AQ$9:AQ$58)-SUM('3bis. Calcul répartition CM'!AO$9:AO$58)>1),\"erreur\",\"\")","v":""},{"$f":"IF(AP5=\"erreur\",0,IF(OR('3bis. Calcul répartition CM'!AQ$5=0,'3bis. Calcul répartition CM'!AP10=0),0,IF('3bis. Calcul répartition CM'!AQ10-'3bis. Calcul répartition CM'!AO10>0,1,0)))","v":0},{"$f":"IF(AND('3bis. Calcul répartition CM'!AR10=MAX('3bis. Calcul répartition CM'!AR$9:AR$58),'3bis. Calcul répartition CM'!AR10>0,COUNTIF('3bis. Calcul répartition CM'!AR$9:AR$58,'3bis. Calcul répartition CM'!AR10)>1,SUM('3bis. Calcul répartition CM'!AS$9:AS$58)-SUM('3bis. Calcul répartition CM'!AQ$9:AQ$58)>1),\"erreur\",\"\")","v":""},{"$f":"IF(AR5=\"erreur\",0,IF(OR('3bis. Calcul répartition CM'!AS$5=0,'3bis. Calcul répartition CM'!AR10=0),0,IF('3bis. Calcul répartition CM'!AS10-'3bis. Calcul répartition CM'!AQ10>0,1,0)))","v":0},{"$f":"IF(AND('3bis. Calcul répartition CM'!AT10=MAX('3bis. Calcul répartition CM'!AT$9:AT$58),'3bis. Calcul répartition CM'!AT10>0,COUNTIF('3bis. Calcul répartition CM'!AT$9:AT$58,'3bis. Calcul répartition CM'!AT10)>1,SUM('3bis. Calcul répartition CM'!AU$9:AU$58)-SUM('3bis. Calcul répartition CM'!AS$9:AS$58)>1),\"erreur\",\"\")","v":""},{"$f":"IF(AT5=\"erreur\",0,IF(OR('3bis. Calcul répartition CM'!AU$5=0,'3bis. Calcul répartition CM'!AT10=0),0,IF('3bis. Calcul répartition CM'!AU10-'3bis. Calcul répartition CM'!AS10>0,1,0)))","v":0},{"$f":"IF(AND('3bis. Calcul répartition CM'!AV10=MAX('3bis. Calcul répartition CM'!AV$9:AV$58),'3bis. Calcul répartition CM'!AV10>0,COUNTIF('3bis. Calcul répartition CM'!AV$9:AV$58,'3bis. Calcul répartition CM'!AV10)>1,SUM('3bis. Calcul répartition CM'!AW$9:AW$58)-SUM('3bis. Calcul répartition CM'!AU$9:AU$58)>1),\"erreur\",\"\")","v":""},{"$f":"IF(AV5=\"erreur\",0,IF(OR('3bis. Calcul répartition CM'!AW$5=0,'3bis. Calcul répartition CM'!AV10=0),0,IF('3bis. Calcul répartition CM'!AW10-'3bis. Calcul répartition CM'!AU10>0,1,0)))","v":0},{"$f":"IF(AND('3bis. Calcul répartition CM'!AX10=MAX('3bis. Calcul répartition CM'!AX$9:AX$58),'3bis. Calcul répartition CM'!AX10>0,COUNTIF('3bis. Calcul répartition CM'!AX$9:AX$58,'3bis. Calcul répartition CM'!AX10)>1,SUM('3bis. Calcul répartition CM'!AY$9:AY$58)-SUM('3bis. Calcul répartition CM'!AW$9:AW$58)>1),\"erreur\",\"\")","v":""},{"$f":"IF(AX5=\"erreur\",0,IF(OR('3bis. Calcul répartition CM'!AY$5=0,'3bis. Calcul répartition CM'!AX10=0),0,IF('3bis. Calcul répartition CM'!AY10-'3bis. Calcul répartition CM'!AW10>0,1,0)))","v":0},{"$f":"IF(AND('3bis. Calcul répartition CM'!AZ10=MAX('3bis. Calcul répartition CM'!AZ$9:AZ$58),'3bis. Calcul répartition CM'!AZ10>0,COUNTIF('3bis. Calcul répartition CM'!AZ$9:AZ$58,'3bis. Calcul répartition CM'!AZ10)>1,SUM('3bis. Calcul répartition CM'!BA$9:BA$58)-SUM('3bis. Calcul répartition CM'!AY$9:AY$58)>1),\"erreur\",\"\")","v":""},{"$f":"IF(AZ5=\"erreur\",0,IF(OR('3bis. Calcul répartition CM'!BA$5=0,'3bis. Calcul répartition CM'!AZ10=0),0,IF('3bis. Calcul répartition CM'!BA10-'3bis. Calcul répartition CM'!AY10>0,1,0)))","v":0},{"$f":"IF(AND('3bis. Calcul répartition CM'!BB10=MAX('3bis. Calcul répartition CM'!BB$9:BB$58),'3bis. Calcul répartition CM'!BB10>0,COUNTIF('3bis. Calcul répartition CM'!BB$9:BB$58,'3bis. Calcul répartition CM'!BB10)>1,SUM('3bis. Calcul répartition CM'!BC$9:BC$58)-SUM('3bis. Calcul répartition CM'!BA$9:BA$58)>1),\"erreur\",\"\")","v":""},{"$f":"IF(BB5=\"erreur\",0,IF(OR('3bis. Calcul répartition CM'!BC$5=0,'3bis. Calcul répartition CM'!BB10=0),0,IF('3bis. Calcul répartition CM'!BC10-'3bis. Calcul répartition CM'!BA10>0,1,0)))","v":0},{"$f":"IF(AND('3bis. Calcul répartition CM'!BD10=MAX('3bis. Calcul répartition CM'!BD$9:BD$58),'3bis. Calcul répartition CM'!BD10>0,COUNTIF('3bis. Calcul répartition CM'!BD$9:BD$58,'3bis. Calcul répartition CM'!BD10)>1,SUM('3bis. Calcul répartition CM'!BE$9:BE$58)-SUM('3bis. Calcul répartition CM'!BC$9:BC$58)>1),\"erreur\",\"\")","v":""},{"$f":"IF(BD5=\"erreur\",0,IF(OR('3bis. Calcul répartition CM'!BE$5=0,'3bis. Calcul répartition CM'!BD10=0),0,IF('3bis. Calcul répartition CM'!BE10-'3bis. Calcul répartition CM'!BC10>0,1,0)))","v":0},{"$f":"IF(AND('3bis. Calcul répartition CM'!BF10=MAX('3bis. Calcul répartition CM'!BF$9:BF$58),'3bis. Calcul répartition CM'!BF10>0,COUNTIF('3bis. Calcul répartition CM'!BF$9:BF$58,'3bis. Calcul répartition CM'!BF10)>1,SUM('3bis. Calcul répartition CM'!BG$9:BG$58)-SUM('3bis. Calcul répartition CM'!BE$9:BE$58)>1),\"erreur\",\"\")","v":""},{"$f":"IF(BF5=\"erreur\",0,IF(OR('3bis. Calcul répartition CM'!BG$5=0,'3bis. Calcul répartition CM'!BF10=0),0,IF('3bis. Calcul répartition CM'!BG10-'3bis. Calcul répartition CM'!BE10>0,1,0)))","v":0},{"$f":"IF(AND('3bis. Calcul répartition CM'!BH10=MAX('3bis. Calcul répartition CM'!BH$9:BH$58),'3bis. Calcul répartition CM'!BH10>0,COUNTIF('3bis. Calcul répartition CM'!BH$9:BH$58,'3bis. Calcul répartition CM'!BH10)>1,SUM('3bis. Calcul répartition CM'!BI$9:BI$58)-SUM('3bis. Calcul répartition CM'!BG$9:BG$58)>1),\"erreur\",\"\")","v":""},{"$f":"IF(BH5=\"erreur\",0,IF(OR('3bis. Calcul répartition CM'!BI$5=0,'3bis. Calcul répartition CM'!BH10=0),0,IF('3bis. Calcul répartition CM'!BI10-'3bis. Calcul répartition CM'!BG10>0,1,0)))","v":0},{"$f":"IF(AND('3bis. Calcul répartition CM'!BJ10=MAX('3bis. Calcul répartition CM'!BJ$9:BJ$58),'3bis. Calcul répartition CM'!BJ10>0,COUNTIF('3bis. Calcul répartition CM'!BJ$9:BJ$58,'3bis. Calcul répartition CM'!BJ10)>1,SUM('3bis. Calcul répartition CM'!BK$9:BK$58)-SUM('3bis. Calcul répartition CM'!BI$9:BI$58)>1),\"erreur\",\"\")","v":""},{"$f":"IF(BJ5=\"erreur\",0,IF(OR('3bis. Calcul répartition CM'!BK$5=0,'3bis. Calcul répartition CM'!BJ10=0),0,IF('3bis. Calcul répartition CM'!BK10-'3bis. Calcul répartition CM'!BI10>0,1,0)))","v":0},{"$f":"IF(AND('3bis. Calcul répartition CM'!BL10=MAX('3bis. Calcul répartition CM'!BL$9:BL$58),'3bis. Calcul répartition CM'!BL10>0,COUNTIF('3bis. Calcul répartition CM'!BL$9:BL$58,'3bis. Calcul répartition CM'!BL10)>1,SUM('3bis. Calcul répartition CM'!BM$9:BM$58)-SUM('3bis. Calcul répartition CM'!BK$9:BK$58)>1),\"erreur\",\"\")","v":""},{"$f":"IF(BL5=\"erreur\",0,IF(OR('3bis. Calcul répartition CM'!BM$5=0,'3bis. Calcul répartition CM'!BL10=0),0,IF('3bis. Calcul répartition CM'!BM10-'3bis. Calcul répartition CM'!BK10>0,1,0)))","v":0},{"$f":"IF(AND('3bis. Calcul répartition CM'!BN10=MAX('3bis. Calcul répartition CM'!BN$9:BN$58),'3bis. Calcul répartition CM'!BN10>0,COUNTIF('3bis. Calcul répartition CM'!BN$9:BN$58,'3bis. Calcul répartition CM'!BN10)>1,SUM('3bis. Calcul répartition CM'!BO$9:BO$58)-SUM('3bis. Calcul répartition CM'!BM$9:BM$58)>1),\"erreur\",\"\")","v":""},{"$f":"IF(BN5=\"erreur\",0,IF(OR('3bis. Calcul répartition CM'!BO$5=0,'3bis. Calcul répartition CM'!BN10=0),0,IF('3bis. Calcul répartition CM'!BO10-'3bis. Calcul répartition CM'!BM10>0,1,0)))","v":0},{"$f":"IF(AND('3bis. Calcul répartition CM'!BP10=MAX('3bis. Calcul répartition CM'!BP$9:BP$58),'3bis. Calcul répartition CM'!BP10>0,COUNTIF('3bis. Calcul répartition CM'!BP$9:BP$58,'3bis. Calcul répartition CM'!BP10)>1,SUM('3bis. Calcul répartition CM'!BQ$9:BQ$58)-SUM('3bis. Calcul répartition CM'!BO$9:BO$58)>1),\"erreur\",\"\")","v":""},{"$f":"IF(BP5=\"erreur\",0,IF(OR('3bis. Calcul répartition CM'!BQ$5=0,'3bis. Calcul répartition CM'!BP10=0),0,IF('3bis. Calcul répartition CM'!BQ10-'3bis. Calcul répartition CM'!BO10>0,1,0)))","v":0}]
[null,null,null,null,null,null,null,null,{"$f":"'3bis. Calcul répartition CM'!B11","v":0},{"$f":"IF(AND('3bis. Calcul répartition CM'!J11=MAX('3bis. Calcul répartition CM'!J$9:J$58),'3bis. Calcul répartition CM'!J11>0,COUNTIF('3bis. Calcul répartition CM'!J$9:J$58,'3bis. Calcul répartition CM'!J11)>1,SUM('3bis. Calcul répartition CM'!$K$9:$K$58)-SUM('3bis. Calcul répartition CM'!$D$9:$D$58)>1),\"erreur\",\"\")","v":""},{"$f":"IF(J6=\"erreur\",0,IF(OR('3bis. Calcul répartition CM'!K$5=0,'3bis. Calcul répartition CM'!J11=0),0,IF('3bis. Calcul répartition CM'!K11-'3bis. Calcul répartition CM'!D11>0,1,0)))","v":0},{"$f":"IF(AND('3bis. Calcul répartition CM'!L11=MAX('3bis. Calcul répartition CM'!L$9:L$58),'3bis. Calcul répartition CM'!L11>0,COUNTIF('3bis. Calcul répartition CM'!L$9:L$58,'3bis. Calcul répartition CM'!L11)>1,SUM('3bis. Calcul répartition CM'!M$9:M$58)-SUM('3bis. Calcul répartition CM'!K$9:K$58)>1),\"erreur\",\"\")","v":""},{"$f":"IF(L6=\"erreur\",0,IF(OR('3bis. Calcul répartition CM'!M$5=0,'3bis. Calcul répartition CM'!L11=0),0,IF('3bis. Calcul répartition CM'!M11-'3bis. Calcul répartition CM'!K11>0,1,0)))","v":0},{"$f":"IF(AND('3bis. Calcul répartition CM'!N11=MAX('3bis. Calcul répartition CM'!N$9:N$58),'3bis. Calcul répartition CM'!N11>0,COUNTIF('3bis. Calcul répartition CM'!N$9:N$58,'3bis. Calcul répartition CM'!N11)>1,SUM('3bis. Calcul répartition CM'!O$9:O$58)-SUM('3bis. Calcul répartition CM'!M$9:M$58)>1),\"erreur\",\"\")","v":""},{"$f":"IF(N6=\"erreur\",0,IF(OR('3bis. Calcul répartition CM'!O$5=0,'3bis. Calcul répartition CM'!N11=0),0,IF('3bis. Calcul répartition CM'!O11-'3bis. Calcul répartition CM'!M11>0,1,0)))","v":0},{"$f":"IF(AND('3bis. Calcul répartition CM'!P11=MAX('3bis. Calcul répartition CM'!P$9:P$58),'3bis. Calcul répartition CM'!P11>0,COUNTIF('3bis. Calcul répartition CM'!P$9:P$58,'3bis. Calcul répartition CM'!P11)>1,SUM('3bis. Calcul répartition CM'!Q$9:Q$58)-SUM('3bis. Calcul répartition CM'!O$9:O$58)>1),\"erreur\",\"\")","v":""},{"$f":"IF(P6=\"erreur\",0,IF(OR('3bis. Calcul répartition CM'!Q$5=0,'3bis. Calcul répartition CM'!P11=0),0,IF('3bis. Calcul répartition CM'!Q11-'3bis. Calcul répartition CM'!O11>0,1,0)))","v":0},{"$f":"IF(AND('3bis. Calcul répartition CM'!R11=MAX('3bis. Calcul répartition CM'!R$9:R$58),'3bis. Calcul répartition CM'!R11>0,COUNTIF('3bis. Calcul répartition CM'!R$9:R$58,'3bis. Calcul répartition CM'!R11)>1,SUM('3bis. Calcul répartition CM'!S$9:S$58)-SUM('3bis. Calcul répartition CM'!Q$9:Q$58)>1),\"erreur\",\"\")","v":""},{"$f":"IF(R6=\"erreur\",0,IF(OR('3bis. Calcul répartition CM'!S$5=0,'3bis. Calcul répartition CM'!R11=0),0,IF('3bis. Calcul répartition CM'!S11-'3bis. Calcul répartition CM'!Q11>0,1,0)))","v":0},{"$f":"IF(AND('3bis. Calcul répartition CM'!T11=MAX('3bis. Calcul répartition CM'!T$9:T$58),'3bis. Calcul répartition CM'!T11>0,COUNTIF('3bis. Calcul répartition CM'!T$9:T$58,'3bis. Calcul répartition CM'!T11)>1,SUM('3bis. Calcul répartition CM'!U$9:U$58)-SUM('3bis. Calcul répartition CM'!S$9:S$58)>1),\"erreur\",\"\")","v":""},{"$f":"IF(T6=\"erreur\",0,IF(OR('3bis. Calcul répartition CM'!U$5=0,'3bis. Calcul répartition CM'!T11=0),0,IF('3bis. Calcul répartition CM'!U11-'3bis. Calcul répartition CM'!S11>0,1,0)))","v":0},{"$f":"IF(AND('3bis. Calcul répartition CM'!V11=MAX('3bis. Calcul répartition CM'!V$9:V$58),'3bis. Calcul répartition CM'!V11>0,COUNTIF('3bis. Calcul répartition CM'!V$9:V$58,'3bis. Calcul répartition CM'!V11)>1,SUM('3bis. Calcul répartition CM'!W$9:W$58)-SUM('3bis. Calcul répartition CM'!U$9:U$58)>1),\"erreur\",\"\")","v":""},{"$f":"IF(V6=\"erreur\",0,IF(OR('3bis. Calcul répartition CM'!W$5=0,'3bis. Calcul répartition CM'!V11=0),0,IF('3bis. Calcul répartition CM'!W11-'3bis. Calcul répartition CM'!U11>0,1,0)))","v":0},{"$f":"IF(AND('3bis. Calcul répartition CM'!X11=MAX('3bis. Calcul répartition CM'!X$9:X$58),'3bis. Calcul répartition CM'!X11>0,COUNTIF('3bis. Calcul répartition CM'!X$9:X$58,'3bis. Calcul répartition CM'!X11)>1,SUM('3bis. Calcul répartition CM'!Y$9:Y$58)-SUM('3bis. Calcul répartition CM'!W$9:W$58)>1),\"erreur\",\"\")","v":""},{"$f":"IF(X6=\"erreur\",0,IF(OR('3bis. Calcul répartition CM'!Y$5=0,'3bis. Calcul répartition CM'!X11=0),0,IF('3bis. Calcul répartition CM'!Y11-'3bis. Calcul répartition CM'!W11>0,1,0)))","v":0},{"$f":"IF(AND('3bis. Calcul répartition CM'!Z11=MAX('3bis. Calcul répartition CM'!Z$9:Z$58),'3bis. Calcul répartition CM'!Z11>0,COUNTIF('3bis. Calcul répartition CM'!Z$9:Z$58,'3bis. Calcul répartition CM'!Z11)>1,SUM('3bis. Calcul répartition CM'!AA$9:AA$58)-SUM('3bis. Calcul répartition CM'!Y$9:Y$58)>1),\"erreur\",\"\")","v":""},{"$f":"IF(Z6=\"erreur\",0,IF(OR('3bis. Calcul répartition CM'!AA$5=0,'3bis. Calcul répartition CM'!Z11=0),0,IF('3bis. Calcul répartition CM'!AA11-'3bis. Calcul répartition CM'!Y11>0,1,0)))","v":0},{"$f":"IF(AND('3bis. Calcul répartition CM'!AB11=MAX('3bis. Calcul répartition CM'!AB$9:AB$58),'3bis. Calcul répartition CM'!AB11>0,COUNTIF('3bis. Calcul répartition CM'!AB$9:AB$58,'3bis. Calcul répartition CM'!AB11)>1,SUM('3bis. Calcul répartition CM'!AC$9:AC$58)-SUM('3bis. Calcul répartition CM'!AA$9:AA$58)>1),\"erreur\",\"\")","v":""},{"$f":"IF(AB6=\"erreur\",0,IF(OR('3bis. Calcul répartition CM'!AC$5=0,'3bis. Calcul répartition CM'!AB11=0),0,IF('3bis. Calcul répartition CM'!AC11-'3bis. Calcul répartition CM'!AA11>0,1,0)))","v":0},{"$f":"IF(AND('3bis. Calcul répartition CM'!AD11=MAX('3bis. Calcul répartition CM'!AD$9:AD$58),'3bis. Calcul répartition CM'!AD11>0,COUNTIF('3bis. Calcul répartition CM'!AD$9:AD$58,'3bis. Calcul répartition CM'!AD11)>1,SUM('3bis. Calcul répartition CM'!AE$9:AE$58)-SUM('3bis. Calcul répartition CM'!AC$9:AC$58)>1),\"erreur\",\"\")","v":""},{"$f":"IF(AD6=\"erreur\",0,IF(OR('3bis. Calcul répartition CM'!AE$5=0,'3bis. Calcul répartition CM'!AD11=0),0,IF('3bis. Calcul répartition CM'!AE11-'3bis. Calcul répartition CM'!AC11>0,1,0)))","v":0},{"$f":"IF(AND('3bis. Calcul répartition CM'!AF11=MAX('3bis. Calcul répartition CM'!AF$9:AF$58),'3bis. Calcul répartition CM'!AF11>0,COUNTIF('3bis. Calcul répartition CM'!AF$9:AF$58,'3bis. Calcul répartition CM'!AF11)>1,SUM('3bis. Calcul répartition CM'!AG$9:AG$58)-SUM('3bis. Calcul répartition CM'!AE$9:AE$58)>1),\"erreur\",\"\")","v":""},{"$f":"IF(AF6=\"erreur\",0,IF(OR('3bis. Calcul répartition CM'!AG$5=0,'3bis. Calcul répartition CM'!AF11=0),0,IF('3bis. Calcul répartition CM'!AG11-'3bis. Calcul répartition CM'!AE11>0,1,0)))","v":0},{"$f":"IF(AND('3bis. Calcul répartition CM'!AH11=MAX('3bis. Calcul répartition CM'!AH$9:AH$58),'3bis. Calcul répartition CM'!AH11>0,COUNTIF('3bis. Calcul répartition CM'!AH$9:AH$58,'3bis. Calcul répartition CM'!AH11)>1,SUM('3bis. Calcul répartition CM'!AI$9:AI$58)-SUM('3bis. Calcul répartition CM'!AG$9:AG$58)>1),\"erreur\",\"\")","v":""},{"$f":"IF(AH6=\"erreur\",0,IF(OR('3bis. Calcul répartition CM'!AI$5=0,'3bis. Calcul répartition CM'!AH11=0),0,IF('3bis. Calcul répartition CM'!AI11-'3bis. Calcul répartition CM'!AG11>0,1,0)))","v":0},{"$f":"IF(AND('3bis. Calcul répartition CM'!AJ11=MAX('3bis. Calcul répartition CM'!AJ$9:AJ$58),'3bis. Calcul répartition CM'!AJ11>0,COUNTIF('3bis. Calcul répartition CM'!AJ$9:AJ$58,'3bis. Calcul répartition CM'!AJ11)>1,SUM('3bis. Calcul répartition CM'!AK$9:AK$58)-SUM('3bis. Calcul répartition CM'!AI$9:AI$58)>1),\"erreur\",\"\")","v":""},{"$f":"IF(AJ6=\"erreur\",0,IF(OR('3bis. Calcul répartition CM'!AK$5=0,'3bis. Calcul répartition CM'!AJ11=0),0,IF('3bis. Calcul répartition CM'!AK11-'3bis. Calcul répartition CM'!AI11>0,1,0)))","v":0},{"$f":"IF(AND('3bis. Calcul répartition CM'!AL11=MAX('3bis. Calcul répartition CM'!AL$9:AL$58),'3bis. Calcul répartition CM'!AL11>0,COUNTIF('3bis. Calcul répartition CM'!AL$9:AL$58,'3bis. Calcul répartition CM'!AL11)>1,SUM('3bis. Calcul répartition CM'!AM$9:AM$58)-SUM('3bis. Calcul répartition CM'!AK$9:AK$58)>1),\"erreur\",\"\")","v":""},{"$f":"IF(AL6=\"erreur\",0,IF(OR('3bis. Calcul répartition CM'!AM$5=0,'3bis. Calcul répartition CM'!AL11=0),0,IF('3bis. Calcul répartition CM'!AM11-'3bis. Calcul répartition CM'!AK11>0,1,0)))","v":0},{"$f":"IF(AND('3bis. Calcul répartition CM'!AN11=MAX('3bis. Calcul répartition CM'!AN$9:AN$58),'3bis. Calcul répartition CM'!AN11>0,COUNTIF('3bis. Calcul répartition CM'!AN$9:AN$58,'3bis. Calcul répartition CM'!AN11)>1,SUM('3bis. Calcul répartition CM'!AO$9:AO$58)-SUM('3bis. Calcul répartition CM'!AM$9:AM$58)>1),\"erreur\",\"\")","v":""},{"$f":"IF(AN6=\"erreur\",0,IF(OR('3bis. Calcul répartition CM'!AO$5=0,'3bis. Calcul répartition CM'!AN11=0),0,IF('3bis. Calcul répartition CM'!AO11-'3bis. Calcul répartition CM'!AM11>0,1,0)))","v":0},{"$f":"IF(AND('3bis. Calcul répartition CM'!AP11=MAX('3bis. Calcul répartition CM'!AP$9:AP$58),'3bis. Calcul répartition CM'!AP11>0,COUNTIF('3bis. Calcul répartition CM'!AP$9:AP$58,'3bis. Calcul répartition CM'!AP11)>1,SUM('3bis. Calcul répartition CM'!AQ$9:AQ$58)-SUM('3bis. Calcul répartition CM'!AO$9:AO$58)>1),\"erreur\",\"\")","v":""},{"$f":"IF(AP6=\"erreur\",0,IF(OR('3bis. Calcul répartition CM'!AQ$5=0,'3bis. Calcul répartition CM'!AP11=0),0,IF('3bis. Calcul répartition CM'!AQ11-'3bis. Calcul répartition CM'!AO11>0,1,0)))","v":0},{"$f":"IF(AND('3bis. Calcul répartition CM'!AR11=MAX('3bis. Calcul répartition CM'!AR$9:AR$58),'3bis. Calcul répartition CM'!AR11>0,COUNTIF('3bis. Calcul répartition CM'!AR$9:AR$58,'3bis. Calcul répartition CM'!AR11)>1,SUM('3bis. Calcul répartition CM'!AS$9:AS$58)-SUM('3bis. Calcul répartition CM'!AQ$9:AQ$58)>1),\"erreur\",\"\")","v":""},{"$f":"IF(AR6=\"erreur\",0,IF(OR('3bis. Calcul répartition CM'!AS$5=0,'3bis. Calcul répartition CM'!AR11=0),0,IF('3bis. Calcul répartition CM'!AS11-'3bis. Calcul répartition CM'!AQ11>0,1,0)))","v":0},{"$f":"IF(AND('3bis. Calcul répartition CM'!AT11=MAX('3bis. Calcul répartition CM'!AT$9:AT$58),'3bis. Calcul répartition CM'!AT11>0,COUNTIF('3bis. Calcul répartition CM'!AT$9:AT$58,'3bis. Calcul répartition CM'!AT11)>1,SUM('3bis. Calcul répartition CM'!AU$9:AU$58)-SUM('3bis. Calcul répartition CM'!AS$9:AS$58)>1),\"erreur\",\"\")","v":""},{"$f":"IF(AT6=\"erreur\",0,IF(OR('3bis. Calcul répartition CM'!AU$5=0,'3bis. Calcul répartition CM'!AT11=0),0,IF('3bis. Calcul répartition CM'!AU11-'3bis. Calcul répartition CM'!AS11>0,1,0)))","v":0},{"$f":"IF(AND('3bis. Calcul répartition CM'!AV11=MAX('3bis. Calcul répartition CM'!AV$9:AV$58),'3bis. Calcul répartition CM'!AV11>0,COUNTIF('3bis. Calcul répartition CM'!AV$9:AV$58,'3bis. Calcul répartition CM'!AV11)>1,SUM('3bis. Calcul répartition CM'!AW$9:AW$58)-SUM('3bis. Calcul répartition CM'!AU$9:AU$58)>1),\"erreur\",\"\")","v":""},{"$f":"IF(AV6=\"erreur\",0,IF(OR('3bis. Calcul répartition CM'!AW$5=0,'3bis. Calcul répartition CM'!AV11=0),0,IF('3bis. Calcul répartition CM'!AW11-'3bis. Calcul répartition CM'!AU11>0,1,0)))","v":0},{"$f":"IF(AND('3bis. Calcul répartition CM'!AX11=MAX('3bis. Calcul répartition CM'!AX$9:AX$58),'3bis. Calcul répartition CM'!AX11>0,COUNTIF('3bis. Calcul répartition CM'!AX$9:AX$58,'3bis. Calcul répartition CM'!AX11)>1,SUM('3bis. Calcul répartition CM'!AY$9:AY$58)-SUM('3bis. Calcul répartition CM'!AW$9:AW$58)>1),\"erreur\",\"\")","v":""},{"$f":"IF(AX6=\"erreur\",0,IF(OR('3bis. Calcul répartition CM'!AY$5=0,'3bis. Calcul répartition CM'!AX11=0),0,IF('3bis. Calcul répartition CM'!AY11-'3bis. Calcul répartition CM'!AW11>0,1,0)))","v":0},{"$f":"IF(AND('3bis. Calcul répartition CM'!AZ11=MAX('3bis. Calcul répartition CM'!AZ$9:AZ$58),'3bis. Calcul répartition CM'!AZ11>0,COUNTIF('3bis. Calcul répartition CM'!AZ$9:AZ$58,'3bis. Calcul répartition CM'!AZ11)>1,SUM('3bis. Calcul répartition CM'!BA$9:BA$58)-SUM('3bis. Calcul répartition CM'!AY$9:AY$58)>1),\"erreur\",\"\")","v":""},{"$f":"IF(AZ6=\"erreur\",0,IF(OR('3bis. Calcul répartition CM'!BA$5=0,'3bis. Calcul répartition CM'!AZ11=0),0,IF('3bis. Calcul répartition CM'!BA11-'3bis. Calcul répartition CM'!AY11>0,1,0)))","v":0},{"$f":"IF(AND('3bis. Calcul répartition CM'!BB11=MAX('3bis. Calcul répartition CM'!BB$9:BB$58),'3bis. Calcul répartition CM'!BB11>0,COUNTIF('3bis. Calcul répartition CM'!BB$9:BB$58,'3bis. Calcul répartition CM'!BB11)>1,SUM('3bis. Calcul répartition CM'!BC$9:BC$58)-SUM('3bis. Calcul répartition CM'!BA$9:BA$58)>1),\"erreur\",\"\")","v":""},{"$f":"IF(BB6=\"erreur\",0,IF(OR('3bis. Calcul répartition CM'!BC$5=0,'3bis. Calcul répartition CM'!BB11=0),0,IF('3bis. Calcul répartition CM'!BC11-'3bis. Calcul répartition CM'!BA11>0,1,0)))","v":0},{"$f":"IF(AND('3bis. Calcul répartition CM'!BD11=MAX('3bis. Calcul répartition CM'!BD$9:BD$58),'3bis. Calcul répartition CM'!BD11>0,COUNTIF('3bis. Calcul répartition CM'!BD$9:BD$58,'3bis. Calcul répartition CM'!BD11)>1,SUM('3bis. Calcul répartition CM'!BE$9:BE$58)-SUM('3bis. Calcul répartition CM'!BC$9:BC$58)>1),\"erreur\",\"\")","v":""},{"$f":"IF(BD6=\"erreur\",0,IF(OR('3bis. Calcul répartition CM'!BE$5=0,'3bis. Calcul répartition CM'!BD11=0),0,IF('3bis. Calcul répartition CM'!BE11-'3bis. Calcul répartition CM'!BC11>0,1,0)))","v":0},{"$f":"IF(AND('3bis. Calcul répartition CM'!BF11=MAX('3bis. Calcul répartition CM'!BF$9:BF$58),'3bis. Calcul répartition CM'!BF11>0,COUNTIF('3bis. Calcul répartition CM'!BF$9:BF$58,'3bis. Calcul répartition CM'!BF11)>1,SUM('3bis. Calcul répartition CM'!BG$9:BG$58)-SUM('3bis. Calcul répartition CM'!BE$9:BE$58)>1),\"erreur\",\"\")","v":""},{"$f":"IF(BF6=\"erreur\",0,IF(OR('3bis. Calcul répartition CM'!BG$5=0,'3bis. Calcul répartition CM'!BF11=0),0,IF('3bis. Calcul répartition CM'!BG11-'3bis. Calcul répartition CM'!BE11>0,1,0)))","v":0},{"$f":"IF(AND('3bis. Calcul répartition CM'!BH11=MAX('3bis. Calcul répartition CM'!BH$9:BH$58),'3bis. Calcul répartition CM'!BH11>0,COUNTIF('3bis. Calcul répartition CM'!BH$9:BH$58,'3bis. Calcul répartition CM'!BH11)>1,SUM('3bis. Calcul répartition CM'!BI$9:BI$58)-SUM('3bis. Calcul répartition CM'!BG$9:BG$58)>1),\"erreur\",\"\")","v":""},{"$f":"IF(BH6=\"erreur\",0,IF(OR('3bis. Calcul répartition CM'!BI$5=0,'3bis. Calcul répartition CM'!BH11=0),0,IF('3bis. Calcul répartition CM'!BI11-'3bis. Calcul répartition CM'!BG11>0,1,0)))","v":0},{"$f":"IF(AND('3bis. Calcul répartition CM'!BJ11=MAX('3bis. Calcul répartition CM'!BJ$9:BJ$58),'3bis. Calcul répartition CM'!BJ11>0,COUNTIF('3bis. Calcul répartition CM'!BJ$9:BJ$58,'3bis. Calcul répartition CM'!BJ11)>1,SUM('3bis. Calcul répartition CM'!BK$9:BK$58)-SUM('3bis. Calcul répartition CM'!BI$9:BI$58)>1),\"erreur\",\"\")","v":""},{"$f":"IF(BJ6=\"erreur\",0,IF(OR('3bis. Calcul répartition CM'!BK$5=0,'3bis. Calcul répartition CM'!BJ11=0),0,IF('3bis. Calcul répartition CM'!BK11-'3bis. Calcul répartition CM'!BI11>0,1,0)))","v":0},{"$f":"IF(AND('3bis. Calcul répartition CM'!BL11=MAX('3bis. Calcul répartition CM'!BL$9:BL$58),'3bis. Calcul répartition CM'!BL11>0,COUNTIF('3bis. Calcul répartition CM'!BL$9:BL$58,'3bis. Calcul répartition CM'!BL11)>1,SUM('3bis. Calcul répartition CM'!BM$9:BM$58)-SUM('3bis. Calcul répartition CM'!BK$9:BK$58)>1),\"erreur\",\"\")","v":""},{"$f":"IF(BL6=\"erreur\",0,IF(OR('3bis. Calcul répartition CM'!BM$5=0,'3bis. Calcul répartition CM'!BL11=0),0,IF('3bis. Calcul répartition CM'!BM11-'3bis. Calcul répartition CM'!BK11>0,1,0)))","v":0},{"$f":"IF(AND('3bis. Calcul répartition CM'!BN11=MAX('3bis. Calcul répartition CM'!BN$9:BN$58),'3bis. Calcul répartition CM'!BN11>0,COUNTIF('3bis. Calcul répartition CM'!BN$9:BN$58,'3bis. Calcul répartition CM'!BN11)>1,SUM('3bis. Calcul répartition CM'!BO$9:BO$58)-SUM('3bis. Calcul répartition CM'!BM$9:BM$58)>1),\"erreur\",\"\")","v":""},{"$f":"IF(BN6=\"erreur\",0,IF(OR('3bis. Calcul répartition CM'!BO$5=0,'3bis. Calcul répartition CM'!BN11=0),0,IF('3bis. Calcul répartition CM'!BO11-'3bis. Calcul répartition CM'!BM11>0,1,0)))","v":0},{"$f":"IF(AND('3bis. Calcul répartition CM'!BP11=MAX('3bis. Calcul répartition CM'!BP$9:BP$58),'3bis. Calcul répartition CM'!BP11>0,COUNTIF('3bis. Calcul répartition CM'!BP$9:BP$58,'3bis. Calcul répartition CM'!BP11)>1,SUM('3bis. Calcul répartition CM'!BQ$9:BQ$58)-SUM('3bis. Calcul répartition CM'!BO$9:BO$58)>1),\"erreur\",\"\")","v":""},{"$f":"IF(BP6=\"erreur\",0,IF(OR('3bis. Calcul répartition CM'!BQ$5=0,'3bis. Calcul répartition CM'!BP11=0),0,IF('3bis. Calcul répartition CM'!BQ11-'3bis. Calcul répartition CM'!BO11>0,1,0)))","v":0}]
[null,null,null,null,null,null,null,null,{"$f":"'3bis. Calcul répartition CM'!B12","v":0},{"$f":"IF(AND('3bis. Calcul répartition CM'!J12=MAX('3bis. Calcul répartition CM'!J$9:J$58),'3bis. Calcul répartition CM'!J12>0,COUNTIF('3bis. Calcul répartition CM'!J$9:J$58,'3bis. Calcul répartition CM'!J12)>1,SUM('3bis. Calcul répartition CM'!$K$9:$K$58)-SUM('3bis. Calcul répartition CM'!$D$9:$D$58)>1),\"erreur\",\"\")","v":""},{"$f":"IF(J7=\"erreur\",0,IF(OR('3bis. Calcul répartition CM'!K$5=0,'3bis. Calcul répartition CM'!J12=0),0,IF('3bis. Calcul répartition CM'!K12-'3bis. Calcul répartition CM'!D12>0,1,0)))","v":0},{"$f":"IF(AND('3bis. Calcul répartition CM'!L12=MAX('3bis. Calcul répartition CM'!L$9:L$58),'3bis. Calcul répartition CM'!L12>0,COUNTIF('3bis. Calcul répartition CM'!L$9:L$58,'3bis. Calcul répartition CM'!L12)>1,SUM('3bis. Calcul répartition CM'!M$9:M$58)-SUM('3bis. Calcul répartition CM'!K$9:K$58)>1),\"erreur\",\"\")","v":""},{"$f":"IF(L7=\"erreur\",0,IF(OR('3bis. Calcul répartition CM'!M$5=0,'3bis. Calcul répartition CM'!L12=0),0,IF('3bis. Calcul répartition CM'!M12-'3bis. Calcul répartition CM'!K12>0,1,0)))","v":0},{"$f":"IF(AND('3bis. Calcul répartition CM'!N12=MAX('3bis. Calcul répartition CM'!N$9:N$58),'3bis. Calcul répartition CM'!N12>0,COUNTIF('3bis. Calcul répartition CM'!N$9:N$58,'3bis. Calcul répartition CM'!N12)>1,SUM('3bis. Calcul répartition CM'!O$9:O$58)-SUM('3bis. Calcul répartition CM'!M$9:M$58)>1),\"erreur\",\"\")","v":""},{"$f":"IF(N7=\"erreur\",0,IF(OR('3bis. Calcul répartition CM'!O$5=0,'3bis. Calcul répartition CM'!N12=0),0,IF('3bis. Calcul répartition CM'!O12-'3bis. Calcul répartition CM'!M12>0,1,0)))","v":0},{"$f":"IF(AND('3bis. Calcul répartition CM'!P12=MAX('3bis. Calcul répartition CM'!P$9:P$58),'3bis. Calcul répartition CM'!P12>0,COUNTIF('3bis. Calcul répartition CM'!P$9:P$58,'3bis. Calcul répartition CM'!P12)>1,SUM('3bis. Calcul répartition CM'!Q$9:Q$58)-SUM('3bis. Calcul répartition CM'!O$9:O$58)>1),\"erreur\",\"\")","v":""},{"$f":"IF(P7=\"erreur\",0,IF(OR('3bis. Calcul répartition CM'!Q$5=0,'3bis. Calcul répartition CM'!P12=0),0,IF('3bis. Calcul répartition CM'!Q12-'3bis. Calcul répartition CM'!O12>0,1,0)))","v":0},{"$f":"IF(AND('3bis. Calcul répartition CM'!R12=MAX('3bis. Calcul répartition CM'!R$9:R$58),'3bis. Calcul répartition CM'!R12>0,COUNTIF('3bis. Calcul répartition CM'!R$9:R$58,'3bis. Calcul répartition CM'!R12)>1,SUM('3bis. Calcul répartition CM'!S$9:S$58)-SUM('3bis. Calcul répartition CM'!Q$9:Q$58)>1),\"erreur\",\"\")","v":""},{"$f":"IF(R7=\"erreur\",0,IF(OR('3bis. Calcul répartition CM'!S$5=0,'3bis. Calcul répartition CM'!R12=0),0,IF('3bis. Calcul répartition CM'!S12-'3bis. Calcul répartition CM'!Q12>0,1,0)))","v":0},{"$f":"IF(AND('3bis. Calcul répartition CM'!T12=MAX('3bis. Calcul répartition CM'!T$9:T$58),'3bis. Calcul répartition CM'!T12>0,COUNTIF('3bis. Calcul répartition CM'!T$9:T$58,'3bis. Calcul répartition CM'!T12)>1,SUM('3bis. Calcul répartition CM'!U$9:U$58)-SUM('3bis. Calcul répartition CM'!S$9:S$58)>1),\"erreur\",\"\")","v":""},{"$f":"IF(T7=\"erreur\",0,IF(OR('3bis. Calcul répartition CM'!U$5=0,'3bis. Calcul répartition CM'!T12=0),0,IF('3bis. Calcul répartition CM'!U12-'3bis. Calcul répartition CM'!S12>0,1,0)))","v":0},{"$f":"IF(AND('3bis. Calcul répartition CM'!V12=MAX('3bis. Calcul répartition CM'!V$9:V$58),'3bis. Calcul répartition CM'!V12>0,COUNTIF('3bis. Calcul répartition CM'!V$9:V$58,'3bis. Calcul répartition CM'!V12)>1,SUM('3bis. Calcul répartition CM'!W$9:W$58)-SUM('3bis. Calcul répartition CM'!U$9:U$58)>1),\"erreur\",\"\")","v":""},{"$f":"IF(V7=\"erreur\",0,IF(OR('3bis. Calcul répartition CM'!W$5=0,'3bis. Calcul répartition CM'!V12=0),0,IF('3bis. Calcul répartition CM'!W12-'3bis. Calcul répartition CM'!U12>0,1,0)))","v":0},{"$f":"IF(AND('3bis. Calcul répartition CM'!X12=MAX('3bis. Calcul répartition CM'!X$9:X$58),'3bis. Calcul répartition CM'!X12>0,COUNTIF('3bis. Calcul répartition CM'!X$9:X$58,'3bis. Calcul répartition CM'!X12)>1,SUM('3bis. Calcul répartition CM'!Y$9:Y$58)-SUM('3bis. Calcul répartition CM'!W$9:W$58)>1),\"erreur\",\"\")","v":""},{"$f":"IF(X7=\"erreur\",0,IF(OR('3bis. Calcul répartition CM'!Y$5=0,'3bis. Calcul répartition CM'!X12=0),0,IF('3bis. Calcul répartition CM'!Y12-'3bis. Calcul répartition CM'!W12>0,1,0)))","v":0},{"$f":"IF(AND('3bis. Calcul répartition CM'!Z12=MAX('3bis. Calcul répartition CM'!Z$9:Z$58),'3bis. Calcul répartition CM'!Z12>0,COUNTIF('3bis. Calcul répartition CM'!Z$9:Z$58,'3bis. Calcul répartition CM'!Z12)>1,SUM('3bis. Calcul répartition CM'!AA$9:AA$58)-SUM('3bis. Calcul répartition CM'!Y$9:Y$58)>1),\"erreur\",\"\")","v":""},{"$f":"IF(Z7=\"erreur\",0,IF(OR('3bis. Calcul répartition CM'!AA$5=0,'3bis. Calcul répartition CM'!Z12=0),0,IF('3bis. Calcul répartition CM'!AA12-'3bis. Calcul répartition CM'!Y12>0,1,0)))","v":0},{"$f":"IF(AND('3bis. Calcul répartition CM'!AB12=MAX('3bis. Calcul répartition CM'!AB$9:AB$58),'3bis. Calcul répartition CM'!AB12>0,COUNTIF('3bis. Calcul répartition CM'!AB$9:AB$58,'3bis. Calcul répartition CM'!AB12)>1,SUM('3bis. Calcul répartition CM'!AC$9:AC$58)-SUM('3bis. Calcul répartition CM'!AA$9:AA$58)>1),\"erreur\",\"\")","v":""},{"$f":"IF(AB7=\"erreur\",0,IF(OR('3bis. Calcul répartition CM'!AC$5=0,'3bis. Calcul répartition CM'!AB12=0),0,IF('3bis. Calcul répartition CM'!AC12-'3bis. Calcul répartition CM'!AA12>0,1,0)))","v":0},{"$f":"IF(AND('3bis. Calcul répartition CM'!AD12=MAX('3bis. Calcul répartition CM'!AD$9:AD$58),'3bis. Calcul répartition CM'!AD12>0,COUNTIF('3bis. Calcul répartition CM'!AD$9:AD$58,'3bis. Calcul répartition CM'!AD12)>1,SUM('3bis. Calcul répartition CM'!AE$9:AE$58)-SUM('3bis. Calcul répartition CM'!AC$9:AC$58)>1),\"erreur\",\"\")","v":""},{"$f":"IF(AD7=\"erreur\",0,IF(OR('3bis. Calcul répartition CM'!AE$5=0,'3bis. Calcul répartition CM'!AD12=0),0,IF('3bis. Calcul répartition CM'!AE12-'3bis. Calcul répartition CM'!AC12>0,1,0)))","v":0},{"$f":"IF(AND('3bis. Calcul répartition CM'!AF12=MAX('3bis. Calcul répartition CM'!AF$9:AF$58),'3bis. Calcul répartition CM'!AF12>0,COUNTIF('3bis. Calcul répartition CM'!AF$9:AF$58,'3bis. Calcul répartition CM'!AF12)>1,SUM('3bis. Calcul répartition CM'!AG$9:AG$58)-SUM('3bis. Calcul répartition CM'!AE$9:AE$58)>1),\"erreur\",\"\")","v":""},{"$f":"IF(AF7=\"erreur\",0,IF(OR('3bis. Calcul répartition CM'!AG$5=0,'3bis. Calcul répartition CM'!AF12=0),0,IF('3bis. Calcul répartition CM'!AG12-'3bis. Calcul répartition CM'!AE12>0,1,0)))","v":0},{"$f":"IF(AND('3bis. Calcul répartition CM'!AH12=MAX('3bis. Calcul répartition CM'!AH$9:AH$58),'3bis. Calcul répartition CM'!AH12>0,COUNTIF('3bis. Calcul répartition CM'!AH$9:AH$58,'3bis. Calcul répartition CM'!AH12)>1,SUM('3bis. Calcul répartition CM'!AI$9:AI$58)-SUM('3bis. Calcul répartition CM'!AG$9:AG$58)>1),\"erreur\",\"\")","v":""},{"$f":"IF(AH7=\"erreur\",0,IF(OR('3bis. Calcul répartition CM'!AI$5=0,'3bis. Calcul répartition CM'!AH12=0),0,IF('3bis. Calcul répartition CM'!AI12-'3bis. Calcul répartition CM'!AG12>0,1,0)))","v":0},{"$f":"IF(AND('3bis. Calcul répartition CM'!AJ12=MAX('3bis. Calcul répartition CM'!AJ$9:AJ$58),'3bis. Calcul répartition CM'!AJ12>0,COUNTIF('3bis. Calcul répartition CM'!AJ$9:AJ$58,'3bis. Calcul répartition CM'!AJ12)>1,SUM('3bis. Calcul répartition CM'!AK$9:AK$58)-SUM('3bis. Calcul répartition CM'!AI$9:AI$58)>1),\"erreur\",\"\")","v":""},{"$f":"IF(AJ7=\"erreur\",0,IF(OR('3bis. Calcul répartition CM'!AK$5=0,'3bis. Calcul répartition CM'!AJ12=0),0,IF('3bis. Calcul répartition CM'!AK12-'3bis. Calcul répartition CM'!AI12>0,1,0)))","v":0},{"$f":"IF(AND('3bis. Calcul répartition CM'!AL12=MAX('3bis. Calcul répartition CM'!AL$9:AL$58),'3bis. Calcul répartition CM'!AL12>0,COUNTIF('3bis. Calcul répartition CM'!AL$9:AL$58,'3bis. Calcul répartition CM'!AL12)>1,SUM('3bis. Calcul répartition CM'!AM$9:AM$58)-SUM('3bis. Calcul répartition CM'!AK$9:AK$58)>1),\"erreur\",\"\")","v":""},{"$f":"IF(AL7=\"erreur\",0,IF(OR('3bis. Calcul répartition CM'!AM$5=0,'3bis. Calcul répartition CM'!AL12=0),0,IF('3bis. Calcul répartition CM'!AM12-'3bis. Calcul répartition CM'!AK12>0,1,0)))","v":0},{"$f":"IF(AND('3bis. Calcul répartition CM'!AN12=MAX('3bis. Calcul répartition CM'!AN$9:AN$58),'3bis. Calcul répartition CM'!AN12>0,COUNTIF('3bis. Calcul répartition CM'!AN$9:AN$58,'3bis. Calcul répartition CM'!AN12)>1,SUM('3bis. Calcul répartition CM'!AO$9:AO$58)-SUM('3bis. Calcul répartition CM'!AM$9:AM$58)>1),\"erreur\",\"\")","v":""},{"$f":"IF(AN7=\"erreur\",0,IF(OR('3bis. Calcul répartition CM'!AO$5=0,'3bis. Calcul répartition CM'!AN12=0),0,IF('3bis. Calcul répartition CM'!AO12-'3bis. Calcul répartition CM'!AM12>0,1,0)))","v":0},{"$f":"IF(AND('3bis. Calcul répartition CM'!AP12=MAX('3bis. Calcul répartition CM'!AP$9:AP$58),'3bis. Calcul répartition CM'!AP12>0,COUNTIF('3bis. Calcul répartition CM'!AP$9:AP$58,'3bis. Calcul répartition CM'!AP12)>1,SUM('3bis. Calcul répartition CM'!AQ$9:AQ$58)-SUM('3bis. Calcul répartition CM'!AO$9:AO$58)>1),\"erreur\",\"\")","v":""},{"$f":"IF(AP7=\"erreur\",0,IF(OR('3bis. Calcul répartition CM'!AQ$5=0,'3bis. Calcul répartition CM'!AP12=0),0,IF('3bis. Calcul répartition CM'!AQ12-'3bis. Calcul répartition CM'!AO12>0,1,0)))","v":0},{"$f":"IF(AND('3bis. Calcul répartition CM'!AR12=MAX('3bis. Calcul répartition CM'!AR$9:AR$58),'3bis. Calcul répartition CM'!AR12>0,COUNTIF('3bis. Calcul répartition CM'!AR$9:AR$58,'3bis. Calcul répartition CM'!AR12)>1,SUM('3bis. Calcul répartition CM'!AS$9:AS$58)-SUM('3bis. Calcul répartition CM'!AQ$9:AQ$58)>1),\"erreur\",\"\")","v":""},{"$f":"IF(AR7=\"erreur\",0,IF(OR('3bis. Calcul répartition CM'!AS$5=0,'3bis. Calcul répartition CM'!AR12=0),0,IF('3bis. Calcul répartition CM'!AS12-'3bis. Calcul répartition CM'!AQ12>0,1,0)))","v":0},{"$f":"IF(AND('3bis. Calcul répartition CM'!AT12=MAX('3bis. Calcul répartition CM'!AT$9:AT$58),'3bis. Calcul répartition CM'!AT12>0,COUNTIF('3bis. Calcul répartition CM'!AT$9:AT$58,'3bis. Calcul répartition CM'!AT12)>1,SUM('3bis. Calcul répartition CM'!AU$9:AU$58)-SUM('3bis. Calcul répartition CM'!AS$9:AS$58)>1),\"erreur\",\"\")","v":""},{"$f":"IF(AT7=\"erreur\",0,IF(OR('3bis. Calcul répartition CM'!AU$5=0,'3bis. Calcul répartition CM'!AT12=0),0,IF('3bis. Calcul répartition CM'!AU12-'3bis. Calcul répartition CM'!AS12>0,1,0)))","v":0},{"$f":"IF(AND('3bis. Calcul répartition CM'!AV12=MAX('3bis. Calcul répartition CM'!AV$9:AV$58),'3bis. Calcul répartition CM'!AV12>0,COUNTIF('3bis. Calcul répartition CM'!AV$9:AV$58,'3bis. Calcul répartition CM'!AV12)>1,SUM('3bis. Calcul répartition CM'!AW$9:AW$58)-SUM('3bis. Calcul répartition CM'!AU$9:AU$58)>1),\"erreur\",\"\")","v":""},{"$f":"IF(AV7=\"erreur\",0,IF(OR('3bis. Calcul répartition CM'!AW$5=0,'3bis. Calcul répartition CM'!AV12=0),0,IF('3bis. Calcul répartition CM'!AW12-'3bis. Calcul répartition CM'!AU12>0,1,0)))","v":0},{"$f":"IF(AND('3bis. Calcul répartition CM'!AX12=MAX('3bis. Calcul répartition CM'!AX$9:AX$58),'3bis. Calcul répartition CM'!AX12>0,COUNTIF('3bis. Calcul répartition CM'!AX$9:AX$58,'3bis. Calcul répartition CM'!AX12)>1,SUM('3bis. Calcul répartition CM'!AY$9:AY$58)-SUM('3bis. Calcul répartition CM'!AW$9:AW$58)>1),\"erreur\",\"\")","v":""},{"$f":"IF(AX7=\"erreur\",0,IF(OR('3bis. Calcul répartition CM'!AY$5=0,'3bis. Calcul répartition CM'!AX12=0),0,IF('3bis. Calcul répartition CM'!AY12-'3bis. Calcul répartition CM'!AW12>0,1,0)))","v":0},{"$f":"IF(AND('3bis. Calcul répartition CM'!AZ12=MAX('3bis. Calcul répartition CM'!AZ$9:AZ$58),'3bis. Calcul répartition CM'!AZ12>0,COUNTIF('3bis. Calcul répartition CM'!AZ$9:AZ$58,'3bis. Calcul répartition CM'!AZ12)>1,SUM('3bis. Calcul répartition CM'!BA$9:BA$58)-SUM('3bis. Calcul répartition CM'!AY$9:AY$58)>1),\"erreur\",\"\")","v":""},{"$f":"IF(AZ7=\"erreur\",0,IF(OR('3bis. Calcul répartition CM'!BA$5=0,'3bis. Calcul répartition CM'!AZ12=0),0,IF('3bis. Calcul répartition CM'!BA12-'3bis. Calcul répartition CM'!AY12>0,1,0)))","v":0},{"$f":"IF(AND('3bis. Calcul répartition CM'!BB12=MAX('3bis. Calcul répartition CM'!BB$9:BB$58),'3bis. Calcul répartition CM'!BB12>0,COUNTIF('3bis. Calcul répartition CM'!BB$9:BB$58,'3bis. Calcul répartition CM'!BB12)>1,SUM('3bis. Calcul répartition CM'!BC$9:BC$58)-SUM('3bis. Calcul répartition CM'!BA$9:BA$58)>1),\"erreur\",\"\")","v":""},{"$f":"IF(BB7=\"erreur\",0,IF(OR('3bis. Calcul répartition CM'!BC$5=0,'3bis. Calcul répartition CM'!BB12=0),0,IF('3bis. Calcul répartition CM'!BC12-'3bis. Calcul répartition CM'!BA12>0,1,0)))","v":0},{"$f":"IF(AND('3bis. Calcul répartition CM'!BD12=MAX('3bis. Calcul répartition CM'!BD$9:BD$58),'3bis. Calcul répartition CM'!BD12>0,COUNTIF('3bis. Calcul répartition CM'!BD$9:BD$58,'3bis. Calcul répartition CM'!BD12)>1,SUM('3bis. Calcul répartition CM'!BE$9:BE$58)-SUM('3bis. Calcul répartition CM'!BC$9:BC$58)>1),\"erreur\",\"\")","v":""},{"$f":"IF(BD7=\"erreur\",0,IF(OR('3bis. Calcul répartition CM'!BE$5=0,'3bis. Calcul répartition CM'!BD12=0),0,IF('3bis. Calcul répartition CM'!BE12-'3bis. Calcul répartition CM'!BC12>0,1,0)))","v":0},{"$f":"IF(AND('3bis. Calcul répartition CM'!BF12=MAX('3bis. Calcul répartition CM'!BF$9:BF$58),'3bis. Calcul répartition CM'!BF12>0,COUNTIF('3bis. Calcul répartition CM'!BF$9:BF$58,'3bis. Calcul répartition CM'!BF12)>1,SUM('3bis. Calcul répartition CM'!BG$9:BG$58)-SUM('3bis. Calcul répartition CM'!BE$9:BE$58)>1),\"erreur\",\"\")","v":""},{"$f":"IF(BF7=\"erreur\",0,IF(OR('3bis. Calcul répartition CM'!BG$5=0,'3bis. Calcul répartition CM'!BF12=0),0,IF('3bis. Calcul répartition CM'!BG12-'3bis. Calcul répartition CM'!BE12>0,1,0)))","v":0},{"$f":"IF(AND('3bis. Calcul répartition CM'!BH12=MAX('3bis. Calcul répartition CM'!BH$9:BH$58),'3bis. Calcul répartition CM'!BH12>0,COUNTIF('3bis. Calcul répartition CM'!BH$9:BH$58,'3bis. Calcul répartition CM'!BH12)>1,SUM('3bis. Calcul répartition CM'!BI$9:BI$58)-SUM('3bis. Calcul répartition CM'!BG$9:BG$58)>1),\"erreur\",\"\")","v":""},{"$f":"IF(BH7=\"erreur\",0,IF(OR('3bis. Calcul répartition CM'!BI$5=0,'3bis. Calcul répartition CM'!BH12=0),0,IF('3bis. Calcul répartition CM'!BI12-'3bis. Calcul répartition CM'!BG12>0,1,0)))","v":0},{"$f":"IF(AND('3bis. Calcul répartition CM'!BJ12=MAX('3bis. Calcul répartition CM'!BJ$9:BJ$58),'3bis. Calcul répartition CM'!BJ12>0,COUNTIF('3bis. Calcul répartition CM'!BJ$9:BJ$58,'3bis. Calcul répartition CM'!BJ12)>1,SUM('3bis. Calcul répartition CM'!BK$9:BK$58)-SUM('3bis. Calcul répartition CM'!BI$9:BI$58)>1),\"erreur\",\"\")","v":""},{"$f":"IF(BJ7=\"erreur\",0,IF(OR('3bis. Calcul répartition CM'!BK$5=0,'3bis. Calcul répartition CM'!BJ12=0),0,IF('3bis. Calcul répartition CM'!BK12-'3bis. Calcul répartition CM'!BI12>0,1,0)))","v":0},{"$f":"IF(AND('3bis. Calcul répartition CM'!BL12=MAX('3bis. Calcul répartition CM'!BL$9:BL$58),'3bis. Calcul répartition CM'!BL12>0,COUNTIF('3bis. Calcul répartition CM'!BL$9:BL$58,'3bis. Calcul répartition CM'!BL12)>1,SUM('3bis. Calcul répartition CM'!BM$9:BM$58)-SUM('3bis. Calcul répartition CM'!BK$9:BK$58)>1),\"erreur\",\"\")","v":""},{"$f":"IF(BL7=\"erreur\",0,IF(OR('3bis. Calcul répartition CM'!BM$5=0,'3bis. Calcul répartition CM'!BL12=0),0,IF('3bis. Calcul répartition CM'!BM12-'3bis. Calcul répartition CM'!BK12>0,1,0)))","v":0},{"$f":"IF(AND('3bis. Calcul répartition CM'!BN12=MAX('3bis. Calcul répartition CM'!BN$9:BN$58),'3bis. Calcul répartition CM'!BN12>0,COUNTIF('3bis. Calcul répartition CM'!BN$9:BN$58,'3bis. Calcul répartition CM'!BN12)>1,SUM('3bis. Calcul répartition CM'!BO$9:BO$58)-SUM('3bis. Calcul répartition CM'!BM$9:BM$58)>1),\"erreur\",\"\")","v":""},{"$f":"IF(BN7=\"erreur\",0,IF(OR('3bis. Calcul répartition CM'!BO$5=0,'3bis. Calcul répartition CM'!BN12=0),0,IF('3bis. Calcul répartition CM'!BO12-'3bis. Calcul répartition CM'!BM12>0,1,0)))","v":0},{"$f":"IF(AND('3bis. Calcul répartition CM'!BP12=MAX('3bis. Calcul répartition CM'!BP$9:BP$58),'3bis. Calcul répartition CM'!BP12>0,COUNTIF('3bis. Calcul répartition CM'!BP$9:BP$58,'3bis. Calcul répartition CM'!BP12)>1,SUM('3bis. Calcul répartition CM'!BQ$9:BQ$58)-SUM('3bis. Calcul répartition CM'!BO$9:BO$58)>1),\"erreur\",\"\")","v":""},{"$f":"IF(BP7=\"erreur\",0,IF(OR('3bis. Calcul répartition CM'!BQ$5=0,'3bis. Calcul répartition CM'!BP12=0),0,IF('3bis. Calcul répartition CM'!BQ12-'3bis. Calcul répartition CM'!BO12>0,1,0)))","v":0}]
[null,null,null,null,null,null,null,null,{"$f":"'3bis. Calcul répartition CM'!B13","v":0},{"$f":"IF(AND('3bis. Calcul répartition CM'!J13=MAX('3bis. Calcul répartition CM'!J$9:J$58),'3bis. Calcul répartition CM'!J13>0,COUNTIF('3bis. Calcul répartition CM'!J$9:J$58,'3bis. Calcul répartition CM'!J13)>1,SUM('3bis. Calcul répartition CM'!$K$9:$K$58)-SUM('3bis. Calcul répartition CM'!$D$9:$D$58)>1),\"erreur\",\"\")","v":""},{"$f":"IF(J8=\"erreur\",0,IF(OR('3bis. Calcul répartition CM'!K$5=0,'3bis. Calcul répartition CM'!J13=0),0,IF('3bis. Calcul répartition CM'!K13-'3bis. Calcul répartition CM'!D13>0,1,0)))","v":0},{"$f":"IF(AND('3bis. Calcul répartition CM'!L13=MAX('3bis. Calcul répartition CM'!L$9:L$58),'3bis. Calcul répartition CM'!L13>0,COUNTIF('3bis. Calcul répartition CM'!L$9:L$58,'3bis. Calcul répartition CM'!L13)>1,SUM('3bis. Calcul répartition CM'!M$9:M$58)-SUM('3bis. Calcul répartition CM'!K$9:K$58)>1),\"erreur\",\"\")","v":""},{"$f":"IF(L8=\"erreur\",0,IF(OR('3bis. Calcul répartition CM'!M$5=0,'3bis. Calcul répartition CM'!L13=0),0,IF('3bis. Calcul répartition CM'!M13-'3bis. Calcul répartition CM'!K13>0,1,0)))","v":0},{"$f":"IF(AND('3bis. Calcul répartition CM'!N13=MAX('3bis. Calcul répartition CM'!N$9:N$58),'3bis. Calcul répartition CM'!N13>0,COUNTIF('3bis. Calcul répartition CM'!N$9:N$58,'3bis. Calcul répartition CM'!N13)>1,SUM('3bis. Calcul répartition CM'!O$9:O$58)-SUM('3bis. Calcul répartition CM'!M$9:M$58)>1),\"erreur\",\"\")","v":""},{"$f":"IF(N8=\"erreur\",0,IF(OR('3bis. Calcul répartition CM'!O$5=0,'3bis. Calcul répartition CM'!N13=0),0,IF('3bis. Calcul répartition CM'!O13-'3bis. Calcul répartition CM'!M13>0,1,0)))","v":0},{"$f":"IF(AND('3bis. Calcul répartition CM'!P13=MAX('3bis. Calcul répartition CM'!P$9:P$58),'3bis. Calcul répartition CM'!P13>0,COUNTIF('3bis. Calcul répartition CM'!P$9:P$58,'3bis. Calcul répartition CM'!P13)>1,SUM('3bis. Calcul répartition CM'!Q$9:Q$58)-SUM('3bis. Calcul répartition CM'!O$9:O$58)>1),\"erreur\",\"\")","v":""},{"$f":"IF(P8=\"erreur\",0,IF(OR('3bis. Calcul répartition CM'!Q$5=0,'3bis. Calcul répartition CM'!P13=0),0,IF('3bis. Calcul répartition CM'!Q13-'3bis. Calcul répartition CM'!O13>0,1,0)))","v":0},{"$f":"IF(AND('3bis. Calcul répartition CM'!R13=MAX('3bis. Calcul répartition CM'!R$9:R$58),'3bis. Calcul répartition CM'!R13>0,COUNTIF('3bis. Calcul répartition CM'!R$9:R$58,'3bis. Calcul répartition CM'!R13)>1,SUM('3bis. Calcul répartition CM'!S$9:S$58)-SUM('3bis. Calcul répartition CM'!Q$9:Q$58)>1),\"erreur\",\"\")","v":""},{"$f":"IF(R8=\"erreur\",0,IF(OR('3bis. Calcul répartition CM'!S$5=0,'3bis. Calcul répartition CM'!R13=0),0,IF('3bis. Calcul répartition CM'!S13-'3bis. Calcul répartition CM'!Q13>0,1,0)))","v":0},{"$f":"IF(AND('3bis. Calcul répartition CM'!T13=MAX('3bis. Calcul répartition CM'!T$9:T$58),'3bis. Calcul répartition CM'!T13>0,COUNTIF('3bis. Calcul répartition CM'!T$9:T$58,'3bis. Calcul répartition CM'!T13)>1,SUM('3bis. Calcul répartition CM'!U$9:U$58)-SUM('3bis. Calcul répartition CM'!S$9:S$58)>1),\"erreur\",\"\")","v":""},{"$f":"IF(T8=\"erreur\",0,IF(OR('3bis. Calcul répartition CM'!U$5=0,'3bis. Calcul répartition CM'!T13=0),0,IF('3bis. Calcul répartition CM'!U13-'3bis. Calcul répartition CM'!S13>0,1,0)))","v":0},{"$f":"IF(AND('3bis. Calcul répartition CM'!V13=MAX('3bis. Calcul répartition CM'!V$9:V$58),'3bis. Calcul répartition CM'!V13>0,COUNTIF('3bis. Calcul répartition CM'!V$9:V$58,'3bis. Calcul répartition CM'!V13)>1,SUM('3bis. Calcul répartition CM'!W$9:W$58)-SUM('3bis. Calcul répartition CM'!U$9:U$58)>1),\"erreur\",\"\")","v":""},{"$f":"IF(V8=\"erreur\",0,IF(OR('3bis. Calcul répartition CM'!W$5=0,'3bis. Calcul répartition CM'!V13=0),0,IF('3bis. Calcul répartition CM'!W13-'3bis. Calcul répartition CM'!U13>0,1,0)))","v":0},{"$f":"IF(AND('3bis. Calcul répartition CM'!X13=MAX('3bis. Calcul répartition CM'!X$9:X$58),'3bis. Calcul répartition CM'!X13>0,COUNTIF('3bis. Calcul répartition CM'!X$9:X$58,'3bis. Calcul répartition CM'!X13)>1,SUM('3bis. Calcul répartition CM'!Y$9:Y$58)-SUM('3bis. Calcul répartition CM'!W$9:W$58)>1),\"erreur\",\"\")","v":""},{"$f":"IF(X8=\"erreur\",0,IF(OR('3bis. Calcul répartition CM'!Y$5=0,'3bis. Calcul répartition CM'!X13=0),0,IF('3bis. Calcul répartition CM'!Y13-'3bis. Calcul répartition CM'!W13>0,1,0)))","v":0},{"$f":"IF(AND('3bis. Calcul répartition CM'!Z13=MAX('3bis. Calcul répartition CM'!Z$9:Z$58),'3bis. Calcul répartition CM'!Z13>0,COUNTIF('3bis. Calcul répartition CM'!Z$9:Z$58,'3bis. Calcul répartition CM'!Z13)>1,SUM('3bis. Calcul répartition CM'!AA$9:AA$58)-SUM('3bis. Calcul répartition CM'!Y$9:Y$58)>1),\"erreur\",\"\")","v":""},{"$f":"IF(Z8=\"erreur\",0,IF(OR('3bis. Calcul répartition CM'!AA$5=0,'3bis. Calcul répartition CM'!Z13=0),0,IF('3bis. Calcul répartition CM'!AA13-'3bis. Calcul répartition CM'!Y13>0,1,0)))","v":0},{"$f":"IF(AND('3bis. Calcul répartition CM'!AB13=MAX('3bis. Calcul répartition CM'!AB$9:AB$58),'3bis. Calcul répartition CM'!AB13>0,COUNTIF('3bis. Calcul répartition CM'!AB$9:AB$58,'3bis. Calcul répartition CM'!AB13)>1,SUM('3bis. Calcul répartition CM'!AC$9:AC$58)-SUM('3bis. Calcul répartition CM'!AA$9:AA$58)>1),\"erreur\",\"\")","v":""},{"$f":"IF(AB8=\"erreur\",0,IF(OR('3bis. Calcul répartition CM'!AC$5=0,'3bis. Calcul répartition CM'!AB13=0),0,IF('3bis. Calcul répartition CM'!AC13-'3bis. Calcul répartition CM'!AA13>0,1,0)))","v":0},{"$f":"IF(AND('3bis. Calcul répartition CM'!AD13=MAX('3bis. Calcul répartition CM'!AD$9:AD$58),'3bis. Calcul répartition CM'!AD13>0,COUNTIF('3bis. Calcul répartition CM'!AD$9:AD$58,'3bis. Calcul répartition CM'!AD13)>1,SUM('3bis. Calcul répartition CM'!AE$9:AE$58)-SUM('3bis. Calcul répartition CM'!AC$9:AC$58)>1),\"erreur\",\"\")","v":""},{"$f":"IF(AD8=\"erreur\",0,IF(OR('3bis. Calcul répartition CM'!AE$5=0,'3bis. Calcul répartition CM'!AD13=0),0,IF('3bis. Calcul répartition CM'!AE13-'3bis. Calcul répartition CM'!AC13>0,1,0)))","v":0},{"$f":"IF(AND('3bis. Calcul répartition CM'!AF13=MAX('3bis. Calcul répartition CM'!AF$9:AF$58),'3bis. Calcul répartition CM'!AF13>0,COUNTIF('3bis. Calcul répartition CM'!AF$9:AF$58,'3bis. Calcul répartition CM'!AF13)>1,SUM('3bis. Calcul répartition CM'!AG$9:AG$58)-SUM('3bis. Calcul répartition CM'!AE$9:AE$58)>1),\"erreur\",\"\")","v":""},{"$f":"IF(AF8=\"erreur\",0,IF(OR('3bis. Calcul répartition CM'!AG$5=0,'3bis. Calcul répartition CM'!AF13=0),0,IF('3bis. Calcul répartition CM'!AG13-'3bis. Calcul répartition CM'!AE13>0,1,0)))","v":0},{"$f":"IF(AND('3bis. Calcul répartition CM'!AH13=MAX('3bis. Calcul répartition CM'!AH$9:AH$58),'3bis. Calcul répartition CM'!AH13>0,COUNTIF('3bis. Calcul répartition CM'!AH$9:AH$58,'3bis. Calcul répartition CM'!AH13)>1,SUM('3bis. Calcul répartition CM'!AI$9:AI$58)-SUM('3bis. Calcul répartition CM'!AG$9:AG$58)>1),\"erreur\",\"\")","v":""},{"$f":"IF(AH8=\"erreur\",0,IF(OR('3bis. Calcul répartition CM'!AI$5=0,'3bis. Calcul répartition CM'!AH13=0),0,IF('3bis. Calcul répartition CM'!AI13-'3bis. Calcul répartition CM'!AG13>0,1,0)))","v":0},{"$f":"IF(AND('3bis. Calcul répartition CM'!AJ13=MAX('3bis. Calcul répartition CM'!AJ$9:AJ$58),'3bis. Calcul répartition CM'!AJ13>0,COUNTIF('3bis. Calcul répartition CM'!AJ$9:AJ$58,'3bis. Calcul répartition CM'!AJ13)>1,SUM('3bis. Calcul répartition CM'!AK$9:AK$58)-SUM('3bis. Calcul répartition CM'!AI$9:AI$58)>1),\"erreur\",\"\")","v":""},{"$f":"IF(AJ8=\"erreur\",0,IF(OR('3bis. Calcul répartition CM'!AK$5=0,'3bis. Calcul répartition CM'!AJ13=0),0,IF('3bis. Calcul répartition CM'!AK13-'3bis. Calcul répartition CM'!AI13>0,1,0)))","v":0},{"$f":"IF(AND('3bis. Calcul répartition CM'!AL13=MAX('3bis. Calcul répartition CM'!AL$9:AL$58),'3bis. Calcul répartition CM'!AL13>0,COUNTIF('3bis. Calcul répartition CM'!AL$9:AL$58,'3bis. Calcul répartition CM'!AL13)>1,SUM('3bis. Calcul répartition CM'!AM$9:AM$58)-SUM('3bis. Calcul répartition CM'!AK$9:AK$58)>1),\"erreur\",\"\")","v":""},{"$f":"IF(AL8=\"erreur\",0,IF(OR('3bis. Calcul répartition CM'!AM$5=0,'3bis. Calcul répartition CM'!AL13=0),0,IF('3bis. Calcul répartition CM'!AM13-'3bis. Calcul répartition CM'!AK13>0,1,0)))","v":0},{"$f":"IF(AND('3bis. Calcul répartition CM'!AN13=MAX('3bis. Calcul répartition CM'!AN$9:AN$58),'3bis. Calcul répartition CM'!AN13>0,COUNTIF('3bis. Calcul répartition CM'!AN$9:AN$58,'3bis. Calcul répartition CM'!AN13)>1,SUM('3bis. Calcul répartition CM'!AO$9:AO$58)-SUM('3bis. Calcul répartition CM'!AM$9:AM$58)>1),\"erreur\",\"\")","v":""},{"$f":"IF(AN8=\"erreur\",0,IF(OR('3bis. Calcul répartition CM'!AO$5=0,'3bis. Calcul répartition CM'!AN13=0),0,IF('3bis. Calcul répartition CM'!AO13-'3bis. Calcul répartition CM'!AM13>0,1,0)))","v":0},{"$f":"IF(AND('3bis. Calcul répartition CM'!AP13=MAX('3bis. Calcul répartition CM'!AP$9:AP$58),'3bis. Calcul répartition CM'!AP13>0,COUNTIF('3bis. Calcul répartition CM'!AP$9:AP$58,'3bis. Calcul répartition CM'!AP13)>1,SUM('3bis. Calcul répartition CM'!AQ$9:AQ$58)-SUM('3bis. Calcul répartition CM'!AO$9:AO$58)>1),\"erreur\",\"\")","v":""},{"$f":"IF(AP8=\"erreur\",0,IF(OR('3bis. Calcul répartition CM'!AQ$5=0,'3bis. Calcul répartition CM'!AP13=0),0,IF('3bis. Calcul répartition CM'!AQ13-'3bis. Calcul répartition CM'!AO13>0,1,0)))","v":0},{"$f":"IF(AND('3bis. Calcul répartition CM'!AR13=MAX('3bis. Calcul répartition CM'!AR$9:AR$58),'3bis. Calcul répartition CM'!AR13>0,COUNTIF('3bis. Calcul répartition CM'!AR$9:AR$58,'3bis. Calcul répartition CM'!AR13)>1,SUM('3bis. Calcul répartition CM'!AS$9:AS$58)-SUM('3bis. Calcul répartition CM'!AQ$9:AQ$58)>1),\"erreur\",\"\")","v":""},{"$f":"IF(AR8=\"erreur\",0,IF(OR('3bis. Calcul répartition CM'!AS$5=0,'3bis. Calcul répartition CM'!AR13=0),0,IF('3bis. Calcul répartition CM'!AS13-'3bis. Calcul répartition CM'!AQ13>0,1,0)))","v":0},{"$f":"IF(AND('3bis. Calcul répartition CM'!AT13=MAX('3bis. Calcul répartition CM'!AT$9:AT$58),'3bis. Calcul répartition CM'!AT13>0,COUNTIF('3bis. Calcul répartition CM'!AT$9:AT$58,'3bis. Calcul répartition CM'!AT13)>1,SUM('3bis. Calcul répartition CM'!AU$9:AU$58)-SUM('3bis. Calcul répartition CM'!AS$9:AS$58)>1),\"erreur\",\"\")","v":""},{"$f":"IF(AT8=\"erreur\",0,IF(OR('3bis. Calcul répartition CM'!AU$5=0,'3bis. Calcul répartition CM'!AT13=0),0,IF('3bis. Calcul répartition CM'!AU13-'3bis. Calcul répartition CM'!AS13>0,1,0)))","v":0},{"$f":"IF(AND('3bis. Calcul répartition CM'!AV13=MAX('3bis. Calcul répartition CM'!AV$9:AV$58),'3bis. Calcul répartition CM'!AV13>0,COUNTIF('3bis. Calcul répartition CM'!AV$9:AV$58,'3bis. Calcul répartition CM'!AV13)>1,SUM('3bis. Calcul répartition CM'!AW$9:AW$58)-SUM('3bis. Calcul répartition CM'!AU$9:AU$58)>1),\"erreur\",\"\")","v":""},{"$f":"IF(AV8=\"erreur\",0,IF(OR('3bis. Calcul répartition CM'!AW$5=0,'3bis. Calcul répartition CM'!AV13=0),0,IF('3bis. Calcul répartition CM'!AW13-'3bis. Calcul répartition CM'!AU13>0,1,0)))","v":0},{"$f":"IF(AND('3bis. Calcul répartition CM'!AX13=MAX('3bis. Calcul répartition CM'!AX$9:AX$58),'3bis. Calcul répartition CM'!AX13>0,COUNTIF('3bis. Calcul répartition CM'!AX$9:AX$58,'3bis. Calcul répartition CM'!AX13)>1,SUM('3bis. Calcul répartition CM'!AY$9:AY$58)-SUM('3bis. Calcul répartition CM'!AW$9:AW$58)>1),\"erreur\",\"\")","v":""},{"$f":"IF(AX8=\"erreur\",0,IF(OR('3bis. Calcul répartition CM'!AY$5=0,'3bis. Calcul répartition CM'!AX13=0),0,IF('3bis. Calcul répartition CM'!AY13-'3bis. Calcul répartition CM'!AW13>0,1,0)))","v":0},{"$f":"IF(AND('3bis. Calcul répartition CM'!AZ13=MAX('3bis. Calcul répartition CM'!AZ$9:AZ$58),'3bis. Calcul répartition CM'!AZ13>0,COUNTIF('3bis. Calcul répartition CM'!AZ$9:AZ$58,'3bis. Calcul répartition CM'!AZ13)>1,SUM('3bis. Calcul répartition CM'!BA$9:BA$58)-SUM('3bis. Calcul répartition CM'!AY$9:AY$58)>1),\"erreur\",\"\")","v":""},{"$f":"IF(AZ8=\"erreur\",0,IF(OR('3bis. Calcul répartition CM'!BA$5=0,'3bis. Calcul répartition CM'!AZ13=0),0,IF('3bis. Calcul répartition CM'!BA13-'3bis. Calcul répartition CM'!AY13>0,1,0)))","v":0},{"$f":"IF(AND('3bis. Calcul répartition CM'!BB13=MAX('3bis. Calcul répartition CM'!BB$9:BB$58),'3bis. Calcul répartition CM'!BB13>0,COUNTIF('3bis. Calcul répartition CM'!BB$9:BB$58,'3bis. Calcul répartition CM'!BB13)>1,SUM('3bis. Calcul répartition CM'!BC$9:BC$58)-SUM('3bis. Calcul répartition CM'!BA$9:BA$58)>1),\"erreur\",\"\")","v":""},{"$f":"IF(BB8=\"erreur\",0,IF(OR('3bis. Calcul répartition CM'!BC$5=0,'3bis. Calcul répartition CM'!BB13=0),0,IF('3bis. Calcul répartition CM'!BC13-'3bis. Calcul répartition CM'!BA13>0,1,0)))","v":0},{"$f":"IF(AND('3bis. Calcul répartition CM'!BD13=MAX('3bis. Calcul répartition CM'!BD$9:BD$58),'3bis. Calcul répartition CM'!BD13>0,COUNTIF('3bis. Calcul répartition CM'!BD$9:BD$58,'3bis. Calcul répartition CM'!BD13)>1,SUM('3bis. Calcul répartition CM'!BE$9:BE$58)-SUM('3bis. Calcul répartition CM'!BC$9:BC$58)>1),\"erreur\",\"\")","v":""},{"$f":"IF(BD8=\"erreur\",0,IF(OR('3bis. Calcul répartition CM'!BE$5=0,'3bis. Calcul répartition CM'!BD13=0),0,IF('3bis. Calcul répartition CM'!BE13-'3bis. Calcul répartition CM'!BC13>0,1,0)))","v":0},{"$f":"IF(AND('3bis. Calcul répartition CM'!BF13=MAX('3bis. Calcul répartition CM'!BF$9:BF$58),'3bis. Calcul répartition CM'!BF13>0,COUNTIF('3bis. Calcul répartition CM'!BF$9:BF$58,'3bis. Calcul répartition CM'!BF13)>1,SUM('3bis. Calcul répartition CM'!BG$9:BG$58)-SUM('3bis. Calcul répartition CM'!BE$9:BE$58)>1),\"erreur\",\"\")","v":""},{"$f":"IF(BF8=\"erreur\",0,IF(OR('3bis. Calcul répartition CM'!BG$5=0,'3bis. Calcul répartition CM'!BF13=0),0,IF('3bis. Calcul répartition CM'!BG13-'3bis. Calcul répartition CM'!BE13>0,1,0)))","v":0},{"$f":"IF(AND('3bis. Calcul répartition CM'!BH13=MAX('3bis. Calcul répartition CM'!BH$9:BH$58),'3bis. Calcul répartition CM'!BH13>0,COUNTIF('3bis. Calcul répartition CM'!BH$9:BH$58,'3bis. Calcul répartition CM'!BH13)>1,SUM('3bis. Calcul répartition CM'!BI$9:BI$58)-SUM('3bis. Calcul répartition CM'!BG$9:BG$58)>1),\"erreur\",\"\")","v":""},{"$f":"IF(BH8=\"erreur\",0,IF(OR('3bis. Calcul répartition CM'!BI$5=0,'3bis. Calcul répartition CM'!BH13=0),0,IF('3bis. Calcul répartition CM'!BI13-'3bis. Calcul répartition CM'!BG13>0,1,0)))","v":0},{"$f":"IF(AND('3bis. Calcul répartition CM'!BJ13=MAX('3bis. Calcul répartition CM'!BJ$9:BJ$58),'3bis. Calcul répartition CM'!BJ13>0,COUNTIF('3bis. Calcul répartition CM'!BJ$9:BJ$58,'3bis. Calcul répartition CM'!BJ13)>1,SUM('3bis. Calcul répartition CM'!BK$9:BK$58)-SUM('3bis. Calcul répartition CM'!BI$9:BI$58)>1),\"erreur\",\"\")","v":""},{"$f":"IF(BJ8=\"erreur\",0,IF(OR('3bis. Calcul répartition CM'!BK$5=0,'3bis. Calcul répartition CM'!BJ13=0),0,IF('3bis. Calcul répartition CM'!BK13-'3bis. Calcul répartition CM'!BI13>0,1,0)))","v":0},{"$f":"IF(AND('3bis. Calcul répartition CM'!BL13=MAX('3bis. Calcul répartition CM'!BL$9:BL$58),'3bis. Calcul répartition CM'!BL13>0,COUNTIF('3bis. Calcul répartition CM'!BL$9:BL$58,'3bis. Calcul répartition CM'!BL13)>1,SUM('3bis. Calcul répartition CM'!BM$9:BM$58)-SUM('3bis. Calcul répartition CM'!BK$9:BK$58)>1),\"erreur\",\"\")","v":""},{"$f":"IF(BL8=\"erreur\",0,IF(OR('3bis. Calcul répartition CM'!BM$5=0,'3bis. Calcul répartition CM'!BL13=0),0,IF('3bis. Calcul répartition CM'!BM13-'3bis. Calcul répartition CM'!BK13>0,1,0)))","v":0},{"$f":"IF(AND('3bis. Calcul répartition CM'!BN13=MAX('3bis. Calcul répartition CM'!BN$9:BN$58),'3bis. Calcul répartition CM'!BN13>0,COUNTIF('3bis. Calcul répartition CM'!BN$9:BN$58,'3bis. Calcul répartition CM'!BN13)>1,SUM('3bis. Calcul répartition CM'!BO$9:BO$58)-SUM('3bis. Calcul répartition CM'!BM$9:BM$58)>1),\"erreur\",\"\")","v":""},{"$f":"IF(BN8=\"erreur\",0,IF(OR('3bis. Calcul répartition CM'!BO$5=0,'3bis. Calcul répartition CM'!BN13=0),0,IF('3bis. Calcul répartition CM'!BO13-'3bis. Calcul répartition CM'!BM13>0,1,0)))","v":0},{"$f":"IF(AND('3bis. Calcul répartition CM'!BP13=MAX('3bis. Calcul répartition CM'!BP$9:BP$58),'3bis. Calcul répartition CM'!BP13>0,COUNTIF('3bis. Calcul répartition CM'!BP$9:BP$58,'3bis. Calcul répartition CM'!BP13)>1,SUM('3bis. Calcul répartition CM'!BQ$9:BQ$58)-SUM('3bis. Calcul répartition CM'!BO$9:BO$58)>1),\"erreur\",\"\")","v":""},{"$f":"IF(BP8=\"erreur\",0,IF(OR('3bis. Calcul répartition CM'!BQ$5=0,'3bis. Calcul répartition CM'!BP13=0),0,IF('3bis. Calcul répartition CM'!BQ13-'3bis. Calcul répartition CM'!BO13>0,1,0)))","v":0}]
[null,null,null,null,null,null,null,null,{"$f":"'3bis. Calcul répartition CM'!B14","v":0},{"$f":"IF(AND('3bis. Calcul répartition CM'!J14=MAX('3bis. Calcul répartition CM'!J$9:J$58),'3bis. Calcul répartition CM'!J14>0,COUNTIF('3bis. Calcul répartition CM'!J$9:J$58,'3bis. Calcul répartition CM'!J14)>1,SUM('3bis. Calcul répartition CM'!$K$9:$K$58)-SUM('3bis. Calcul répartition CM'!$D$9:$D$58)>1),\"erreur\",\"\")","v":""},{"$f":"IF(J9=\"erreur\",0,IF(OR('3bis. Calcul répartition CM'!K$5=0,'3bis. Calcul répartition CM'!J14=0),0,IF('3bis. Calcul répartition CM'!K14-'3bis. Calcul répartition CM'!D14>0,1,0)))","v":0},{"$f":"IF(AND('3bis. Calcul répartition CM'!L14=MAX('3bis. Calcul répartition CM'!L$9:L$58),'3bis. Calcul répartition CM'!L14>0,COUNTIF('3bis. Calcul répartition CM'!L$9:L$58,'3bis. Calcul répartition CM'!L14)>1,SUM('3bis. Calcul répartition CM'!M$9:M$58)-SUM('3bis. Calcul répartition CM'!K$9:K$58)>1),\"erreur\",\"\")","v":""},{"$f":"IF(L9=\"erreur\",0,IF(OR('3bis. Calcul répartition CM'!M$5=0,'3bis. Calcul répartition CM'!L14=0),0,IF('3bis. Calcul répartition CM'!M14-'3bis. Calcul répartition CM'!K14>0,1,0)))","v":0},{"$f":"IF(AND('3bis. Calcul répartition CM'!N14=MAX('3bis. Calcul répartition CM'!N$9:N$58),'3bis. Calcul répartition CM'!N14>0,COUNTIF('3bis. Calcul répartition CM'!N$9:N$58,'3bis. Calcul répartition CM'!N14)>1,SUM('3bis. Calcul répartition CM'!O$9:O$58)-SUM('3bis. Calcul répartition CM'!M$9:M$58)>1),\"erreur\",\"\")","v":""},{"$f":"IF(N9=\"erreur\",0,IF(OR('3bis. Calcul répartition CM'!O$5=0,'3bis. Calcul répartition CM'!N14=0),0,IF('3bis. Calcul répartition CM'!O14-'3bis. Calcul répartition CM'!M14>0,1,0)))","v":0},{"$f":"IF(AND('3bis. Calcul répartition CM'!P14=MAX('3bis. Calcul répartition CM'!P$9:P$58),'3bis. Calcul répartition CM'!P14>0,COUNTIF('3bis. Calcul répartition CM'!P$9:P$58,'3bis. Calcul répartition CM'!P14)>1,SUM('3bis. Calcul répartition CM'!Q$9:Q$58)-SUM('3bis. Calcul répartition CM'!O$9:O$58)>1),\"erreur\",\"\")","v":""},{"$f":"IF(P9=\"erreur\",0,IF(OR('3bis. Calcul répartition CM'!Q$5=0,'3bis. Calcul répartition CM'!P14=0),0,IF('3bis. Calcul répartition CM'!Q14-'3bis. Calcul répartition CM'!O14>0,1,0)))","v":0},{"$f":"IF(AND('3bis. Calcul répartition CM'!R14=MAX('3bis. Calcul répartition CM'!R$9:R$58),'3bis. Calcul répartition CM'!R14>0,COUNTIF('3bis. Calcul répartition CM'!R$9:R$58,'3bis. Calcul répartition CM'!R14)>1,SUM('3bis. Calcul répartition CM'!S$9:S$58)-SUM('3bis. Calcul répartition CM'!Q$9:Q$58)>1),\"erreur\",\"\")","v":""},{"$f":"IF(R9=\"erreur\",0,IF(OR('3bis. Calcul répartition CM'!S$5=0,'3bis. Calcul répartition CM'!R14=0),0,IF('3bis. Calcul répartition CM'!S14-'3bis. Calcul répartition CM'!Q14>0,1,0)))","v":0},{"$f":"IF(AND('3bis. Calcul répartition CM'!T14=MAX('3bis. Calcul répartition CM'!T$9:T$58),'3bis. Calcul répartition CM'!T14>0,COUNTIF('3bis. Calcul répartition CM'!T$9:T$58,'3bis. Calcul répartition CM'!T14)>1,SUM('3bis. Calcul répartition CM'!U$9:U$58)-SUM('3bis. Calcul répartition CM'!S$9:S$58)>1),\"erreur\",\"\")","v":""},{"$f":"IF(T9=\"erreur\",0,IF(OR('3bis. Calcul répartition CM'!U$5=0,'3bis. Calcul répartition CM'!T14=0),0,IF('3bis. Calcul répartition CM'!U14-'3bis. Calcul répartition CM'!S14>0,1,0)))","v":0},{"$f":"IF(AND('3bis. Calcul répartition CM'!V14=MAX('3bis. Calcul répartition CM'!V$9:V$58),'3bis. Calcul répartition CM'!V14>0,COUNTIF('3bis. Calcul répartition CM'!V$9:V$58,'3bis. Calcul répartition CM'!V14)>1,SUM('3bis. Calcul répartition CM'!W$9:W$58)-SUM('3bis. Calcul répartition CM'!U$9:U$58)>1),\"erreur\",\"\")","v":""},{"$f":"IF(V9=\"erreur\",0,IF(OR('3bis. Calcul répartition CM'!W$5=0,'3bis. Calcul répartition CM'!V14=0),0,IF('3bis. Calcul répartition CM'!W14-'3bis. Calcul répartition CM'!U14>0,1,0)))","v":0},{"$f":"IF(AND('3bis. Calcul répartition CM'!X14=MAX('3bis. Calcul répartition CM'!X$9:X$58),'3bis. Calcul répartition CM'!X14>0,COUNTIF('3bis. Calcul répartition CM'!X$9:X$58,'3bis. Calcul répartition CM'!X14)>1,SUM('3bis. Calcul répartition CM'!Y$9:Y$58)-SUM('3bis. Calcul répartition CM'!W$9:W$58)>1),\"erreur\",\"\")","v":""},{"$f":"IF(X9=\"erreur\",0,IF(OR('3bis. Calcul répartition CM'!Y$5=0,'3bis. Calcul répartition CM'!X14=0),0,IF('3bis. Calcul répartition CM'!Y14-'3bis. Calcul répartition CM'!W14>0,1,0)))","v":0},{"$f":"IF(AND('3bis. Calcul répartition CM'!Z14=MAX('3bis. Calcul répartition CM'!Z$9:Z$58),'3bis. Calcul répartition CM'!Z14>0,COUNTIF('3bis. Calcul répartition CM'!Z$9:Z$58,'3bis. Calcul répartition CM'!Z14)>1,SUM('3bis. Calcul répartition CM'!AA$9:AA$58)-SUM('3bis. Calcul répartition CM'!Y$9:Y$58)>1),\"erreur\",\"\")","v":""},{"$f":"IF(Z9=\"erreur\",0,IF(OR('3bis. Calcul répartition CM'!AA$5=0,'3bis. Calcul répartition CM'!Z14=0),0,IF('3bis. Calcul répartition CM'!AA14-'3bis. Calcul répartition CM'!Y14>0,1,0)))","v":0},{"$f":"IF(AND('3bis. Calcul répartition CM'!AB14=MAX('3bis. Calcul répartition CM'!AB$9:AB$58),'3bis. Calcul répartition CM'!AB14>0,COUNTIF('3bis. Calcul répartition CM'!AB$9:AB$58,'3bis. Calcul répartition CM'!AB14)>1,SUM('3bis. Calcul répartition CM'!AC$9:AC$58)-SUM('3bis. Calcul répartition CM'!AA$9:AA$58)>1),\"erreur\",\"\")","v":""},{"$f":"IF(AB9=\"erreur\",0,IF(OR('3bis. Calcul répartition CM'!AC$5=0,'3bis. Calcul répartition CM'!AB14=0),0,IF('3bis. Calcul répartition CM'!AC14-'3bis. Calcul répartition CM'!AA14>0,1,0)))","v":0},{"$f":"IF(AND('3bis. Calcul répartition CM'!AD14=MAX('3bis. Calcul répartition CM'!AD$9:AD$58),'3bis. Calcul répartition CM'!AD14>0,COUNTIF('3bis. Calcul répartition CM'!AD$9:AD$58,'3bis. Calcul répartition CM'!AD14)>1,SUM('3bis. Calcul répartition CM'!AE$9:AE$58)-SUM('3bis. Calcul répartition CM'!AC$9:AC$58)>1),\"erreur\",\"\")","v":""},{"$f":"IF(AD9=\"erreur\",0,IF(OR('3bis. Calcul répartition CM'!AE$5=0,'3bis. Calcul répartition CM'!AD14=0),0,IF('3bis. Calcul répartition CM'!AE14-'3bis. Calcul répartition CM'!AC14>0,1,0)))","v":0},{"$f":"IF(AND('3bis. Calcul répartition CM'!AF14=MAX('3bis. Calcul répartition CM'!AF$9:AF$58),'3bis. Calcul répartition CM'!AF14>0,COUNTIF('3bis. Calcul répartition CM'!AF$9:AF$58,'3bis. Calcul répartition CM'!AF14)>1,SUM('3bis. Calcul répartition CM'!AG$9:AG$58)-SUM('3bis. Calcul répartition CM'!AE$9:AE$58)>1),\"erreur\",\"\")","v":""},{"$f":"IF(AF9=\"erreur\",0,IF(OR('3bis. Calcul répartition CM'!AG$5=0,'3bis. Calcul répartition CM'!AF14=0),0,IF('3bis. Calcul répartition CM'!AG14-'3bis. Calcul répartition CM'!AE14>0,1,0)))","v":0},{"$f":"IF(AND('3bis. Calcul répartition CM'!AH14=MAX('3bis. Calcul répartition CM'!AH$9:AH$58),'3bis. Calcul répartition CM'!AH14>0,COUNTIF('3bis. Calcul répartition CM'!AH$9:AH$58,'3bis. Calcul répartition CM'!AH14)>1,SUM('3bis. Calcul répartition CM'!AI$9:AI$58)-SUM('3bis. Calcul répartition CM'!AG$9:AG$58)>1),\"erreur\",\"\")","v":""},{"$f":"IF(AH9=\"erreur\",0,IF(OR('3bis. Calcul répartition CM'!AI$5=0,'3bis. Calcul répartition CM'!AH14=0),0,IF('3bis. Calcul répartition CM'!AI14-'3bis. Calcul répartition CM'!AG14>0,1,0)))","v":0},{"$f":"IF(AND('3bis. Calcul répartition CM'!AJ14=MAX('3bis. Calcul répartition CM'!AJ$9:AJ$58),'3bis. Calcul répartition CM'!AJ14>0,COUNTIF('3bis. Calcul répartition CM'!AJ$9:AJ$58,'3bis. Calcul répartition CM'!AJ14)>1,SUM('3bis. Calcul répartition CM'!AK$9:AK$58)-SUM('3bis. Calcul répartition CM'!AI$9:AI$58)>1),\"erreur\",\"\")","v":""},{"$f":"IF(AJ9=\"erreur\",0,IF(OR('3bis. Calcul répartition CM'!AK$5=0,'3bis. Calcul répartition CM'!AJ14=0),0,IF('3bis. Calcul répartition CM'!AK14-'3bis. Calcul répartition CM'!AI14>0,1,0)))","v":0},{"$f":"IF(AND('3bis. Calcul répartition CM'!AL14=MAX('3bis. Calcul répartition CM'!AL$9:AL$58),'3bis. Calcul répartition CM'!AL14>0,COUNTIF('3bis. Calcul répartition CM'!AL$9:AL$58,'3bis. Calcul répartition CM'!AL14)>1,SUM('3bis. Calcul répartition CM'!AM$9:AM$58)-SUM('3bis. Calcul répartition CM'!AK$9:AK$58)>1),\"erreur\",\"\")","v":""},{"$f":"IF(AL9=\"erreur\",0,IF(OR('3bis. Calcul répartition CM'!AM$5=0,'3bis. Calcul répartition CM'!AL14=0),0,IF('3bis. Calcul répartition CM'!AM14-'3bis. Calcul répartition CM'!AK14>0,1,0)))","v":0},{"$f":"IF(AND('3bis. Calcul répartition CM'!AN14=MAX('3bis. Calcul répartition CM'!AN$9:AN$58),'3bis. Calcul répartition CM'!AN14>0,COUNTIF('3bis. Calcul répartition CM'!AN$9:AN$58,'3bis. Calcul répartition CM'!AN14)>1,SUM('3bis. Calcul répartition CM'!AO$9:AO$58)-SUM('3bis. Calcul répartition CM'!AM$9:AM$58)>1),\"erreur\",\"\")","v":""},{"$f":"IF(AN9=\"erreur\",0,IF(OR('3bis. Calcul répartition CM'!AO$5=0,'3bis. Calcul répartition CM'!AN14=0),0,IF('3bis. Calcul répartition CM'!AO14-'3bis. Calcul répartition CM'!AM14>0,1,0)))","v":0},{"$f":"IF(AND('3bis. Calcul répartition CM'!AP14=MAX('3bis. Calcul répartition CM'!AP$9:AP$58),'3bis. Calcul répartition CM'!AP14>0,COUNTIF('3bis. Calcul répartition CM'!AP$9:AP$58,'3bis. Calcul répartition CM'!AP14)>1,SUM('3bis. Calcul répartition CM'!AQ$9:AQ$58)-SUM('3bis. Calcul répartition CM'!AO$9:AO$58)>1),\"erreur\",\"\")","v":""},{"$f":"IF(AP9=\"erreur\",0,IF(OR('3bis. Calcul répartition CM'!AQ$5=0,'3bis. Calcul répartition CM'!AP14=0),0,IF('3bis. Calcul répartition CM'!AQ14-'3bis. Calcul répartition CM'!AO14>0,1,0)))","v":0},{"$f":"IF(AND('3bis. Calcul répartition CM'!AR14=MAX('3bis. Calcul répartition CM'!AR$9:AR$58),'3bis. Calcul répartition CM'!AR14>0,COUNTIF('3bis. Calcul répartition CM'!AR$9:AR$58,'3bis. Calcul répartition CM'!AR14)>1,SUM('3bis. Calcul répartition CM'!AS$9:AS$58)-SUM('3bis. Calcul répartition CM'!AQ$9:AQ$58)>1),\"erreur\",\"\")","v":""},{"$f":"IF(AR9=\"erreur\",0,IF(OR('3bis. Calcul répartition CM'!AS$5=0,'3bis. Calcul répartition CM'!AR14=0),0,IF('3bis. Calcul répartition CM'!AS14-'3bis. Calcul répartition CM'!AQ14>0,1,0)))","v":0},{"$f":"IF(AND('3bis. Calcul répartition CM'!AT14=MAX('3bis. Calcul répartition CM'!AT$9:AT$58),'3bis. Calcul répartition CM'!AT14>0,COUNTIF('3bis. Calcul répartition CM'!AT$9:AT$58,'3bis. Calcul répartition CM'!AT14)>1,SUM('3bis. Calcul répartition CM'!AU$9:AU$58)-SUM('3bis. Calcul répartition CM'!AS$9:AS$58)>1),\"erreur\",\"\")","v":""},{"$f":"IF(AT9=\"erreur\",0,IF(OR('3bis. Calcul répartition CM'!AU$5=0,'3bis. Calcul répartition CM'!AT14=0),0,IF('3bis. Calcul répartition CM'!AU14-'3bis. Calcul répartition CM'!AS14>0,1,0)))","v":0},{"$f":"IF(AND('3bis. Calcul répartition CM'!AV14=MAX('3bis. Calcul répartition CM'!AV$9:AV$58),'3bis. Calcul répartition CM'!AV14>0,COUNTIF('3bis. Calcul répartition CM'!AV$9:AV$58,'3bis. Calcul répartition CM'!AV14)>1,SUM('3bis. Calcul répartition CM'!AW$9:AW$58)-SUM('3bis. Calcul répartition CM'!AU$9:AU$58)>1),\"erreur\",\"\")","v":""},{"$f":"IF(AV9=\"erreur\",0,IF(OR('3bis. Calcul répartition CM'!AW$5=0,'3bis. Calcul répartition CM'!AV14=0),0,IF('3bis. Calcul répartition CM'!AW14-'3bis. Calcul répartition CM'!AU14>0,1,0)))","v":0},{"$f":"IF(AND('3bis. Calcul répartition CM'!AX14=MAX('3bis. Calcul répartition CM'!AX$9:AX$58),'3bis. Calcul répartition CM'!AX14>0,COUNTIF('3bis. Calcul répartition CM'!AX$9:AX$58,'3bis. Calcul répartition CM'!AX14)>1,SUM('3bis. Calcul répartition CM'!AY$9:AY$58)-SUM('3bis. Calcul répartition CM'!AW$9:AW$58)>1),\"erreur\",\"\")","v":""},{"$f":"IF(AX9=\"erreur\",0,IF(OR('3bis. Calcul répartition CM'!AY$5=0,'3bis. Calcul répartition CM'!AX14=0),0,IF('3bis. Calcul répartition CM'!AY14-'3bis. Calcul répartition CM'!AW14>0,1,0)))","v":0},{"$f":"IF(AND('3bis. Calcul répartition CM'!AZ14=MAX('3bis. Calcul répartition CM'!AZ$9:AZ$58),'3bis. Calcul répartition CM'!AZ14>0,COUNTIF('3bis. Calcul répartition CM'!AZ$9:AZ$58,'3bis. Calcul répartition CM'!AZ14)>1,SUM('3bis. Calcul répartition CM'!BA$9:BA$58)-SUM('3bis. Calcul répartition CM'!AY$9:AY$58)>1),\"erreur\",\"\")","v":""},{"$f":"IF(AZ9=\"erreur\",0,IF(OR('3bis. Calcul répartition CM'!BA$5=0,'3bis. Calcul répartition CM'!AZ14=0),0,IF('3bis. Calcul répartition CM'!BA14-'3bis. Calcul répartition CM'!AY14>0,1,0)))","v":0},{"$f":"IF(AND('3bis. Calcul répartition CM'!BB14=MAX('3bis. Calcul répartition CM'!BB$9:BB$58),'3bis. Calcul répartition CM'!BB14>0,COUNTIF('3bis. Calcul répartition CM'!BB$9:BB$58,'3bis. Calcul répartition CM'!BB14)>1,SUM('3bis. Calcul répartition CM'!BC$9:BC$58)-SUM('3bis. Calcul répartition CM'!BA$9:BA$58)>1),\"erreur\",\"\")","v":""},{"$f":"IF(BB9=\"erreur\",0,IF(OR('3bis. Calcul répartition CM'!BC$5=0,'3bis. Calcul répartition CM'!BB14=0),0,IF('3bis. Calcul répartition CM'!BC14-'3bis. Calcul répartition CM'!BA14>0,1,0)))","v":0},{"$f":"IF(AND('3bis. Calcul répartition CM'!BD14=MAX('3bis. Calcul répartition CM'!BD$9:BD$58),'3bis. Calcul répartition CM'!BD14>0,COUNTIF('3bis. Calcul répartition CM'!BD$9:BD$58,'3bis. Calcul répartition CM'!BD14)>1,SUM('3bis. Calcul répartition CM'!BE$9:BE$58)-SUM('3bis. Calcul répartition CM'!BC$9:BC$58)>1),\"erreur\",\"\")","v":""},{"$f":"IF(BD9=\"erreur\",0,IF(OR('3bis. Calcul répartition CM'!BE$5=0,'3bis. Calcul répartition CM'!BD14=0),0,IF('3bis. Calcul répartition CM'!BE14-'3bis. Calcul répartition CM'!BC14>0,1,0)))","v":0},{"$f":"IF(AND('3bis. Calcul répartition CM'!BF14=MAX('3bis. Calcul répartition CM'!BF$9:BF$58),'3bis. Calcul répartition CM'!BF14>0,COUNTIF('3bis. Calcul répartition CM'!BF$9:BF$58,'3bis. Calcul répartition CM'!BF14)>1,SUM('3bis. Calcul répartition CM'!BG$9:BG$58)-SUM('3bis. Calcul répartition CM'!BE$9:BE$58)>1),\"erreur\",\"\")","v":""},{"$f":"IF(BF9=\"erreur\",0,IF(OR('3bis. Calcul répartition CM'!BG$5=0,'3bis. Calcul répartition CM'!BF14=0),0,IF('3bis. Calcul répartition CM'!BG14-'3bis. Calcul répartition CM'!BE14>0,1,0)))","v":0},{"$f":"IF(AND('3bis. Calcul répartition CM'!BH14=MAX('3bis. Calcul répartition CM'!BH$9:BH$58),'3bis. Calcul répartition CM'!BH14>0,COUNTIF('3bis. Calcul répartition CM'!BH$9:BH$58,'3bis. Calcul répartition CM'!BH14)>1,SUM('3bis. Calcul répartition CM'!BI$9:BI$58)-SUM('3bis. Calcul répartition CM'!BG$9:BG$58)>1),\"erreur\",\"\")","v":""},{"$f":"IF(BH9=\"erreur\",0,IF(OR('3bis. Calcul répartition CM'!BI$5=0,'3bis. Calcul répartition CM'!BH14=0),0,IF('3bis. Calcul répartition CM'!BI14-'3bis. Calcul répartition CM'!BG14>0,1,0)))","v":0},{"$f":"IF(AND('3bis. Calcul répartition CM'!BJ14=MAX('3bis. Calcul répartition CM'!BJ$9:BJ$58),'3bis. Calcul répartition CM'!BJ14>0,COUNTIF('3bis. Calcul répartition CM'!BJ$9:BJ$58,'3bis. Calcul répartition CM'!BJ14)>1,SUM('3bis. Calcul répartition CM'!BK$9:BK$58)-SUM('3bis. Calcul répartition CM'!BI$9:BI$58)>1),\"erreur\",\"\")","v":""},{"$f":"IF(BJ9=\"erreur\",0,IF(OR('3bis. Calcul répartition CM'!BK$5=0,'3bis. Calcul répartition CM'!BJ14=0),0,IF('3bis. Calcul répartition CM'!BK14-'3bis. Calcul répartition CM'!BI14>0,1,0)))","v":0},{"$f":"IF(AND('3bis. Calcul répartition CM'!BL14=MAX('3bis. Calcul répartition CM'!BL$9:BL$58),'3bis. Calcul répartition CM'!BL14>0,COUNTIF('3bis. Calcul répartition CM'!BL$9:BL$58,'3bis. Calcul répartition CM'!BL14)>1,SUM('3bis. Calcul répartition CM'!BM$9:BM$58)-SUM('3bis. Calcul répartition CM'!BK$9:BK$58)>1),\"erreur\",\"\")","v":""},{"$f":"IF(BL9=\"erreur\",0,IF(OR('3bis. Calcul répartition CM'!BM$5=0,'3bis. Calcul répartition CM'!BL14=0),0,IF('3bis. Calcul répartition CM'!BM14-'3bis. Calcul répartition CM'!BK14>0,1,0)))","v":0},{"$f":"IF(AND('3bis. Calcul répartition CM'!BN14=MAX('3bis. Calcul répartition CM'!BN$9:BN$58),'3bis. Calcul répartition CM'!BN14>0,COUNTIF('3bis. Calcul répartition CM'!BN$9:BN$58,'3bis. Calcul répartition CM'!BN14)>1,SUM('3bis. Calcul répartition CM'!BO$9:BO$58)-SUM('3bis. Calcul répartition CM'!BM$9:BM$58)>1),\"erreur\",\"\")","v":""},{"$f":"IF(BN9=\"erreur\",0,IF(OR('3bis. Calcul répartition CM'!BO$5=0,'3bis. Calcul répartition CM'!BN14=0),0,IF('3bis. Calcul répartition CM'!BO14-'3bis. Calcul répartition CM'!BM14>0,1,0)))","v":0},{"$f":"IF(AND('3bis. Calcul répartition CM'!BP14=MAX('3bis. Calcul répartition CM'!BP$9:BP$58),'3bis. Calcul répartition CM'!BP14>0,COUNTIF('3bis. Calcul répartition CM'!BP$9:BP$58,'3bis. Calcul répartition CM'!BP14)>1,SUM('3bis. Calcul répartition CM'!BQ$9:BQ$58)-SUM('3bis. Calcul répartition CM'!BO$9:BO$58)>1),\"erreur\",\"\")","v":""},{"$f":"IF(BP9=\"erreur\",0,IF(OR('3bis. Calcul répartition CM'!BQ$5=0,'3bis. Calcul répartition CM'!BP14=0),0,IF('3bis. Calcul répartition CM'!BQ14-'3bis. Calcul répartition CM'!BO14>0,1,0)))","v":0}]
[null,null,null,null,null,null,null,null,{"$f":"'3bis. Calcul répartition CM'!B15","v":0},{"$f":"IF(AND('3bis. Calcul répartition CM'!J15=MAX('3bis. Calcul répartition CM'!J$9:J$58),'3bis. Calcul répartition CM'!J15>0,COUNTIF('3bis. Calcul répartition CM'!J$9:J$58,'3bis. Calcul répartition CM'!J15)>1,SUM('3bis. Calcul répartition CM'!$K$9:$K$58)-SUM('3bis. Calcul répartition CM'!$D$9:$D$58)>1),\"erreur\",\"\")","v":""},{"$f":"IF(J10=\"erreur\",0,IF(OR('3bis. Calcul répartition CM'!K$5=0,'3bis. Calcul répartition CM'!J15=0),0,IF('3bis. Calcul répartition CM'!K15-'3bis. Calcul répartition CM'!D15>0,1,0)))","v":0},{"$f":"IF(AND('3bis. Calcul répartition CM'!L15=MAX('3bis. Calcul répartition CM'!L$9:L$58),'3bis. Calcul répartition CM'!L15>0,COUNTIF('3bis. Calcul répartition CM'!L$9:L$58,'3bis. Calcul répartition CM'!L15)>1,SUM('3bis. Calcul répartition CM'!M$9:M$58)-SUM('3bis. Calcul répartition CM'!K$9:K$58)>1),\"erreur\",\"\")","v":""},{"$f":"IF(L10=\"erreur\",0,IF(OR('3bis. Calcul répartition CM'!M$5=0,'3bis. Calcul répartition CM'!L15=0),0,IF('3bis. Calcul répartition CM'!M15-'3bis. Calcul répartition CM'!K15>0,1,0)))","v":0},{"$f":"IF(AND('3bis. Calcul répartition CM'!N15=MAX('3bis. Calcul répartition CM'!N$9:N$58),'3bis. Calcul répartition CM'!N15>0,COUNTIF('3bis. Calcul répartition CM'!N$9:N$58,'3bis. Calcul répartition CM'!N15)>1,SUM('3bis. Calcul répartition CM'!O$9:O$58)-SUM('3bis. Calcul répartition CM'!M$9:M$58)>1),\"erreur\",\"\")","v":""},{"$f":"IF(N10=\"erreur\",0,IF(OR('3bis. Calcul répartition CM'!O$5=0,'3bis. Calcul répartition CM'!N15=0),0,IF('3bis. Calcul répartition CM'!O15-'3bis. Calcul répartition CM'!M15>0,1,0)))","v":0},{"$f":"IF(AND('3bis. Calcul répartition CM'!P15=MAX('3bis. Calcul répartition CM'!P$9:P$58),'3bis. Calcul répartition CM'!P15>0,COUNTIF('3bis. Calcul répartition CM'!P$9:P$58,'3bis. Calcul répartition CM'!P15)>1,SUM('3bis. Calcul répartition CM'!Q$9:Q$58)-SUM('3bis. Calcul répartition CM'!O$9:O$58)>1),\"erreur\",\"\")","v":""},{"$f":"IF(P10=\"erreur\",0,IF(OR('3bis. Calcul répartition CM'!Q$5=0,'3bis. Calcul répartition CM'!P15=0),0,IF('3bis. Calcul répartition CM'!Q15-'3bis. Calcul répartition CM'!O15>0,1,0)))","v":0},{"$f":"IF(AND('3bis. Calcul répartition CM'!R15=MAX('3bis. Calcul répartition CM'!R$9:R$58),'3bis. Calcul répartition CM'!R15>0,COUNTIF('3bis. Calcul répartition CM'!R$9:R$58,'3bis. Calcul répartition CM'!R15)>1,SUM('3bis. Calcul répartition CM'!S$9:S$58)-SUM('3bis. Calcul répartition CM'!Q$9:Q$58)>1),\"erreur\",\"\")","v":""},{"$f":"IF(R10=\"erreur\",0,IF(OR('3bis. Calcul répartition CM'!S$5=0,'3bis. Calcul répartition CM'!R15=0),0,IF('3bis. Calcul répartition CM'!S15-'3bis. Calcul répartition CM'!Q15>0,1,0)))","v":0},{"$f":"IF(AND('3bis. Calcul répartition CM'!T15=MAX('3bis. Calcul répartition CM'!T$9:T$58),'3bis. Calcul répartition CM'!T15>0,COUNTIF('3bis. Calcul répartition CM'!T$9:T$58,'3bis. Calcul répartition CM'!T15)>1,SUM('3bis. Calcul répartition CM'!U$9:U$58)-SUM('3bis. Calcul répartition CM'!S$9:S$58)>1),\"erreur\",\"\")","v":""},{"$f":"IF(T10=\"erreur\",0,IF(OR('3bis. Calcul répartition CM'!U$5=0,'3bis. Calcul répartition CM'!T15=0),0,IF('3bis. Calcul répartition CM'!U15-'3bis. Calcul répartition CM'!S15>0,1,0)))","v":0},{"$f":"IF(AND('3bis. Calcul répartition CM'!V15=MAX('3bis. Calcul répartition CM'!V$9:V$58),'3bis. Calcul répartition CM'!V15>0,COUNTIF('3bis. Calcul répartition CM'!V$9:V$58,'3bis. Calcul répartition CM'!V15)>1,SUM('3bis. Calcul répartition CM'!W$9:W$58)-SUM('3bis. Calcul répartition CM'!U$9:U$58)>1),\"erreur\",\"\")","v":""},{"$f":"IF(V10=\"erreur\",0,IF(OR('3bis. Calcul répartition CM'!W$5=0,'3bis. Calcul répartition CM'!V15=0),0,IF('3bis. Calcul répartition CM'!W15-'3bis. Calcul répartition CM'!U15>0,1,0)))","v":0},{"$f":"IF(AND('3bis. Calcul répartition CM'!X15=MAX('3bis. Calcul répartition CM'!X$9:X$58),'3bis. Calcul répartition CM'!X15>0,COUNTIF('3bis. Calcul répartition CM'!X$9:X$58,'3bis. Calcul répartition CM'!X15)>1,SUM('3bis. Calcul répartition CM'!Y$9:Y$58)-SUM('3bis. Calcul répartition CM'!W$9:W$58)>1),\"erreur\",\"\")","v":""},{"$f":"IF(X10=\"erreur\",0,IF(OR('3bis. Calcul répartition CM'!Y$5=0,'3bis. Calcul répartition CM'!X15=0),0,IF('3bis. Calcul répartition CM'!Y15-'3bis. Calcul répartition CM'!W15>0,1,0)))","v":0},{"$f":"IF(AND('3bis. Calcul répartition CM'!Z15=MAX('3bis. Calcul répartition CM'!Z$9:Z$58),'3bis. Calcul répartition CM'!Z15>0,COUNTIF('3bis. Calcul répartition CM'!Z$9:Z$58,'3bis. Calcul répartition CM'!Z15)>1,SUM('3bis. Calcul répartition CM'!AA$9:AA$58)-SUM('3bis. Calcul répartition CM'!Y$9:Y$58)>1),\"erreur\",\"\")","v":""},{"$f":"IF(Z10=\"erreur\",0,IF(OR('3bis. Calcul répartition CM'!AA$5=0,'3bis. Calcul répartition CM'!Z15=0),0,IF('3bis. Calcul répartition CM'!AA15-'3bis. Calcul répartition CM'!Y15>0,1,0)))","v":0},{"$f":"IF(AND('3bis. Calcul répartition CM'!AB15=MAX('3bis. Calcul répartition CM'!AB$9:AB$58),'3bis. Calcul répartition CM'!AB15>0,COUNTIF('3bis. Calcul répartition CM'!AB$9:AB$58,'3bis. Calcul répartition CM'!AB15)>1,SUM('3bis. Calcul répartition CM'!AC$9:AC$58)-SUM('3bis. Calcul répartition CM'!AA$9:AA$58)>1),\"erreur\",\"\")","v":""},{"$f":"IF(AB10=\"erreur\",0,IF(OR('3bis. Calcul répartition CM'!AC$5=0,'3bis. Calcul répartition CM'!AB15=0),0,IF('3bis. Calcul répartition CM'!AC15-'3bis. Calcul répartition CM'!AA15>0,1,0)))","v":0},{"$f":"IF(AND('3bis. Calcul répartition CM'!AD15=MAX('3bis. Calcul répartition CM'!AD$9:AD$58),'3bis. Calcul répartition CM'!AD15>0,COUNTIF('3bis. Calcul répartition CM'!AD$9:AD$58,'3bis. Calcul répartition CM'!AD15)>1,SUM('3bis. Calcul répartition CM'!AE$9:AE$58)-SUM('3bis. Calcul répartition CM'!AC$9:AC$58)>1),\"erreur\",\"\")","v":""},{"$f":"IF(AD10=\"erreur\",0,IF(OR('3bis. Calcul répartition CM'!AE$5=0,'3bis. Calcul répartition CM'!AD15=0),0,IF('3bis. Calcul répartition CM'!AE15-'3bis. Calcul répartition CM'!AC15>0,1,0)))","v":0},{"$f":"IF(AND('3bis. Calcul répartition CM'!AF15=MAX('3bis. Calcul répartition CM'!AF$9:AF$58),'3bis. Calcul répartition CM'!AF15>0,COUNTIF('3bis. Calcul répartition CM'!AF$9:AF$58,'3bis. Calcul répartition CM'!AF15)>1,SUM('3bis. Calcul répartition CM'!AG$9:AG$58)-SUM('3bis. Calcul répartition CM'!AE$9:AE$58)>1),\"erreur\",\"\")","v":""},{"$f":"IF(AF10=\"erreur\",0,IF(OR('3bis. Calcul répartition CM'!AG$5=0,'3bis. Calcul répartition CM'!AF15=0),0,IF('3bis. Calcul répartition CM'!AG15-'3bis. Calcul répartition CM'!AE15>0,1,0)))","v":0},{"$f":"IF(AND('3bis. Calcul répartition CM'!AH15=MAX('3bis. Calcul répartition CM'!AH$9:AH$58),'3bis. Calcul répartition CM'!AH15>0,COUNTIF('3bis. Calcul répartition CM'!AH$9:AH$58,'3bis. Calcul répartition CM'!AH15)>1,SUM('3bis. Calcul répartition CM'!AI$9:AI$58)-SUM('3bis. Calcul répartition CM'!AG$9:AG$58)>1),\"erreur\",\"\")","v":""},{"$f":"IF(AH10=\"erreur\",0,IF(OR('3bis. Calcul répartition CM'!AI$5=0,'3bis. Calcul répartition CM'!AH15=0),0,IF('3bis. Calcul répartition CM'!AI15-'3bis. Calcul répartition CM'!AG15>0,1,0)))","v":0},{"$f":"IF(AND('3bis. Calcul répartition CM'!AJ15=MAX('3bis. Calcul répartition CM'!AJ$9:AJ$58),'3bis. Calcul répartition CM'!AJ15>0,COUNTIF('3bis. Calcul répartition CM'!AJ$9:AJ$58,'3bis. Calcul répartition CM'!AJ15)>1,SUM('3bis. Calcul répartition CM'!AK$9:AK$58)-SUM('3bis. Calcul répartition CM'!AI$9:AI$58)>1),\"erreur\",\"\")","v":""},{"$f":"IF(AJ10=\"erreur\",0,IF(OR('3bis. Calcul répartition CM'!AK$5=0,'3bis. Calcul répartition CM'!AJ15=0),0,IF('3bis. Calcul répartition CM'!AK15-'3bis. Calcul répartition CM'!AI15>0,1,0)))","v":0},{"$f":"IF(AND('3bis. Calcul répartition CM'!AL15=MAX('3bis. Calcul répartition CM'!AL$9:AL$58),'3bis. Calcul répartition CM'!AL15>0,COUNTIF('3bis. Calcul répartition CM'!AL$9:AL$58,'3bis. Calcul répartition CM'!AL15)>1,SUM('3bis. Calcul répartition CM'!AM$9:AM$58)-SUM('3bis. Calcul répartition CM'!AK$9:AK$58)>1),\"erreur\",\"\")","v":""},{"$f":"IF(AL10=\"erreur\",0,IF(OR('3bis. Calcul répartition CM'!AM$5=0,'3bis. Calcul répartition CM'!AL15=0),0,IF('3bis. Calcul répartition CM'!AM15-'3bis. Calcul répartition CM'!AK15>0,1,0)))","v":0},{"$f":"IF(AND('3bis. Calcul répartition CM'!AN15=MAX('3bis. Calcul répartition CM'!AN$9:AN$58),'3bis. Calcul répartition CM'!AN15>0,COUNTIF('3bis. Calcul répartition CM'!AN$9:AN$58,'3bis. Calcul répartition CM'!AN15)>1,SUM('3bis. Calcul répartition CM'!AO$9:AO$58)-SUM('3bis. Calcul répartition CM'!AM$9:AM$58)>1),\"erreur\",\"\")","v":""},{"$f":"IF(AN10=\"erreur\",0,IF(OR('3bis. Calcul répartition CM'!AO$5=0,'3bis. Calcul répartition CM'!AN15=0),0,IF('3bis. Calcul répartition CM'!AO15-'3bis. Calcul répartition CM'!AM15>0,1,0)))","v":0},{"$f":"IF(AND('3bis. Calcul répartition CM'!AP15=MAX('3bis. Calcul répartition CM'!AP$9:AP$58),'3bis. Calcul répartition CM'!AP15>0,COUNTIF('3bis. Calcul répartition CM'!AP$9:AP$58,'3bis. Calcul répartition CM'!AP15)>1,SUM('3bis. Calcul répartition CM'!AQ$9:AQ$58)-SUM('3bis. Calcul répartition CM'!AO$9:AO$58)>1),\"erreur\",\"\")","v":""},{"$f":"IF(AP10=\"erreur\",0,IF(OR('3bis. Calcul répartition CM'!AQ$5=0,'3bis. Calcul répartition CM'!AP15=0),0,IF('3bis. Calcul répartition CM'!AQ15-'3bis. Calcul répartition CM'!AO15>0,1,0)))","v":0},{"$f":"IF(AND('3bis. Calcul répartition CM'!AR15=MAX('3bis. Calcul répartition CM'!AR$9:AR$58),'3bis. Calcul répartition CM'!AR15>0,COUNTIF('3bis. Calcul répartition CM'!AR$9:AR$58,'3bis. Calcul répartition CM'!AR15)>1,SUM('3bis. Calcul répartition CM'!AS$9:AS$58)-SUM('3bis. Calcul répartition CM'!AQ$9:AQ$58)>1),\"erreur\",\"\")","v":""},{"$f":"IF(AR10=\"erreur\",0,IF(OR('3bis. Calcul répartition CM'!AS$5=0,'3bis. Calcul répartition CM'!AR15=0),0,IF('3bis. Calcul répartition CM'!AS15-'3bis. Calcul répartition CM'!AQ15>0,1,0)))","v":0},{"$f":"IF(AND('3bis. Calcul répartition CM'!AT15=MAX('3bis. Calcul répartition CM'!AT$9:AT$58),'3bis. Calcul répartition CM'!AT15>0,COUNTIF('3bis. Calcul répartition CM'!AT$9:AT$58,'3bis. Calcul répartition CM'!AT15)>1,SUM('3bis. Calcul répartition CM'!AU$9:AU$58)-SUM('3bis. Calcul répartition CM'!AS$9:AS$58)>1),\"erreur\",\"\")","v":""},{"$f":"IF(AT10=\"erreur\",0,IF(OR('3bis. Calcul répartition CM'!AU$5=0,'3bis. Calcul répartition CM'!AT15=0),0,IF('3bis. Calcul répartition CM'!AU15-'3bis. Calcul répartition CM'!AS15>0,1,0)))","v":0},{"$f":"IF(AND('3bis. Calcul répartition CM'!AV15=MAX('3bis. Calcul répartition CM'!AV$9:AV$58),'3bis. Calcul répartition CM'!AV15>0,COUNTIF('3bis. Calcul répartition CM'!AV$9:AV$58,'3bis. Calcul répartition CM'!AV15)>1,SUM('3bis. Calcul répartition CM'!AW$9:AW$58)-SUM('3bis. Calcul répartition CM'!AU$9:AU$58)>1),\"erreur\",\"\")","v":""},{"$f":"IF(AV10=\"erreur\",0,IF(OR('3bis. Calcul répartition CM'!AW$5=0,'3bis. Calcul répartition CM'!AV15=0),0,IF('3bis. Calcul répartition CM'!AW15-'3bis. Calcul répartition CM'!AU15>0,1,0)))","v":0},{"$f":"IF(AND('3bis. Calcul répartition CM'!AX15=MAX('3bis. Calcul répartition CM'!AX$9:AX$58),'3bis. Calcul répartition CM'!AX15>0,COUNTIF('3bis. Calcul répartition CM'!AX$9:AX$58,'3bis. Calcul répartition CM'!AX15)>1,SUM('3bis. Calcul répartition CM'!AY$9:AY$58)-SUM('3bis. Calcul répartition CM'!AW$9:AW$58)>1),\"erreur\",\"\")","v":""},{"$f":"IF(AX10=\"erreur\",0,IF(OR('3bis. Calcul répartition CM'!AY$5=0,'3bis. Calcul répartition CM'!AX15=0),0,IF('3bis. Calcul répartition CM'!AY15-'3bis. Calcul répartition CM'!AW15>0,1,0)))","v":0},{"$f":"IF(AND('3bis. Calcul répartition CM'!AZ15=MAX('3bis. Calcul répartition CM'!AZ$9:AZ$58),'3bis. Calcul répartition CM'!AZ15>0,COUNTIF('3bis. Calcul répartition CM'!AZ$9:AZ$58,'3bis. Calcul répartition CM'!AZ15)>1,SUM('3bis. Calcul répartition CM'!BA$9:BA$58)-SUM('3bis. Calcul répartition CM'!AY$9:AY$58)>1),\"erreur\",\"\")","v":""},{"$f":"IF(AZ10=\"erreur\",0,IF(OR('3bis. Calcul répartition CM'!BA$5=0,'3bis. Calcul répartition CM'!AZ15=0),0,IF('3bis. Calcul répartition CM'!BA15-'3bis. Calcul répartition CM'!AY15>0,1,0)))","v":0},{"$f":"IF(AND('3bis. Calcul répartition CM'!BB15=MAX('3bis. Calcul répartition CM'!BB$9:BB$58),'3bis. Calcul répartition CM'!BB15>0,COUNTIF('3bis. Calcul répartition CM'!BB$9:BB$58,'3bis. Calcul répartition CM'!BB15)>1,SUM('3bis. Calcul répartition CM'!BC$9:BC$58)-SUM('3bis. Calcul répartition CM'!BA$9:BA$58)>1),\"erreur\",\"\")","v":""},{"$f":"IF(BB10=\"erreur\",0,IF(OR('3bis. Calcul répartition CM'!BC$5=0,'3bis. Calcul répartition CM'!BB15=0),0,IF('3bis. Calcul répartition CM'!BC15-'3bis. Calcul répartition CM'!BA15>0,1,0)))","v":0},{"$f":"IF(AND('3bis. Calcul répartition CM'!BD15=MAX('3bis. Calcul répartition CM'!BD$9:BD$58),'3bis. Calcul répartition CM'!BD15>0,COUNTIF('3bis. Calcul répartition CM'!BD$9:BD$58,'3bis. Calcul répartition CM'!BD15)>1,SUM('3bis. Calcul répartition CM'!BE$9:BE$58)-SUM('3bis. Calcul répartition CM'!BC$9:BC$58)>1),\"erreur\",\"\")","v":""},{"$f":"IF(BD10=\"erreur\",0,IF(OR('3bis. Calcul répartition CM'!BE$5=0,'3bis. Calcul répartition CM'!BD15=0),0,IF('3bis. Calcul répartition CM'!BE15-'3bis. Calcul répartition CM'!BC15>0,1,0)))","v":0},{"$f":"IF(AND('3bis. Calcul répartition CM'!BF15=MAX('3bis. Calcul répartition CM'!BF$9:BF$58),'3bis. Calcul répartition CM'!BF15>0,COUNTIF('3bis. Calcul répartition CM'!BF$9:BF$58,'3bis. Calcul répartition CM'!BF15)>1,SUM('3bis. Calcul répartition CM'!BG$9:BG$58)-SUM('3bis. Calcul répartition CM'!BE$9:BE$58)>1),\"erreur\",\"\")","v":""},{"$f":"IF(BF10=\"erreur\",0,IF(OR('3bis. Calcul répartition CM'!BG$5=0,'3bis. Calcul répartition CM'!BF15=0),0,IF('3bis. Calcul répartition CM'!BG15-'3bis. Calcul répartition CM'!BE15>0,1,0)))","v":0},{"$f":"IF(AND('3bis. Calcul répartition CM'!BH15=MAX('3bis. Calcul répartition CM'!BH$9:BH$58),'3bis. Calcul répartition CM'!BH15>0,COUNTIF('3bis. Calcul répartition CM'!BH$9:BH$58,'3bis. Calcul répartition CM'!BH15)>1,SUM('3bis. Calcul répartition CM'!BI$9:BI$58)-SUM('3bis. Calcul répartition CM'!BG$9:BG$58)>1),\"erreur\",\"\")","v":""},{"$f":"IF(BH10=\"erreur\",0,IF(OR('3bis. Calcul répartition CM'!BI$5=0,'3bis. Calcul répartition CM'!BH15=0),0,IF('3bis. Calcul répartition CM'!BI15-'3bis. Calcul répartition CM'!BG15>0,1,0)))","v":0},{"$f":"IF(AND('3bis. Calcul répartition CM'!BJ15=MAX('3bis. Calcul répartition CM'!BJ$9:BJ$58),'3bis. Calcul répartition CM'!BJ15>0,COUNTIF('3bis. Calcul répartition CM'!BJ$9:BJ$58,'3bis. Calcul répartition CM'!BJ15)>1,SUM('3bis. Calcul répartition CM'!BK$9:BK$58)-SUM('3bis. Calcul répartition CM'!BI$9:BI$58)>1),\"erreur\",\"\")","v":""},{"$f":"IF(BJ10=\"erreur\",0,IF(OR('3bis. Calcul répartition CM'!BK$5=0,'3bis. Calcul répartition CM'!BJ15=0),0,IF('3bis. Calcul répartition CM'!BK15-'3bis. Calcul répartition CM'!BI15>0,1,0)))","v":0},{"$f":"IF(AND('3bis. Calcul répartition CM'!BL15=MAX('3bis. Calcul répartition CM'!BL$9:BL$58),'3bis. Calcul répartition CM'!BL15>0,COUNTIF('3bis. Calcul répartition CM'!BL$9:BL$58,'3bis. Calcul répartition CM'!BL15)>1,SUM('3bis. Calcul répartition CM'!BM$9:BM$58)-SUM('3bis. Calcul répartition CM'!BK$9:BK$58)>1),\"erreur\",\"\")","v":""},{"$f":"IF(BL10=\"erreur\",0,IF(OR('3bis. Calcul répartition CM'!BM$5=0,'3bis. Calcul répartition CM'!BL15=0),0,IF('3bis. Calcul répartition CM'!BM15-'3bis. Calcul répartition CM'!BK15>0,1,0)))","v":0},{"$f":"IF(AND('3bis. Calcul répartition CM'!BN15=MAX('3bis. Calcul répartition CM'!BN$9:BN$58),'3bis. Calcul répartition CM'!BN15>0,COUNTIF('3bis. Calcul répartition CM'!BN$9:BN$58,'3bis. Calcul répartition CM'!BN15)>1,SUM('3bis. Calcul répartition CM'!BO$9:BO$58)-SUM('3bis. Calcul répartition CM'!BM$9:BM$58)>1),\"erreur\",\"\")","v":""},{"$f":"IF(BN10=\"erreur\",0,IF(OR('3bis. Calcul répartition CM'!BO$5=0,'3bis. Calcul répartition CM'!BN15=0),0,IF('3bis. Calcul répartition CM'!BO15-'3bis. Calcul répartition CM'!BM15>0,1,0)))","v":0},{"$f":"IF(AND('3bis. Calcul répartition CM'!BP15=MAX('3bis. Calcul répartition CM'!BP$9:BP$58),'3bis. Calcul répartition CM'!BP15>0,COUNTIF('3bis. Calcul répartition CM'!BP$9:BP$58,'3bis. Calcul répartition CM'!BP15)>1,SUM('3bis. Calcul répartition CM'!BQ$9:BQ$58)-SUM('3bis. Calcul répartition CM'!BO$9:BO$58)>1),\"erreur\",\"\")","v":""},{"$f":"IF(BP10=\"erreur\",0,IF(OR('3bis. Calcul répartition CM'!BQ$5=0,'3bis. Calcul répartition CM'!BP15=0),0,IF('3bis. Calcul répartition CM'!BQ15-'3bis. Calcul répartition CM'!BO15>0,1,0)))","v":0}]
[null,null,null,null,null,null,null,null,{"$f":"'3bis. Calcul répartition CM'!B16","v":0},{"$f":"IF(AND('3bis. Calcul répartition CM'!J16=MAX('3bis. Calcul répartition CM'!J$9:J$58),'3bis. Calcul répartition CM'!J16>0,COUNTIF('3bis. Calcul répartition CM'!J$9:J$58,'3bis. Calcul répartition CM'!J16)>1,SUM('3bis. Calcul répartition CM'!$K$9:$K$58)-SUM('3bis. Calcul répartition CM'!$D$9:$D$58)>1),\"erreur\",\"\")","v":""},{"$f":"IF(J11=\"erreur\",0,IF(OR('3bis. Calcul répartition CM'!K$5=0,'3bis. Calcul répartition CM'!J16=0),0,IF('3bis. Calcul répartition CM'!K16-'3bis. Calcul répartition CM'!D16>0,1,0)))","v":0},{"$f":"IF(AND('3bis. Calcul répartition CM'!L16=MAX('3bis. Calcul répartition CM'!L$9:L$58),'3bis. Calcul répartition CM'!L16>0,COUNTIF('3bis. Calcul répartition CM'!L$9:L$58,'3bis. Calcul répartition CM'!L16)>1,SUM('3bis. Calcul répartition CM'!M$9:M$58)-SUM('3bis. Calcul répartition CM'!K$9:K$58)>1),\"erreur\",\"\")","v":""},{"$f":"IF(L11=\"erreur\",0,IF(OR('3bis. Calcul répartition CM'!M$5=0,'3bis. Calcul répartition CM'!L16=0),0,IF('3bis. Calcul répartition CM'!M16-'3bis. Calcul répartition CM'!K16>0,1,0)))","v":0},{"$f":"IF(AND('3bis. Calcul répartition CM'!N16=MAX('3bis. Calcul répartition CM'!N$9:N$58),'3bis. Calcul répartition CM'!N16>0,COUNTIF('3bis. Calcul répartition CM'!N$9:N$58,'3bis. Calcul répartition CM'!N16)>1,SUM('3bis. Calcul répartition CM'!O$9:O$58)-SUM('3bis. Calcul répartition CM'!M$9:M$58)>1),\"erreur\",\"\")","v":""},{"$f":"IF(N11=\"erreur\",0,IF(OR('3bis. Calcul répartition CM'!O$5=0,'3bis. Calcul répartition CM'!N16=0),0,IF('3bis. Calcul répartition CM'!O16-'3bis. Calcul répartition CM'!M16>0,1,0)))","v":0},{"$f":"IF(AND('3bis. Calcul répartition CM'!P16=MAX('3bis. Calcul répartition CM'!P$9:P$58),'3bis. Calcul répartition CM'!P16>0,COUNTIF('3bis. Calcul répartition CM'!P$9:P$58,'3bis. Calcul répartition CM'!P16)>1,SUM('3bis. Calcul répartition CM'!Q$9:Q$58)-SUM('3bis. Calcul répartition CM'!O$9:O$58)>1),\"erreur\",\"\")","v":""},{"$f":"IF(P11=\"erreur\",0,IF(OR('3bis. Calcul répartition CM'!Q$5=0,'3bis. Calcul répartition CM'!P16=0),0,IF('3bis. Calcul répartition CM'!Q16-'3bis. Calcul répartition CM'!O16>0,1,0)))","v":0},{"$f":"IF(AND('3bis. Calcul répartition CM'!R16=MAX('3bis. Calcul répartition CM'!R$9:R$58),'3bis. Calcul répartition CM'!R16>0,COUNTIF('3bis. Calcul répartition CM'!R$9:R$58,'3bis. Calcul répartition CM'!R16)>1,SUM('3bis. Calcul répartition CM'!S$9:S$58)-SUM('3bis. Calcul répartition CM'!Q$9:Q$58)>1),\"erreur\",\"\")","v":""},{"$f":"IF(R11=\"erreur\",0,IF(OR('3bis. Calcul répartition CM'!S$5=0,'3bis. Calcul répartition CM'!R16=0),0,IF('3bis. Calcul répartition CM'!S16-'3bis. Calcul répartition CM'!Q16>0,1,0)))","v":0},{"$f":"IF(AND('3bis. Calcul répartition CM'!T16=MAX('3bis. Calcul répartition CM'!T$9:T$58),'3bis. Calcul répartition CM'!T16>0,COUNTIF('3bis. Calcul répartition CM'!T$9:T$58,'3bis. Calcul répartition CM'!T16)>1,SUM('3bis. Calcul répartition CM'!U$9:U$58)-SUM('3bis. Calcul répartition CM'!S$9:S$58)>1),\"erreur\",\"\")","v":""},{"$f":"IF(T11=\"erreur\",0,IF(OR('3bis. Calcul répartition CM'!U$5=0,'3bis. Calcul répartition CM'!T16=0),0,IF('3bis. Calcul répartition CM'!U16-'3bis. Calcul répartition CM'!S16>0,1,0)))","v":0},{"$f":"IF(AND('3bis. Calcul répartition CM'!V16=MAX('3bis. Calcul répartition CM'!V$9:V$58),'3bis. Calcul répartition CM'!V16>0,COUNTIF('3bis. Calcul répartition CM'!V$9:V$58,'3bis. Calcul répartition CM'!V16)>1,SUM('3bis. Calcul répartition CM'!W$9:W$58)-SUM('3bis. Calcul répartition CM'!U$9:U$58)>1),\"erreur\",\"\")","v":""},{"$f":"IF(V11=\"erreur\",0,IF(OR('3bis. Calcul répartition CM'!W$5=0,'3bis. Calcul répartition CM'!V16=0),0,IF('3bis. Calcul répartition CM'!W16-'3bis. Calcul répartition CM'!U16>0,1,0)))","v":0},{"$f":"IF(AND('3bis. Calcul répartition CM'!X16=MAX('3bis. Calcul répartition CM'!X$9:X$58),'3bis. Calcul répartition CM'!X16>0,COUNTIF('3bis. Calcul répartition CM'!X$9:X$58,'3bis. Calcul répartition CM'!X16)>1,SUM('3bis. Calcul répartition CM'!Y$9:Y$58)-SUM('3bis. Calcul répartition CM'!W$9:W$58)>1),\"erreur\",\"\")","v":""},{"$f":"IF(X11=\"erreur\",0,IF(OR('3bis. Calcul répartition CM'!Y$5=0,'3bis. Calcul répartition CM'!X16=0),0,IF('3bis. Calcul répartition CM'!Y16-'3bis. Calcul répartition CM'!W16>0,1,0)))","v":0},{"$f":"IF(AND('3bis. Calcul répartition CM'!Z16=MAX('3bis. Calcul répartition CM'!Z$9:Z$58),'3bis. Calcul répartition CM'!Z16>0,COUNTIF('3bis. Calcul répartition CM'!Z$9:Z$58,'3bis. Calcul répartition CM'!Z16)>1,SUM('3bis. Calcul répartition CM'!AA$9:AA$58)-SUM('3bis. Calcul répartition CM'!Y$9:Y$58)>1),\"erreur\",\"\")","v":""},{"$f":"IF(Z11=\"erreur\",0,IF(OR('3bis. Calcul répartition CM'!AA$5=0,'3bis. Calcul répartition CM'!Z16=0),0,IF('3bis. Calcul répartition CM'!AA16-'3bis. Calcul répartition CM'!Y16>0,1,0)))","v":0},{"$f":"IF(AND('3bis. Calcul répartition CM'!AB16=MAX('3bis. Calcul répartition CM'!AB$9:AB$58),'3bis. Calcul répartition CM'!AB16>0,COUNTIF('3bis. Calcul répartition CM'!AB$9:AB$58,'3bis. Calcul répartition CM'!AB16)>1,SUM('3bis. Calcul répartition CM'!AC$9:AC$58)-SUM('3bis. Calcul répartition CM'!AA$9:AA$58)>1),\"erreur\",\"\")","v":""},{"$f":"IF(AB11=\"erreur\",0,IF(OR('3bis. Calcul répartition CM'!AC$5=0,'3bis. Calcul répartition CM'!AB16=0),0,IF('3bis. Calcul répartition CM'!AC16-'3bis. Calcul répartition CM'!AA16>0,1,0)))","v":0},{"$f":"IF(AND('3bis. Calcul répartition CM'!AD16=MAX('3bis. Calcul répartition CM'!AD$9:AD$58),'3bis. Calcul répartition CM'!AD16>0,COUNTIF('3bis. Calcul répartition CM'!AD$9:AD$58,'3bis. Calcul répartition CM'!AD16)>1,SUM('3bis. Calcul répartition CM'!AE$9:AE$58)-SUM('3bis. Calcul répartition CM'!AC$9:AC$58)>1),\"erreur\",\"\")","v":""},{"$f":"IF(AD11=\"erreur\",0,IF(OR('3bis. Calcul répartition CM'!AE$5=0,'3bis. Calcul répartition CM'!AD16=0),0,IF('3bis. Calcul répartition CM'!AE16-'3bis. Calcul répartition CM'!AC16>0,1,0)))","v":0},{"$f":"IF(AND('3bis. Calcul répartition CM'!AF16=MAX('3bis. Calcul répartition CM'!AF$9:AF$58),'3bis. Calcul répartition CM'!AF16>0,COUNTIF('3bis. Calcul répartition CM'!AF$9:AF$58,'3bis. Calcul répartition CM'!AF16)>1,SUM('3bis. Calcul répartition CM'!AG$9:AG$58)-SUM('3bis. Calcul répartition CM'!AE$9:AE$58)>1),\"erreur\",\"\")","v":""},{"$f":"IF(AF11=\"erreur\",0,IF(OR('3bis. Calcul répartition CM'!AG$5=0,'3bis. Calcul répartition CM'!AF16=0),0,IF('3bis. Calcul répartition CM'!AG16-'3bis. Calcul répartition CM'!AE16>0,1,0)))","v":0},{"$f":"IF(AND('3bis. Calcul répartition CM'!AH16=MAX('3bis. Calcul répartition CM'!AH$9:AH$58),'3bis. Calcul répartition CM'!AH16>0,COUNTIF('3bis. Calcul répartition CM'!AH$9:AH$58,'3bis. Calcul répartition CM'!AH16)>1,SUM('3bis. Calcul répartition CM'!AI$9:AI$58)-SUM('3bis. Calcul répartition CM'!AG$9:AG$58)>1),\"erreur\",\"\")","v":""},{"$f":"IF(AH11=\"erreur\",0,IF(OR('3bis. Calcul répartition CM'!AI$5=0,'3bis. Calcul répartition CM'!AH16=0),0,IF('3bis. Calcul répartition CM'!AI16-'3bis. Calcul répartition CM'!AG16>0,1,0)))","v":0},{"$f":"IF(AND('3bis. Calcul répartition CM'!AJ16=MAX('3bis. Calcul répartition CM'!AJ$9:AJ$58),'3bis. Calcul répartition CM'!AJ16>0,COUNTIF('3bis. Calcul répartition CM'!AJ$9:AJ$58,'3bis. Calcul répartition CM'!AJ16)>1,SUM('3bis. Calcul répartition CM'!AK$9:AK$58)-SUM('3bis. Calcul répartition CM'!AI$9:AI$58)>1),\"erreur\",\"\")","v":""},{"$f":"IF(AJ11=\"erreur\",0,IF(OR('3bis. Calcul répartition CM'!AK$5=0,'3bis. Calcul répartition CM'!AJ16=0),0,IF('3bis. Calcul répartition CM'!AK16-'3bis. Calcul répartition CM'!AI16>0,1,0)))","v":0},{"$f":"IF(AND('3bis. Calcul répartition CM'!AL16=MAX('3bis. Calcul répartition CM'!AL$9:AL$58),'3bis. Calcul répartition CM'!AL16>0,COUNTIF('3bis. Calcul répartition CM'!AL$9:AL$58,'3bis. Calcul répartition CM'!AL16)>1,SUM('3bis. Calcul répartition CM'!AM$9:AM$58)-SUM('3bis. Calcul répartition CM'!AK$9:AK$58)>1),\"erreur\",\"\")","v":""},{"$f":"IF(AL11=\"erreur\",0,IF(OR('3bis. Calcul répartition CM'!AM$5=0,'3bis. Calcul répartition CM'!AL16=0),0,IF('3bis. Calcul répartition CM'!AM16-'3bis. Calcul répartition CM'!AK16>0,1,0)))","v":0},{"$f":"IF(AND('3bis. Calcul répartition CM'!AN16=MAX('3bis. Calcul répartition CM'!AN$9:AN$58),'3bis. Calcul répartition CM'!AN16>0,COUNTIF('3bis. Calcul répartition CM'!AN$9:AN$58,'3bis. Calcul répartition CM'!AN16)>1,SUM('3bis. Calcul répartition CM'!AO$9:AO$58)-SUM('3bis. Calcul répartition CM'!AM$9:AM$58)>1),\"erreur\",\"\")","v":""},{"$f":"IF(AN11=\"erreur\",0,IF(OR('3bis. Calcul répartition CM'!AO$5=0,'3bis. Calcul répartition CM'!AN16=0),0,IF('3bis. Calcul répartition CM'!AO16-'3bis. Calcul répartition CM'!AM16>0,1,0)))","v":0},{"$f":"IF(AND('3bis. Calcul répartition CM'!AP16=MAX('3bis. Calcul répartition CM'!AP$9:AP$58),'3bis. Calcul répartition CM'!AP16>0,COUNTIF('3bis. Calcul répartition CM'!AP$9:AP$58,'3bis. Calcul répartition CM'!AP16)>1,SUM('3bis. Calcul répartition CM'!AQ$9:AQ$58)-SUM('3bis. Calcul répartition CM'!AO$9:AO$58)>1),\"erreur\",\"\")","v":""},{"$f":"IF(AP11=\"erreur\",0,IF(OR('3bis. Calcul répartition CM'!AQ$5=0,'3bis. Calcul répartition CM'!AP16=0),0,IF('3bis. Calcul répartition CM'!AQ16-'3bis. Calcul répartition CM'!AO16>0,1,0)))","v":0},{"$f":"IF(AND('3bis. Calcul répartition CM'!AR16=MAX('3bis. Calcul répartition CM'!AR$9:AR$58),'3bis. Calcul répartition CM'!AR16>0,COUNTIF('3bis. Calcul répartition CM'!AR$9:AR$58,'3bis. Calcul répartition CM'!AR16)>1,SUM('3bis. Calcul répartition CM'!AS$9:AS$58)-SUM('3bis. Calcul répartition CM'!AQ$9:AQ$58)>1),\"erreur\",\"\")","v":""},{"$f":"IF(AR11=\"erreur\",0,IF(OR('3bis. Calcul répartition CM'!AS$5=0,'3bis. Calcul répartition CM'!AR16=0),0,IF('3bis. Calcul répartition CM'!AS16-'3bis. Calcul répartition CM'!AQ16>0,1,0)))","v":0},{"$f":"IF(AND('3bis. Calcul répartition CM'!AT16=MAX('3bis. Calcul répartition CM'!AT$9:AT$58),'3bis. Calcul répartition CM'!AT16>0,COUNTIF('3bis. Calcul répartition CM'!AT$9:AT$58,'3bis. Calcul répartition CM'!AT16)>1,SUM('3bis. Calcul répartition CM'!AU$9:AU$58)-SUM('3bis. Calcul répartition CM'!AS$9:AS$58)>1),\"erreur\",\"\")","v":""},{"$f":"IF(AT11=\"erreur\",0,IF(OR('3bis. Calcul répartition CM'!AU$5=0,'3bis. Calcul répartition CM'!AT16=0),0,IF('3bis. Calcul répartition CM'!AU16-'3bis. Calcul répartition CM'!AS16>0,1,0)))","v":0},{"$f":"IF(AND('3bis. Calcul répartition CM'!AV16=MAX('3bis. Calcul répartition CM'!AV$9:AV$58),'3bis. Calcul répartition CM'!AV16>0,COUNTIF('3bis. Calcul répartition CM'!AV$9:AV$58,'3bis. Calcul répartition CM'!AV16)>1,SUM('3bis. Calcul répartition CM'!AW$9:AW$58)-SUM('3bis. Calcul répartition CM'!AU$9:AU$58)>1),\"erreur\",\"\")","v":""},{"$f":"IF(AV11=\"erreur\",0,IF(OR('3bis. Calcul répartition CM'!AW$5=0,'3bis. Calcul répartition CM'!AV16=0),0,IF('3bis. Calcul répartition CM'!AW16-'3bis. Calcul répartition CM'!AU16>0,1,0)))","v":0},{"$f":"IF(AND('3bis. Calcul répartition CM'!AX16=MAX('3bis. Calcul répartition CM'!AX$9:AX$58),'3bis. Calcul répartition CM'!AX16>0,COUNTIF('3bis. Calcul répartition CM'!AX$9:AX$58,'3bis. Calcul répartition CM'!AX16)>1,SUM('3bis. Calcul répartition CM'!AY$9:AY$58)-SUM('3bis. Calcul répartition CM'!AW$9:AW$58)>1),\"erreur\",\"\")","v":""},{"$f":"IF(AX11=\"erreur\",0,IF(OR('3bis. Calcul répartition CM'!AY$5=0,'3bis. Calcul répartition CM'!AX16=0),0,IF('3bis. Calcul répartition CM'!AY16-'3bis. Calcul répartition CM'!AW16>0,1,0)))","v":0},{"$f":"IF(AND('3bis. Calcul répartition CM'!AZ16=MAX('3bis. Calcul répartition CM'!AZ$9:AZ$58),'3bis. Calcul répartition CM'!AZ16>0,COUNTIF('3bis. Calcul répartition CM'!AZ$9:AZ$58,'3bis. Calcul répartition CM'!AZ16)>1,SUM('3bis. Calcul répartition CM'!BA$9:BA$58)-SUM('3bis. Calcul répartition CM'!AY$9:AY$58)>1),\"erreur\",\"\")","v":""},{"$f":"IF(AZ11=\"erreur\",0,IF(OR('3bis. Calcul répartition CM'!BA$5=0,'3bis. Calcul répartition CM'!AZ16=0),0,IF('3bis. Calcul répartition CM'!BA16-'3bis. Calcul répartition CM'!AY16>0,1,0)))","v":0},{"$f":"IF(AND('3bis. Calcul répartition CM'!BB16=MAX('3bis. Calcul répartition CM'!BB$9:BB$58),'3bis. Calcul répartition CM'!BB16>0,COUNTIF('3bis. Calcul répartition CM'!BB$9:BB$58,'3bis. Calcul répartition CM'!BB16)>1,SUM('3bis. Calcul répartition CM'!BC$9:BC$58)-SUM('3bis. Calcul répartition CM'!BA$9:BA$58)>1),\"erreur\",\"\")","v":""},{"$f":"IF(BB11=\"erreur\",0,IF(OR('3bis. Calcul répartition CM'!BC$5=0,'3bis. Calcul répartition CM'!BB16=0),0,IF('3bis. Calcul répartition CM'!BC16-'3bis. Calcul répartition CM'!BA16>0,1,0)))","v":0},{"$f":"IF(AND('3bis. Calcul répartition CM'!BD16=MAX('3bis. Calcul répartition CM'!BD$9:BD$58),'3bis. Calcul répartition CM'!BD16>0,COUNTIF('3bis. Calcul répartition CM'!BD$9:BD$58,'3bis. Calcul répartition CM'!BD16)>1,SUM('3bis. Calcul répartition CM'!BE$9:BE$58)-SUM('3bis. Calcul répartition CM'!BC$9:BC$58)>1),\"erreur\",\"\")","v":""},{"$f":"IF(BD11=\"erreur\",0,IF(OR('3bis. Calcul répartition CM'!BE$5=0,'3bis. Calcul répartition CM'!BD16=0),0,IF('3bis. Calcul répartition CM'!BE16-'3bis. Calcul répartition CM'!BC16>0,1,0)))","v":0},{"$f":"IF(AND('3bis. Calcul répartition CM'!BF16=MAX('3bis. Calcul répartition CM'!BF$9:BF$58),'3bis. Calcul répartition CM'!BF16>0,COUNTIF('3bis. Calcul répartition CM'!BF$9:BF$58,'3bis. Calcul répartition CM'!BF16)>1,SUM('3bis. Calcul répartition CM'!BG$9:BG$58)-SUM('3bis. Calcul répartition CM'!BE$9:BE$58)>1),\"erreur\",\"\")","v":""},{"$f":"IF(BF11=\"erreur\",0,IF(OR('3bis. Calcul répartition CM'!BG$5=0,'3bis. Calcul répartition CM'!BF16=0),0,IF('3bis. Calcul répartition CM'!BG16-'3bis. Calcul répartition CM'!BE16>0,1,0)))","v":0},{"$f":"IF(AND('3bis. Calcul répartition CM'!BH16=MAX('3bis. Calcul répartition CM'!BH$9:BH$58),'3bis. Calcul répartition CM'!BH16>0,COUNTIF('3bis. Calcul répartition CM'!BH$9:BH$58,'3bis. Calcul répartition CM'!BH16)>1,SUM('3bis. Calcul répartition CM'!BI$9:BI$58)-SUM('3bis. Calcul répartition CM'!BG$9:BG$58)>1),\"erreur\",\"\")","v":""},{"$f":"IF(BH11=\"erreur\",0,IF(OR('3bis. Calcul répartition CM'!BI$5=0,'3bis. Calcul répartition CM'!BH16=0),0,IF('3bis. Calcul répartition CM'!BI16-'3bis. Calcul répartition CM'!BG16>0,1,0)))","v":0},{"$f":"IF(AND('3bis. Calcul répartition CM'!BJ16=MAX('3bis. Calcul répartition CM'!BJ$9:BJ$58),'3bis. Calcul répartition CM'!BJ16>0,COUNTIF('3bis. Calcul répartition CM'!BJ$9:BJ$58,'3bis. Calcul répartition CM'!BJ16)>1,SUM('3bis. Calcul répartition CM'!BK$9:BK$58)-SUM('3bis. Calcul répartition CM'!BI$9:BI$58)>1),\"erreur\",\"\")","v":""},{"$f":"IF(BJ11=\"erreur\",0,IF(OR('3bis. Calcul répartition CM'!BK$5=0,'3bis. Calcul répartition CM'!BJ16=0),0,IF('3bis. Calcul répartition CM'!BK16-'3bis. Calcul répartition CM'!BI16>0,1,0)))","v":0},{"$f":"IF(AND('3bis. Calcul répartition CM'!BL16=MAX('3bis. Calcul répartition CM'!BL$9:BL$58),'3bis. Calcul répartition CM'!BL16>0,COUNTIF('3bis. Calcul répartition CM'!BL$9:BL$58,'3bis. Calcul répartition CM'!BL16)>1,SUM('3bis. Calcul répartition CM'!BM$9:BM$58)-SUM('3bis. Calcul répartition CM'!BK$9:BK$58)>1),\"erreur\",\"\")","v":""},{"$f":"IF(BL11=\"erreur\",0,IF(OR('3bis. Calcul répartition CM'!BM$5=0,'3bis. Calcul répartition CM'!BL16=0),0,IF('3bis. Calcul répartition CM'!BM16-'3bis. Calcul répartition CM'!BK16>0,1,0)))","v":0},{"$f":"IF(AND('3bis. Calcul répartition CM'!BN16=MAX('3bis. Calcul répartition CM'!BN$9:BN$58),'3bis. Calcul répartition CM'!BN16>0,COUNTIF('3bis. Calcul répartition CM'!BN$9:BN$58,'3bis. Calcul répartition CM'!BN16)>1,SUM('3bis. Calcul répartition CM'!BO$9:BO$58)-SUM('3bis. Calcul répartition CM'!BM$9:BM$58)>1),\"erreur\",\"\")","v":""},{"$f":"IF(BN11=\"erreur\",0,IF(OR('3bis. Calcul répartition CM'!BO$5=0,'3bis. Calcul répartition CM'!BN16=0),0,IF('3bis. Calcul répartition CM'!BO16-'3bis. Calcul répartition CM'!BM16>0,1,0)))","v":0},{"$f":"IF(AND('3bis. Calcul répartition CM'!BP16=MAX('3bis. Calcul répartition CM'!BP$9:BP$58),'3bis. Calcul répartition CM'!BP16>0,COUNTIF('3bis. Calcul répartition CM'!BP$9:BP$58,'3bis. Calcul répartition CM'!BP16)>1,SUM('3bis. Calcul répartition CM'!BQ$9:BQ$58)-SUM('3bis. Calcul répartition CM'!BO$9:BO$58)>1),\"erreur\",\"\")","v":""},{"$f":"IF(BP11=\"erreur\",0,IF(OR('3bis. Calcul répartition CM'!BQ$5=0,'3bis. Calcul répartition CM'!BP16=0),0,IF('3bis. Calcul répartition CM'!BQ16-'3bis. Calcul répartition CM'!BO16>0,1,0)))","v":0}]
[null,null,null,null,null,null,null,null,{"$f":"'3bis. Calcul répartition CM'!B17","v":0},{"$f":"IF(AND('3bis. Calcul répartition CM'!J17=MAX('3bis. Calcul répartition CM'!J$9:J$58),'3bis. Calcul répartition CM'!J17>0,COUNTIF('3bis. Calcul répartition CM'!J$9:J$58,'3bis. Calcul répartition CM'!J17)>1,SUM('3bis. Calcul répartition CM'!$K$9:$K$58)-SUM('3bis. Calcul répartition CM'!$D$9:$D$58)>1),\"erreur\",\"\")","v":""},{"$f":"IF(J12=\"erreur\",0,IF(OR('3bis. Calcul répartition CM'!K$5=0,'3bis. Calcul répartition CM'!J17=0),0,IF('3bis. Calcul répartition CM'!K17-'3bis. Calcul répartition CM'!D17>0,1,0)))","v":0},{"$f":"IF(AND('3bis. Calcul répartition CM'!L17=MAX('3bis. Calcul répartition CM'!L$9:L$58),'3bis. Calcul répartition CM'!L17>0,COUNTIF('3bis. Calcul répartition CM'!L$9:L$58,'3bis. Calcul répartition CM'!L17)>1,SUM('3bis. Calcul répartition CM'!M$9:M$58)-SUM('3bis. Calcul répartition CM'!K$9:K$58)>1),\"erreur\",\"\")","v":""},{"$f":"IF(L12=\"erreur\",0,IF(OR('3bis. Calcul répartition CM'!M$5=0,'3bis. Calcul répartition CM'!L17=0),0,IF('3bis. Calcul répartition CM'!M17-'3bis. Calcul répartition CM'!K17>0,1,0)))","v":0},{"$f":"IF(AND('3bis. Calcul répartition CM'!N17=MAX('3bis. Calcul répartition CM'!N$9:N$58),'3bis. Calcul répartition CM'!N17>0,COUNTIF('3bis. Calcul répartition CM'!N$9:N$58,'3bis. Calcul répartition CM'!N17)>1,SUM('3bis. Calcul répartition CM'!O$9:O$58)-SUM('3bis. Calcul répartition CM'!M$9:M$58)>1),\"erreur\",\"\")","v":""},{"$f":"IF(N12=\"erreur\",0,IF(OR('3bis. Calcul répartition CM'!O$5=0,'3bis. Calcul répartition CM'!N17=0),0,IF('3bis. Calcul répartition CM'!O17-'3bis. Calcul répartition CM'!M17>0,1,0)))","v":0},{"$f":"IF(AND('3bis. Calcul répartition CM'!P17=MAX('3bis. Calcul répartition CM'!P$9:P$58),'3bis. Calcul répartition CM'!P17>0,COUNTIF('3bis. Calcul répartition CM'!P$9:P$58,'3bis. Calcul répartition CM'!P17)>1,SUM('3bis. Calcul répartition CM'!Q$9:Q$58)-SUM('3bis. Calcul répartition CM'!O$9:O$58)>1),\"erreur\",\"\")","v":""},{"$f":"IF(P12=\"erreur\",0,IF(OR('3bis. Calcul répartition CM'!Q$5=0,'3bis. Calcul répartition CM'!P17=0),0,IF('3bis. Calcul répartition CM'!Q17-'3bis. Calcul répartition CM'!O17>0,1,0)))","v":0},{"$f":"IF(AND('3bis. Calcul répartition CM'!R17=MAX('3bis. Calcul répartition CM'!R$9:R$58),'3bis. Calcul répartition CM'!R17>0,COUNTIF('3bis. Calcul répartition CM'!R$9:R$58,'3bis. Calcul répartition CM'!R17)>1,SUM('3bis. Calcul répartition CM'!S$9:S$58)-SUM('3bis. Calcul répartition CM'!Q$9:Q$58)>1),\"erreur\",\"\")","v":""},{"$f":"IF(R12=\"erreur\",0,IF(OR('3bis. Calcul répartition CM'!S$5=0,'3bis. Calcul répartition CM'!R17=0),0,IF('3bis. Calcul répartition CM'!S17-'3bis. Calcul répartition CM'!Q17>0,1,0)))","v":0},{"$f":"IF(AND('3bis. Calcul répartition CM'!T17=MAX('3bis. Calcul répartition CM'!T$9:T$58),'3bis. Calcul répartition CM'!T17>0,COUNTIF('3bis. Calcul répartition CM'!T$9:T$58,'3bis. Calcul répartition CM'!T17)>1,SUM('3bis. Calcul répartition CM'!U$9:U$58)-SUM('3bis. Calcul répartition CM'!S$9:S$58)>1),\"erreur\",\"\")","v":""},{"$f":"IF(T12=\"erreur\",0,IF(OR('3bis. Calcul répartition CM'!U$5=0,'3bis. Calcul répartition CM'!T17=0),0,IF('3bis. Calcul répartition CM'!U17-'3bis. Calcul répartition CM'!S17>0,1,0)))","v":0},{"$f":"IF(AND('3bis. Calcul répartition CM'!V17=MAX('3bis. Calcul répartition CM'!V$9:V$58),'3bis. Calcul répartition CM'!V17>0,COUNTIF('3bis. Calcul répartition CM'!V$9:V$58,'3bis. Calcul répartition CM'!V17)>1,SUM('3bis. Calcul répartition CM'!W$9:W$58)-SUM('3bis. Calcul répartition CM'!U$9:U$58)>1),\"erreur\",\"\")","v":""},{"$f":"IF(V12=\"erreur\",0,IF(OR('3bis. Calcul répartition CM'!W$5=0,'3bis. Calcul répartition CM'!V17=0),0,IF('3bis. Calcul répartition CM'!W17-'3bis. Calcul répartition CM'!U17>0,1,0)))","v":0},{"$f":"IF(AND('3bis. Calcul répartition CM'!X17=MAX('3bis. Calcul répartition CM'!X$9:X$58),'3bis. Calcul répartition CM'!X17>0,COUNTIF('3bis. Calcul répartition CM'!X$9:X$58,'3bis. Calcul répartition CM'!X17)>1,SUM('3bis. Calcul répartition CM'!Y$9:Y$58)-SUM('3bis. Calcul répartition CM'!W$9:W$58)>1),\"erreur\",\"\")","v":""},{"$f":"IF(X12=\"erreur\",0,IF(OR('3bis. Calcul répartition CM'!Y$5=0,'3bis. Calcul répartition CM'!X17=0),0,IF('3bis. Calcul répartition CM'!Y17-'3bis. Calcul répartition CM'!W17>0,1,0)))","v":0},{"$f":"IF(AND('3bis. Calcul répartition CM'!Z17=MAX('3bis. Calcul répartition CM'!Z$9:Z$58),'3bis. Calcul répartition CM'!Z17>0,COUNTIF('3bis. Calcul répartition CM'!Z$9:Z$58,'3bis. Calcul répartition CM'!Z17)>1,SUM('3bis. Calcul répartition CM'!AA$9:AA$58)-SUM('3bis. Calcul répartition CM'!Y$9:Y$58)>1),\"erreur\",\"\")","v":""},{"$f":"IF(Z12=\"erreur\",0,IF(OR('3bis. Calcul répartition CM'!AA$5=0,'3bis. Calcul répartition CM'!Z17=0),0,IF('3bis. Calcul répartition CM'!AA17-'3bis. Calcul répartition CM'!Y17>0,1,0)))","v":0},{"$f":"IF(AND('3bis. Calcul répartition CM'!AB17=MAX('3bis. Calcul répartition CM'!AB$9:AB$58),'3bis. Calcul répartition CM'!AB17>0,COUNTIF('3bis. Calcul répartition CM'!AB$9:AB$58,'3bis. Calcul répartition CM'!AB17)>1,SUM('3bis. Calcul répartition CM'!AC$9:AC$58)-SUM('3bis. Calcul répartition CM'!AA$9:AA$58)>1),\"erreur\",\"\")","v":""},{"$f":"IF(AB12=\"erreur\",0,IF(OR('3bis. Calcul répartition CM'!AC$5=0,'3bis. Calcul répartition CM'!AB17=0),0,IF('3bis. Calcul répartition CM'!AC17-'3bis. Calcul répartition CM'!AA17>0,1,0)))","v":0},{"$f":"IF(AND('3bis. Calcul répartition CM'!AD17=MAX('3bis. Calcul répartition CM'!AD$9:AD$58),'3bis. Calcul répartition CM'!AD17>0,COUNTIF('3bis. Calcul répartition CM'!AD$9:AD$58,'3bis. Calcul répartition CM'!AD17)>1,SUM('3bis. Calcul répartition CM'!AE$9:AE$58)-SUM('3bis. Calcul répartition CM'!AC$9:AC$58)>1),\"erreur\",\"\")","v":""},{"$f":"IF(AD12=\"erreur\",0,IF(OR('3bis. Calcul répartition CM'!AE$5=0,'3bis. Calcul répartition CM'!AD17=0),0,IF('3bis. Calcul répartition CM'!AE17-'3bis. Calcul répartition CM'!AC17>0,1,0)))","v":0},{"$f":"IF(AND('3bis. Calcul répartition CM'!AF17=MAX('3bis. Calcul répartition CM'!AF$9:AF$58),'3bis. Calcul répartition CM'!AF17>0,COUNTIF('3bis. Calcul répartition CM'!AF$9:AF$58,'3bis. Calcul répartition CM'!AF17)>1,SUM('3bis. Calcul répartition CM'!AG$9:AG$58)-SUM('3bis. Calcul répartition CM'!AE$9:AE$58)>1),\"erreur\",\"\")","v":""},{"$f":"IF(AF12=\"erreur\",0,IF(OR('3bis. Calcul répartition CM'!AG$5=0,'3bis. Calcul répartition CM'!AF17=0),0,IF('3bis. Calcul répartition CM'!AG17-'3bis. Calcul répartition CM'!AE17>0,1,0)))","v":0},{"$f":"IF(AND('3bis. Calcul répartition CM'!AH17=MAX('3bis. Calcul répartition CM'!AH$9:AH$58),'3bis. Calcul répartition CM'!AH17>0,COUNTIF('3bis. Calcul répartition CM'!AH$9:AH$58,'3bis. Calcul répartition CM'!AH17)>1,SUM('3bis. Calcul répartition CM'!AI$9:AI$58)-SUM('3bis. Calcul répartition CM'!AG$9:AG$58)>1),\"erreur\",\"\")","v":""},{"$f":"IF(AH12=\"erreur\",0,IF(OR('3bis. Calcul répartition CM'!AI$5=0,'3bis. Calcul répartition CM'!AH17=0),0,IF('3bis. Calcul répartition CM'!AI17-'3bis. Calcul répartition CM'!AG17>0,1,0)))","v":0},{"$f":"IF(AND('3bis. Calcul répartition CM'!AJ17=MAX('3bis. Calcul répartition CM'!AJ$9:AJ$58),'3bis. Calcul répartition CM'!AJ17>0,COUNTIF('3bis. Calcul répartition CM'!AJ$9:AJ$58,'3bis. Calcul répartition CM'!AJ17)>1,SUM('3bis. Calcul répartition CM'!AK$9:AK$58)-SUM('3bis. Calcul répartition CM'!AI$9:AI$58)>1),\"erreur\",\"\")","v":""},{"$f":"IF(AJ12=\"erreur\",0,IF(OR('3bis. Calcul répartition CM'!AK$5=0,'3bis. Calcul répartition CM'!AJ17=0),0,IF('3bis. Calcul répartition CM'!AK17-'3bis. Calcul répartition CM'!AI17>0,1,0)))","v":0},{"$f":"IF(AND('3bis. Calcul répartition CM'!AL17=MAX('3bis. Calcul répartition CM'!AL$9:AL$58),'3bis. Calcul répartition CM'!AL17>0,COUNTIF('3bis. Calcul répartition CM'!AL$9:AL$58,'3bis. Calcul répartition CM'!AL17)>1,SUM('3bis. Calcul répartition CM'!AM$9:AM$58)-SUM('3bis. Calcul répartition CM'!AK$9:AK$58)>1),\"erreur\",\"\")","v":""},{"$f":"IF(AL12=\"erreur\",0,IF(OR('3bis. Calcul répartition CM'!AM$5=0,'3bis. Calcul répartition CM'!AL17=0),0,IF('3bis. Calcul répartition CM'!AM17-'3bis. Calcul répartition CM'!AK17>0,1,0)))","v":0},{"$f":"IF(AND('3bis. Calcul répartition CM'!AN17=MAX('3bis. Calcul répartition CM'!AN$9:AN$58),'3bis. Calcul répartition CM'!AN17>0,COUNTIF('3bis. Calcul répartition CM'!AN$9:AN$58,'3bis. Calcul répartition CM'!AN17)>1,SUM('3bis. Calcul répartition CM'!AO$9:AO$58)-SUM('3bis. Calcul répartition CM'!AM$9:AM$58)>1),\"erreur\",\"\")","v":""},{"$f":"IF(AN12=\"erreur\",0,IF(OR('3bis. Calcul répartition CM'!AO$5=0,'3bis. Calcul répartition CM'!AN17=0),0,IF('3bis. Calcul répartition CM'!AO17-'3bis. Calcul répartition CM'!AM17>0,1,0)))","v":0},{"$f":"IF(AND('3bis. Calcul répartition CM'!AP17=MAX('3bis. Calcul répartition CM'!AP$9:AP$58),'3bis. Calcul répartition CM'!AP17>0,COUNTIF('3bis. Calcul répartition CM'!AP$9:AP$58,'3bis. Calcul répartition CM'!AP17)>1,SUM('3bis. Calcul répartition CM'!AQ$9:AQ$58)-SUM('3bis. Calcul répartition CM'!AO$9:AO$58)>1),\"erreur\",\"\")","v":""},{"$f":"IF(AP12=\"erreur\",0,IF(OR('3bis. Calcul répartition CM'!AQ$5=0,'3bis. Calcul répartition CM'!AP17=0),0,IF('3bis. Calcul répartition CM'!AQ17-'3bis. Calcul répartition CM'!AO17>0,1,0)))","v":0},{"$f":"IF(AND('3bis. Calcul répartition CM'!AR17=MAX('3bis. Calcul répartition CM'!AR$9:AR$58),'3bis. Calcul répartition CM'!AR17>0,COUNTIF('3bis. Calcul répartition CM'!AR$9:AR$58,'3bis. Calcul répartition CM'!AR17)>1,SUM('3bis. Calcul répartition CM'!AS$9:AS$58)-SUM('3bis. Calcul répartition CM'!AQ$9:AQ$58)>1),\"erreur\",\"\")","v":""},{"$f":"IF(AR12=\"erreur\",0,IF(OR('3bis. Calcul répartition CM'!AS$5=0,'3bis. Calcul répartition CM'!AR17=0),0,IF('3bis. Calcul répartition CM'!AS17-'3bis. Calcul répartition CM'!AQ17>0,1,0)))","v":0},{"$f":"IF(AND('3bis. Calcul répartition CM'!AT17=MAX('3bis. Calcul répartition CM'!AT$9:AT$58),'3bis. Calcul répartition CM'!AT17>0,COUNTIF('3bis. Calcul répartition CM'!AT$9:AT$58,'3bis. Calcul répartition CM'!AT17)>1,SUM('3bis. Calcul répartition CM'!AU$9:AU$58)-SUM('3bis. Calcul répartition CM'!AS$9:AS$58)>1),\"erreur\",\"\")","v":""},{"$f":"IF(AT12=\"erreur\",0,IF(OR('3bis. Calcul répartition CM'!AU$5=0,'3bis. Calcul répartition CM'!AT17=0),0,IF('3bis. Calcul répartition CM'!AU17-'3bis. Calcul répartition CM'!AS17>0,1,0)))","v":0},{"$f":"IF(AND('3bis. Calcul répartition CM'!AV17=MAX('3bis. Calcul répartition CM'!AV$9:AV$58),'3bis. Calcul répartition CM'!AV17>0,COUNTIF('3bis. Calcul répartition CM'!AV$9:AV$58,'3bis. Calcul répartition CM'!AV17)>1,SUM('3bis. Calcul répartition CM'!AW$9:AW$58)-SUM('3bis. Calcul répartition CM'!AU$9:AU$58)>1),\"erreur\",\"\")","v":""},{"$f":"IF(AV12=\"erreur\",0,IF(OR('3bis. Calcul répartition CM'!AW$5=0,'3bis. Calcul répartition CM'!AV17=0),0,IF('3bis. Calcul répartition CM'!AW17-'3bis. Calcul répartition CM'!AU17>0,1,0)))","v":0},{"$f":"IF(AND('3bis. Calcul répartition CM'!AX17=MAX('3bis. Calcul répartition CM'!AX$9:AX$58),'3bis. Calcul répartition CM'!AX17>0,COUNTIF('3bis. Calcul répartition CM'!AX$9:AX$58,'3bis. Calcul répartition CM'!AX17)>1,SUM('3bis. Calcul répartition CM'!AY$9:AY$58)-SUM('3bis. Calcul répartition CM'!AW$9:AW$58)>1),\"erreur\",\"\")","v":""},{"$f":"IF(AX12=\"erreur\",0,IF(OR('3bis. Calcul répartition CM'!AY$5=0,'3bis. Calcul répartition CM'!AX17=0),0,IF('3bis. Calcul répartition CM'!AY17-'3bis. Calcul répartition CM'!AW17>0,1,0)))","v":0},{"$f":"IF(AND('3bis. Calcul répartition CM'!AZ17=MAX('3bis. Calcul répartition CM'!AZ$9:AZ$58),'3bis. Calcul répartition CM'!AZ17>0,COUNTIF('3bis. Calcul répartition CM'!AZ$9:AZ$58,'3bis. Calcul répartition CM'!AZ17)>1,SUM('3bis. Calcul répartition CM'!BA$9:BA$58)-SUM('3bis. Calcul répartition CM'!AY$9:AY$58)>1),\"erreur\",\"\")","v":""},{"$f":"IF(AZ12=\"erreur\",0,IF(OR('3bis. Calcul répartition CM'!BA$5=0,'3bis. Calcul répartition CM'!AZ17=0),0,IF('3bis. Calcul répartition CM'!BA17-'3bis. Calcul répartition CM'!AY17>0,1,0)))","v":0},{"$f":"IF(AND('3bis. Calcul répartition CM'!BB17=MAX('3bis. Calcul répartition CM'!BB$9:BB$58),'3bis. Calcul répartition CM'!BB17>0,COUNTIF('3bis. Calcul répartition CM'!BB$9:BB$58,'3bis. Calcul répartition CM'!BB17)>1,SUM('3bis. Calcul répartition CM'!BC$9:BC$58)-SUM('3bis. Calcul répartition CM'!BA$9:BA$58)>1),\"erreur\",\"\")","v":""},{"$f":"IF(BB12=\"erreur\",0,IF(OR('3bis. Calcul répartition CM'!BC$5=0,'3bis. Calcul répartition CM'!BB17=0),0,IF('3bis. Calcul répartition CM'!BC17-'3bis. Calcul répartition CM'!BA17>0,1,0)))","v":0},{"$f":"IF(AND('3bis. Calcul répartition CM'!BD17=MAX('3bis. Calcul répartition CM'!BD$9:BD$58),'3bis. Calcul répartition CM'!BD17>0,COUNTIF('3bis. Calcul répartition CM'!BD$9:BD$58,'3bis. Calcul répartition CM'!BD17)>1,SUM('3bis. Calcul répartition CM'!BE$9:BE$58)-SUM('3bis. Calcul répartition CM'!BC$9:BC$58)>1),\"erreur\",\"\")","v":""},{"$f":"IF(BD12=\"erreur\",0,IF(OR('3bis. Calcul répartition CM'!BE$5=0,'3bis. Calcul répartition CM'!BD17=0),0,IF('3bis. Calcul répartition CM'!BE17-'3bis. Calcul répartition CM'!BC17>0,1,0)))","v":0},{"$f":"IF(AND('3bis. Calcul répartition CM'!BF17=MAX('3bis. Calcul répartition CM'!BF$9:BF$58),'3bis. Calcul répartition CM'!BF17>0,COUNTIF('3bis. Calcul répartition CM'!BF$9:BF$58,'3bis. Calcul répartition CM'!BF17)>1,SUM('3bis. Calcul répartition CM'!BG$9:BG$58)-SUM('3bis. Calcul répartition CM'!BE$9:BE$58)>1),\"erreur\",\"\")","v":""},{"$f":"IF(BF12=\"erreur\",0,IF(OR('3bis. Calcul répartition CM'!BG$5=0,'3bis. Calcul répartition CM'!BF17=0),0,IF('3bis. Calcul répartition CM'!BG17-'3bis. Calcul répartition CM'!BE17>0,1,0)))","v":0},{"$f":"IF(AND('3bis. Calcul répartition CM'!BH17=MAX('3bis. Calcul répartition CM'!BH$9:BH$58),'3bis. Calcul répartition CM'!BH17>0,COUNTIF('3bis. Calcul répartition CM'!BH$9:BH$58,'3bis. Calcul répartition CM'!BH17)>1,SUM('3bis. Calcul répartition CM'!BI$9:BI$58)-SUM('3bis. Calcul répartition CM'!BG$9:BG$58)>1),\"erreur\",\"\")","v":""},{"$f":"IF(BH12=\"erreur\",0,IF(OR('3bis. Calcul répartition CM'!BI$5=0,'3bis. Calcul répartition CM'!BH17=0),0,IF('3bis. Calcul répartition CM'!BI17-'3bis. Calcul répartition CM'!BG17>0,1,0)))","v":0},{"$f":"IF(AND('3bis. Calcul répartition CM'!BJ17=MAX('3bis. Calcul répartition CM'!BJ$9:BJ$58),'3bis. Calcul répartition CM'!BJ17>0,COUNTIF('3bis. Calcul répartition CM'!BJ$9:BJ$58,'3bis. Calcul répartition CM'!BJ17)>1,SUM('3bis. Calcul répartition CM'!BK$9:BK$58)-SUM('3bis. Calcul répartition CM'!BI$9:BI$58)>1),\"erreur\",\"\")","v":""},{"$f":"IF(BJ12=\"erreur\",0,IF(OR('3bis. Calcul répartition CM'!BK$5=0,'3bis. Calcul répartition CM'!BJ17=0),0,IF('3bis. Calcul répartition CM'!BK17-'3bis. Calcul répartition CM'!BI17>0,1,0)))","v":0},{"$f":"IF(AND('3bis. Calcul répartition CM'!BL17=MAX('3bis. Calcul répartition CM'!BL$9:BL$58),'3bis. Calcul répartition CM'!BL17>0,COUNTIF('3bis. Calcul répartition CM'!BL$9:BL$58,'3bis. Calcul répartition CM'!BL17)>1,SUM('3bis. Calcul répartition CM'!BM$9:BM$58)-SUM('3bis. Calcul répartition CM'!BK$9:BK$58)>1),\"erreur\",\"\")","v":""},{"$f":"IF(BL12=\"erreur\",0,IF(OR('3bis. Calcul répartition CM'!BM$5=0,'3bis. Calcul répartition CM'!BL17=0),0,IF('3bis. Calcul répartition CM'!BM17-'3bis. Calcul répartition CM'!BK17>0,1,0)))","v":0},{"$f":"IF(AND('3bis. Calcul répartition CM'!BN17=MAX('3bis. Calcul répartition CM'!BN$9:BN$58),'3bis. Calcul répartition CM'!BN17>0,COUNTIF('3bis. Calcul répartition CM'!BN$9:BN$58,'3bis. Calcul répartition CM'!BN17)>1,SUM('3bis. Calcul répartition CM'!BO$9:BO$58)-SUM('3bis. Calcul répartition CM'!BM$9:BM$58)>1),\"erreur\",\"\")","v":""},{"$f":"IF(BN12=\"erreur\",0,IF(OR('3bis. Calcul répartition CM'!BO$5=0,'3bis. Calcul répartition CM'!BN17=0),0,IF('3bis. Calcul répartition CM'!BO17-'3bis. Calcul répartition CM'!BM17>0,1,0)))","v":0},{"$f":"IF(AND('3bis. Calcul répartition CM'!BP17=MAX('3bis. Calcul répartition CM'!BP$9:BP$58),'3bis. Calcul répartition CM'!BP17>0,COUNTIF('3bis. Calcul répartition CM'!BP$9:BP$58,'3bis. Calcul répartition CM'!BP17)>1,SUM('3bis. Calcul répartition CM'!BQ$9:BQ$58)-SUM('3bis. Calcul répartition CM'!BO$9:BO$58)>1),\"erreur\",\"\")","v":""},{"$f":"IF(BP12=\"erreur\",0,IF(OR('3bis. Calcul répartition CM'!BQ$5=0,'3bis. Calcul répartition CM'!BP17=0),0,IF('3bis. Calcul répartition CM'!BQ17-'3bis. Calcul répartition CM'!BO17>0,1,0)))","v":0}]
[null,null,null,null,null,null,null,null,{"$f":"'3bis. Calcul répartition CM'!B18","v":0},{"$f":"IF(AND('3bis. Calcul répartition CM'!J18=MAX('3bis. Calcul répartition CM'!J$9:J$58),'3bis. Calcul répartition CM'!J18>0,COUNTIF('3bis. Calcul répartition CM'!J$9:J$58,'3bis. Calcul répartition CM'!J18)>1,SUM('3bis. Calcul répartition CM'!$K$9:$K$58)-SUM('3bis. Calcul répartition CM'!$D$9:$D$58)>1),\"erreur\",\"\")","v":""},{"$f":"IF(J13=\"erreur\",0,IF(OR('3bis. Calcul répartition CM'!K$5=0,'3bis. Calcul répartition CM'!J18=0),0,IF('3bis. Calcul répartition CM'!K18-'3bis. Calcul répartition CM'!D18>0,1,0)))","v":0},{"$f":"IF(AND('3bis. Calcul répartition CM'!L18=MAX('3bis. Calcul répartition CM'!L$9:L$58),'3bis. Calcul répartition CM'!L18>0,COUNTIF('3bis. Calcul répartition CM'!L$9:L$58,'3bis. Calcul répartition CM'!L18)>1,SUM('3bis. Calcul répartition CM'!M$9:M$58)-SUM('3bis. Calcul répartition CM'!K$9:K$58)>1),\"erreur\",\"\")","v":""},{"$f":"IF(L13=\"erreur\",0,IF(OR('3bis. Calcul répartition CM'!M$5=0,'3bis. Calcul répartition CM'!L18=0),0,IF('3bis. Calcul répartition CM'!M18-'3bis. Calcul répartition CM'!K18>0,1,0)))","v":0},{"$f":"IF(AND('3bis. Calcul répartition CM'!N18=MAX('3bis. Calcul répartition CM'!N$9:N$58),'3bis. Calcul répartition CM'!N18>0,COUNTIF('3bis. Calcul répartition CM'!N$9:N$58,'3bis. Calcul répartition CM'!N18)>1,SUM('3bis. Calcul répartition CM'!O$9:O$58)-SUM('3bis. Calcul répartition CM'!M$9:M$58)>1),\"erreur\",\"\")","v":""},{"$f":"IF(N13=\"erreur\",0,IF(OR('3bis. Calcul répartition CM'!O$5=0,'3bis. Calcul répartition CM'!N18=0),0,IF('3bis. Calcul répartition CM'!O18-'3bis. Calcul répartition CM'!M18>0,1,0)))","v":0},{"$f":"IF(AND('3bis. Calcul répartition CM'!P18=MAX('3bis. Calcul répartition CM'!P$9:P$58),'3bis. Calcul répartition CM'!P18>0,COUNTIF('3bis. Calcul répartition CM'!P$9:P$58,'3bis. Calcul répartition CM'!P18)>1,SUM('3bis. Calcul répartition CM'!Q$9:Q$58)-SUM('3bis. Calcul répartition CM'!O$9:O$58)>1),\"erreur\",\"\")","v":""},{"$f":"IF(P13=\"erreur\",0,IF(OR('3bis. Calcul répartition CM'!Q$5=0,'3bis. Calcul répartition CM'!P18=0),0,IF('3bis. Calcul répartition CM'!Q18-'3bis. Calcul répartition CM'!O18>0,1,0)))","v":0},{"$f":"IF(AND('3bis. Calcul répartition CM'!R18=MAX('3bis. Calcul répartition CM'!R$9:R$58),'3bis. Calcul répartition CM'!R18>0,COUNTIF('3bis. Calcul répartition CM'!R$9:R$58,'3bis. Calcul répartition CM'!R18)>1,SUM('3bis. Calcul répartition CM'!S$9:S$58)-SUM('3bis. Calcul répartition CM'!Q$9:Q$58)>1),\"erreur\",\"\")","v":""},{"$f":"IF(R13=\"erreur\",0,IF(OR('3bis. Calcul répartition CM'!S$5=0,'3bis. Calcul répartition CM'!R18=0),0,IF('3bis. Calcul répartition CM'!S18-'3bis. Calcul répartition CM'!Q18>0,1,0)))","v":0},{"$f":"IF(AND('3bis. Calcul répartition CM'!T18=MAX('3bis. Calcul répartition CM'!T$9:T$58),'3bis. Calcul répartition CM'!T18>0,COUNTIF('3bis. Calcul répartition CM'!T$9:T$58,'3bis. Calcul répartition CM'!T18)>1,SUM('3bis. Calcul répartition CM'!U$9:U$58)-SUM('3bis. Calcul répartition CM'!S$9:S$58)>1),\"erreur\",\"\")","v":""},{"$f":"IF(T13=\"erreur\",0,IF(OR('3bis. Calcul répartition CM'!U$5=0,'3bis. Calcul répartition CM'!T18=0),0,IF('3bis. Calcul répartition CM'!U18-'3bis. Calcul répartition CM'!S18>0,1,0)))","v":0},{"$f":"IF(AND('3bis. Calcul répartition CM'!V18=MAX('3bis. Calcul répartition CM'!V$9:V$58),'3bis. Calcul répartition CM'!V18>0,COUNTIF('3bis. Calcul répartition CM'!V$9:V$58,'3bis. Calcul répartition CM'!V18)>1,SUM('3bis. Calcul répartition CM'!W$9:W$58)-SUM('3bis. Calcul répartition CM'!U$9:U$58)>1),\"erreur\",\"\")","v":""},{"$f":"IF(V13=\"erreur\",0,IF(OR('3bis. Calcul répartition CM'!W$5=0,'3bis. Calcul répartition CM'!V18=0),0,IF('3bis. Calcul répartition CM'!W18-'3bis. Calcul répartition CM'!U18>0,1,0)))","v":0},{"$f":"IF(AND('3bis. Calcul répartition CM'!X18=MAX('3bis. Calcul répartition CM'!X$9:X$58),'3bis. Calcul répartition CM'!X18>0,COUNTIF('3bis. Calcul répartition CM'!X$9:X$58,'3bis. Calcul répartition CM'!X18)>1,SUM('3bis. Calcul répartition CM'!Y$9:Y$58)-SUM('3bis. Calcul répartition CM'!W$9:W$58)>1),\"erreur\",\"\")","v":""},{"$f":"IF(X13=\"erreur\",0,IF(OR('3bis. Calcul répartition CM'!Y$5=0,'3bis. Calcul répartition CM'!X18=0),0,IF('3bis. Calcul répartition CM'!Y18-'3bis. Calcul répartition CM'!W18>0,1,0)))","v":0},{"$f":"IF(AND('3bis. Calcul répartition CM'!Z18=MAX('3bis. Calcul répartition CM'!Z$9:Z$58),'3bis. Calcul répartition CM'!Z18>0,COUNTIF('3bis. Calcul répartition CM'!Z$9:Z$58,'3bis. Calcul répartition CM'!Z18)>1,SUM('3bis. Calcul répartition CM'!AA$9:AA$58)-SUM('3bis. Calcul répartition CM'!Y$9:Y$58)>1),\"erreur\",\"\")","v":""},{"$f":"IF(Z13=\"erreur\",0,IF(OR('3bis. Calcul répartition CM'!AA$5=0,'3bis. Calcul répartition CM'!Z18=0),0,IF('3bis. Calcul répartition CM'!AA18-'3bis. Calcul répartition CM'!Y18>0,1,0)))","v":0},{"$f":"IF(AND('3bis. Calcul répartition CM'!AB18=MAX('3bis. Calcul répartition CM'!AB$9:AB$58),'3bis. Calcul répartition CM'!AB18>0,COUNTIF('3bis. Calcul répartition CM'!AB$9:AB$58,'3bis. Calcul répartition CM'!AB18)>1,SUM('3bis. Calcul répartition CM'!AC$9:AC$58)-SUM('3bis. Calcul répartition CM'!AA$9:AA$58)>1),\"erreur\",\"\")","v":""},{"$f":"IF(AB13=\"erreur\",0,IF(OR('3bis. Calcul répartition CM'!AC$5=0,'3bis. Calcul répartition CM'!AB18=0),0,IF('3bis. Calcul répartition CM'!AC18-'3bis. Calcul répartition CM'!AA18>0,1,0)))","v":0},{"$f":"IF(AND('3bis. Calcul répartition CM'!AD18=MAX('3bis. Calcul répartition CM'!AD$9:AD$58),'3bis. Calcul répartition CM'!AD18>0,COUNTIF('3bis. Calcul répartition CM'!AD$9:AD$58,'3bis. Calcul répartition CM'!AD18)>1,SUM('3bis. Calcul répartition CM'!AE$9:AE$58)-SUM('3bis. Calcul répartition CM'!AC$9:AC$58)>1),\"erreur\",\"\")","v":""},{"$f":"IF(AD13=\"erreur\",0,IF(OR('3bis. Calcul répartition CM'!AE$5=0,'3bis. Calcul répartition CM'!AD18=0),0,IF('3bis. Calcul répartition CM'!AE18-'3bis. Calcul répartition CM'!AC18>0,1,0)))","v":0},{"$f":"IF(AND('3bis. Calcul répartition CM'!AF18=MAX('3bis. Calcul répartition CM'!AF$9:AF$58),'3bis. Calcul répartition CM'!AF18>0,COUNTIF('3bis. Calcul répartition CM'!AF$9:AF$58,'3bis. Calcul répartition CM'!AF18)>1,SUM('3bis. Calcul répartition CM'!AG$9:AG$58)-SUM('3bis. Calcul répartition CM'!AE$9:AE$58)>1),\"erreur\",\"\")","v":""},{"$f":"IF(AF13=\"erreur\",0,IF(OR('3bis. Calcul répartition CM'!AG$5=0,'3bis. Calcul répartition CM'!AF18=0),0,IF('3bis. Calcul répartition CM'!AG18-'3bis. Calcul répartition CM'!AE18>0,1,0)))","v":0},{"$f":"IF(AND('3bis. Calcul répartition CM'!AH18=MAX('3bis. Calcul répartition CM'!AH$9:AH$58),'3bis. Calcul répartition CM'!AH18>0,COUNTIF('3bis. Calcul répartition CM'!AH$9:AH$58,'3bis. Calcul répartition CM'!AH18)>1,SUM('3bis. Calcul répartition CM'!AI$9:AI$58)-SUM('3bis. Calcul répartition CM'!AG$9:AG$58)>1),\"erreur\",\"\")","v":""},{"$f":"IF(AH13=\"erreur\",0,IF(OR('3bis. Calcul répartition CM'!AI$5=0,'3bis. Calcul répartition CM'!AH18=0),0,IF('3bis. Calcul répartition CM'!AI18-'3bis. Calcul répartition CM'!AG18>0,1,0)))","v":0},{"$f":"IF(AND('3bis. Calcul répartition CM'!AJ18=MAX('3bis. Calcul répartition CM'!AJ$9:AJ$58),'3bis. Calcul répartition CM'!AJ18>0,COUNTIF('3bis. Calcul répartition CM'!AJ$9:AJ$58,'3bis. Calcul répartition CM'!AJ18)>1,SUM('3bis. Calcul répartition CM'!AK$9:AK$58)-SUM('3bis. Calcul répartition CM'!AI$9:AI$58)>1),\"erreur\",\"\")","v":""},{"$f":"IF(AJ13=\"erreur\",0,IF(OR('3bis. Calcul répartition CM'!AK$5=0,'3bis. Calcul répartition CM'!AJ18=0),0,IF('3bis. Calcul répartition CM'!AK18-'3bis. Calcul répartition CM'!AI18>0,1,0)))","v":0},{"$f":"IF(AND('3bis. Calcul répartition CM'!AL18=MAX('3bis. Calcul répartition CM'!AL$9:AL$58),'3bis. Calcul répartition CM'!AL18>0,COUNTIF('3bis. Calcul répartition CM'!AL$9:AL$58,'3bis. Calcul répartition CM'!AL18)>1,SUM('3bis. Calcul répartition CM'!AM$9:AM$58)-SUM('3bis. Calcul répartition CM'!AK$9:AK$58)>1),\"erreur\",\"\")","v":""},{"$f":"IF(AL13=\"erreur\",0,IF(OR('3bis. Calcul répartition CM'!AM$5=0,'3bis. Calcul répartition CM'!AL18=0),0,IF('3bis. Calcul répartition CM'!AM18-'3bis. Calcul répartition CM'!AK18>0,1,0)))","v":0},{"$f":"IF(AND('3bis. Calcul répartition CM'!AN18=MAX('3bis. Calcul répartition CM'!AN$9:AN$58),'3bis. Calcul répartition CM'!AN18>0,COUNTIF('3bis. Calcul répartition CM'!AN$9:AN$58,'3bis. Calcul répartition CM'!AN18)>1,SUM('3bis. Calcul répartition CM'!AO$9:AO$58)-SUM('3bis. Calcul répartition CM'!AM$9:AM$58)>1),\"erreur\",\"\")","v":""},{"$f":"IF(AN13=\"erreur\",0,IF(OR('3bis. Calcul répartition CM'!AO$5=0,'3bis. Calcul répartition CM'!AN18=0),0,IF('3bis. Calcul répartition CM'!AO18-'3bis. Calcul répartition CM'!AM18>0,1,0)))","v":0},{"$f":"IF(AND('3bis. Calcul répartition CM'!AP18=MAX('3bis. Calcul répartition CM'!AP$9:AP$58),'3bis. Calcul répartition CM'!AP18>0,COUNTIF('3bis. Calcul répartition CM'!AP$9:AP$58,'3bis. Calcul répartition CM'!AP18)>1,SUM('3bis. Calcul répartition CM'!AQ$9:AQ$58)-SUM('3bis. Calcul répartition CM'!AO$9:AO$58)>1),\"erreur\",\"\")","v":""},{"$f":"IF(AP13=\"erreur\",0,IF(OR('3bis. Calcul répartition CM'!AQ$5=0,'3bis. Calcul répartition CM'!AP18=0),0,IF('3bis. Calcul répartition CM'!AQ18-'3bis. Calcul répartition CM'!AO18>0,1,0)))","v":0},{"$f":"IF(AND('3bis. Calcul répartition CM'!AR18=MAX('3bis. Calcul répartition CM'!AR$9:AR$58),'3bis. Calcul répartition CM'!AR18>0,COUNTIF('3bis. Calcul répartition CM'!AR$9:AR$58,'3bis. Calcul répartition CM'!AR18)>1,SUM('3bis. Calcul répartition CM'!AS$9:AS$58)-SUM('3bis. Calcul répartition CM'!AQ$9:AQ$58)>1),\"erreur\",\"\")","v":""},{"$f":"IF(AR13=\"erreur\",0,IF(OR('3bis. Calcul répartition CM'!AS$5=0,'3bis. Calcul répartition CM'!AR18=0),0,IF('3bis. Calcul répartition CM'!AS18-'3bis. Calcul répartition CM'!AQ18>0,1,0)))","v":0},{"$f":"IF(AND('3bis. Calcul répartition CM'!AT18=MAX('3bis. Calcul répartition CM'!AT$9:AT$58),'3bis. Calcul répartition CM'!AT18>0,COUNTIF('3bis. Calcul répartition CM'!AT$9:AT$58,'3bis. Calcul répartition CM'!AT18)>1,SUM('3bis. Calcul répartition CM'!AU$9:AU$58)-SUM('3bis. Calcul répartition CM'!AS$9:AS$58)>1),\"erreur\",\"\")","v":""},{"$f":"IF(AT13=\"erreur\",0,IF(OR('3bis. Calcul répartition CM'!AU$5=0,'3bis. Calcul répartition CM'!AT18=0),0,IF('3bis. Calcul répartition CM'!AU18-'3bis. Calcul répartition CM'!AS18>0,1,0)))","v":0},{"$f":"IF(AND('3bis. Calcul répartition CM'!AV18=MAX('3bis. Calcul répartition CM'!AV$9:AV$58),'3bis. Calcul répartition CM'!AV18>0,COUNTIF('3bis. Calcul répartition CM'!AV$9:AV$58,'3bis. Calcul répartition CM'!AV18)>1,SUM('3bis. Calcul répartition CM'!AW$9:AW$58)-SUM('3bis. Calcul répartition CM'!AU$9:AU$58)>1),\"erreur\",\"\")","v":""},{"$f":"IF(AV13=\"erreur\",0,IF(OR('3bis. Calcul répartition CM'!AW$5=0,'3bis. Calcul répartition CM'!AV18=0),0,IF('3bis. Calcul répartition CM'!AW18-'3bis. Calcul répartition CM'!AU18>0,1,0)))","v":0},{"$f":"IF(AND('3bis. Calcul répartition CM'!AX18=MAX('3bis. Calcul répartition CM'!AX$9:AX$58),'3bis. Calcul répartition CM'!AX18>0,COUNTIF('3bis. Calcul répartition CM'!AX$9:AX$58,'3bis. Calcul répartition CM'!AX18)>1,SUM('3bis. Calcul répartition CM'!AY$9:AY$58)-SUM('3bis. Calcul répartition CM'!AW$9:AW$58)>1),\"erreur\",\"\")","v":""},{"$f":"IF(AX13=\"erreur\",0,IF(OR('3bis. Calcul répartition CM'!AY$5=0,'3bis. Calcul répartition CM'!AX18=0),0,IF('3bis. Calcul répartition CM'!AY18-'3bis. Calcul répartition CM'!AW18>0,1,0)))","v":0},{"$f":"IF(AND('3bis. Calcul répartition CM'!AZ18=MAX('3bis. Calcul répartition CM'!AZ$9:AZ$58),'3bis. Calcul répartition CM'!AZ18>0,COUNTIF('3bis. Calcul répartition CM'!AZ$9:AZ$58,'3bis. Calcul répartition CM'!AZ18)>1,SUM('3bis. Calcul répartition CM'!BA$9:BA$58)-SUM('3bis. Calcul répartition CM'!AY$9:AY$58)>1),\"erreur\",\"\")","v":""},{"$f":"IF(AZ13=\"erreur\",0,IF(OR('3bis. Calcul répartition CM'!BA$5=0,'3bis. Calcul répartition CM'!AZ18=0),0,IF('3bis. Calcul répartition CM'!BA18-'3bis. Calcul répartition CM'!AY18>0,1,0)))","v":0},{"$f":"IF(AND('3bis. Calcul répartition CM'!BB18=MAX('3bis. Calcul répartition CM'!BB$9:BB$58),'3bis. Calcul répartition CM'!BB18>0,COUNTIF('3bis. Calcul répartition CM'!BB$9:BB$58,'3bis. Calcul répartition CM'!BB18)>1,SUM('3bis. Calcul répartition CM'!BC$9:BC$58)-SUM('3bis. Calcul répartition CM'!BA$9:BA$58)>1),\"erreur\",\"\")","v":""},{"$f":"IF(BB13=\"erreur\",0,IF(OR('3bis. Calcul répartition CM'!BC$5=0,'3bis. Calcul répartition CM'!BB18=0),0,IF('3bis. Calcul répartition CM'!BC18-'3bis. Calcul répartition CM'!BA18>0,1,0)))","v":0},{"$f":"IF(AND('3bis. Calcul répartition CM'!BD18=MAX('3bis. Calcul répartition CM'!BD$9:BD$58),'3bis. Calcul répartition CM'!BD18>0,COUNTIF('3bis. Calcul répartition CM'!BD$9:BD$58,'3bis. Calcul répartition CM'!BD18)>1,SUM('3bis. Calcul répartition CM'!BE$9:BE$58)-SUM('3bis. Calcul répartition CM'!BC$9:BC$58)>1),\"erreur\",\"\")","v":""},{"$f":"IF(BD13=\"erreur\",0,IF(OR('3bis. Calcul répartition CM'!BE$5=0,'3bis. Calcul répartition CM'!BD18=0),0,IF('3bis. Calcul répartition CM'!BE18-'3bis. Calcul répartition CM'!BC18>0,1,0)))","v":0},{"$f":"IF(AND('3bis. Calcul répartition CM'!BF18=MAX('3bis. Calcul répartition CM'!BF$9:BF$58),'3bis. Calcul répartition CM'!BF18>0,COUNTIF('3bis. Calcul répartition CM'!BF$9:BF$58,'3bis. Calcul répartition CM'!BF18)>1,SUM('3bis. Calcul répartition CM'!BG$9:BG$58)-SUM('3bis. Calcul répartition CM'!BE$9:BE$58)>1),\"erreur\",\"\")","v":""},{"$f":"IF(BF13=\"erreur\",0,IF(OR('3bis. Calcul répartition CM'!BG$5=0,'3bis. Calcul répartition CM'!BF18=0),0,IF('3bis. Calcul répartition CM'!BG18-'3bis. Calcul répartition CM'!BE18>0,1,0)))","v":0},{"$f":"IF(AND('3bis. Calcul répartition CM'!BH18=MAX('3bis. Calcul répartition CM'!BH$9:BH$58),'3bis. Calcul répartition CM'!BH18>0,COUNTIF('3bis. Calcul répartition CM'!BH$9:BH$58,'3bis. Calcul répartition CM'!BH18)>1,SUM('3bis. Calcul répartition CM'!BI$9:BI$58)-SUM('3bis. Calcul répartition CM'!BG$9:BG$58)>1),\"erreur\",\"\")","v":""},{"$f":"IF(BH13=\"erreur\",0,IF(OR('3bis. Calcul répartition CM'!BI$5=0,'3bis. Calcul répartition CM'!BH18=0),0,IF('3bis. Calcul répartition CM'!BI18-'3bis. Calcul répartition CM'!BG18>0,1,0)))","v":0},{"$f":"IF(AND('3bis. Calcul répartition CM'!BJ18=MAX('3bis. Calcul répartition CM'!BJ$9:BJ$58),'3bis. Calcul répartition CM'!BJ18>0,COUNTIF('3bis. Calcul répartition CM'!BJ$9:BJ$58,'3bis. Calcul répartition CM'!BJ18)>1,SUM('3bis. Calcul répartition CM'!BK$9:BK$58)-SUM('3bis. Calcul répartition CM'!BI$9:BI$58)>1),\"erreur\",\"\")","v":""},{"$f":"IF(BJ13=\"erreur\",0,IF(OR('3bis. Calcul répartition CM'!BK$5=0,'3bis. Calcul répartition CM'!BJ18=0),0,IF('3bis. Calcul répartition CM'!BK18-'3bis. Calcul répartition CM'!BI18>0,1,0)))","v":0},{"$f":"IF(AND('3bis. Calcul répartition CM'!BL18=MAX('3bis. Calcul répartition CM'!BL$9:BL$58),'3bis. Calcul répartition CM'!BL18>0,COUNTIF('3bis. Calcul répartition CM'!BL$9:BL$58,'3bis. Calcul répartition CM'!BL18)>1,SUM('3bis. Calcul répartition CM'!BM$9:BM$58)-SUM('3bis. Calcul répartition CM'!BK$9:BK$58)>1),\"erreur\",\"\")","v":""},{"$f":"IF(BL13=\"erreur\",0,IF(OR('3bis. Calcul répartition CM'!BM$5=0,'3bis. Calcul répartition CM'!BL18=0),0,IF('3bis. Calcul répartition CM'!BM18-'3bis. Calcul répartition CM'!BK18>0,1,0)))","v":0},{"$f":"IF(AND('3bis. Calcul répartition CM'!BN18=MAX('3bis. Calcul répartition CM'!BN$9:BN$58),'3bis. Calcul répartition CM'!BN18>0,COUNTIF('3bis. Calcul répartition CM'!BN$9:BN$58,'3bis. Calcul répartition CM'!BN18)>1,SUM('3bis. Calcul répartition CM'!BO$9:BO$58)-SUM('3bis. Calcul répartition CM'!BM$9:BM$58)>1),\"erreur\",\"\")","v":""},{"$f":"IF(BN13=\"erreur\",0,IF(OR('3bis. Calcul répartition CM'!BO$5=0,'3bis. Calcul répartition CM'!BN18=0),0,IF('3bis. Calcul répartition CM'!BO18-'3bis. Calcul répartition CM'!BM18>0,1,0)))","v":0},{"$f":"IF(AND('3bis. Calcul répartition CM'!BP18=MAX('3bis. Calcul répartition CM'!BP$9:BP$58),'3bis. Calcul répartition CM'!BP18>0,COUNTIF('3bis. Calcul répartition CM'!BP$9:BP$58,'3bis. Calcul répartition CM'!BP18)>1,SUM('3bis. Calcul répartition CM'!BQ$9:BQ$58)-SUM('3bis. Calcul répartition CM'!BO$9:BO$58)>1),\"erreur\",\"\")","v":""},{"$f":"IF(BP13=\"erreur\",0,IF(OR('3bis. Calcul répartition CM'!BQ$5=0,'3bis. Calcul répartition CM'!BP18=0),0,IF('3bis. Calcul répartition CM'!BQ18-'3bis. Calcul répartition CM'!BO18>0,1,0)))","v":0}]
[null,null,null,null,null,null,null,null,{"$f":"'3bis. Calcul répartition CM'!B19","v":0},{"$f":"IF(AND('3bis. Calcul répartition CM'!J19=MAX('3bis. Calcul répartition CM'!J$9:J$58),'3bis. Calcul répartition CM'!J19>0,COUNTIF('3bis. Calcul répartition CM'!J$9:J$58,'3bis. Calcul répartition CM'!J19)>1,SUM('3bis. Calcul répartition CM'!$K$9:$K$58)-SUM('3bis. Calcul répartition CM'!$D$9:$D$58)>1),\"erreur\",\"\")","v":""},{"$f":"IF(J14=\"erreur\",0,IF(OR('3bis. Calcul répartition CM'!K$5=0,'3bis. Calcul répartition CM'!J19=0),0,IF('3bis. Calcul répartition CM'!K19-'3bis. Calcul répartition CM'!D19>0,1,0)))","v":0},{"$f":"IF(AND('3bis. Calcul répartition CM'!L19=MAX('3bis. Calcul répartition CM'!L$9:L$58),'3bis. Calcul répartition CM'!L19>0,COUNTIF('3bis. Calcul répartition CM'!L$9:L$58,'3bis. Calcul répartition CM'!L19)>1,SUM('3bis. Calcul répartition CM'!M$9:M$58)-SUM('3bis. Calcul répartition CM'!K$9:K$58)>1),\"erreur\",\"\")","v":""},{"$f":"IF(L14=\"erreur\",0,IF(OR('3bis. Calcul répartition CM'!M$5=0,'3bis. Calcul répartition CM'!L19=0),0,IF('3bis. Calcul répartition CM'!M19-'3bis. Calcul répartition CM'!K19>0,1,0)))","v":0},{"$f":"IF(AND('3bis. Calcul répartition CM'!N19=MAX('3bis. Calcul répartition CM'!N$9:N$58),'3bis. Calcul répartition CM'!N19>0,COUNTIF('3bis. Calcul répartition CM'!N$9:N$58,'3bis. Calcul répartition CM'!N19)>1,SUM('3bis. Calcul répartition CM'!O$9:O$58)-SUM('3bis. Calcul répartition CM'!M$9:M$58)>1),\"erreur\",\"\")","v":""},{"$f":"IF(N14=\"erreur\",0,IF(OR('3bis. Calcul répartition CM'!O$5=0,'3bis. Calcul répartition CM'!N19=0),0,IF('3bis. Calcul répartition CM'!O19-'3bis. Calcul répartition CM'!M19>0,1,0)))","v":0},{"$f":"IF(AND('3bis. Calcul répartition CM'!P19=MAX('3bis. Calcul répartition CM'!P$9:P$58),'3bis. Calcul répartition CM'!P19>0,COUNTIF('3bis. Calcul répartition CM'!P$9:P$58,'3bis. Calcul répartition CM'!P19)>1,SUM('3bis. Calcul répartition CM'!Q$9:Q$58)-SUM('3bis. Calcul répartition CM'!O$9:O$58)>1),\"erreur\",\"\")","v":""},{"$f":"IF(P14=\"erreur\",0,IF(OR('3bis. Calcul répartition CM'!Q$5=0,'3bis. Calcul répartition CM'!P19=0),0,IF('3bis. Calcul répartition CM'!Q19-'3bis. Calcul répartition CM'!O19>0,1,0)))","v":0},{"$f":"IF(AND('3bis. Calcul répartition CM'!R19=MAX('3bis. Calcul répartition CM'!R$9:R$58),'3bis. Calcul répartition CM'!R19>0,COUNTIF('3bis. Calcul répartition CM'!R$9:R$58,'3bis. Calcul répartition CM'!R19)>1,SUM('3bis. Calcul répartition CM'!S$9:S$58)-SUM('3bis. Calcul répartition CM'!Q$9:Q$58)>1),\"erreur\",\"\")","v":""},{"$f":"IF(R14=\"erreur\",0,IF(OR('3bis. Calcul répartition CM'!S$5=0,'3bis. Calcul répartition CM'!R19=0),0,IF('3bis. Calcul répartition CM'!S19-'3bis. Calcul répartition CM'!Q19>0,1,0)))","v":0},{"$f":"IF(AND('3bis. Calcul répartition CM'!T19=MAX('3bis. Calcul répartition CM'!T$9:T$58),'3bis. Calcul répartition CM'!T19>0,COUNTIF('3bis. Calcul répartition CM'!T$9:T$58,'3bis. Calcul répartition CM'!T19)>1,SUM('3bis. Calcul répartition CM'!U$9:U$58)-SUM('3bis. Calcul répartition CM'!S$9:S$58)>1),\"erreur\",\"\")","v":""},{"$f":"IF(T14=\"erreur\",0,IF(OR('3bis. Calcul répartition CM'!U$5=0,'3bis. Calcul répartition CM'!T19=0),0,IF('3bis. Calcul répartition CM'!U19-'3bis. Calcul répartition CM'!S19>0,1,0)))","v":0},{"$f":"IF(AND('3bis. Calcul répartition CM'!V19=MAX('3bis. Calcul répartition CM'!V$9:V$58),'3bis. Calcul répartition CM'!V19>0,COUNTIF('3bis. Calcul répartition CM'!V$9:V$58,'3bis. Calcul répartition CM'!V19)>1,SUM('3bis. Calcul répartition CM'!W$9:W$58)-SUM('3bis. Calcul répartition CM'!U$9:U$58)>1),\"erreur\",\"\")","v":""},{"$f":"IF(V14=\"erreur\",0,IF(OR('3bis. Calcul répartition CM'!W$5=0,'3bis. Calcul répartition CM'!V19=0),0,IF('3bis. Calcul répartition CM'!W19-'3bis. Calcul répartition CM'!U19>0,1,0)))","v":0},{"$f":"IF(AND('3bis. Calcul répartition CM'!X19=MAX('3bis. Calcul répartition CM'!X$9:X$58),'3bis. Calcul répartition CM'!X19>0,COUNTIF('3bis. Calcul répartition CM'!X$9:X$58,'3bis. Calcul répartition CM'!X19)>1,SUM('3bis. Calcul répartition CM'!Y$9:Y$58)-SUM('3bis. Calcul répartition CM'!W$9:W$58)>1),\"erreur\",\"\")","v":""},{"$f":"IF(X14=\"erreur\",0,IF(OR('3bis. Calcul répartition CM'!Y$5=0,'3bis. Calcul répartition CM'!X19=0),0,IF('3bis. Calcul répartition CM'!Y19-'3bis. Calcul répartition CM'!W19>0,1,0)))","v":0},{"$f":"IF(AND('3bis. Calcul répartition CM'!Z19=MAX('3bis. Calcul répartition CM'!Z$9:Z$58),'3bis. Calcul répartition CM'!Z19>0,COUNTIF('3bis. Calcul répartition CM'!Z$9:Z$58,'3bis. Calcul répartition CM'!Z19)>1,SUM('3bis. Calcul répartition CM'!AA$9:AA$58)-SUM('3bis. Calcul répartition CM'!Y$9:Y$58)>1),\"erreur\",\"\")","v":""},{"$f":"IF(Z14=\"erreur\",0,IF(OR('3bis. Calcul répartition CM'!AA$5=0,'3bis. Calcul répartition CM'!Z19=0),0,IF('3bis. Calcul répartition CM'!AA19-'3bis. Calcul répartition CM'!Y19>0,1,0)))","v":0},{"$f":"IF(AND('3bis. Calcul répartition CM'!AB19=MAX('3bis. Calcul répartition CM'!AB$9:AB$58),'3bis. Calcul répartition CM'!AB19>0,COUNTIF('3bis. Calcul répartition CM'!AB$9:AB$58,'3bis. Calcul répartition CM'!AB19)>1,SUM('3bis. Calcul répartition CM'!AC$9:AC$58)-SUM('3bis. Calcul répartition CM'!AA$9:AA$58)>1),\"erreur\",\"\")","v":""},{"$f":"IF(AB14=\"erreur\",0,IF(OR('3bis. Calcul répartition CM'!AC$5=0,'3bis. Calcul répartition CM'!AB19=0),0,IF('3bis. Calcul répartition CM'!AC19-'3bis. Calcul répartition CM'!AA19>0,1,0)))","v":0},{"$f":"IF(AND('3bis. Calcul répartition CM'!AD19=MAX('3bis. Calcul répartition CM'!AD$9:AD$58),'3bis. Calcul répartition CM'!AD19>0,COUNTIF('3bis. Calcul répartition CM'!AD$9:AD$58,'3bis. Calcul répartition CM'!AD19)>1,SUM('3bis. Calcul répartition CM'!AE$9:AE$58)-SUM('3bis. Calcul répartition CM'!AC$9:AC$58)>1),\"erreur\",\"\")","v":""},{"$f":"IF(AD14=\"erreur\",0,IF(OR('3bis. Calcul répartition CM'!AE$5=0,'3bis. Calcul répartition CM'!AD19=0),0,IF('3bis. Calcul répartition CM'!AE19-'3bis. Calcul répartition CM'!AC19>0,1,0)))","v":0},{"$f":"IF(AND('3bis. Calcul répartition CM'!AF19=MAX('3bis. Calcul répartition CM'!AF$9:AF$58),'3bis. Calcul répartition CM'!AF19>0,COUNTIF('3bis. Calcul répartition CM'!AF$9:AF$58,'3bis. Calcul répartition CM'!AF19)>1,SUM('3bis. Calcul répartition CM'!AG$9:AG$58)-SUM('3bis. Calcul répartition CM'!AE$9:AE$58)>1),\"erreur\",\"\")","v":""},{"$f":"IF(AF14=\"erreur\",0,IF(OR('3bis. Calcul répartition CM'!AG$5=0,'3bis. Calcul répartition CM'!AF19=0),0,IF('3bis. Calcul répartition CM'!AG19-'3bis. Calcul répartition CM'!AE19>0,1,0)))","v":0},{"$f":"IF(AND('3bis. Calcul répartition CM'!AH19=MAX('3bis. Calcul répartition CM'!AH$9:AH$58),'3bis. Calcul répartition CM'!AH19>0,COUNTIF('3bis. Calcul répartition CM'!AH$9:AH$58,'3bis. Calcul répartition CM'!AH19)>1,SUM('3bis. Calcul répartition CM'!AI$9:AI$58)-SUM('3bis. Calcul répartition CM'!AG$9:AG$58)>1),\"erreur\",\"\")","v":""},{"$f":"IF(AH14=\"erreur\",0,IF(OR('3bis. Calcul répartition CM'!AI$5=0,'3bis. Calcul répartition CM'!AH19=0),0,IF('3bis. Calcul répartition CM'!AI19-'3bis. Calcul répartition CM'!AG19>0,1,0)))","v":0},{"$f":"IF(AND('3bis. Calcul répartition CM'!AJ19=MAX('3bis. Calcul répartition CM'!AJ$9:AJ$58),'3bis. Calcul répartition CM'!AJ19>0,COUNTIF('3bis. Calcul répartition CM'!AJ$9:AJ$58,'3bis. Calcul répartition CM'!AJ19)>1,SUM('3bis. Calcul répartition CM'!AK$9:AK$58)-SUM('3bis. Calcul répartition CM'!AI$9:AI$58)>1),\"erreur\",\"\")","v":""},{"$f":"IF(AJ14=\"erreur\",0,IF(OR('3bis. Calcul répartition CM'!AK$5=0,'3bis. Calcul répartition CM'!AJ19=0),0,IF('3bis. Calcul répartition CM'!AK19-'3bis. Calcul répartition CM'!AI19>0,1,0)))","v":0},{"$f":"IF(AND('3bis. Calcul répartition CM'!AL19=MAX('3bis. Calcul répartition CM'!AL$9:AL$58),'3bis. Calcul répartition CM'!AL19>0,COUNTIF('3bis. Calcul répartition CM'!AL$9:AL$58,'3bis. Calcul répartition CM'!AL19)>1,SUM('3bis. Calcul répartition CM'!AM$9:AM$58)-SUM('3bis. Calcul répartition CM'!AK$9:AK$58)>1),\"erreur\",\"\")","v":""},{"$f":"IF(AL14=\"erreur\",0,IF(OR('3bis. Calcul répartition CM'!AM$5=0,'3bis. Calcul répartition CM'!AL19=0),0,IF('3bis. Calcul répartition CM'!AM19-'3bis. Calcul répartition CM'!AK19>0,1,0)))","v":0},{"$f":"IF(AND('3bis. Calcul répartition CM'!AN19=MAX('3bis. Calcul répartition CM'!AN$9:AN$58),'3bis. Calcul répartition CM'!AN19>0,COUNTIF('3bis. Calcul répartition CM'!AN$9:AN$58,'3bis. Calcul répartition CM'!AN19)>1,SUM('3bis. Calcul répartition CM'!AO$9:AO$58)-SUM('3bis. Calcul répartition CM'!AM$9:AM$58)>1),\"erreur\",\"\")","v":""},{"$f":"IF(AN14=\"erreur\",0,IF(OR('3bis. Calcul répartition CM'!AO$5=0,'3bis. Calcul répartition CM'!AN19=0),0,IF('3bis. Calcul répartition CM'!AO19-'3bis. Calcul répartition CM'!AM19>0,1,0)))","v":0},{"$f":"IF(AND('3bis. Calcul répartition CM'!AP19=MAX('3bis. Calcul répartition CM'!AP$9:AP$58),'3bis. Calcul répartition CM'!AP19>0,COUNTIF('3bis. Calcul répartition CM'!AP$9:AP$58,'3bis. Calcul répartition CM'!AP19)>1,SUM('3bis. Calcul répartition CM'!AQ$9:AQ$58)-SUM('3bis. Calcul répartition CM'!AO$9:AO$58)>1),\"erreur\",\"\")","v":""},{"$f":"IF(AP14=\"erreur\",0,IF(OR('3bis. Calcul répartition CM'!AQ$5=0,'3bis. Calcul répartition CM'!AP19=0),0,IF('3bis. Calcul répartition CM'!AQ19-'3bis. Calcul répartition CM'!AO19>0,1,0)))","v":0},{"$f":"IF(AND('3bis. Calcul répartition CM'!AR19=MAX('3bis. Calcul répartition CM'!AR$9:AR$58),'3bis. Calcul répartition CM'!AR19>0,COUNTIF('3bis. Calcul répartition CM'!AR$9:AR$58,'3bis. Calcul répartition CM'!AR19)>1,SUM('3bis. Calcul répartition CM'!AS$9:AS$58)-SUM('3bis. Calcul répartition CM'!AQ$9:AQ$58)>1),\"erreur\",\"\")","v":""},{"$f":"IF(AR14=\"erreur\",0,IF(OR('3bis. Calcul répartition CM'!AS$5=0,'3bis. Calcul répartition CM'!AR19=0),0,IF('3bis. Calcul répartition CM'!AS19-'3bis. Calcul répartition CM'!AQ19>0,1,0)))","v":0},{"$f":"IF(AND('3bis. Calcul répartition CM'!AT19=MAX('3bis. Calcul répartition CM'!AT$9:AT$58),'3bis. Calcul répartition CM'!AT19>0,COUNTIF('3bis. Calcul répartition CM'!AT$9:AT$58,'3bis. Calcul répartition CM'!AT19)>1,SUM('3bis. Calcul répartition CM'!AU$9:AU$58)-SUM('3bis. Calcul répartition CM'!AS$9:AS$58)>1),\"erreur\",\"\")","v":""},{"$f":"IF(AT14=\"erreur\",0,IF(OR('3bis. Calcul répartition CM'!AU$5=0,'3bis. Calcul répartition CM'!AT19=0),0,IF('3bis. Calcul répartition CM'!AU19-'3bis. Calcul répartition CM'!AS19>0,1,0)))","v":0},{"$f":"IF(AND('3bis. Calcul répartition CM'!AV19=MAX('3bis. Calcul répartition CM'!AV$9:AV$58),'3bis. Calcul répartition CM'!AV19>0,COUNTIF('3bis. Calcul répartition CM'!AV$9:AV$58,'3bis. Calcul répartition CM'!AV19)>1,SUM('3bis. Calcul répartition CM'!AW$9:AW$58)-SUM('3bis. Calcul répartition CM'!AU$9:AU$58)>1),\"erreur\",\"\")","v":""},{"$f":"IF(AV14=\"erreur\",0,IF(OR('3bis. Calcul répartition CM'!AW$5=0,'3bis. Calcul répartition CM'!AV19=0),0,IF('3bis. Calcul répartition CM'!AW19-'3bis. Calcul répartition CM'!AU19>0,1,0)))","v":0},{"$f":"IF(AND('3bis. Calcul répartition CM'!AX19=MAX('3bis. Calcul répartition CM'!AX$9:AX$58),'3bis. Calcul répartition CM'!AX19>0,COUNTIF('3bis. Calcul répartition CM'!AX$9:AX$58,'3bis. Calcul répartition CM'!AX19)>1,SUM('3bis. Calcul répartition CM'!AY$9:AY$58)-SUM('3bis. Calcul répartition CM'!AW$9:AW$58)>1),\"erreur\",\"\")","v":""},{"$f":"IF(AX14=\"erreur\",0,IF(OR('3bis. Calcul répartition CM'!AY$5=0,'3bis. Calcul répartition CM'!AX19=0),0,IF('3bis. Calcul répartition CM'!AY19-'3bis. Calcul répartition CM'!AW19>0,1,0)))","v":0},{"$f":"IF(AND('3bis. Calcul répartition CM'!AZ19=MAX('3bis. Calcul répartition CM'!AZ$9:AZ$58),'3bis. Calcul répartition CM'!AZ19>0,COUNTIF('3bis. Calcul répartition CM'!AZ$9:AZ$58,'3bis. Calcul répartition CM'!AZ19)>1,SUM('3bis. Calcul répartition CM'!BA$9:BA$58)-SUM('3bis. Calcul répartition CM'!AY$9:AY$58)>1),\"erreur\",\"\")","v":""},{"$f":"IF(AZ14=\"erreur\",0,IF(OR('3bis. Calcul répartition CM'!BA$5=0,'3bis. Calcul répartition CM'!AZ19=0),0,IF('3bis. Calcul répartition CM'!BA19-'3bis. Calcul répartition CM'!AY19>0,1,0)))","v":0},{"$f":"IF(AND('3bis. Calcul répartition CM'!BB19=MAX('3bis. Calcul répartition CM'!BB$9:BB$58),'3bis. Calcul répartition CM'!BB19>0,COUNTIF('3bis. Calcul répartition CM'!BB$9:BB$58,'3bis. Calcul répartition CM'!BB19)>1,SUM('3bis. Calcul répartition CM'!BC$9:BC$58)-SUM('3bis. Calcul répartition CM'!BA$9:BA$58)>1),\"erreur\",\"\")","v":""},{"$f":"IF(BB14=\"erreur\",0,IF(OR('3bis. Calcul répartition CM'!BC$5=0,'3bis. Calcul répartition CM'!BB19=0),0,IF('3bis. Calcul répartition CM'!BC19-'3bis. Calcul répartition CM'!BA19>0,1,0)))","v":0},{"$f":"IF(AND('3bis. Calcul répartition CM'!BD19=MAX('3bis. Calcul répartition CM'!BD$9:BD$58),'3bis. Calcul répartition CM'!BD19>0,COUNTIF('3bis. Calcul répartition CM'!BD$9:BD$58,'3bis. Calcul répartition CM'!BD19)>1,SUM('3bis. Calcul répartition CM'!BE$9:BE$58)-SUM('3bis. Calcul répartition CM'!BC$9:BC$58)>1),\"erreur\",\"\")","v":""},{"$f":"IF(BD14=\"erreur\",0,IF(OR('3bis. Calcul répartition CM'!BE$5=0,'3bis. Calcul répartition CM'!BD19=0),0,IF('3bis. Calcul répartition CM'!BE19-'3bis. Calcul répartition CM'!BC19>0,1,0)))","v":0},{"$f":"IF(AND('3bis. Calcul répartition CM'!BF19=MAX('3bis. Calcul répartition CM'!BF$9:BF$58),'3bis. Calcul répartition CM'!BF19>0,COUNTIF('3bis. Calcul répartition CM'!BF$9:BF$58,'3bis. Calcul répartition CM'!BF19)>1,SUM('3bis. Calcul répartition CM'!BG$9:BG$58)-SUM('3bis. Calcul répartition CM'!BE$9:BE$58)>1),\"erreur\",\"\")","v":""},{"$f":"IF(BF14=\"erreur\",0,IF(OR('3bis. Calcul répartition CM'!BG$5=0,'3bis. Calcul répartition CM'!BF19=0),0,IF('3bis. Calcul répartition CM'!BG19-'3bis. Calcul répartition CM'!BE19>0,1,0)))","v":0},{"$f":"IF(AND('3bis. Calcul répartition CM'!BH19=MAX('3bis. Calcul répartition CM'!BH$9:BH$58),'3bis. Calcul répartition CM'!BH19>0,COUNTIF('3bis. Calcul répartition CM'!BH$9:BH$58,'3bis. Calcul répartition CM'!BH19)>1,SUM('3bis. Calcul répartition CM'!BI$9:BI$58)-SUM('3bis. Calcul répartition CM'!BG$9:BG$58)>1),\"erreur\",\"\")","v":""},{"$f":"IF(BH14=\"erreur\",0,IF(OR('3bis. Calcul répartition CM'!BI$5=0,'3bis. Calcul répartition CM'!BH19=0),0,IF('3bis. Calcul répartition CM'!BI19-'3bis. Calcul répartition CM'!BG19>0,1,0)))","v":0},{"$f":"IF(AND('3bis. Calcul répartition CM'!BJ19=MAX('3bis. Calcul répartition CM'!BJ$9:BJ$58),'3bis. Calcul répartition CM'!BJ19>0,COUNTIF('3bis. Calcul répartition CM'!BJ$9:BJ$58,'3bis. Calcul répartition CM'!BJ19)>1,SUM('3bis. Calcul répartition CM'!BK$9:BK$58)-SUM('3bis. Calcul répartition CM'!BI$9:BI$58)>1),\"erreur\",\"\")","v":""},{"$f":"IF(BJ14=\"erreur\",0,IF(OR('3bis. Calcul répartition CM'!BK$5=0,'3bis. Calcul répartition CM'!BJ19=0),0,IF('3bis. Calcul répartition CM'!BK19-'3bis. Calcul répartition CM'!BI19>0,1,0)))","v":0},{"$f":"IF(AND('3bis. Calcul répartition CM'!BL19=MAX('3bis. Calcul répartition CM'!BL$9:BL$58),'3bis. Calcul répartition CM'!BL19>0,COUNTIF('3bis. Calcul répartition CM'!BL$9:BL$58,'3bis. Calcul répartition CM'!BL19)>1,SUM('3bis. Calcul répartition CM'!BM$9:BM$58)-SUM('3bis. Calcul répartition CM'!BK$9:BK$58)>1),\"erreur\",\"\")","v":""},{"$f":"IF(BL14=\"erreur\",0,IF(OR('3bis. Calcul répartition CM'!BM$5=0,'3bis. Calcul répartition CM'!BL19=0),0,IF('3bis. Calcul répartition CM'!BM19-'3bis. Calcul répartition CM'!BK19>0,1,0)))","v":0},{"$f":"IF(AND('3bis. Calcul répartition CM'!BN19=MAX('3bis. Calcul répartition CM'!BN$9:BN$58),'3bis. Calcul répartition CM'!BN19>0,COUNTIF('3bis. Calcul répartition CM'!BN$9:BN$58,'3bis. Calcul répartition CM'!BN19)>1,SUM('3bis. Calcul répartition CM'!BO$9:BO$58)-SUM('3bis. Calcul répartition CM'!BM$9:BM$58)>1),\"erreur\",\"\")","v":""},{"$f":"IF(BN14=\"erreur\",0,IF(OR('3bis. Calcul répartition CM'!BO$5=0,'3bis. Calcul répartition CM'!BN19=0),0,IF('3bis. Calcul répartition CM'!BO19-'3bis. Calcul répartition CM'!BM19>0,1,0)))","v":0},{"$f":"IF(AND('3bis. Calcul répartition CM'!BP19=MAX('3bis. Calcul répartition CM'!BP$9:BP$58),'3bis. Calcul répartition CM'!BP19>0,COUNTIF('3bis. Calcul répartition CM'!BP$9:BP$58,'3bis. Calcul répartition CM'!BP19)>1,SUM('3bis. Calcul répartition CM'!BQ$9:BQ$58)-SUM('3bis. Calcul répartition CM'!BO$9:BO$58)>1),\"erreur\",\"\")","v":""},{"$f":"IF(BP14=\"erreur\",0,IF(OR('3bis. Calcul répartition CM'!BQ$5=0,'3bis. Calcul répartition CM'!BP19=0),0,IF('3bis. Calcul répartition CM'!BQ19-'3bis. Calcul répartition CM'!BO19>0,1,0)))","v":0}]
[null,null,null,null,null,null,null,null,{"$f":"'3bis. Calcul répartition CM'!B20","v":0},{"$f":"IF(AND('3bis. Calcul répartition CM'!J20=MAX('3bis. Calcul répartition CM'!J$9:J$58),'3bis. Calcul répartition CM'!J20>0,COUNTIF('3bis. Calcul répartition CM'!J$9:J$58,'3bis. Calcul répartition CM'!J20)>1,SUM('3bis. Calcul répartition CM'!$K$9:$K$58)-SUM('3bis. Calcul répartition CM'!$D$9:$D$58)>1),\"erreur\",\"\")","v":""},{"$f":"IF(J15=\"erreur\",0,IF(OR('3bis. Calcul répartition CM'!K$5=0,'3bis. Calcul répartition CM'!J20=0),0,IF('3bis. Calcul répartition CM'!K20-'3bis. Calcul répartition CM'!D20>0,1,0)))","v":0},{"$f":"IF(AND('3bis. Calcul répartition CM'!L20=MAX('3bis. Calcul répartition CM'!L$9:L$58),'3bis. Calcul répartition CM'!L20>0,COUNTIF('3bis. Calcul répartition CM'!L$9:L$58,'3bis. Calcul répartition CM'!L20)>1,SUM('3bis. Calcul répartition CM'!M$9:M$58)-SUM('3bis. Calcul répartition CM'!K$9:K$58)>1),\"erreur\",\"\")","v":""},{"$f":"IF(L15=\"erreur\",0,IF(OR('3bis. Calcul répartition CM'!M$5=0,'3bis. Calcul répartition CM'!L20=0),0,IF('3bis. Calcul répartition CM'!M20-'3bis. Calcul répartition CM'!K20>0,1,0)))","v":0},{"$f":"IF(AND('3bis. Calcul répartition CM'!N20=MAX('3bis. Calcul répartition CM'!N$9:N$58),'3bis. Calcul répartition CM'!N20>0,COUNTIF('3bis. Calcul répartition CM'!N$9:N$58,'3bis. Calcul répartition CM'!N20)>1,SUM('3bis. Calcul répartition CM'!O$9:O$58)-SUM('3bis. Calcul répartition CM'!M$9:M$58)>1),\"erreur\",\"\")","v":""},{"$f":"IF(N15=\"erreur\",0,IF(OR('3bis. Calcul répartition CM'!O$5=0,'3bis. Calcul répartition CM'!N20=0),0,IF('3bis. Calcul répartition CM'!O20-'3bis. Calcul répartition CM'!M20>0,1,0)))","v":0},{"$f":"IF(AND('3bis. Calcul répartition CM'!P20=MAX('3bis. Calcul répartition CM'!P$9:P$58),'3bis. Calcul répartition CM'!P20>0,COUNTIF('3bis. Calcul répartition CM'!P$9:P$58,'3bis. Calcul répartition CM'!P20)>1,SUM('3bis. Calcul répartition CM'!Q$9:Q$58)-SUM('3bis. Calcul répartition CM'!O$9:O$58)>1),\"erreur\",\"\")","v":""},{"$f":"IF(P15=\"erreur\",0,IF(OR('3bis. Calcul répartition CM'!Q$5=0,'3bis. Calcul répartition CM'!P20=0),0,IF('3bis. Calcul répartition CM'!Q20-'3bis. Calcul répartition CM'!O20>0,1,0)))","v":0},{"$f":"IF(AND('3bis. Calcul répartition CM'!R20=MAX('3bis. Calcul répartition CM'!R$9:R$58),'3bis. Calcul répartition CM'!R20>0,COUNTIF('3bis. Calcul répartition CM'!R$9:R$58,'3bis. Calcul répartition CM'!R20)>1,SUM('3bis. Calcul répartition CM'!S$9:S$58)-SUM('3bis. Calcul répartition CM'!Q$9:Q$58)>1),\"erreur\",\"\")","v":""},{"$f":"IF(R15=\"erreur\",0,IF(OR('3bis. Calcul répartition CM'!S$5=0,'3bis. Calcul répartition CM'!R20=0),0,IF('3bis. Calcul répartition CM'!S20-'3bis. Calcul répartition CM'!Q20>0,1,0)))","v":0},{"$f":"IF(AND('3bis. Calcul répartition CM'!T20=MAX('3bis. Calcul répartition CM'!T$9:T$58),'3bis. Calcul répartition CM'!T20>0,COUNTIF('3bis. Calcul répartition CM'!T$9:T$58,'3bis. Calcul répartition CM'!T20)>1,SUM('3bis. Calcul répartition CM'!U$9:U$58)-SUM('3bis. Calcul répartition CM'!S$9:S$58)>1),\"erreur\",\"\")","v":""},{"$f":"IF(T15=\"erreur\",0,IF(OR('3bis. Calcul répartition CM'!U$5=0,'3bis. Calcul répartition CM'!T20=0),0,IF('3bis. Calcul répartition CM'!U20-'3bis. Calcul répartition CM'!S20>0,1,0)))","v":0},{"$f":"IF(AND('3bis. Calcul répartition CM'!V20=MAX('3bis. Calcul répartition CM'!V$9:V$58),'3bis. Calcul répartition CM'!V20>0,COUNTIF('3bis. Calcul répartition CM'!V$9:V$58,'3bis. Calcul répartition CM'!V20)>1,SUM('3bis. Calcul répartition CM'!W$9:W$58)-SUM('3bis. Calcul répartition CM'!U$9:U$58)>1),\"erreur\",\"\")","v":""},{"$f":"IF(V15=\"erreur\",0,IF(OR('3bis. Calcul répartition CM'!W$5=0,'3bis. Calcul répartition CM'!V20=0),0,IF('3bis. Calcul répartition CM'!W20-'3bis. Calcul répartition CM'!U20>0,1,0)))","v":0},{"$f":"IF(AND('3bis. Calcul répartition CM'!X20=MAX('3bis. Calcul répartition CM'!X$9:X$58),'3bis. Calcul répartition CM'!X20>0,COUNTIF('3bis. Calcul répartition CM'!X$9:X$58,'3bis. Calcul répartition CM'!X20)>1,SUM('3bis. Calcul répartition CM'!Y$9:Y$58)-SUM('3bis. Calcul répartition CM'!W$9:W$58)>1),\"erreur\",\"\")","v":""},{"$f":"IF(X15=\"erreur\",0,IF(OR('3bis. Calcul répartition CM'!Y$5=0,'3bis. Calcul répartition CM'!X20=0),0,IF('3bis. Calcul répartition CM'!Y20-'3bis. Calcul répartition CM'!W20>0,1,0)))","v":0},{"$f":"IF(AND('3bis. Calcul répartition CM'!Z20=MAX('3bis. Calcul répartition CM'!Z$9:Z$58),'3bis. Calcul répartition CM'!Z20>0,COUNTIF('3bis. Calcul répartition CM'!Z$9:Z$58,'3bis. Calcul répartition CM'!Z20)>1,SUM('3bis. Calcul répartition CM'!AA$9:AA$58)-SUM('3bis. Calcul répartition CM'!Y$9:Y$58)>1),\"erreur\",\"\")","v":""},{"$f":"IF(Z15=\"erreur\",0,IF(OR('3bis. Calcul répartition CM'!AA$5=0,'3bis. Calcul répartition CM'!Z20=0),0,IF('3bis. Calcul répartition CM'!AA20-'3bis. Calcul répartition CM'!Y20>0,1,0)))","v":0},{"$f":"IF(AND('3bis. Calcul répartition CM'!AB20=MAX('3bis. Calcul répartition CM'!AB$9:AB$58),'3bis. Calcul répartition CM'!AB20>0,COUNTIF('3bis. Calcul répartition CM'!AB$9:AB$58,'3bis. Calcul répartition CM'!AB20)>1,SUM('3bis. Calcul répartition CM'!AC$9:AC$58)-SUM('3bis. Calcul répartition CM'!AA$9:AA$58)>1),\"erreur\",\"\")","v":""},{"$f":"IF(AB15=\"erreur\",0,IF(OR('3bis. Calcul répartition CM'!AC$5=0,'3bis. Calcul répartition CM'!AB20=0),0,IF('3bis. Calcul répartition CM'!AC20-'3bis. Calcul répartition CM'!AA20>0,1,0)))","v":0},{"$f":"IF(AND('3bis. Calcul répartition CM'!AD20=MAX('3bis. Calcul répartition CM'!AD$9:AD$58),'3bis. Calcul répartition CM'!AD20>0,COUNTIF('3bis. Calcul répartition CM'!AD$9:AD$58,'3bis. Calcul répartition CM'!AD20)>1,SUM('3bis. Calcul répartition CM'!AE$9:AE$58)-SUM('3bis. Calcul répartition CM'!AC$9:AC$58)>1),\"erreur\",\"\")","v":""},{"$f":"IF(AD15=\"erreur\",0,IF(OR('3bis. Calcul répartition CM'!AE$5=0,'3bis. Calcul répartition CM'!AD20=0),0,IF('3bis. Calcul répartition CM'!AE20-'3bis. Calcul répartition CM'!AC20>0,1,0)))","v":0},{"$f":"IF(AND('3bis. Calcul répartition CM'!AF20=MAX('3bis. Calcul répartition CM'!AF$9:AF$58),'3bis. Calcul répartition CM'!AF20>0,COUNTIF('3bis. Calcul répartition CM'!AF$9:AF$58,'3bis. Calcul répartition CM'!AF20)>1,SUM('3bis. Calcul répartition CM'!AG$9:AG$58)-SUM('3bis. Calcul répartition CM'!AE$9:AE$58)>1),\"erreur\",\"\")","v":""},{"$f":"IF(AF15=\"erreur\",0,IF(OR('3bis. Calcul répartition CM'!AG$5=0,'3bis. Calcul répartition CM'!AF20=0),0,IF('3bis. Calcul répartition CM'!AG20-'3bis. Calcul répartition CM'!AE20>0,1,0)))","v":0},{"$f":"IF(AND('3bis. Calcul répartition CM'!AH20=MAX('3bis. Calcul répartition CM'!AH$9:AH$58),'3bis. Calcul répartition CM'!AH20>0,COUNTIF('3bis. Calcul répartition CM'!AH$9:AH$58,'3bis. Calcul répartition CM'!AH20)>1,SUM('3bis. Calcul répartition CM'!AI$9:AI$58)-SUM('3bis. Calcul répartition CM'!AG$9:AG$58)>1),\"erreur\",\"\")","v":""},{"$f":"IF(AH15=\"erreur\",0,IF(OR('3bis. Calcul répartition CM'!AI$5=0,'3bis. Calcul répartition CM'!AH20=0),0,IF('3bis. Calcul répartition CM'!AI20-'3bis. Calcul répartition CM'!AG20>0,1,0)))","v":0},{"$f":"IF(AND('3bis. Calcul répartition CM'!AJ20=MAX('3bis. Calcul répartition CM'!AJ$9:AJ$58),'3bis. Calcul répartition CM'!AJ20>0,COUNTIF('3bis. Calcul répartition CM'!AJ$9:AJ$58,'3bis. Calcul répartition CM'!AJ20)>1,SUM('3bis. Calcul répartition CM'!AK$9:AK$58)-SUM('3bis. Calcul répartition CM'!AI$9:AI$58)>1),\"erreur\",\"\")","v":""},{"$f":"IF(AJ15=\"erreur\",0,IF(OR('3bis. Calcul répartition CM'!AK$5=0,'3bis. Calcul répartition CM'!AJ20=0),0,IF('3bis. Calcul répartition CM'!AK20-'3bis. Calcul répartition CM'!AI20>0,1,0)))","v":0},{"$f":"IF(AND('3bis. Calcul répartition CM'!AL20=MAX('3bis. Calcul répartition CM'!AL$9:AL$58),'3bis. Calcul répartition CM'!AL20>0,COUNTIF('3bis. Calcul répartition CM'!AL$9:AL$58,'3bis. Calcul répartition CM'!AL20)>1,SUM('3bis. Calcul répartition CM'!AM$9:AM$58)-SUM('3bis. Calcul répartition CM'!AK$9:AK$58)>1),\"erreur\",\"\")","v":""},{"$f":"IF(AL15=\"erreur\",0,IF(OR('3bis. Calcul répartition CM'!AM$5=0,'3bis. Calcul répartition CM'!AL20=0),0,IF('3bis. Calcul répartition CM'!AM20-'3bis. Calcul répartition CM'!AK20>0,1,0)))","v":0},{"$f":"IF(AND('3bis. Calcul répartition CM'!AN20=MAX('3bis. Calcul répartition CM'!AN$9:AN$58),'3bis. Calcul répartition CM'!AN20>0,COUNTIF('3bis. Calcul répartition CM'!AN$9:AN$58,'3bis. Calcul répartition CM'!AN20)>1,SUM('3bis. Calcul répartition CM'!AO$9:AO$58)-SUM('3bis. Calcul répartition CM'!AM$9:AM$58)>1),\"erreur\",\"\")","v":""},{"$f":"IF(AN15=\"erreur\",0,IF(OR('3bis. Calcul répartition CM'!AO$5=0,'3bis. Calcul répartition CM'!AN20=0),0,IF('3bis. Calcul répartition CM'!AO20-'3bis. Calcul répartition CM'!AM20>0,1,0)))","v":0},{"$f":"IF(AND('3bis. Calcul répartition CM'!AP20=MAX('3bis. Calcul répartition CM'!AP$9:AP$58),'3bis. Calcul répartition CM'!AP20>0,COUNTIF('3bis. Calcul répartition CM'!AP$9:AP$58,'3bis. Calcul répartition CM'!AP20)>1,SUM('3bis. Calcul répartition CM'!AQ$9:AQ$58)-SUM('3bis. Calcul répartition CM'!AO$9:AO$58)>1),\"erreur\",\"\")","v":""},{"$f":"IF(AP15=\"erreur\",0,IF(OR('3bis. Calcul répartition CM'!AQ$5=0,'3bis. Calcul répartition CM'!AP20=0),0,IF('3bis. Calcul répartition CM'!AQ20-'3bis. Calcul répartition CM'!AO20>0,1,0)))","v":0},{"$f":"IF(AND('3bis. Calcul répartition CM'!AR20=MAX('3bis. Calcul répartition CM'!AR$9:AR$58),'3bis. Calcul répartition CM'!AR20>0,COUNTIF('3bis. Calcul répartition CM'!AR$9:AR$58,'3bis. Calcul répartition CM'!AR20)>1,SUM('3bis. Calcul répartition CM'!AS$9:AS$58)-SUM('3bis. Calcul répartition CM'!AQ$9:AQ$58)>1),\"erreur\",\"\")","v":""},{"$f":"IF(AR15=\"erreur\",0,IF(OR('3bis. Calcul répartition CM'!AS$5=0,'3bis. Calcul répartition CM'!AR20=0),0,IF('3bis. Calcul répartition CM'!AS20-'3bis. Calcul répartition CM'!AQ20>0,1,0)))","v":0},{"$f":"IF(AND('3bis. Calcul répartition CM'!AT20=MAX('3bis. Calcul répartition CM'!AT$9:AT$58),'3bis. Calcul répartition CM'!AT20>0,COUNTIF('3bis. Calcul répartition CM'!AT$9:AT$58,'3bis. Calcul répartition CM'!AT20)>1,SUM('3bis. Calcul répartition CM'!AU$9:AU$58)-SUM('3bis. Calcul répartition CM'!AS$9:AS$58)>1),\"erreur\",\"\")","v":""},{"$f":"IF(AT15=\"erreur\",0,IF(OR('3bis. Calcul répartition CM'!AU$5=0,'3bis. Calcul répartition CM'!AT20=0),0,IF('3bis. Calcul répartition CM'!AU20-'3bis. Calcul répartition CM'!AS20>0,1,0)))","v":0},{"$f":"IF(AND('3bis. Calcul répartition CM'!AV20=MAX('3bis. Calcul répartition CM'!AV$9:AV$58),'3bis. Calcul répartition CM'!AV20>0,COUNTIF('3bis. Calcul répartition CM'!AV$9:AV$58,'3bis. Calcul répartition CM'!AV20)>1,SUM('3bis. Calcul répartition CM'!AW$9:AW$58)-SUM('3bis. Calcul répartition CM'!AU$9:AU$58)>1),\"erreur\",\"\")","v":""},{"$f":"IF(AV15=\"erreur\",0,IF(OR('3bis. Calcul répartition CM'!AW$5=0,'3bis. Calcul répartition CM'!AV20=0),0,IF('3bis. Calcul répartition CM'!AW20-'3bis. Calcul répartition CM'!AU20>0,1,0)))","v":0},{"$f":"IF(AND('3bis. Calcul répartition CM'!AX20=MAX('3bis. Calcul répartition CM'!AX$9:AX$58),'3bis. Calcul répartition CM'!AX20>0,COUNTIF('3bis. Calcul répartition CM'!AX$9:AX$58,'3bis. Calcul répartition CM'!AX20)>1,SUM('3bis. Calcul répartition CM'!AY$9:AY$58)-SUM('3bis. Calcul répartition CM'!AW$9:AW$58)>1),\"erreur\",\"\")","v":""},{"$f":"IF(AX15=\"erreur\",0,IF(OR('3bis. Calcul répartition CM'!AY$5=0,'3bis. Calcul répartition CM'!AX20=0),0,IF('3bis. Calcul répartition CM'!AY20-'3bis. Calcul répartition CM'!AW20>0,1,0)))","v":0},{"$f":"IF(AND('3bis. Calcul répartition CM'!AZ20=MAX('3bis. Calcul répartition CM'!AZ$9:AZ$58),'3bis. Calcul répartition CM'!AZ20>0,COUNTIF('3bis. Calcul répartition CM'!AZ$9:AZ$58,'3bis. Calcul répartition CM'!AZ20)>1,SUM('3bis. Calcul répartition CM'!BA$9:BA$58)-SUM('3bis. Calcul répartition CM'!AY$9:AY$58)>1),\"erreur\",\"\")","v":""},{"$f":"IF(AZ15=\"erreur\",0,IF(OR('3bis. Calcul répartition CM'!BA$5=0,'3bis. Calcul répartition CM'!AZ20=0),0,IF('3bis. Calcul répartition CM'!BA20-'3bis. Calcul répartition CM'!AY20>0,1,0)))","v":0},{"$f":"IF(AND('3bis. Calcul répartition CM'!BB20=MAX('3bis. Calcul répartition CM'!BB$9:BB$58),'3bis. Calcul répartition CM'!BB20>0,COUNTIF('3bis. Calcul répartition CM'!BB$9:BB$58,'3bis. Calcul répartition CM'!BB20)>1,SUM('3bis. Calcul répartition CM'!BC$9:BC$58)-SUM('3bis. Calcul répartition CM'!BA$9:BA$58)>1),\"erreur\",\"\")","v":""},{"$f":"IF(BB15=\"erreur\",0,IF(OR('3bis. Calcul répartition CM'!BC$5=0,'3bis. Calcul répartition CM'!BB20=0),0,IF('3bis. Calcul répartition CM'!BC20-'3bis. Calcul répartition CM'!BA20>0,1,0)))","v":0},{"$f":"IF(AND('3bis. Calcul répartition CM'!BD20=MAX('3bis. Calcul répartition CM'!BD$9:BD$58),'3bis. Calcul répartition CM'!BD20>0,COUNTIF('3bis. Calcul répartition CM'!BD$9:BD$58,'3bis. Calcul répartition CM'!BD20)>1,SUM('3bis. Calcul répartition CM'!BE$9:BE$58)-SUM('3bis. Calcul répartition CM'!BC$9:BC$58)>1),\"erreur\",\"\")","v":""},{"$f":"IF(BD15=\"erreur\",0,IF(OR('3bis. Calcul répartition CM'!BE$5=0,'3bis. Calcul répartition CM'!BD20=0),0,IF('3bis. Calcul répartition CM'!BE20-'3bis. Calcul répartition CM'!BC20>0,1,0)))","v":0},{"$f":"IF(AND('3bis. Calcul répartition CM'!BF20=MAX('3bis. Calcul répartition CM'!BF$9:BF$58),'3bis. Calcul répartition CM'!BF20>0,COUNTIF('3bis. Calcul répartition CM'!BF$9:BF$58,'3bis. Calcul répartition CM'!BF20)>1,SUM('3bis. Calcul répartition CM'!BG$9:BG$58)-SUM('3bis. Calcul répartition CM'!BE$9:BE$58)>1),\"erreur\",\"\")","v":""},{"$f":"IF(BF15=\"erreur\",0,IF(OR('3bis. Calcul répartition CM'!BG$5=0,'3bis. Calcul répartition CM'!BF20=0),0,IF('3bis. Calcul répartition CM'!BG20-'3bis. Calcul répartition CM'!BE20>0,1,0)))","v":0},{"$f":"IF(AND('3bis. Calcul répartition CM'!BH20=MAX('3bis. Calcul répartition CM'!BH$9:BH$58),'3bis. Calcul répartition CM'!BH20>0,COUNTIF('3bis. Calcul répartition CM'!BH$9:BH$58,'3bis. Calcul répartition CM'!BH20)>1,SUM('3bis. Calcul répartition CM'!BI$9:BI$58)-SUM('3bis. Calcul répartition CM'!BG$9:BG$58)>1),\"erreur\",\"\")","v":""},{"$f":"IF(BH15=\"erreur\",0,IF(OR('3bis. Calcul répartition CM'!BI$5=0,'3bis. Calcul répartition CM'!BH20=0),0,IF('3bis. Calcul répartition CM'!BI20-'3bis. Calcul répartition CM'!BG20>0,1,0)))","v":0},{"$f":"IF(AND('3bis. Calcul répartition CM'!BJ20=MAX('3bis. Calcul répartition CM'!BJ$9:BJ$58),'3bis. Calcul répartition CM'!BJ20>0,COUNTIF('3bis. Calcul répartition CM'!BJ$9:BJ$58,'3bis. Calcul répartition CM'!BJ20)>1,SUM('3bis. Calcul répartition CM'!BK$9:BK$58)-SUM('3bis. Calcul répartition CM'!BI$9:BI$58)>1),\"erreur\",\"\")","v":""},{"$f":"IF(BJ15=\"erreur\",0,IF(OR('3bis. Calcul répartition CM'!BK$5=0,'3bis. Calcul répartition CM'!BJ20=0),0,IF('3bis. Calcul répartition CM'!BK20-'3bis. Calcul répartition CM'!BI20>0,1,0)))","v":0},{"$f":"IF(AND('3bis. Calcul répartition CM'!BL20=MAX('3bis. Calcul répartition CM'!BL$9:BL$58),'3bis. Calcul répartition CM'!BL20>0,COUNTIF('3bis. Calcul répartition CM'!BL$9:BL$58,'3bis. Calcul répartition CM'!BL20)>1,SUM('3bis. Calcul répartition CM'!BM$9:BM$58)-SUM('3bis. Calcul répartition CM'!BK$9:BK$58)>1),\"erreur\",\"\")","v":""},{"$f":"IF(BL15=\"erreur\",0,IF(OR('3bis. Calcul répartition CM'!BM$5=0,'3bis. Calcul répartition CM'!BL20=0),0,IF('3bis. Calcul répartition CM'!BM20-'3bis. Calcul répartition CM'!BK20>0,1,0)))","v":0},{"$f":"IF(AND('3bis. Calcul répartition CM'!BN20=MAX('3bis. Calcul répartition CM'!BN$9:BN$58),'3bis. Calcul répartition CM'!BN20>0,COUNTIF('3bis. Calcul répartition CM'!BN$9:BN$58,'3bis. Calcul répartition CM'!BN20)>1,SUM('3bis. Calcul répartition CM'!BO$9:BO$58)-SUM('3bis. Calcul répartition CM'!BM$9:BM$58)>1),\"erreur\",\"\")","v":""},{"$f":"IF(BN15=\"erreur\",0,IF(OR('3bis. Calcul répartition CM'!BO$5=0,'3bis. Calcul répartition CM'!BN20=0),0,IF('3bis. Calcul répartition CM'!BO20-'3bis. Calcul répartition CM'!BM20>0,1,0)))","v":0},{"$f":"IF(AND('3bis. Calcul répartition CM'!BP20=MAX('3bis. Calcul répartition CM'!BP$9:BP$58),'3bis. Calcul répartition CM'!BP20>0,COUNTIF('3bis. Calcul répartition CM'!BP$9:BP$58,'3bis. Calcul répartition CM'!BP20)>1,SUM('3bis. Calcul répartition CM'!BQ$9:BQ$58)-SUM('3bis. Calcul répartition CM'!BO$9:BO$58)>1),\"erreur\",\"\")","v":""},{"$f":"IF(BP15=\"erreur\",0,IF(OR('3bis. Calcul répartition CM'!BQ$5=0,'3bis. Calcul répartition CM'!BP20=0),0,IF('3bis. Calcul répartition CM'!BQ20-'3bis. Calcul répartition CM'!BO20>0,1,0)))","v":0}]
[null,null,null,null,null,null,null,null,{"$f":"'3bis. Calcul répartition CM'!B21","v":0},{"$f":"IF(AND('3bis. Calcul répartition CM'!J21=MAX('3bis. Calcul répartition CM'!J$9:J$58),'3bis. Calcul répartition CM'!J21>0,COUNTIF('3bis. Calcul répartition CM'!J$9:J$58,'3bis. Calcul répartition CM'!J21)>1,SUM('3bis. Calcul répartition CM'!$K$9:$K$58)-SUM('3bis. Calcul répartition CM'!$D$9:$D$58)>1),\"erreur\",\"\")","v":""},{"$f":"IF(J16=\"erreur\",0,IF(OR('3bis. Calcul répartition CM'!K$5=0,'3bis. Calcul répartition CM'!J21=0),0,IF('3bis. Calcul répartition CM'!K21-'3bis. Calcul répartition CM'!D21>0,1,0)))","v":0},{"$f":"IF(AND('3bis. Calcul répartition CM'!L21=MAX('3bis. Calcul répartition CM'!L$9:L$58),'3bis. Calcul répartition CM'!L21>0,COUNTIF('3bis. Calcul répartition CM'!L$9:L$58,'3bis. Calcul répartition CM'!L21)>1,SUM('3bis. Calcul répartition CM'!M$9:M$58)-SUM('3bis. Calcul répartition CM'!K$9:K$58)>1),\"erreur\",\"\")","v":""},{"$f":"IF(L16=\"erreur\",0,IF(OR('3bis. Calcul répartition CM'!M$5=0,'3bis. Calcul répartition CM'!L21=0),0,IF('3bis. Calcul répartition CM'!M21-'3bis. Calcul répartition CM'!K21>0,1,0)))","v":0},{"$f":"IF(AND('3bis. Calcul répartition CM'!N21=MAX('3bis. Calcul répartition CM'!N$9:N$58),'3bis. Calcul répartition CM'!N21>0,COUNTIF('3bis. Calcul répartition CM'!N$9:N$58,'3bis. Calcul répartition CM'!N21)>1,SUM('3bis. Calcul répartition CM'!O$9:O$58)-SUM('3bis. Calcul répartition CM'!M$9:M$58)>1),\"erreur\",\"\")","v":""},{"$f":"IF(N16=\"erreur\",0,IF(OR('3bis. Calcul répartition CM'!O$5=0,'3bis. Calcul répartition CM'!N21=0),0,IF('3bis. Calcul répartition CM'!O21-'3bis. Calcul répartition CM'!M21>0,1,0)))","v":0},{"$f":"IF(AND('3bis. Calcul répartition CM'!P21=MAX('3bis. Calcul répartition CM'!P$9:P$58),'3bis. Calcul répartition CM'!P21>0,COUNTIF('3bis. Calcul répartition CM'!P$9:P$58,'3bis. Calcul répartition CM'!P21)>1,SUM('3bis. Calcul répartition CM'!Q$9:Q$58)-SUM('3bis. Calcul répartition CM'!O$9:O$58)>1),\"erreur\",\"\")","v":""},{"$f":"IF(P16=\"erreur\",0,IF(OR('3bis. Calcul répartition CM'!Q$5=0,'3bis. Calcul répartition CM'!P21=0),0,IF('3bis. Calcul répartition CM'!Q21-'3bis. Calcul répartition CM'!O21>0,1,0)))","v":0},{"$f":"IF(AND('3bis. Calcul répartition CM'!R21=MAX('3bis. Calcul répartition CM'!R$9:R$58),'3bis. Calcul répartition CM'!R21>0,COUNTIF('3bis. Calcul répartition CM'!R$9:R$58,'3bis. Calcul répartition CM'!R21)>1,SUM('3bis. Calcul répartition CM'!S$9:S$58)-SUM('3bis. Calcul répartition CM'!Q$9:Q$58)>1),\"erreur\",\"\")","v":""},{"$f":"IF(R16=\"erreur\",0,IF(OR('3bis. Calcul répartition CM'!S$5=0,'3bis. Calcul répartition CM'!R21=0),0,IF('3bis. Calcul répartition CM'!S21-'3bis. Calcul répartition CM'!Q21>0,1,0)))","v":0},{"$f":"IF(AND('3bis. Calcul répartition CM'!T21=MAX('3bis. Calcul répartition CM'!T$9:T$58),'3bis. Calcul répartition CM'!T21>0,COUNTIF('3bis. Calcul répartition CM'!T$9:T$58,'3bis. Calcul répartition CM'!T21)>1,SUM('3bis. Calcul répartition CM'!U$9:U$58)-SUM('3bis. Calcul répartition CM'!S$9:S$58)>1),\"erreur\",\"\")","v":""},{"$f":"IF(T16=\"erreur\",0,IF(OR('3bis. Calcul répartition CM'!U$5=0,'3bis. Calcul répartition CM'!T21=0),0,IF('3bis. Calcul répartition CM'!U21-'3bis. Calcul répartition CM'!S21>0,1,0)))","v":0},{"$f":"IF(AND('3bis. Calcul répartition CM'!V21=MAX('3bis. Calcul répartition CM'!V$9:V$58),'3bis. Calcul répartition CM'!V21>0,COUNTIF('3bis. Calcul répartition CM'!V$9:V$58,'3bis. Calcul répartition CM'!V21)>1,SUM('3bis. Calcul répartition CM'!W$9:W$58)-SUM('3bis. Calcul répartition CM'!U$9:U$58)>1),\"erreur\",\"\")","v":""},{"$f":"IF(V16=\"erreur\",0,IF(OR('3bis. Calcul répartition CM'!W$5=0,'3bis. Calcul répartition CM'!V21=0),0,IF('3bis. Calcul répartition CM'!W21-'3bis. Calcul répartition CM'!U21>0,1,0)))","v":0},{"$f":"IF(AND('3bis. Calcul répartition CM'!X21=MAX('3bis. Calcul répartition CM'!X$9:X$58),'3bis. Calcul répartition CM'!X21>0,COUNTIF('3bis. Calcul répartition CM'!X$9:X$58,'3bis. Calcul répartition CM'!X21)>1,SUM('3bis. Calcul répartition CM'!Y$9:Y$58)-SUM('3bis. Calcul répartition CM'!W$9:W$58)>1),\"erreur\",\"\")","v":""},{"$f":"IF(X16=\"erreur\",0,IF(OR('3bis. Calcul répartition CM'!Y$5=0,'3bis. Calcul répartition CM'!X21=0),0,IF('3bis. Calcul répartition CM'!Y21-'3bis. Calcul répartition CM'!W21>0,1,0)))","v":0},{"$f":"IF(AND('3bis. Calcul répartition CM'!Z21=MAX('3bis. Calcul répartition CM'!Z$9:Z$58),'3bis. Calcul répartition CM'!Z21>0,COUNTIF('3bis. Calcul répartition CM'!Z$9:Z$58,'3bis. Calcul répartition CM'!Z21)>1,SUM('3bis. Calcul répartition CM'!AA$9:AA$58)-SUM('3bis. Calcul répartition CM'!Y$9:Y$58)>1),\"erreur\",\"\")","v":""},{"$f":"IF(Z16=\"erreur\",0,IF(OR('3bis. Calcul répartition CM'!AA$5=0,'3bis. Calcul répartition CM'!Z21=0),0,IF('3bis. Calcul répartition CM'!AA21-'3bis. Calcul répartition CM'!Y21>0,1,0)))","v":0},{"$f":"IF(AND('3bis. Calcul répartition CM'!AB21=MAX('3bis. Calcul répartition CM'!AB$9:AB$58),'3bis. Calcul répartition CM'!AB21>0,COUNTIF('3bis. Calcul répartition CM'!AB$9:AB$58,'3bis. Calcul répartition CM'!AB21)>1,SUM('3bis. Calcul répartition CM'!AC$9:AC$58)-SUM('3bis. Calcul répartition CM'!AA$9:AA$58)>1),\"erreur\",\"\")","v":""},{"$f":"IF(AB16=\"erreur\",0,IF(OR('3bis. Calcul répartition CM'!AC$5=0,'3bis. Calcul répartition CM'!AB21=0),0,IF('3bis. Calcul répartition CM'!AC21-'3bis. Calcul répartition CM'!AA21>0,1,0)))","v":0},{"$f":"IF(AND('3bis. Calcul répartition CM'!AD21=MAX('3bis. Calcul répartition CM'!AD$9:AD$58),'3bis. Calcul répartition CM'!AD21>0,COUNTIF('3bis. Calcul répartition CM'!AD$9:AD$58,'3bis. Calcul répartition CM'!AD21)>1,SUM('3bis. Calcul répartition CM'!AE$9:AE$58)-SUM('3bis. Calcul répartition CM'!AC$9:AC$58)>1),\"erreur\",\"\")","v":""},{"$f":"IF(AD16=\"erreur\",0,IF(OR('3bis. Calcul répartition CM'!AE$5=0,'3bis. Calcul répartition CM'!AD21=0),0,IF('3bis. Calcul répartition CM'!AE21-'3bis. Calcul répartition CM'!AC21>0,1,0)))","v":0},{"$f":"IF(AND('3bis. Calcul répartition CM'!AF21=MAX('3bis. Calcul répartition CM'!AF$9:AF$58),'3bis. Calcul répartition CM'!AF21>0,COUNTIF('3bis. Calcul répartition CM'!AF$9:AF$58,'3bis. Calcul répartition CM'!AF21)>1,SUM('3bis. Calcul répartition CM'!AG$9:AG$58)-SUM('3bis. Calcul répartition CM'!AE$9:AE$58)>1),\"erreur\",\"\")","v":""},{"$f":"IF(AF16=\"erreur\",0,IF(OR('3bis. Calcul répartition CM'!AG$5=0,'3bis. Calcul répartition CM'!AF21=0),0,IF('3bis. Calcul répartition CM'!AG21-'3bis. Calcul répartition CM'!AE21>0,1,0)))","v":0},{"$f":"IF(AND('3bis. Calcul répartition CM'!AH21=MAX('3bis. Calcul répartition CM'!AH$9:AH$58),'3bis. Calcul répartition CM'!AH21>0,COUNTIF('3bis. Calcul répartition CM'!AH$9:AH$58,'3bis. Calcul répartition CM'!AH21)>1,SUM('3bis. Calcul répartition CM'!AI$9:AI$58)-SUM('3bis. Calcul répartition CM'!AG$9:AG$58)>1),\"erreur\",\"\")","v":""},{"$f":"IF(AH16=\"erreur\",0,IF(OR('3bis. Calcul répartition CM'!AI$5=0,'3bis. Calcul répartition CM'!AH21=0),0,IF('3bis. Calcul répartition CM'!AI21-'3bis. Calcul répartition CM'!AG21>0,1,0)))","v":0},{"$f":"IF(AND('3bis. Calcul répartition CM'!AJ21=MAX('3bis. Calcul répartition CM'!AJ$9:AJ$58),'3bis. Calcul répartition CM'!AJ21>0,COUNTIF('3bis. Calcul répartition CM'!AJ$9:AJ$58,'3bis. Calcul répartition CM'!AJ21)>1,SUM('3bis. Calcul répartition CM'!AK$9:AK$58)-SUM('3bis. Calcul répartition CM'!AI$9:AI$58)>1),\"erreur\",\"\")","v":""},{"$f":"IF(AJ16=\"erreur\",0,IF(OR('3bis. Calcul répartition CM'!AK$5=0,'3bis. Calcul répartition CM'!AJ21=0),0,IF('3bis. Calcul répartition CM'!AK21-'3bis. Calcul répartition CM'!AI21>0,1,0)))","v":0},{"$f":"IF(AND('3bis. Calcul répartition CM'!AL21=MAX('3bis. Calcul répartition CM'!AL$9:AL$58),'3bis. Calcul répartition CM'!AL21>0,COUNTIF('3bis. Calcul répartition CM'!AL$9:AL$58,'3bis. Calcul répartition CM'!AL21)>1,SUM('3bis. Calcul répartition CM'!AM$9:AM$58)-SUM('3bis. Calcul répartition CM'!AK$9:AK$58)>1),\"erreur\",\"\")","v":""},{"$f":"IF(AL16=\"erreur\",0,IF(OR('3bis. Calcul répartition CM'!AM$5=0,'3bis. Calcul répartition CM'!AL21=0),0,IF('3bis. Calcul répartition CM'!AM21-'3bis. Calcul répartition CM'!AK21>0,1,0)))","v":0},{"$f":"IF(AND('3bis. Calcul répartition CM'!AN21=MAX('3bis. Calcul répartition CM'!AN$9:AN$58),'3bis. Calcul répartition CM'!AN21>0,COUNTIF('3bis. Calcul répartition CM'!AN$9:AN$58,'3bis. Calcul répartition CM'!AN21)>1,SUM('3bis. Calcul répartition CM'!AO$9:AO$58)-SUM('3bis. Calcul répartition CM'!AM$9:AM$58)>1),\"erreur\",\"\")","v":""},{"$f":"IF(AN16=\"erreur\",0,IF(OR('3bis. Calcul répartition CM'!AO$5=0,'3bis. Calcul répartition CM'!AN21=0),0,IF('3bis. Calcul répartition CM'!AO21-'3bis. Calcul répartition CM'!AM21>0,1,0)))","v":0},{"$f":"IF(AND('3bis. Calcul répartition CM'!AP21=MAX('3bis. Calcul répartition CM'!AP$9:AP$58),'3bis. Calcul répartition CM'!AP21>0,COUNTIF('3bis. Calcul répartition CM'!AP$9:AP$58,'3bis. Calcul répartition CM'!AP21)>1,SUM('3bis. Calcul répartition CM'!AQ$9:AQ$58)-SUM('3bis. Calcul répartition CM'!AO$9:AO$58)>1),\"erreur\",\"\")","v":""},{"$f":"IF(AP16=\"erreur\",0,IF(OR('3bis. Calcul répartition CM'!AQ$5=0,'3bis. Calcul répartition CM'!AP21=0),0,IF('3bis. Calcul répartition CM'!AQ21-'3bis. Calcul répartition CM'!AO21>0,1,0)))","v":0},{"$f":"IF(AND('3bis. Calcul répartition CM'!AR21=MAX('3bis. Calcul répartition CM'!AR$9:AR$58),'3bis. Calcul répartition CM'!AR21>0,COUNTIF('3bis. Calcul répartition CM'!AR$9:AR$58,'3bis. Calcul répartition CM'!AR21)>1,SUM('3bis. Calcul répartition CM'!AS$9:AS$58)-SUM('3bis. Calcul répartition CM'!AQ$9:AQ$58)>1),\"erreur\",\"\")","v":""},{"$f":"IF(AR16=\"erreur\",0,IF(OR('3bis. Calcul répartition CM'!AS$5=0,'3bis. Calcul répartition CM'!AR21=0),0,IF('3bis. Calcul répartition CM'!AS21-'3bis. Calcul répartition CM'!AQ21>0,1,0)))","v":0},{"$f":"IF(AND('3bis. Calcul répartition CM'!AT21=MAX('3bis. Calcul répartition CM'!AT$9:AT$58),'3bis. Calcul répartition CM'!AT21>0,COUNTIF('3bis. Calcul répartition CM'!AT$9:AT$58,'3bis. Calcul répartition CM'!AT21)>1,SUM('3bis. Calcul répartition CM'!AU$9:AU$58)-SUM('3bis. Calcul répartition CM'!AS$9:AS$58)>1),\"erreur\",\"\")","v":""},{"$f":"IF(AT16=\"erreur\",0,IF(OR('3bis. Calcul répartition CM'!AU$5=0,'3bis. Calcul répartition CM'!AT21=0),0,IF('3bis. Calcul répartition CM'!AU21-'3bis. Calcul répartition CM'!AS21>0,1,0)))","v":0},{"$f":"IF(AND('3bis. Calcul répartition CM'!AV21=MAX('3bis. Calcul répartition CM'!AV$9:AV$58),'3bis. Calcul répartition CM'!AV21>0,COUNTIF('3bis. Calcul répartition CM'!AV$9:AV$58,'3bis. Calcul répartition CM'!AV21)>1,SUM('3bis. Calcul répartition CM'!AW$9:AW$58)-SUM('3bis. Calcul répartition CM'!AU$9:AU$58)>1),\"erreur\",\"\")","v":""},{"$f":"IF(AV16=\"erreur\",0,IF(OR('3bis. Calcul répartition CM'!AW$5=0,'3bis. Calcul répartition CM'!AV21=0),0,IF('3bis. Calcul répartition CM'!AW21-'3bis. Calcul répartition CM'!AU21>0,1,0)))","v":0},{"$f":"IF(AND('3bis. Calcul répartition CM'!AX21=MAX('3bis. Calcul répartition CM'!AX$9:AX$58),'3bis. Calcul répartition CM'!AX21>0,COUNTIF('3bis. Calcul répartition CM'!AX$9:AX$58,'3bis. Calcul répartition CM'!AX21)>1,SUM('3bis. Calcul répartition CM'!AY$9:AY$58)-SUM('3bis. Calcul répartition CM'!AW$9:AW$58)>1),\"erreur\",\"\")","v":""},{"$f":"IF(AX16=\"erreur\",0,IF(OR('3bis. Calcul répartition CM'!AY$5=0,'3bis. Calcul répartition CM'!AX21=0),0,IF('3bis. Calcul répartition CM'!AY21-'3bis. Calcul répartition CM'!AW21>0,1,0)))","v":0},{"$f":"IF(AND('3bis. Calcul répartition CM'!AZ21=MAX('3bis. Calcul répartition CM'!AZ$9:AZ$58),'3bis. Calcul répartition CM'!AZ21>0,COUNTIF('3bis. Calcul répartition CM'!AZ$9:AZ$58,'3bis. Calcul répartition CM'!AZ21)>1,SUM('3bis. Calcul répartition CM'!BA$9:BA$58)-SUM('3bis. Calcul répartition CM'!AY$9:AY$58)>1),\"erreur\",\"\")","v":""},{"$f":"IF(AZ16=\"erreur\",0,IF(OR('3bis. Calcul répartition CM'!BA$5=0,'3bis. Calcul répartition CM'!AZ21=0),0,IF('3bis. Calcul répartition CM'!BA21-'3bis. Calcul répartition CM'!AY21>0,1,0)))","v":0},{"$f":"IF(AND('3bis. Calcul répartition CM'!BB21=MAX('3bis. Calcul répartition CM'!BB$9:BB$58),'3bis. Calcul répartition CM'!BB21>0,COUNTIF('3bis. Calcul répartition CM'!BB$9:BB$58,'3bis. Calcul répartition CM'!BB21)>1,SUM('3bis. Calcul répartition CM'!BC$9:BC$58)-SUM('3bis. Calcul répartition CM'!BA$9:BA$58)>1),\"erreur\",\"\")","v":""},{"$f":"IF(BB16=\"erreur\",0,IF(OR('3bis. Calcul répartition CM'!BC$5=0,'3bis. Calcul répartition CM'!BB21=0),0,IF('3bis. Calcul répartition CM'!BC21-'3bis. Calcul répartition CM'!BA21>0,1,0)))","v":0},{"$f":"IF(AND('3bis. Calcul répartition CM'!BD21=MAX('3bis. Calcul répartition CM'!BD$9:BD$58),'3bis. Calcul répartition CM'!BD21>0,COUNTIF('3bis. Calcul répartition CM'!BD$9:BD$58,'3bis. Calcul répartition CM'!BD21)>1,SUM('3bis. Calcul répartition CM'!BE$9:BE$58)-SUM('3bis. Calcul répartition CM'!BC$9:BC$58)>1),\"erreur\",\"\")","v":""},{"$f":"IF(BD16=\"erreur\",0,IF(OR('3bis. Calcul répartition CM'!BE$5=0,'3bis. Calcul répartition CM'!BD21=0),0,IF('3bis. Calcul répartition CM'!BE21-'3bis. Calcul répartition CM'!BC21>0,1,0)))","v":0},{"$f":"IF(AND('3bis. Calcul répartition CM'!BF21=MAX('3bis. Calcul répartition CM'!BF$9:BF$58),'3bis. Calcul répartition CM'!BF21>0,COUNTIF('3bis. Calcul répartition CM'!BF$9:BF$58,'3bis. Calcul répartition CM'!BF21)>1,SUM('3bis. Calcul répartition CM'!BG$9:BG$58)-SUM('3bis. Calcul répartition CM'!BE$9:BE$58)>1),\"erreur\",\"\")","v":""},{"$f":"IF(BF16=\"erreur\",0,IF(OR('3bis. Calcul répartition CM'!BG$5=0,'3bis. Calcul répartition CM'!BF21=0),0,IF('3bis. Calcul répartition CM'!BG21-'3bis. Calcul répartition CM'!BE21>0,1,0)))","v":0},{"$f":"IF(AND('3bis. Calcul répartition CM'!BH21=MAX('3bis. Calcul répartition CM'!BH$9:BH$58),'3bis. Calcul répartition CM'!BH21>0,COUNTIF('3bis. Calcul répartition CM'!BH$9:BH$58,'3bis. Calcul répartition CM'!BH21)>1,SUM('3bis. Calcul répartition CM'!BI$9:BI$58)-SUM('3bis. Calcul répartition CM'!BG$9:BG$58)>1),\"erreur\",\"\")","v":""},{"$f":"IF(BH16=\"erreur\",0,IF(OR('3bis. Calcul répartition CM'!BI$5=0,'3bis. Calcul répartition CM'!BH21=0),0,IF('3bis. Calcul répartition CM'!BI21-'3bis. Calcul répartition CM'!BG21>0,1,0)))","v":0},{"$f":"IF(AND('3bis. Calcul répartition CM'!BJ21=MAX('3bis. Calcul répartition CM'!BJ$9:BJ$58),'3bis. Calcul répartition CM'!BJ21>0,COUNTIF('3bis. Calcul répartition CM'!BJ$9:BJ$58,'3bis. Calcul répartition CM'!BJ21)>1,SUM('3bis. Calcul répartition CM'!BK$9:BK$58)-SUM('3bis. Calcul répartition CM'!BI$9:BI$58)>1),\"erreur\",\"\")","v":""},{"$f":"IF(BJ16=\"erreur\",0,IF(OR('3bis. Calcul répartition CM'!BK$5=0,'3bis. Calcul répartition CM'!BJ21=0),0,IF('3bis. Calcul répartition CM'!BK21-'3bis. Calcul répartition CM'!BI21>0,1,0)))","v":0},{"$f":"IF(AND('3bis. Calcul répartition CM'!BL21=MAX('3bis. Calcul répartition CM'!BL$9:BL$58),'3bis. Calcul répartition CM'!BL21>0,COUNTIF('3bis. Calcul répartition CM'!BL$9:BL$58,'3bis. Calcul répartition CM'!BL21)>1,SUM('3bis. Calcul répartition CM'!BM$9:BM$58)-SUM('3bis. Calcul répartition CM'!BK$9:BK$58)>1),\"erreur\",\"\")","v":""},{"$f":"IF(BL16=\"erreur\",0,IF(OR('3bis. Calcul répartition CM'!BM$5=0,'3bis. Calcul répartition CM'!BL21=0),0,IF('3bis. Calcul répartition CM'!BM21-'3bis. Calcul répartition CM'!BK21>0,1,0)))","v":0},{"$f":"IF(AND('3bis. Calcul répartition CM'!BN21=MAX('3bis. Calcul répartition CM'!BN$9:BN$58),'3bis. Calcul répartition CM'!BN21>0,COUNTIF('3bis. Calcul répartition CM'!BN$9:BN$58,'3bis. Calcul répartition CM'!BN21)>1,SUM('3bis. Calcul répartition CM'!BO$9:BO$58)-SUM('3bis. Calcul répartition CM'!BM$9:BM$58)>1),\"erreur\",\"\")","v":""},{"$f":"IF(BN16=\"erreur\",0,IF(OR('3bis. Calcul répartition CM'!BO$5=0,'3bis. Calcul répartition CM'!BN21=0),0,IF('3bis. Calcul répartition CM'!BO21-'3bis. Calcul répartition CM'!BM21>0,1,0)))","v":0},{"$f":"IF(AND('3bis. Calcul répartition CM'!BP21=MAX('3bis. Calcul répartition CM'!BP$9:BP$58),'3bis. Calcul répartition CM'!BP21>0,COUNTIF('3bis. Calcul répartition CM'!BP$9:BP$58,'3bis. Calcul répartition CM'!BP21)>1,SUM('3bis. Calcul répartition CM'!BQ$9:BQ$58)-SUM('3bis. Calcul répartition CM'!BO$9:BO$58)>1),\"erreur\",\"\")","v":""},{"$f":"IF(BP16=\"erreur\",0,IF(OR('3bis. Calcul répartition CM'!BQ$5=0,'3bis. Calcul répartition CM'!BP21=0),0,IF('3bis. Calcul répartition CM'!BQ21-'3bis. Calcul répartition CM'!BO21>0,1,0)))","v":0}]
[null,null,null,null,null,null,null,null,{"$f":"'3bis. Calcul répartition CM'!B22","v":0},{"$f":"IF(AND('3bis. Calcul répartition CM'!J22=MAX('3bis. Calcul répartition CM'!J$9:J$58),'3bis. Calcul répartition CM'!J22>0,COUNTIF('3bis. Calcul répartition CM'!J$9:J$58,'3bis. Calcul répartition CM'!J22)>1,SUM('3bis. Calcul répartition CM'!$K$9:$K$58)-SUM('3bis. Calcul répartition CM'!$D$9:$D$58)>1),\"erreur\",\"\")","v":""},{"$f":"IF(J17=\"erreur\",0,IF(OR('3bis. Calcul répartition CM'!K$5=0,'3bis. Calcul répartition CM'!J22=0),0,IF('3bis. Calcul répartition CM'!K22-'3bis. Calcul répartition CM'!D22>0,1,0)))","v":0},{"$f":"IF(AND('3bis. Calcul répartition CM'!L22=MAX('3bis. Calcul répartition CM'!L$9:L$58),'3bis. Calcul répartition CM'!L22>0,COUNTIF('3bis. Calcul répartition CM'!L$9:L$58,'3bis. Calcul répartition CM'!L22)>1,SUM('3bis. Calcul répartition CM'!M$9:M$58)-SUM('3bis. Calcul répartition CM'!K$9:K$58)>1),\"erreur\",\"\")","v":""},{"$f":"IF(L17=\"erreur\",0,IF(OR('3bis. Calcul répartition CM'!M$5=0,'3bis. Calcul répartition CM'!L22=0),0,IF('3bis. Calcul répartition CM'!M22-'3bis. Calcul répartition CM'!K22>0,1,0)))","v":0},{"$f":"IF(AND('3bis. Calcul répartition CM'!N22=MAX('3bis. Calcul répartition CM'!N$9:N$58),'3bis. Calcul répartition CM'!N22>0,COUNTIF('3bis. Calcul répartition CM'!N$9:N$58,'3bis. Calcul répartition CM'!N22)>1,SUM('3bis. Calcul répartition CM'!O$9:O$58)-SUM('3bis. Calcul répartition CM'!M$9:M$58)>1),\"erreur\",\"\")","v":""},{"$f":"IF(N17=\"erreur\",0,IF(OR('3bis. Calcul répartition CM'!O$5=0,'3bis. Calcul répartition CM'!N22=0),0,IF('3bis. Calcul répartition CM'!O22-'3bis. Calcul répartition CM'!M22>0,1,0)))","v":0},{"$f":"IF(AND('3bis. Calcul répartition CM'!P22=MAX('3bis. Calcul répartition CM'!P$9:P$58),'3bis. Calcul répartition CM'!P22>0,COUNTIF('3bis. Calcul répartition CM'!P$9:P$58,'3bis. Calcul répartition CM'!P22)>1,SUM('3bis. Calcul répartition CM'!Q$9:Q$58)-SUM('3bis. Calcul répartition CM'!O$9:O$58)>1),\"erreur\",\"\")","v":""},{"$f":"IF(P17=\"erreur\",0,IF(OR('3bis. Calcul répartition CM'!Q$5=0,'3bis. Calcul répartition CM'!P22=0),0,IF('3bis. Calcul répartition CM'!Q22-'3bis. Calcul répartition CM'!O22>0,1,0)))","v":0},{"$f":"IF(AND('3bis. Calcul répartition CM'!R22=MAX('3bis. Calcul répartition CM'!R$9:R$58),'3bis. Calcul répartition CM'!R22>0,COUNTIF('3bis. Calcul répartition CM'!R$9:R$58,'3bis. Calcul répartition CM'!R22)>1,SUM('3bis. Calcul répartition CM'!S$9:S$58)-SUM('3bis. Calcul répartition CM'!Q$9:Q$58)>1),\"erreur\",\"\")","v":""},{"$f":"IF(R17=\"erreur\",0,IF(OR('3bis. Calcul répartition CM'!S$5=0,'3bis. Calcul répartition CM'!R22=0),0,IF('3bis. Calcul répartition CM'!S22-'3bis. Calcul répartition CM'!Q22>0,1,0)))","v":0},{"$f":"IF(AND('3bis. Calcul répartition CM'!T22=MAX('3bis. Calcul répartition CM'!T$9:T$58),'3bis. Calcul répartition CM'!T22>0,COUNTIF('3bis. Calcul répartition CM'!T$9:T$58,'3bis. Calcul répartition CM'!T22)>1,SUM('3bis. Calcul répartition CM'!U$9:U$58)-SUM('3bis. Calcul répartition CM'!S$9:S$58)>1),\"erreur\",\"\")","v":""},{"$f":"IF(T17=\"erreur\",0,IF(OR('3bis. Calcul répartition CM'!U$5=0,'3bis. Calcul répartition CM'!T22=0),0,IF('3bis. Calcul répartition CM'!U22-'3bis. Calcul répartition CM'!S22>0,1,0)))","v":0},{"$f":"IF(AND('3bis. Calcul répartition CM'!V22=MAX('3bis. Calcul répartition CM'!V$9:V$58),'3bis. Calcul répartition CM'!V22>0,COUNTIF('3bis. Calcul répartition CM'!V$9:V$58,'3bis. Calcul répartition CM'!V22)>1,SUM('3bis. Calcul répartition CM'!W$9:W$58)-SUM('3bis. Calcul répartition CM'!U$9:U$58)>1),\"erreur\",\"\")","v":""},{"$f":"IF(V17=\"erreur\",0,IF(OR('3bis. Calcul répartition CM'!W$5=0,'3bis. Calcul répartition CM'!V22=0),0,IF('3bis. Calcul répartition CM'!W22-'3bis. Calcul répartition CM'!U22>0,1,0)))","v":0},{"$f":"IF(AND('3bis. Calcul répartition CM'!X22=MAX('3bis. Calcul répartition CM'!X$9:X$58),'3bis. Calcul répartition CM'!X22>0,COUNTIF('3bis. Calcul répartition CM'!X$9:X$58,'3bis. Calcul répartition CM'!X22)>1,SUM('3bis. Calcul répartition CM'!Y$9:Y$58)-SUM('3bis. Calcul répartition CM'!W$9:W$58)>1),\"erreur\",\"\")","v":""},{"$f":"IF(X17=\"erreur\",0,IF(OR('3bis. Calcul répartition CM'!Y$5=0,'3bis. Calcul répartition CM'!X22=0),0,IF('3bis. Calcul répartition CM'!Y22-'3bis. Calcul répartition CM'!W22>0,1,0)))","v":0},{"$f":"IF(AND('3bis. Calcul répartition CM'!Z22=MAX('3bis. Calcul répartition CM'!Z$9:Z$58),'3bis. Calcul répartition CM'!Z22>0,COUNTIF('3bis. Calcul répartition CM'!Z$9:Z$58,'3bis. Calcul répartition CM'!Z22)>1,SUM('3bis. Calcul répartition CM'!AA$9:AA$58)-SUM('3bis. Calcul répartition CM'!Y$9:Y$58)>1),\"erreur\",\"\")","v":""},{"$f":"IF(Z17=\"erreur\",0,IF(OR('3bis. Calcul répartition CM'!AA$5=0,'3bis. Calcul répartition CM'!Z22=0),0,IF('3bis. Calcul répartition CM'!AA22-'3bis. Calcul répartition CM'!Y22>0,1,0)))","v":0},{"$f":"IF(AND('3bis. Calcul répartition CM'!AB22=MAX('3bis. Calcul répartition CM'!AB$9:AB$58),'3bis. Calcul répartition CM'!AB22>0,COUNTIF('3bis. Calcul répartition CM'!AB$9:AB$58,'3bis. Calcul répartition CM'!AB22)>1,SUM('3bis. Calcul répartition CM'!AC$9:AC$58)-SUM('3bis. Calcul répartition CM'!AA$9:AA$58)>1),\"erreur\",\"\")","v":""},{"$f":"IF(AB17=\"erreur\",0,IF(OR('3bis. Calcul répartition CM'!AC$5=0,'3bis. Calcul répartition CM'!AB22=0),0,IF('3bis. Calcul répartition CM'!AC22-'3bis. Calcul répartition CM'!AA22>0,1,0)))","v":0},{"$f":"IF(AND('3bis. Calcul répartition CM'!AD22=MAX('3bis. Calcul répartition CM'!AD$9:AD$58),'3bis. Calcul répartition CM'!AD22>0,COUNTIF('3bis. Calcul répartition CM'!AD$9:AD$58,'3bis. Calcul répartition CM'!AD22)>1,SUM('3bis. Calcul répartition CM'!AE$9:AE$58)-SUM('3bis. Calcul répartition CM'!AC$9:AC$58)>1),\"erreur\",\"\")","v":""},{"$f":"IF(AD17=\"erreur\",0,IF(OR('3bis. Calcul répartition CM'!AE$5=0,'3bis. Calcul répartition CM'!AD22=0),0,IF('3bis. Calcul répartition CM'!AE22-'3bis. Calcul répartition CM'!AC22>0,1,0)))","v":0},{"$f":"IF(AND('3bis. Calcul répartition CM'!AF22=MAX('3bis. Calcul répartition CM'!AF$9:AF$58),'3bis. Calcul répartition CM'!AF22>0,COUNTIF('3bis. Calcul répartition CM'!AF$9:AF$58,'3bis. Calcul répartition CM'!AF22)>1,SUM('3bis. Calcul répartition CM'!AG$9:AG$58)-SUM('3bis. Calcul répartition CM'!AE$9:AE$58)>1),\"erreur\",\"\")","v":""},{"$f":"IF(AF17=\"erreur\",0,IF(OR('3bis. Calcul répartition CM'!AG$5=0,'3bis. Calcul répartition CM'!AF22=0),0,IF('3bis. Calcul répartition CM'!AG22-'3bis. Calcul répartition CM'!AE22>0,1,0)))","v":0},{"$f":"IF(AND('3bis. Calcul répartition CM'!AH22=MAX('3bis. Calcul répartition CM'!AH$9:AH$58),'3bis. Calcul répartition CM'!AH22>0,COUNTIF('3bis. Calcul répartition CM'!AH$9:AH$58,'3bis. Calcul répartition CM'!AH22)>1,SUM('3bis. Calcul répartition CM'!AI$9:AI$58)-SUM('3bis. Calcul répartition CM'!AG$9:AG$58)>1),\"erreur\",\"\")","v":""},{"$f":"IF(AH17=\"erreur\",0,IF(OR('3bis. Calcul répartition CM'!AI$5=0,'3bis. Calcul répartition CM'!AH22=0),0,IF('3bis. Calcul répartition CM'!AI22-'3bis. Calcul répartition CM'!AG22>0,1,0)))","v":0},{"$f":"IF(AND('3bis. Calcul répartition CM'!AJ22=MAX('3bis. Calcul répartition CM'!AJ$9:AJ$58),'3bis. Calcul répartition CM'!AJ22>0,COUNTIF('3bis. Calcul répartition CM'!AJ$9:AJ$58,'3bis. Calcul répartition CM'!AJ22)>1,SUM('3bis. Calcul répartition CM'!AK$9:AK$58)-SUM('3bis. Calcul répartition CM'!AI$9:AI$58)>1),\"erreur\",\"\")","v":""},{"$f":"IF(AJ17=\"erreur\",0,IF(OR('3bis. Calcul répartition CM'!AK$5=0,'3bis. Calcul répartition CM'!AJ22=0),0,IF('3bis. Calcul répartition CM'!AK22-'3bis. Calcul répartition CM'!AI22>0,1,0)))","v":0},{"$f":"IF(AND('3bis. Calcul répartition CM'!AL22=MAX('3bis. Calcul répartition CM'!AL$9:AL$58),'3bis. Calcul répartition CM'!AL22>0,COUNTIF('3bis. Calcul répartition CM'!AL$9:AL$58,'3bis. Calcul répartition CM'!AL22)>1,SUM('3bis. Calcul répartition CM'!AM$9:AM$58)-SUM('3bis. Calcul répartition CM'!AK$9:AK$58)>1),\"erreur\",\"\")","v":""},{"$f":"IF(AL17=\"erreur\",0,IF(OR('3bis. Calcul répartition CM'!AM$5=0,'3bis. Calcul répartition CM'!AL22=0),0,IF('3bis. Calcul répartition CM'!AM22-'3bis. Calcul répartition CM'!AK22>0,1,0)))","v":0},{"$f":"IF(AND('3bis. Calcul répartition CM'!AN22=MAX('3bis. Calcul répartition CM'!AN$9:AN$58),'3bis. Calcul répartition CM'!AN22>0,COUNTIF('3bis. Calcul répartition CM'!AN$9:AN$58,'3bis. Calcul répartition CM'!AN22)>1,SUM('3bis. Calcul répartition CM'!AO$9:AO$58)-SUM('3bis. Calcul répartition CM'!AM$9:AM$58)>1),\"erreur\",\"\")","v":""},{"$f":"IF(AN17=\"erreur\",0,IF(OR('3bis. Calcul répartition CM'!AO$5=0,'3bis. Calcul répartition CM'!AN22=0),0,IF('3bis. Calcul répartition CM'!AO22-'3bis. Calcul répartition CM'!AM22>0,1,0)))","v":0},{"$f":"IF(AND('3bis. Calcul répartition CM'!AP22=MAX('3bis. Calcul répartition CM'!AP$9:AP$58),'3bis. Calcul répartition CM'!AP22>0,COUNTIF('3bis. Calcul répartition CM'!AP$9:AP$58,'3bis. Calcul répartition CM'!AP22)>1,SUM('3bis. Calcul répartition CM'!AQ$9:AQ$58)-SUM('3bis. Calcul répartition CM'!AO$9:AO$58)>1),\"erreur\",\"\")","v":""},{"$f":"IF(AP17=\"erreur\",0,IF(OR('3bis. Calcul répartition CM'!AQ$5=0,'3bis. Calcul répartition CM'!AP22=0),0,IF('3bis. Calcul répartition CM'!AQ22-'3bis. Calcul répartition CM'!AO22>0,1,0)))","v":0},{"$f":"IF(AND('3bis. Calcul répartition CM'!AR22=MAX('3bis. Calcul répartition CM'!AR$9:AR$58),'3bis. Calcul répartition CM'!AR22>0,COUNTIF('3bis. Calcul répartition CM'!AR$9:AR$58,'3bis. Calcul répartition CM'!AR22)>1,SUM('3bis. Calcul répartition CM'!AS$9:AS$58)-SUM('3bis. Calcul répartition CM'!AQ$9:AQ$58)>1),\"erreur\",\"\")","v":""},{"$f":"IF(AR17=\"erreur\",0,IF(OR('3bis. Calcul répartition CM'!AS$5=0,'3bis. Calcul répartition CM'!AR22=0),0,IF('3bis. Calcul répartition CM'!AS22-'3bis. Calcul répartition CM'!AQ22>0,1,0)))","v":0},{"$f":"IF(AND('3bis. Calcul répartition CM'!AT22=MAX('3bis. Calcul répartition CM'!AT$9:AT$58),'3bis. Calcul répartition CM'!AT22>0,COUNTIF('3bis. Calcul répartition CM'!AT$9:AT$58,'3bis. Calcul répartition CM'!AT22)>1,SUM('3bis. Calcul répartition CM'!AU$9:AU$58)-SUM('3bis. Calcul répartition CM'!AS$9:AS$58)>1),\"erreur\",\"\")","v":""},{"$f":"IF(AT17=\"erreur\",0,IF(OR('3bis. Calcul répartition CM'!AU$5=0,'3bis. Calcul répartition CM'!AT22=0),0,IF('3bis. Calcul répartition CM'!AU22-'3bis. Calcul répartition CM'!AS22>0,1,0)))","v":0},{"$f":"IF(AND('3bis. Calcul répartition CM'!AV22=MAX('3bis. Calcul répartition CM'!AV$9:AV$58),'3bis. Calcul répartition CM'!AV22>0,COUNTIF('3bis. Calcul répartition CM'!AV$9:AV$58,'3bis. Calcul répartition CM'!AV22)>1,SUM('3bis. Calcul répartition CM'!AW$9:AW$58)-SUM('3bis. Calcul répartition CM'!AU$9:AU$58)>1),\"erreur\",\"\")","v":""},{"$f":"IF(AV17=\"erreur\",0,IF(OR('3bis. Calcul répartition CM'!AW$5=0,'3bis. Calcul répartition CM'!AV22=0),0,IF('3bis. Calcul répartition CM'!AW22-'3bis. Calcul répartition CM'!AU22>0,1,0)))","v":0},{"$f":"IF(AND('3bis. Calcul répartition CM'!AX22=MAX('3bis. Calcul répartition CM'!AX$9:AX$58),'3bis. Calcul répartition CM'!AX22>0,COUNTIF('3bis. Calcul répartition CM'!AX$9:AX$58,'3bis. Calcul répartition CM'!AX22)>1,SUM('3bis. Calcul répartition CM'!AY$9:AY$58)-SUM('3bis. Calcul répartition CM'!AW$9:AW$58)>1),\"erreur\",\"\")","v":""},{"$f":"IF(AX17=\"erreur\",0,IF(OR('3bis. Calcul répartition CM'!AY$5=0,'3bis. Calcul répartition CM'!AX22=0),0,IF('3bis. Calcul répartition CM'!AY22-'3bis. Calcul répartition CM'!AW22>0,1,0)))","v":0},{"$f":"IF(AND('3bis. Calcul répartition CM'!AZ22=MAX('3bis. Calcul répartition CM'!AZ$9:AZ$58),'3bis. Calcul répartition CM'!AZ22>0,COUNTIF('3bis. Calcul répartition CM'!AZ$9:AZ$58,'3bis. Calcul répartition CM'!AZ22)>1,SUM('3bis. Calcul répartition CM'!BA$9:BA$58)-SUM('3bis. Calcul répartition CM'!AY$9:AY$58)>1),\"erreur\",\"\")","v":""},{"$f":"IF(AZ17=\"erreur\",0,IF(OR('3bis. Calcul répartition CM'!BA$5=0,'3bis. Calcul répartition CM'!AZ22=0),0,IF('3bis. Calcul répartition CM'!BA22-'3bis. Calcul répartition CM'!AY22>0,1,0)))","v":0},{"$f":"IF(AND('3bis. Calcul répartition CM'!BB22=MAX('3bis. Calcul répartition CM'!BB$9:BB$58),'3bis. Calcul répartition CM'!BB22>0,COUNTIF('3bis. Calcul répartition CM'!BB$9:BB$58,'3bis. Calcul répartition CM'!BB22)>1,SUM('3bis. Calcul répartition CM'!BC$9:BC$58)-SUM('3bis. Calcul répartition CM'!BA$9:BA$58)>1),\"erreur\",\"\")","v":""},{"$f":"IF(BB17=\"erreur\",0,IF(OR('3bis. Calcul répartition CM'!BC$5=0,'3bis. Calcul répartition CM'!BB22=0),0,IF('3bis. Calcul répartition CM'!BC22-'3bis. Calcul répartition CM'!BA22>0,1,0)))","v":0},{"$f":"IF(AND('3bis. Calcul répartition CM'!BD22=MAX('3bis. Calcul répartition CM'!BD$9:BD$58),'3bis. Calcul répartition CM'!BD22>0,COUNTIF('3bis. Calcul répartition CM'!BD$9:BD$58,'3bis. Calcul répartition CM'!BD22)>1,SUM('3bis. Calcul répartition CM'!BE$9:BE$58)-SUM('3bis. Calcul répartition CM'!BC$9:BC$58)>1),\"erreur\",\"\")","v":""},{"$f":"IF(BD17=\"erreur\",0,IF(OR('3bis. Calcul répartition CM'!BE$5=0,'3bis. Calcul répartition CM'!BD22=0),0,IF('3bis. Calcul répartition CM'!BE22-'3bis. Calcul répartition CM'!BC22>0,1,0)))","v":0},{"$f":"IF(AND('3bis. Calcul répartition CM'!BF22=MAX('3bis. Calcul répartition CM'!BF$9:BF$58),'3bis. Calcul répartition CM'!BF22>0,COUNTIF('3bis. Calcul répartition CM'!BF$9:BF$58,'3bis. Calcul répartition CM'!BF22)>1,SUM('3bis. Calcul répartition CM'!BG$9:BG$58)-SUM('3bis. Calcul répartition CM'!BE$9:BE$58)>1),\"erreur\",\"\")","v":""},{"$f":"IF(BF17=\"erreur\",0,IF(OR('3bis. Calcul répartition CM'!BG$5=0,'3bis. Calcul répartition CM'!BF22=0),0,IF('3bis. Calcul répartition CM'!BG22-'3bis. Calcul répartition CM'!BE22>0,1,0)))","v":0},{"$f":"IF(AND('3bis. Calcul répartition CM'!BH22=MAX('3bis. Calcul répartition CM'!BH$9:BH$58),'3bis. Calcul répartition CM'!BH22>0,COUNTIF('3bis. Calcul répartition CM'!BH$9:BH$58,'3bis. Calcul répartition CM'!BH22)>1,SUM('3bis. Calcul répartition CM'!BI$9:BI$58)-SUM('3bis. Calcul répartition CM'!BG$9:BG$58)>1),\"erreur\",\"\")","v":""},{"$f":"IF(BH17=\"erreur\",0,IF(OR('3bis. Calcul répartition CM'!BI$5=0,'3bis. Calcul répartition CM'!BH22=0),0,IF('3bis. Calcul répartition CM'!BI22-'3bis. Calcul répartition CM'!BG22>0,1,0)))","v":0},{"$f":"IF(AND('3bis. Calcul répartition CM'!BJ22=MAX('3bis. Calcul répartition CM'!BJ$9:BJ$58),'3bis. Calcul répartition CM'!BJ22>0,COUNTIF('3bis. Calcul répartition CM'!BJ$9:BJ$58,'3bis. Calcul répartition CM'!BJ22)>1,SUM('3bis. Calcul répartition CM'!BK$9:BK$58)-SUM('3bis. Calcul répartition CM'!BI$9:BI$58)>1),\"erreur\",\"\")","v":""},{"$f":"IF(BJ17=\"erreur\",0,IF(OR('3bis. Calcul répartition CM'!BK$5=0,'3bis. Calcul répartition CM'!BJ22=0),0,IF('3bis. Calcul répartition CM'!BK22-'3bis. Calcul répartition CM'!BI22>0,1,0)))","v":0},{"$f":"IF(AND('3bis. Calcul répartition CM'!BL22=MAX('3bis. Calcul répartition CM'!BL$9:BL$58),'3bis. Calcul répartition CM'!BL22>0,COUNTIF('3bis. Calcul répartition CM'!BL$9:BL$58,'3bis. Calcul répartition CM'!BL22)>1,SUM('3bis. Calcul répartition CM'!BM$9:BM$58)-SUM('3bis. Calcul répartition CM'!BK$9:BK$58)>1),\"erreur\",\"\")","v":""},{"$f":"IF(BL17=\"erreur\",0,IF(OR('3bis. Calcul répartition CM'!BM$5=0,'3bis. Calcul répartition CM'!BL22=0),0,IF('3bis. Calcul répartition CM'!BM22-'3bis. Calcul répartition CM'!BK22>0,1,0)))","v":0},{"$f":"IF(AND('3bis. Calcul répartition CM'!BN22=MAX('3bis. Calcul répartition CM'!BN$9:BN$58),'3bis. Calcul répartition CM'!BN22>0,COUNTIF('3bis. Calcul répartition CM'!BN$9:BN$58,'3bis. Calcul répartition CM'!BN22)>1,SUM('3bis. Calcul répartition CM'!BO$9:BO$58)-SUM('3bis. Calcul répartition CM'!BM$9:BM$58)>1),\"erreur\",\"\")","v":""},{"$f":"IF(BN17=\"erreur\",0,IF(OR('3bis. Calcul répartition CM'!BO$5=0,'3bis. Calcul répartition CM'!BN22=0),0,IF('3bis. Calcul répartition CM'!BO22-'3bis. Calcul répartition CM'!BM22>0,1,0)))","v":0},{"$f":"IF(AND('3bis. Calcul répartition CM'!BP22=MAX('3bis. Calcul répartition CM'!BP$9:BP$58),'3bis. Calcul répartition CM'!BP22>0,COUNTIF('3bis. Calcul répartition CM'!BP$9:BP$58,'3bis. Calcul répartition CM'!BP22)>1,SUM('3bis. Calcul répartition CM'!BQ$9:BQ$58)-SUM('3bis. Calcul répartition CM'!BO$9:BO$58)>1),\"erreur\",\"\")","v":""},{"$f":"IF(BP17=\"erreur\",0,IF(OR('3bis. Calcul répartition CM'!BQ$5=0,'3bis. Calcul répartition CM'!BP22=0),0,IF('3bis. Calcul répartition CM'!BQ22-'3bis. Calcul répartition CM'!BO22>0,1,0)))","v":0}]
[null,null,null,null,null,null,null,null,{"$f":"'3bis. Calcul répartition CM'!B23","v":0},{"$f":"IF(AND('3bis. Calcul répartition CM'!J23=MAX('3bis. Calcul répartition CM'!J$9:J$58),'3bis. Calcul répartition CM'!J23>0,COUNTIF('3bis. Calcul répartition CM'!J$9:J$58,'3bis. Calcul répartition CM'!J23)>1,SUM('3bis. Calcul répartition CM'!$K$9:$K$58)-SUM('3bis. Calcul répartition CM'!$D$9:$D$58)>1),\"erreur\",\"\")","v":""},{"$f":"IF(J18=\"erreur\",0,IF(OR('3bis. Calcul répartition CM'!K$5=0,'3bis. Calcul répartition CM'!J23=0),0,IF('3bis. Calcul répartition CM'!K23-'3bis. Calcul répartition CM'!D23>0,1,0)))","v":0},{"$f":"IF(AND('3bis. Calcul répartition CM'!L23=MAX('3bis. Calcul répartition CM'!L$9:L$58),'3bis. Calcul répartition CM'!L23>0,COUNTIF('3bis. Calcul répartition CM'!L$9:L$58,'3bis. Calcul répartition CM'!L23)>1,SUM('3bis. Calcul répartition CM'!M$9:M$58)-SUM('3bis. Calcul répartition CM'!K$9:K$58)>1),\"erreur\",\"\")","v":""},{"$f":"IF(L18=\"erreur\",0,IF(OR('3bis. Calcul répartition CM'!M$5=0,'3bis. Calcul répartition CM'!L23=0),0,IF('3bis. Calcul répartition CM'!M23-'3bis. Calcul répartition CM'!K23>0,1,0)))","v":0},{"$f":"IF(AND('3bis. Calcul répartition CM'!N23=MAX('3bis. Calcul répartition CM'!N$9:N$58),'3bis. Calcul répartition CM'!N23>0,COUNTIF('3bis. Calcul répartition CM'!N$9:N$58,'3bis. Calcul répartition CM'!N23)>1,SUM('3bis. Calcul répartition CM'!O$9:O$58)-SUM('3bis. Calcul répartition CM'!M$9:M$58)>1),\"erreur\",\"\")","v":""},{"$f":"IF(N18=\"erreur\",0,IF(OR('3bis. Calcul répartition CM'!O$5=0,'3bis. Calcul répartition CM'!N23=0),0,IF('3bis. Calcul répartition CM'!O23-'3bis. Calcul répartition CM'!M23>0,1,0)))","v":0},{"$f":"IF(AND('3bis. Calcul répartition CM'!P23=MAX('3bis. Calcul répartition CM'!P$9:P$58),'3bis. Calcul répartition CM'!P23>0,COUNTIF('3bis. Calcul répartition CM'!P$9:P$58,'3bis. Calcul répartition CM'!P23)>1,SUM('3bis. Calcul répartition CM'!Q$9:Q$58)-SUM('3bis. Calcul répartition CM'!O$9:O$58)>1),\"erreur\",\"\")","v":""},{"$f":"IF(P18=\"erreur\",0,IF(OR('3bis. Calcul répartition CM'!Q$5=0,'3bis. Calcul répartition CM'!P23=0),0,IF('3bis. Calcul répartition CM'!Q23-'3bis. Calcul répartition CM'!O23>0,1,0)))","v":0},{"$f":"IF(AND('3bis. Calcul répartition CM'!R23=MAX('3bis. Calcul répartition CM'!R$9:R$58),'3bis. Calcul répartition CM'!R23>0,COUNTIF('3bis. Calcul répartition CM'!R$9:R$58,'3bis. Calcul répartition CM'!R23)>1,SUM('3bis. Calcul répartition CM'!S$9:S$58)-SUM('3bis. Calcul répartition CM'!Q$9:Q$58)>1),\"erreur\",\"\")","v":""},{"$f":"IF(R18=\"erreur\",0,IF(OR('3bis. Calcul répartition CM'!S$5=0,'3bis. Calcul répartition CM'!R23=0),0,IF('3bis. Calcul répartition CM'!S23-'3bis. Calcul répartition CM'!Q23>0,1,0)))","v":0},{"$f":"IF(AND('3bis. Calcul répartition CM'!T23=MAX('3bis. Calcul répartition CM'!T$9:T$58),'3bis. Calcul répartition CM'!T23>0,COUNTIF('3bis. Calcul répartition CM'!T$9:T$58,'3bis. Calcul répartition CM'!T23)>1,SUM('3bis. Calcul répartition CM'!U$9:U$58)-SUM('3bis. Calcul répartition CM'!S$9:S$58)>1),\"erreur\",\"\")","v":""},{"$f":"IF(T18=\"erreur\",0,IF(OR('3bis. Calcul répartition CM'!U$5=0,'3bis. Calcul répartition CM'!T23=0),0,IF('3bis. Calcul répartition CM'!U23-'3bis. Calcul répartition CM'!S23>0,1,0)))","v":0},{"$f":"IF(AND('3bis. Calcul répartition CM'!V23=MAX('3bis. Calcul répartition CM'!V$9:V$58),'3bis. Calcul répartition CM'!V23>0,COUNTIF('3bis. Calcul répartition CM'!V$9:V$58,'3bis. Calcul répartition CM'!V23)>1,SUM('3bis. Calcul répartition CM'!W$9:W$58)-SUM('3bis. Calcul répartition CM'!U$9:U$58)>1),\"erreur\",\"\")","v":""},{"$f":"IF(V18=\"erreur\",0,IF(OR('3bis. Calcul répartition CM'!W$5=0,'3bis. Calcul répartition CM'!V23=0),0,IF('3bis. Calcul répartition CM'!W23-'3bis. Calcul répartition CM'!U23>0,1,0)))","v":0},{"$f":"IF(AND('3bis. Calcul répartition CM'!X23=MAX('3bis. Calcul répartition CM'!X$9:X$58),'3bis. Calcul répartition CM'!X23>0,COUNTIF('3bis. Calcul répartition CM'!X$9:X$58,'3bis. Calcul répartition CM'!X23)>1,SUM('3bis. Calcul répartition CM'!Y$9:Y$58)-SUM('3bis. Calcul répartition CM'!W$9:W$58)>1),\"erreur\",\"\")","v":""},{"$f":"IF(X18=\"erreur\",0,IF(OR('3bis. Calcul répartition CM'!Y$5=0,'3bis. Calcul répartition CM'!X23=0),0,IF('3bis. Calcul répartition CM'!Y23-'3bis. Calcul répartition CM'!W23>0,1,0)))","v":0},{"$f":"IF(AND('3bis. Calcul répartition CM'!Z23=MAX('3bis. Calcul répartition CM'!Z$9:Z$58),'3bis. Calcul répartition CM'!Z23>0,COUNTIF('3bis. Calcul répartition CM'!Z$9:Z$58,'3bis. Calcul répartition CM'!Z23)>1,SUM('3bis. Calcul répartition CM'!AA$9:AA$58)-SUM('3bis. Calcul répartition CM'!Y$9:Y$58)>1),\"erreur\",\"\")","v":""},{"$f":"IF(Z18=\"erreur\",0,IF(OR('3bis. Calcul répartition CM'!AA$5=0,'3bis. Calcul répartition CM'!Z23=0),0,IF('3bis. Calcul répartition CM'!AA23-'3bis. Calcul répartition CM'!Y23>0,1,0)))","v":0},{"$f":"IF(AND('3bis. Calcul répartition CM'!AB23=MAX('3bis. Calcul répartition CM'!AB$9:AB$58),'3bis. Calcul répartition CM'!AB23>0,COUNTIF('3bis. Calcul répartition CM'!AB$9:AB$58,'3bis. Calcul répartition CM'!AB23)>1,SUM('3bis. Calcul répartition CM'!AC$9:AC$58)-SUM('3bis. Calcul répartition CM'!AA$9:AA$58)>1),\"erreur\",\"\")","v":""},{"$f":"IF(AB18=\"erreur\",0,IF(OR('3bis. Calcul répartition CM'!AC$5=0,'3bis. Calcul répartition CM'!AB23=0),0,IF('3bis. Calcul répartition CM'!AC23-'3bis. Calcul répartition CM'!AA23>0,1,0)))","v":0},{"$f":"IF(AND('3bis. Calcul répartition CM'!AD23=MAX('3bis. Calcul répartition CM'!AD$9:AD$58),'3bis. Calcul répartition CM'!AD23>0,COUNTIF('3bis. Calcul répartition CM'!AD$9:AD$58,'3bis. Calcul répartition CM'!AD23)>1,SUM('3bis. Calcul répartition CM'!AE$9:AE$58)-SUM('3bis. Calcul répartition CM'!AC$9:AC$58)>1),\"erreur\",\"\")","v":""},{"$f":"IF(AD18=\"erreur\",0,IF(OR('3bis. Calcul répartition CM'!AE$5=0,'3bis. Calcul répartition CM'!AD23=0),0,IF('3bis. Calcul répartition CM'!AE23-'3bis. Calcul répartition CM'!AC23>0,1,0)))","v":0},{"$f":"IF(AND('3bis. Calcul répartition CM'!AF23=MAX('3bis. Calcul répartition CM'!AF$9:AF$58),'3bis. Calcul répartition CM'!AF23>0,COUNTIF('3bis. Calcul répartition CM'!AF$9:AF$58,'3bis. Calcul répartition CM'!AF23)>1,SUM('3bis. Calcul répartition CM'!AG$9:AG$58)-SUM('3bis. Calcul répartition CM'!AE$9:AE$58)>1),\"erreur\",\"\")","v":""},{"$f":"IF(AF18=\"erreur\",0,IF(OR('3bis. Calcul répartition CM'!AG$5=0,'3bis. Calcul répartition CM'!AF23=0),0,IF('3bis. Calcul répartition CM'!AG23-'3bis. Calcul répartition CM'!AE23>0,1,0)))","v":0},{"$f":"IF(AND('3bis. Calcul répartition CM'!AH23=MAX('3bis. Calcul répartition CM'!AH$9:AH$58),'3bis. Calcul répartition CM'!AH23>0,COUNTIF('3bis. Calcul répartition CM'!AH$9:AH$58,'3bis. Calcul répartition CM'!AH23)>1,SUM('3bis. Calcul répartition CM'!AI$9:AI$58)-SUM('3bis. Calcul répartition CM'!AG$9:AG$58)>1),\"erreur\",\"\")","v":""},{"$f":"IF(AH18=\"erreur\",0,IF(OR('3bis. Calcul répartition CM'!AI$5=0,'3bis. Calcul répartition CM'!AH23=0),0,IF('3bis. Calcul répartition CM'!AI23-'3bis. Calcul répartition CM'!AG23>0,1,0)))","v":0},{"$f":"IF(AND('3bis. Calcul répartition CM'!AJ23=MAX('3bis. Calcul répartition CM'!AJ$9:AJ$58),'3bis. Calcul répartition CM'!AJ23>0,COUNTIF('3bis. Calcul répartition CM'!AJ$9:AJ$58,'3bis. Calcul répartition CM'!AJ23)>1,SUM('3bis. Calcul répartition CM'!AK$9:AK$58)-SUM('3bis. Calcul répartition CM'!AI$9:AI$58)>1),\"erreur\",\"\")","v":""},{"$f":"IF(AJ18=\"erreur\",0,IF(OR('3bis. Calcul répartition CM'!AK$5=0,'3bis. Calcul répartition CM'!AJ23=0),0,IF('3bis. Calcul répartition CM'!AK23-'3bis. Calcul répartition CM'!AI23>0,1,0)))","v":0},{"$f":"IF(AND('3bis. Calcul répartition CM'!AL23=MAX('3bis. Calcul répartition CM'!AL$9:AL$58),'3bis. Calcul répartition CM'!AL23>0,COUNTIF('3bis. Calcul répartition CM'!AL$9:AL$58,'3bis. Calcul répartition CM'!AL23)>1,SUM('3bis. Calcul répartition CM'!AM$9:AM$58)-SUM('3bis. Calcul répartition CM'!AK$9:AK$58)>1),\"erreur\",\"\")","v":""},{"$f":"IF(AL18=\"erreur\",0,IF(OR('3bis. Calcul répartition CM'!AM$5=0,'3bis. Calcul répartition CM'!AL23=0),0,IF('3bis. Calcul répartition CM'!AM23-'3bis. Calcul répartition CM'!AK23>0,1,0)))","v":0},{"$f":"IF(AND('3bis. Calcul répartition CM'!AN23=MAX('3bis. Calcul répartition CM'!AN$9:AN$58),'3bis. Calcul répartition CM'!AN23>0,COUNTIF('3bis. Calcul répartition CM'!AN$9:AN$58,'3bis. Calcul répartition CM'!AN23)>1,SUM('3bis. Calcul répartition CM'!AO$9:AO$58)-SUM('3bis. Calcul répartition CM'!AM$9:AM$58)>1),\"erreur\",\"\")","v":""},{"$f":"IF(AN18=\"erreur\",0,IF(OR('3bis. Calcul répartition CM'!AO$5=0,'3bis. Calcul répartition CM'!AN23=0),0,IF('3bis. Calcul répartition CM'!AO23-'3bis. Calcul répartition CM'!AM23>0,1,0)))","v":0},{"$f":"IF(AND('3bis. Calcul répartition CM'!AP23=MAX('3bis. Calcul répartition CM'!AP$9:AP$58),'3bis. Calcul répartition CM'!AP23>0,COUNTIF('3bis. Calcul répartition CM'!AP$9:AP$58,'3bis. Calcul répartition CM'!AP23)>1,SUM('3bis. Calcul répartition CM'!AQ$9:AQ$58)-SUM('3bis. Calcul répartition CM'!AO$9:AO$58)>1),\"erreur\",\"\")","v":""},{"$f":"IF(AP18=\"erreur\",0,IF(OR('3bis. Calcul répartition CM'!AQ$5=0,'3bis. Calcul répartition CM'!AP23=0),0,IF('3bis. Calcul répartition CM'!AQ23-'3bis. Calcul répartition CM'!AO23>0,1,0)))","v":0},{"$f":"IF(AND('3bis. Calcul répartition CM'!AR23=MAX('3bis. Calcul répartition CM'!AR$9:AR$58),'3bis. Calcul répartition CM'!AR23>0,COUNTIF('3bis. Calcul répartition CM'!AR$9:AR$58,'3bis. Calcul répartition CM'!AR23)>1,SUM('3bis. Calcul répartition CM'!AS$9:AS$58)-SUM('3bis. Calcul répartition CM'!AQ$9:AQ$58)>1),\"erreur\",\"\")","v":""},{"$f":"IF(AR18=\"erreur\",0,IF(OR('3bis. Calcul répartition CM'!AS$5=0,'3bis. Calcul répartition CM'!AR23=0),0,IF('3bis. Calcul répartition CM'!AS23-'3bis. Calcul répartition CM'!AQ23>0,1,0)))","v":0},{"$f":"IF(AND('3bis. Calcul répartition CM'!AT23=MAX('3bis. Calcul répartition CM'!AT$9:AT$58),'3bis. Calcul répartition CM'!AT23>0,COUNTIF('3bis. Calcul répartition CM'!AT$9:AT$58,'3bis. Calcul répartition CM'!AT23)>1,SUM('3bis. Calcul répartition CM'!AU$9:AU$58)-SUM('3bis. Calcul répartition CM'!AS$9:AS$58)>1),\"erreur\",\"\")","v":""},{"$f":"IF(AT18=\"erreur\",0,IF(OR('3bis. Calcul répartition CM'!AU$5=0,'3bis. Calcul répartition CM'!AT23=0),0,IF('3bis. Calcul répartition CM'!AU23-'3bis. Calcul répartition CM'!AS23>0,1,0)))","v":0},{"$f":"IF(AND('3bis. Calcul répartition CM'!AV23=MAX('3bis. Calcul répartition CM'!AV$9:AV$58),'3bis. Calcul répartition CM'!AV23>0,COUNTIF('3bis. Calcul répartition CM'!AV$9:AV$58,'3bis. Calcul répartition CM'!AV23)>1,SUM('3bis. Calcul répartition CM'!AW$9:AW$58)-SUM('3bis. Calcul répartition CM'!AU$9:AU$58)>1),\"erreur\",\"\")","v":""},{"$f":"IF(AV18=\"erreur\",0,IF(OR('3bis. Calcul répartition CM'!AW$5=0,'3bis. Calcul répartition CM'!AV23=0),0,IF('3bis. Calcul répartition CM'!AW23-'3bis. Calcul répartition CM'!AU23>0,1,0)))","v":0},{"$f":"IF(AND('3bis. Calcul répartition CM'!AX23=MAX('3bis. Calcul répartition CM'!AX$9:AX$58),'3bis. Calcul répartition CM'!AX23>0,COUNTIF('3bis. Calcul répartition CM'!AX$9:AX$58,'3bis. Calcul répartition CM'!AX23)>1,SUM('3bis. Calcul répartition CM'!AY$9:AY$58)-SUM('3bis. Calcul répartition CM'!AW$9:AW$58)>1),\"erreur\",\"\")","v":""},{"$f":"IF(AX18=\"erreur\",0,IF(OR('3bis. Calcul répartition CM'!AY$5=0,'3bis. Calcul répartition CM'!AX23=0),0,IF('3bis. Calcul répartition CM'!AY23-'3bis. Calcul répartition CM'!AW23>0,1,0)))","v":0},{"$f":"IF(AND('3bis. Calcul répartition CM'!AZ23=MAX('3bis. Calcul répartition CM'!AZ$9:AZ$58),'3bis. Calcul répartition CM'!AZ23>0,COUNTIF('3bis. Calcul répartition CM'!AZ$9:AZ$58,'3bis. Calcul répartition CM'!AZ23)>1,SUM('3bis. Calcul répartition CM'!BA$9:BA$58)-SUM('3bis. Calcul répartition CM'!AY$9:AY$58)>1),\"erreur\",\"\")","v":""},{"$f":"IF(AZ18=\"erreur\",0,IF(OR('3bis. Calcul répartition CM'!BA$5=0,'3bis. Calcul répartition CM'!AZ23=0),0,IF('3bis. Calcul répartition CM'!BA23-'3bis. Calcul répartition CM'!AY23>0,1,0)))","v":0},{"$f":"IF(AND('3bis. Calcul répartition CM'!BB23=MAX('3bis. Calcul répartition CM'!BB$9:BB$58),'3bis. Calcul répartition CM'!BB23>0,COUNTIF('3bis. Calcul répartition CM'!BB$9:BB$58,'3bis. Calcul répartition CM'!BB23)>1,SUM('3bis. Calcul répartition CM'!BC$9:BC$58)-SUM('3bis. Calcul répartition CM'!BA$9:BA$58)>1),\"erreur\",\"\")","v":""},{"$f":"IF(BB18=\"erreur\",0,IF(OR('3bis. Calcul répartition CM'!BC$5=0,'3bis. Calcul répartition CM'!BB23=0),0,IF('3bis. Calcul répartition CM'!BC23-'3bis. Calcul répartition CM'!BA23>0,1,0)))","v":0},{"$f":"IF(AND('3bis. Calcul répartition CM'!BD23=MAX('3bis. Calcul répartition CM'!BD$9:BD$58),'3bis. Calcul répartition CM'!BD23>0,COUNTIF('3bis. Calcul répartition CM'!BD$9:BD$58,'3bis. Calcul répartition CM'!BD23)>1,SUM('3bis. Calcul répartition CM'!BE$9:BE$58)-SUM('3bis. Calcul répartition CM'!BC$9:BC$58)>1),\"erreur\",\"\")","v":""},{"$f":"IF(BD18=\"erreur\",0,IF(OR('3bis. Calcul répartition CM'!BE$5=0,'3bis. Calcul répartition CM'!BD23=0),0,IF('3bis. Calcul répartition CM'!BE23-'3bis. Calcul répartition CM'!BC23>0,1,0)))","v":0},{"$f":"IF(AND('3bis. Calcul répartition CM'!BF23=MAX('3bis. Calcul répartition CM'!BF$9:BF$58),'3bis. Calcul répartition CM'!BF23>0,COUNTIF('3bis. Calcul répartition CM'!BF$9:BF$58,'3bis. Calcul répartition CM'!BF23)>1,SUM('3bis. Calcul répartition CM'!BG$9:BG$58)-SUM('3bis. Calcul répartition CM'!BE$9:BE$58)>1),\"erreur\",\"\")","v":""},{"$f":"IF(BF18=\"erreur\",0,IF(OR('3bis. Calcul répartition CM'!BG$5=0,'3bis. Calcul répartition CM'!BF23=0),0,IF('3bis. Calcul répartition CM'!BG23-'3bis. Calcul répartition CM'!BE23>0,1,0)))","v":0},{"$f":"IF(AND('3bis. Calcul répartition CM'!BH23=MAX('3bis. Calcul répartition CM'!BH$9:BH$58),'3bis. Calcul répartition CM'!BH23>0,COUNTIF('3bis. Calcul répartition CM'!BH$9:BH$58,'3bis. Calcul répartition CM'!BH23)>1,SUM('3bis. Calcul répartition CM'!BI$9:BI$58)-SUM('3bis. Calcul répartition CM'!BG$9:BG$58)>1),\"erreur\",\"\")","v":""},{"$f":"IF(BH18=\"erreur\",0,IF(OR('3bis. Calcul répartition CM'!BI$5=0,'3bis. Calcul répartition CM'!BH23=0),0,IF('3bis. Calcul répartition CM'!BI23-'3bis. Calcul répartition CM'!BG23>0,1,0)))","v":0},{"$f":"IF(AND('3bis. Calcul répartition CM'!BJ23=MAX('3bis. Calcul répartition CM'!BJ$9:BJ$58),'3bis. Calcul répartition CM'!BJ23>0,COUNTIF('3bis. Calcul répartition CM'!BJ$9:BJ$58,'3bis. Calcul répartition CM'!BJ23)>1,SUM('3bis. Calcul répartition CM'!BK$9:BK$58)-SUM('3bis. Calcul répartition CM'!BI$9:BI$58)>1),\"erreur\",\"\")","v":""},{"$f":"IF(BJ18=\"erreur\",0,IF(OR('3bis. Calcul répartition CM'!BK$5=0,'3bis. Calcul répartition CM'!BJ23=0),0,IF('3bis. Calcul répartition CM'!BK23-'3bis. Calcul répartition CM'!BI23>0,1,0)))","v":0},{"$f":"IF(AND('3bis. Calcul répartition CM'!BL23=MAX('3bis. Calcul répartition CM'!BL$9:BL$58),'3bis. Calcul répartition CM'!BL23>0,COUNTIF('3bis. Calcul répartition CM'!BL$9:BL$58,'3bis. Calcul répartition CM'!BL23)>1,SUM('3bis. Calcul répartition CM'!BM$9:BM$58)-SUM('3bis. Calcul répartition CM'!BK$9:BK$58)>1),\"erreur\",\"\")","v":""},{"$f":"IF(BL18=\"erreur\",0,IF(OR('3bis. Calcul répartition CM'!BM$5=0,'3bis. Calcul répartition CM'!BL23=0),0,IF('3bis. Calcul répartition CM'!BM23-'3bis. Calcul répartition CM'!BK23>0,1,0)))","v":0},{"$f":"IF(AND('3bis. Calcul répartition CM'!BN23=MAX('3bis. Calcul répartition CM'!BN$9:BN$58),'3bis. Calcul répartition CM'!BN23>0,COUNTIF('3bis. Calcul répartition CM'!BN$9:BN$58,'3bis. Calcul répartition CM'!BN23)>1,SUM('3bis. Calcul répartition CM'!BO$9:BO$58)-SUM('3bis. Calcul répartition CM'!BM$9:BM$58)>1),\"erreur\",\"\")","v":""},{"$f":"IF(BN18=\"erreur\",0,IF(OR('3bis. Calcul répartition CM'!BO$5=0,'3bis. Calcul répartition CM'!BN23=0),0,IF('3bis. Calcul répartition CM'!BO23-'3bis. Calcul répartition CM'!BM23>0,1,0)))","v":0},{"$f":"IF(AND('3bis. Calcul répartition CM'!BP23=MAX('3bis. Calcul répartition CM'!BP$9:BP$58),'3bis. Calcul répartition CM'!BP23>0,COUNTIF('3bis. Calcul répartition CM'!BP$9:BP$58,'3bis. Calcul répartition CM'!BP23)>1,SUM('3bis. Calcul répartition CM'!BQ$9:BQ$58)-SUM('3bis. Calcul répartition CM'!BO$9:BO$58)>1),\"erreur\",\"\")","v":""},{"$f":"IF(BP18=\"erreur\",0,IF(OR('3bis. Calcul répartition CM'!BQ$5=0,'3bis. Calcul répartition CM'!BP23=0),0,IF('3bis. Calcul répartition CM'!BQ23-'3bis. Calcul répartition CM'!BO23>0,1,0)))","v":0}]
[null,null,null,null,null,null,null,null,{"$f":"'3bis. Calcul répartition CM'!B24","v":0},{"$f":"IF(AND('3bis. Calcul répartition CM'!J24=MAX('3bis. Calcul répartition CM'!J$9:J$58),'3bis. Calcul répartition CM'!J24>0,COUNTIF('3bis. Calcul répartition CM'!J$9:J$58,'3bis. Calcul répartition CM'!J24)>1,SUM('3bis. Calcul répartition CM'!$K$9:$K$58)-SUM('3bis. Calcul répartition CM'!$D$9:$D$58)>1),\"erreur\",\"\")","v":""},{"$f":"IF(J19=\"erreur\",0,IF(OR('3bis. Calcul répartition CM'!K$5=0,'3bis. Calcul répartition CM'!J24=0),0,IF('3bis. Calcul répartition CM'!K24-'3bis. Calcul répartition CM'!D24>0,1,0)))","v":0},{"$f":"IF(AND('3bis. Calcul répartition CM'!L24=MAX('3bis. Calcul répartition CM'!L$9:L$58),'3bis. Calcul répartition CM'!L24>0,COUNTIF('3bis. Calcul répartition CM'!L$9:L$58,'3bis. Calcul répartition CM'!L24)>1,SUM('3bis. Calcul répartition CM'!M$9:M$58)-SUM('3bis. Calcul répartition CM'!K$9:K$58)>1),\"erreur\",\"\")","v":""},{"$f":"IF(L19=\"erreur\",0,IF(OR('3bis. Calcul répartition CM'!M$5=0,'3bis. Calcul répartition CM'!L24=0),0,IF('3bis. Calcul répartition CM'!M24-'3bis. Calcul répartition CM'!K24>0,1,0)))","v":0},{"$f":"IF(AND('3bis. Calcul répartition CM'!N24=MAX('3bis. Calcul répartition CM'!N$9:N$58),'3bis. Calcul répartition CM'!N24>0,COUNTIF('3bis. Calcul répartition CM'!N$9:N$58,'3bis. Calcul répartition CM'!N24)>1,SUM('3bis. Calcul répartition CM'!O$9:O$58)-SUM('3bis. Calcul répartition CM'!M$9:M$58)>1),\"erreur\",\"\")","v":""},{"$f":"IF(N19=\"erreur\",0,IF(OR('3bis. Calcul répartition CM'!O$5=0,'3bis. Calcul répartition CM'!N24=0),0,IF('3bis. Calcul répartition CM'!O24-'3bis. Calcul répartition CM'!M24>0,1,0)))","v":0},{"$f":"IF(AND('3bis. Calcul répartition CM'!P24=MAX('3bis. Calcul répartition CM'!P$9:P$58),'3bis. Calcul répartition CM'!P24>0,COUNTIF('3bis. Calcul répartition CM'!P$9:P$58,'3bis. Calcul répartition CM'!P24)>1,SUM('3bis. Calcul répartition CM'!Q$9:Q$58)-SUM('3bis. Calcul répartition CM'!O$9:O$58)>1),\"erreur\",\"\")","v":""},{"$f":"IF(P19=\"erreur\",0,IF(OR('3bis. Calcul répartition CM'!Q$5=0,'3bis. Calcul répartition CM'!P24=0),0,IF('3bis. Calcul répartition CM'!Q24-'3bis. Calcul répartition CM'!O24>0,1,0)))","v":0},{"$f":"IF(AND('3bis. Calcul répartition CM'!R24=MAX('3bis. Calcul répartition CM'!R$9:R$58),'3bis. Calcul répartition CM'!R24>0,COUNTIF('3bis. Calcul répartition CM'!R$9:R$58,'3bis. Calcul répartition CM'!R24)>1,SUM('3bis. Calcul répartition CM'!S$9:S$58)-SUM('3bis. Calcul répartition CM'!Q$9:Q$58)>1),\"erreur\",\"\")","v":""},{"$f":"IF(R19=\"erreur\",0,IF(OR('3bis. Calcul répartition CM'!S$5=0,'3bis. Calcul répartition CM'!R24=0),0,IF('3bis. Calcul répartition CM'!S24-'3bis. Calcul répartition CM'!Q24>0,1,0)))","v":0},{"$f":"IF(AND('3bis. Calcul répartition CM'!T24=MAX('3bis. Calcul répartition CM'!T$9:T$58),'3bis. Calcul répartition CM'!T24>0,COUNTIF('3bis. Calcul répartition CM'!T$9:T$58,'3bis. Calcul répartition CM'!T24)>1,SUM('3bis. Calcul répartition CM'!U$9:U$58)-SUM('3bis. Calcul répartition CM'!S$9:S$58)>1),\"erreur\",\"\")","v":""},{"$f":"IF(T19=\"erreur\",0,IF(OR('3bis. Calcul répartition CM'!U$5=0,'3bis. Calcul répartition CM'!T24=0),0,IF('3bis. Calcul répartition CM'!U24-'3bis. Calcul répartition CM'!S24>0,1,0)))","v":0},{"$f":"IF(AND('3bis. Calcul répartition CM'!V24=MAX('3bis. Calcul répartition CM'!V$9:V$58),'3bis. Calcul répartition CM'!V24>0,COUNTIF('3bis. Calcul répartition CM'!V$9:V$58,'3bis. Calcul répartition CM'!V24)>1,SUM('3bis. Calcul répartition CM'!W$9:W$58)-SUM('3bis. Calcul répartition CM'!U$9:U$58)>1),\"erreur\",\"\")","v":""},{"$f":"IF(V19=\"erreur\",0,IF(OR('3bis. Calcul répartition CM'!W$5=0,'3bis. Calcul répartition CM'!V24=0),0,IF('3bis. Calcul répartition CM'!W24-'3bis. Calcul répartition CM'!U24>0,1,0)))","v":0},{"$f":"IF(AND('3bis. Calcul répartition CM'!X24=MAX('3bis. Calcul répartition CM'!X$9:X$58),'3bis. Calcul répartition CM'!X24>0,COUNTIF('3bis. Calcul répartition CM'!X$9:X$58,'3bis. Calcul répartition CM'!X24)>1,SUM('3bis. Calcul répartition CM'!Y$9:Y$58)-SUM('3bis. Calcul répartition CM'!W$9:W$58)>1),\"erreur\",\"\")","v":""},{"$f":"IF(X19=\"erreur\",0,IF(OR('3bis. Calcul répartition CM'!Y$5=0,'3bis. Calcul répartition CM'!X24=0),0,IF('3bis. Calcul répartition CM'!Y24-'3bis. Calcul répartition CM'!W24>0,1,0)))","v":0},{"$f":"IF(AND('3bis. Calcul répartition CM'!Z24=MAX('3bis. Calcul répartition CM'!Z$9:Z$58),'3bis. Calcul répartition CM'!Z24>0,COUNTIF('3bis. Calcul répartition CM'!Z$9:Z$58,'3bis. Calcul répartition CM'!Z24)>1,SUM('3bis. Calcul répartition CM'!AA$9:AA$58)-SUM('3bis. Calcul répartition CM'!Y$9:Y$58)>1),\"erreur\",\"\")","v":""},{"$f":"IF(Z19=\"erreur\",0,IF(OR('3bis. Calcul répartition CM'!AA$5=0,'3bis. Calcul répartition CM'!Z24=0),0,IF('3bis. Calcul répartition CM'!AA24-'3bis. Calcul répartition CM'!Y24>0,1,0)))","v":0},{"$f":"IF(AND('3bis. Calcul répartition CM'!AB24=MAX('3bis. Calcul répartition CM'!AB$9:AB$58),'3bis. Calcul répartition CM'!AB24>0,COUNTIF('3bis. Calcul répartition CM'!AB$9:AB$58,'3bis. Calcul répartition CM'!AB24)>1,SUM('3bis. Calcul répartition CM'!AC$9:AC$58)-SUM('3bis. Calcul répartition CM'!AA$9:AA$58)>1),\"erreur\",\"\")","v":""},{"$f":"IF(AB19=\"erreur\",0,IF(OR('3bis. Calcul répartition CM'!AC$5=0,'3bis. Calcul répartition CM'!AB24=0),0,IF('3bis. Calcul répartition CM'!AC24-'3bis. Calcul répartition CM'!AA24>0,1,0)))","v":0},{"$f":"IF(AND('3bis. Calcul répartition CM'!AD24=MAX('3bis. Calcul répartition CM'!AD$9:AD$58),'3bis. Calcul répartition CM'!AD24>0,COUNTIF('3bis. Calcul répartition CM'!AD$9:AD$58,'3bis. Calcul répartition CM'!AD24)>1,SUM('3bis. Calcul répartition CM'!AE$9:AE$58)-SUM('3bis. Calcul répartition CM'!AC$9:AC$58)>1),\"erreur\",\"\")","v":""},{"$f":"IF(AD19=\"erreur\",0,IF(OR('3bis. Calcul répartition CM'!AE$5=0,'3bis. Calcul répartition CM'!AD24=0),0,IF('3bis. Calcul répartition CM'!AE24-'3bis. Calcul répartition CM'!AC24>0,1,0)))","v":0},{"$f":"IF(AND('3bis. Calcul répartition CM'!AF24=MAX('3bis. Calcul répartition CM'!AF$9:AF$58),'3bis. Calcul répartition CM'!AF24>0,COUNTIF('3bis. Calcul répartition CM'!AF$9:AF$58,'3bis. Calcul répartition CM'!AF24)>1,SUM('3bis. Calcul répartition CM'!AG$9:AG$58)-SUM('3bis. Calcul répartition CM'!AE$9:AE$58)>1),\"erreur\",\"\")","v":""},{"$f":"IF(AF19=\"erreur\",0,IF(OR('3bis. Calcul répartition CM'!AG$5=0,'3bis. Calcul répartition CM'!AF24=0),0,IF('3bis. Calcul répartition CM'!AG24-'3bis. Calcul répartition CM'!AE24>0,1,0)))","v":0},{"$f":"IF(AND('3bis. Calcul répartition CM'!AH24=MAX('3bis. Calcul répartition CM'!AH$9:AH$58),'3bis. Calcul répartition CM'!AH24>0,COUNTIF('3bis. Calcul répartition CM'!AH$9:AH$58,'3bis. Calcul répartition CM'!AH24)>1,SUM('3bis. Calcul répartition CM'!AI$9:AI$58)-SUM('3bis. Calcul répartition CM'!AG$9:AG$58)>1),\"erreur\",\"\")","v":""},{"$f":"IF(AH19=\"erreur\",0,IF(OR('3bis. Calcul répartition CM'!AI$5=0,'3bis. Calcul répartition CM'!AH24=0),0,IF('3bis. Calcul répartition CM'!AI24-'3bis. Calcul répartition CM'!AG24>0,1,0)))","v":0},{"$f":"IF(AND('3bis. Calcul répartition CM'!AJ24=MAX('3bis. Calcul répartition CM'!AJ$9:AJ$58),'3bis. Calcul répartition CM'!AJ24>0,COUNTIF('3bis. Calcul répartition CM'!AJ$9:AJ$58,'3bis. Calcul répartition CM'!AJ24)>1,SUM('3bis. Calcul répartition CM'!AK$9:AK$58)-SUM('3bis. Calcul répartition CM'!AI$9:AI$58)>1),\"erreur\",\"\")","v":""},{"$f":"IF(AJ19=\"erreur\",0,IF(OR('3bis. Calcul répartition CM'!AK$5=0,'3bis. Calcul répartition CM'!AJ24=0),0,IF('3bis. Calcul répartition CM'!AK24-'3bis. Calcul répartition CM'!AI24>0,1,0)))","v":0},{"$f":"IF(AND('3bis. Calcul répartition CM'!AL24=MAX('3bis. Calcul répartition CM'!AL$9:AL$58),'3bis. Calcul répartition CM'!AL24>0,COUNTIF('3bis. Calcul répartition CM'!AL$9:AL$58,'3bis. Calcul répartition CM'!AL24)>1,SUM('3bis. Calcul répartition CM'!AM$9:AM$58)-SUM('3bis. Calcul répartition CM'!AK$9:AK$58)>1),\"erreur\",\"\")","v":""},{"$f":"IF(AL19=\"erreur\",0,IF(OR('3bis. Calcul répartition CM'!AM$5=0,'3bis. Calcul répartition CM'!AL24=0),0,IF('3bis. Calcul répartition CM'!AM24-'3bis. Calcul répartition CM'!AK24>0,1,0)))","v":0},{"$f":"IF(AND('3bis. Calcul répartition CM'!AN24=MAX('3bis. Calcul répartition CM'!AN$9:AN$58),'3bis. Calcul répartition CM'!AN24>0,COUNTIF('3bis. Calcul répartition CM'!AN$9:AN$58,'3bis. Calcul répartition CM'!AN24)>1,SUM('3bis. Calcul répartition CM'!AO$9:AO$58)-SUM('3bis. Calcul répartition CM'!AM$9:AM$58)>1),\"erreur\",\"\")","v":""},{"$f":"IF(AN19=\"erreur\",0,IF(OR('3bis. Calcul répartition CM'!AO$5=0,'3bis. Calcul répartition CM'!AN24=0),0,IF('3bis. Calcul répartition CM'!AO24-'3bis. Calcul répartition CM'!AM24>0,1,0)))","v":0},{"$f":"IF(AND('3bis. Calcul répartition CM'!AP24=MAX('3bis. Calcul répartition CM'!AP$9:AP$58),'3bis. Calcul répartition CM'!AP24>0,COUNTIF('3bis. Calcul répartition CM'!AP$9:AP$58,'3bis. Calcul répartition CM'!AP24)>1,SUM('3bis. Calcul répartition CM'!AQ$9:AQ$58)-SUM('3bis. Calcul répartition CM'!AO$9:AO$58)>1),\"erreur\",\"\")","v":""},{"$f":"IF(AP19=\"erreur\",0,IF(OR('3bis. Calcul répartition CM'!AQ$5=0,'3bis. Calcul répartition CM'!AP24=0),0,IF('3bis. Calcul répartition CM'!AQ24-'3bis. Calcul répartition CM'!AO24>0,1,0)))","v":0},{"$f":"IF(AND('3bis. Calcul répartition CM'!AR24=MAX('3bis. Calcul répartition CM'!AR$9:AR$58),'3bis. Calcul répartition CM'!AR24>0,COUNTIF('3bis. Calcul répartition CM'!AR$9:AR$58,'3bis. Calcul répartition CM'!AR24)>1,SUM('3bis. Calcul répartition CM'!AS$9:AS$58)-SUM('3bis. Calcul répartition CM'!AQ$9:AQ$58)>1),\"erreur\",\"\")","v":""},{"$f":"IF(AR19=\"erreur\",0,IF(OR('3bis. Calcul répartition CM'!AS$5=0,'3bis. Calcul répartition CM'!AR24=0),0,IF('3bis. Calcul répartition CM'!AS24-'3bis. Calcul répartition CM'!AQ24>0,1,0)))","v":0},{"$f":"IF(AND('3bis. Calcul répartition CM'!AT24=MAX('3bis. Calcul répartition CM'!AT$9:AT$58),'3bis. Calcul répartition CM'!AT24>0,COUNTIF('3bis. Calcul répartition CM'!AT$9:AT$58,'3bis. Calcul répartition CM'!AT24)>1,SUM('3bis. Calcul répartition CM'!AU$9:AU$58)-SUM('3bis. Calcul répartition CM'!AS$9:AS$58)>1),\"erreur\",\"\")","v":""},{"$f":"IF(AT19=\"erreur\",0,IF(OR('3bis. Calcul répartition CM'!AU$5=0,'3bis. Calcul répartition CM'!AT24=0),0,IF('3bis. Calcul répartition CM'!AU24-'3bis. Calcul répartition CM'!AS24>0,1,0)))","v":0},{"$f":"IF(AND('3bis. Calcul répartition CM'!AV24=MAX('3bis. Calcul répartition CM'!AV$9:AV$58),'3bis. Calcul répartition CM'!AV24>0,COUNTIF('3bis. Calcul répartition CM'!AV$9:AV$58,'3bis. Calcul répartition CM'!AV24)>1,SUM('3bis. Calcul répartition CM'!AW$9:AW$58)-SUM('3bis. Calcul répartition CM'!AU$9:AU$58)>1),\"erreur\",\"\")","v":""},{"$f":"IF(AV19=\"erreur\",0,IF(OR('3bis. Calcul répartition CM'!AW$5=0,'3bis. Calcul répartition CM'!AV24=0),0,IF('3bis. Calcul répartition CM'!AW24-'3bis. Calcul répartition CM'!AU24>0,1,0)))","v":0},{"$f":"IF(AND('3bis. Calcul répartition CM'!AX24=MAX('3bis. Calcul répartition CM'!AX$9:AX$58),'3bis. Calcul répartition CM'!AX24>0,COUNTIF('3bis. Calcul répartition CM'!AX$9:AX$58,'3bis. Calcul répartition CM'!AX24)>1,SUM('3bis. Calcul répartition CM'!AY$9:AY$58)-SUM('3bis. Calcul répartition CM'!AW$9:AW$58)>1),\"erreur\",\"\")","v":""},{"$f":"IF(AX19=\"erreur\",0,IF(OR('3bis. Calcul répartition CM'!AY$5=0,'3bis. Calcul répartition CM'!AX24=0),0,IF('3bis. Calcul répartition CM'!AY24-'3bis. Calcul répartition CM'!AW24>0,1,0)))","v":0},{"$f":"IF(AND('3bis. Calcul répartition CM'!AZ24=MAX('3bis. Calcul répartition CM'!AZ$9:AZ$58),'3bis. Calcul répartition CM'!AZ24>0,COUNTIF('3bis. Calcul répartition CM'!AZ$9:AZ$58,'3bis. Calcul répartition CM'!AZ24)>1,SUM('3bis. Calcul répartition CM'!BA$9:BA$58)-SUM('3bis. Calcul répartition CM'!AY$9:AY$58)>1),\"erreur\",\"\")","v":""},{"$f":"IF(AZ19=\"erreur\",0,IF(OR('3bis. Calcul répartition CM'!BA$5=0,'3bis. Calcul répartition CM'!AZ24=0),0,IF('3bis. Calcul répartition CM'!BA24-'3bis. Calcul répartition CM'!AY24>0,1,0)))","v":0},{"$f":"IF(AND('3bis. Calcul répartition CM'!BB24=MAX('3bis. Calcul répartition CM'!BB$9:BB$58),'3bis. Calcul répartition CM'!BB24>0,COUNTIF('3bis. Calcul répartition CM'!BB$9:BB$58,'3bis. Calcul répartition CM'!BB24)>1,SUM('3bis. Calcul répartition CM'!BC$9:BC$58)-SUM('3bis. Calcul répartition CM'!BA$9:BA$58)>1),\"erreur\",\"\")","v":""},{"$f":"IF(BB19=\"erreur\",0,IF(OR('3bis. Calcul répartition CM'!BC$5=0,'3bis. Calcul répartition CM'!BB24=0),0,IF('3bis. Calcul répartition CM'!BC24-'3bis. Calcul répartition CM'!BA24>0,1,0)))","v":0},{"$f":"IF(AND('3bis. Calcul répartition CM'!BD24=MAX('3bis. Calcul répartition CM'!BD$9:BD$58),'3bis. Calcul répartition CM'!BD24>0,COUNTIF('3bis. Calcul répartition CM'!BD$9:BD$58,'3bis. Calcul répartition CM'!BD24)>1,SUM('3bis. Calcul répartition CM'!BE$9:BE$58)-SUM('3bis. Calcul répartition CM'!BC$9:BC$58)>1),\"erreur\",\"\")","v":""},{"$f":"IF(BD19=\"erreur\",0,IF(OR('3bis. Calcul répartition CM'!BE$5=0,'3bis. Calcul répartition CM'!BD24=0),0,IF('3bis. Calcul répartition CM'!BE24-'3bis. Calcul répartition CM'!BC24>0,1,0)))","v":0},{"$f":"IF(AND('3bis. Calcul répartition CM'!BF24=MAX('3bis. Calcul répartition CM'!BF$9:BF$58),'3bis. Calcul répartition CM'!BF24>0,COUNTIF('3bis. Calcul répartition CM'!BF$9:BF$58,'3bis. Calcul répartition CM'!BF24)>1,SUM('3bis. Calcul répartition CM'!BG$9:BG$58)-SUM('3bis. Calcul répartition CM'!BE$9:BE$58)>1),\"erreur\",\"\")","v":""},{"$f":"IF(BF19=\"erreur\",0,IF(OR('3bis. Calcul répartition CM'!BG$5=0,'3bis. Calcul répartition CM'!BF24=0),0,IF('3bis. Calcul répartition CM'!BG24-'3bis. Calcul répartition CM'!BE24>0,1,0)))","v":0},{"$f":"IF(AND('3bis. Calcul répartition CM'!BH24=MAX('3bis. Calcul répartition CM'!BH$9:BH$58),'3bis. Calcul répartition CM'!BH24>0,COUNTIF('3bis. Calcul répartition CM'!BH$9:BH$58,'3bis. Calcul répartition CM'!BH24)>1,SUM('3bis. Calcul répartition CM'!BI$9:BI$58)-SUM('3bis. Calcul répartition CM'!BG$9:BG$58)>1),\"erreur\",\"\")","v":""},{"$f":"IF(BH19=\"erreur\",0,IF(OR('3bis. Calcul répartition CM'!BI$5=0,'3bis. Calcul répartition CM'!BH24=0),0,IF('3bis. Calcul répartition CM'!BI24-'3bis. Calcul répartition CM'!BG24>0,1,0)))","v":0},{"$f":"IF(AND('3bis. Calcul répartition CM'!BJ24=MAX('3bis. Calcul répartition CM'!BJ$9:BJ$58),'3bis. Calcul répartition CM'!BJ24>0,COUNTIF('3bis. Calcul répartition CM'!BJ$9:BJ$58,'3bis. Calcul répartition CM'!BJ24)>1,SUM('3bis. Calcul répartition CM'!BK$9:BK$58)-SUM('3bis. Calcul répartition CM'!BI$9:BI$58)>1),\"erreur\",\"\")","v":""},{"$f":"IF(BJ19=\"erreur\",0,IF(OR('3bis. Calcul répartition CM'!BK$5=0,'3bis. Calcul répartition CM'!BJ24=0),0,IF('3bis. Calcul répartition CM'!BK24-'3bis. Calcul répartition CM'!BI24>0,1,0)))","v":0},{"$f":"IF(AND('3bis. Calcul répartition CM'!BL24=MAX('3bis. Calcul répartition CM'!BL$9:BL$58),'3bis. Calcul répartition CM'!BL24>0,COUNTIF('3bis. Calcul répartition CM'!BL$9:BL$58,'3bis. Calcul répartition CM'!BL24)>1,SUM('3bis. Calcul répartition CM'!BM$9:BM$58)-SUM('3bis. Calcul répartition CM'!BK$9:BK$58)>1),\"erreur\",\"\")","v":""},{"$f":"IF(BL19=\"erreur\",0,IF(OR('3bis. Calcul répartition CM'!BM$5=0,'3bis. Calcul répartition CM'!BL24=0),0,IF('3bis. Calcul répartition CM'!BM24-'3bis. Calcul répartition CM'!BK24>0,1,0)))","v":0},{"$f":"IF(AND('3bis. Calcul répartition CM'!BN24=MAX('3bis. Calcul répartition CM'!BN$9:BN$58),'3bis. Calcul répartition CM'!BN24>0,COUNTIF('3bis. Calcul répartition CM'!BN$9:BN$58,'3bis. Calcul répartition CM'!BN24)>1,SUM('3bis. Calcul répartition CM'!BO$9:BO$58)-SUM('3bis. Calcul répartition CM'!BM$9:BM$58)>1),\"erreur\",\"\")","v":""},{"$f":"IF(BN19=\"erreur\",0,IF(OR('3bis. Calcul répartition CM'!BO$5=0,'3bis. Calcul répartition CM'!BN24=0),0,IF('3bis. Calcul répartition CM'!BO24-'3bis. Calcul répartition CM'!BM24>0,1,0)))","v":0},{"$f":"IF(AND('3bis. Calcul répartition CM'!BP24=MAX('3bis. Calcul répartition CM'!BP$9:BP$58),'3bis. Calcul répartition CM'!BP24>0,COUNTIF('3bis. Calcul répartition CM'!BP$9:BP$58,'3bis. Calcul répartition CM'!BP24)>1,SUM('3bis. Calcul répartition CM'!BQ$9:BQ$58)-SUM('3bis. Calcul répartition CM'!BO$9:BO$58)>1),\"erreur\",\"\")","v":""},{"$f":"IF(BP19=\"erreur\",0,IF(OR('3bis. Calcul répartition CM'!BQ$5=0,'3bis. Calcul répartition CM'!BP24=0),0,IF('3bis. Calcul répartition CM'!BQ24-'3bis. Calcul répartition CM'!BO24>0,1,0)))","v":0}]
[null,null,null,null,null,null,null,null,{"$f":"'3bis. Calcul répartition CM'!B25","v":0},{"$f":"IF(AND('3bis. Calcul répartition CM'!J25=MAX('3bis. Calcul répartition CM'!J$9:J$58),'3bis. Calcul répartition CM'!J25>0,COUNTIF('3bis. Calcul répartition CM'!J$9:J$58,'3bis. Calcul répartition CM'!J25)>1,SUM('3bis. Calcul répartition CM'!$K$9:$K$58)-SUM('3bis. Calcul répartition CM'!$D$9:$D$58)>1),\"erreur\",\"\")","v":""},{"$f":"IF(J20=\"erreur\",0,IF(OR('3bis. Calcul répartition CM'!K$5=0,'3bis. Calcul répartition CM'!J25=0),0,IF('3bis. Calcul répartition CM'!K25-'3bis. Calcul répartition CM'!D25>0,1,0)))","v":0},{"$f":"IF(AND('3bis. Calcul répartition CM'!L25=MAX('3bis. Calcul répartition CM'!L$9:L$58),'3bis. Calcul répartition CM'!L25>0,COUNTIF('3bis. Calcul répartition CM'!L$9:L$58,'3bis. Calcul répartition CM'!L25)>1,SUM('3bis. Calcul répartition CM'!M$9:M$58)-SUM('3bis. Calcul répartition CM'!K$9:K$58)>1),\"erreur\",\"\")","v":""},{"$f":"IF(L20=\"erreur\",0,IF(OR('3bis. Calcul répartition CM'!M$5=0,'3bis. Calcul répartition CM'!L25=0),0,IF('3bis. Calcul répartition CM'!M25-'3bis. Calcul répartition CM'!K25>0,1,0)))","v":0},{"$f":"IF(AND('3bis. Calcul répartition CM'!N25=MAX('3bis. Calcul répartition CM'!N$9:N$58),'3bis. Calcul répartition CM'!N25>0,COUNTIF('3bis. Calcul répartition CM'!N$9:N$58,'3bis. Calcul répartition CM'!N25)>1,SUM('3bis. Calcul répartition CM'!O$9:O$58)-SUM('3bis. Calcul répartition CM'!M$9:M$58)>1),\"erreur\",\"\")","v":""},{"$f":"IF(N20=\"erreur\",0,IF(OR('3bis. Calcul répartition CM'!O$5=0,'3bis. Calcul répartition CM'!N25=0),0,IF('3bis. Calcul répartition CM'!O25-'3bis. Calcul répartition CM'!M25>0,1,0)))","v":0},{"$f":"IF(AND('3bis. Calcul répartition CM'!P25=MAX('3bis. Calcul répartition CM'!P$9:P$58),'3bis. Calcul répartition CM'!P25>0,COUNTIF('3bis. Calcul répartition CM'!P$9:P$58,'3bis. Calcul répartition CM'!P25)>1,SUM('3bis. Calcul répartition CM'!Q$9:Q$58)-SUM('3bis. Calcul répartition CM'!O$9:O$58)>1),\"erreur\",\"\")","v":""},{"$f":"IF(P20=\"erreur\",0,IF(OR('3bis. Calcul répartition CM'!Q$5=0,'3bis. Calcul répartition CM'!P25=0),0,IF('3bis. Calcul répartition CM'!Q25-'3bis. Calcul répartition CM'!O25>0,1,0)))","v":0},{"$f":"IF(AND('3bis. Calcul répartition CM'!R25=MAX('3bis. Calcul répartition CM'!R$9:R$58),'3bis. Calcul répartition CM'!R25>0,COUNTIF('3bis. Calcul répartition CM'!R$9:R$58,'3bis. Calcul répartition CM'!R25)>1,SUM('3bis. Calcul répartition CM'!S$9:S$58)-SUM('3bis. Calcul répartition CM'!Q$9:Q$58)>1),\"erreur\",\"\")","v":""},{"$f":"IF(R20=\"erreur\",0,IF(OR('3bis. Calcul répartition CM'!S$5=0,'3bis. Calcul répartition CM'!R25=0),0,IF('3bis. Calcul répartition CM'!S25-'3bis. Calcul répartition CM'!Q25>0,1,0)))","v":0},{"$f":"IF(AND('3bis. Calcul répartition CM'!T25=MAX('3bis. Calcul répartition CM'!T$9:T$58),'3bis. Calcul répartition CM'!T25>0,COUNTIF('3bis. Calcul répartition CM'!T$9:T$58,'3bis. Calcul répartition CM'!T25)>1,SUM('3bis. Calcul répartition CM'!U$9:U$58)-SUM('3bis. Calcul répartition CM'!S$9:S$58)>1),\"erreur\",\"\")","v":""},{"$f":"IF(T20=\"erreur\",0,IF(OR('3bis. Calcul répartition CM'!U$5=0,'3bis. Calcul répartition CM'!T25=0),0,IF('3bis. Calcul répartition CM'!U25-'3bis. Calcul répartition CM'!S25>0,1,0)))","v":0},{"$f":"IF(AND('3bis. Calcul répartition CM'!V25=MAX('3bis. Calcul répartition CM'!V$9:V$58),'3bis. Calcul répartition CM'!V25>0,COUNTIF('3bis. Calcul répartition CM'!V$9:V$58,'3bis. Calcul répartition CM'!V25)>1,SUM('3bis. Calcul répartition CM'!W$9:W$58)-SUM('3bis. Calcul répartition CM'!U$9:U$58)>1),\"erreur\",\"\")","v":""},{"$f":"IF(V20=\"erreur\",0,IF(OR('3bis. Calcul répartition CM'!W$5=0,'3bis. Calcul répartition CM'!V25=0),0,IF('3bis. Calcul répartition CM'!W25-'3bis. Calcul répartition CM'!U25>0,1,0)))","v":0},{"$f":"IF(AND('3bis. Calcul répartition CM'!X25=MAX('3bis. Calcul répartition CM'!X$9:X$58),'3bis. Calcul répartition CM'!X25>0,COUNTIF('3bis. Calcul répartition CM'!X$9:X$58,'3bis. Calcul répartition CM'!X25)>1,SUM('3bis. Calcul répartition CM'!Y$9:Y$58)-SUM('3bis. Calcul répartition CM'!W$9:W$58)>1),\"erreur\",\"\")","v":""},{"$f":"IF(X20=\"erreur\",0,IF(OR('3bis. Calcul répartition CM'!Y$5=0,'3bis. Calcul répartition CM'!X25=0),0,IF('3bis. Calcul répartition CM'!Y25-'3bis. Calcul répartition CM'!W25>0,1,0)))","v":0},{"$f":"IF(AND('3bis. Calcul répartition CM'!Z25=MAX('3bis. Calcul répartition CM'!Z$9:Z$58),'3bis. Calcul répartition CM'!Z25>0,COUNTIF('3bis. Calcul répartition CM'!Z$9:Z$58,'3bis. Calcul répartition CM'!Z25)>1,SUM('3bis. Calcul répartition CM'!AA$9:AA$58)-SUM('3bis. Calcul répartition CM'!Y$9:Y$58)>1),\"erreur\",\"\")","v":""},{"$f":"IF(Z20=\"erreur\",0,IF(OR('3bis. Calcul répartition CM'!AA$5=0,'3bis. Calcul répartition CM'!Z25=0),0,IF('3bis. Calcul répartition CM'!AA25-'3bis. Calcul répartition CM'!Y25>0,1,0)))","v":0},{"$f":"IF(AND('3bis. Calcul répartition CM'!AB25=MAX('3bis. Calcul répartition CM'!AB$9:AB$58),'3bis. Calcul répartition CM'!AB25>0,COUNTIF('3bis. Calcul répartition CM'!AB$9:AB$58,'3bis. Calcul répartition CM'!AB25)>1,SUM('3bis. Calcul répartition CM'!AC$9:AC$58)-SUM('3bis. Calcul répartition CM'!AA$9:AA$58)>1),\"erreur\",\"\")","v":""},{"$f":"IF(AB20=\"erreur\",0,IF(OR('3bis. Calcul répartition CM'!AC$5=0,'3bis. Calcul répartition CM'!AB25=0),0,IF('3bis. Calcul répartition CM'!AC25-'3bis. Calcul répartition CM'!AA25>0,1,0)))","v":0},{"$f":"IF(AND('3bis. Calcul répartition CM'!AD25=MAX('3bis. Calcul répartition CM'!AD$9:AD$58),'3bis. Calcul répartition CM'!AD25>0,COUNTIF('3bis. Calcul répartition CM'!AD$9:AD$58,'3bis. Calcul répartition CM'!AD25)>1,SUM('3bis. Calcul répartition CM'!AE$9:AE$58)-SUM('3bis. Calcul répartition CM'!AC$9:AC$58)>1),\"erreur\",\"\")","v":""},{"$f":"IF(AD20=\"erreur\",0,IF(OR('3bis. Calcul répartition CM'!AE$5=0,'3bis. Calcul répartition CM'!AD25=0),0,IF('3bis. Calcul répartition CM'!AE25-'3bis. Calcul répartition CM'!AC25>0,1,0)))","v":0},{"$f":"IF(AND('3bis. Calcul répartition CM'!AF25=MAX('3bis. Calcul répartition CM'!AF$9:AF$58),'3bis. Calcul répartition CM'!AF25>0,COUNTIF('3bis. Calcul répartition CM'!AF$9:AF$58,'3bis. Calcul répartition CM'!AF25)>1,SUM('3bis. Calcul répartition CM'!AG$9:AG$58)-SUM('3bis. Calcul répartition CM'!AE$9:AE$58)>1),\"erreur\",\"\")","v":""},{"$f":"IF(AF20=\"erreur\",0,IF(OR('3bis. Calcul répartition CM'!AG$5=0,'3bis. Calcul répartition CM'!AF25=0),0,IF('3bis. Calcul répartition CM'!AG25-'3bis. Calcul répartition CM'!AE25>0,1,0)))","v":0},{"$f":"IF(AND('3bis. Calcul répartition CM'!AH25=MAX('3bis. Calcul répartition CM'!AH$9:AH$58),'3bis. Calcul répartition CM'!AH25>0,COUNTIF('3bis. Calcul répartition CM'!AH$9:AH$58,'3bis. Calcul répartition CM'!AH25)>1,SUM('3bis. Calcul répartition CM'!AI$9:AI$58)-SUM('3bis. Calcul répartition CM'!AG$9:AG$58)>1),\"erreur\",\"\")","v":""},{"$f":"IF(AH20=\"erreur\",0,IF(OR('3bis. Calcul répartition CM'!AI$5=0,'3bis. Calcul répartition CM'!AH25=0),0,IF('3bis. Calcul répartition CM'!AI25-'3bis. Calcul répartition CM'!AG25>0,1,0)))","v":0},{"$f":"IF(AND('3bis. Calcul répartition CM'!AJ25=MAX('3bis. Calcul répartition CM'!AJ$9:AJ$58),'3bis. Calcul répartition CM'!AJ25>0,COUNTIF('3bis. Calcul répartition CM'!AJ$9:AJ$58,'3bis. Calcul répartition CM'!AJ25)>1,SUM('3bis. Calcul répartition CM'!AK$9:AK$58)-SUM('3bis. Calcul répartition CM'!AI$9:AI$58)>1),\"erreur\",\"\")","v":""},{"$f":"IF(AJ20=\"erreur\",0,IF(OR('3bis. Calcul répartition CM'!AK$5=0,'3bis. Calcul répartition CM'!AJ25=0),0,IF('3bis. Calcul répartition CM'!AK25-'3bis. Calcul répartition CM'!AI25>0,1,0)))","v":0},{"$f":"IF(AND('3bis. Calcul répartition CM'!AL25=MAX('3bis. Calcul répartition CM'!AL$9:AL$58),'3bis. Calcul répartition CM'!AL25>0,COUNTIF('3bis. Calcul répartition CM'!AL$9:AL$58,'3bis. Calcul répartition CM'!AL25)>1,SUM('3bis. Calcul répartition CM'!AM$9:AM$58)-SUM('3bis. Calcul répartition CM'!AK$9:AK$58)>1),\"erreur\",\"\")","v":""},{"$f":"IF(AL20=\"erreur\",0,IF(OR('3bis. Calcul répartition CM'!AM$5=0,'3bis. Calcul répartition CM'!AL25=0),0,IF('3bis. Calcul répartition CM'!AM25-'3bis. Calcul répartition CM'!AK25>0,1,0)))","v":0},{"$f":"IF(AND('3bis. Calcul répartition CM'!AN25=MAX('3bis. Calcul répartition CM'!AN$9:AN$58),'3bis. Calcul répartition CM'!AN25>0,COUNTIF('3bis. Calcul répartition CM'!AN$9:AN$58,'3bis. Calcul répartition CM'!AN25)>1,SUM('3bis. Calcul répartition CM'!AO$9:AO$58)-SUM('3bis. Calcul répartition CM'!AM$9:AM$58)>1),\"erreur\",\"\")","v":""},{"$f":"IF(AN20=\"erreur\",0,IF(OR('3bis. Calcul répartition CM'!AO$5=0,'3bis. Calcul répartition CM'!AN25=0),0,IF('3bis. Calcul répartition CM'!AO25-'3bis. Calcul répartition CM'!AM25>0,1,0)))","v":0},{"$f":"IF(AND('3bis. Calcul répartition CM'!AP25=MAX('3bis. Calcul répartition CM'!AP$9:AP$58),'3bis. Calcul répartition CM'!AP25>0,COUNTIF('3bis. Calcul répartition CM'!AP$9:AP$58,'3bis. Calcul répartition CM'!AP25)>1,SUM('3bis. Calcul répartition CM'!AQ$9:AQ$58)-SUM('3bis. Calcul répartition CM'!AO$9:AO$58)>1),\"erreur\",\"\")","v":""},{"$f":"IF(AP20=\"erreur\",0,IF(OR('3bis. Calcul répartition CM'!AQ$5=0,'3bis. Calcul répartition CM'!AP25=0),0,IF('3bis. Calcul répartition CM'!AQ25-'3bis. Calcul répartition CM'!AO25>0,1,0)))","v":0},{"$f":"IF(AND('3bis. Calcul répartition CM'!AR25=MAX('3bis. Calcul répartition CM'!AR$9:AR$58),'3bis. Calcul répartition CM'!AR25>0,COUNTIF('3bis. Calcul répartition CM'!AR$9:AR$58,'3bis. Calcul répartition CM'!AR25)>1,SUM('3bis. Calcul répartition CM'!AS$9:AS$58)-SUM('3bis. Calcul répartition CM'!AQ$9:AQ$58)>1),\"erreur\",\"\")","v":""},{"$f":"IF(AR20=\"erreur\",0,IF(OR('3bis. Calcul répartition CM'!AS$5=0,'3bis. Calcul répartition CM'!AR25=0),0,IF('3bis. Calcul répartition CM'!AS25-'3bis. Calcul répartition CM'!AQ25>0,1,0)))","v":0},{"$f":"IF(AND('3bis. Calcul répartition CM'!AT25=MAX('3bis. Calcul répartition CM'!AT$9:AT$58),'3bis. Calcul répartition CM'!AT25>0,COUNTIF('3bis. Calcul répartition CM'!AT$9:AT$58,'3bis. Calcul répartition CM'!AT25)>1,SUM('3bis. Calcul répartition CM'!AU$9:AU$58)-SUM('3bis. Calcul répartition CM'!AS$9:AS$58)>1),\"erreur\",\"\")","v":""},{"$f":"IF(AT20=\"erreur\",0,IF(OR('3bis. Calcul répartition CM'!AU$5=0,'3bis. Calcul répartition CM'!AT25=0),0,IF('3bis. Calcul répartition CM'!AU25-'3bis. Calcul répartition CM'!AS25>0,1,0)))","v":0},{"$f":"IF(AND('3bis. Calcul répartition CM'!AV25=MAX('3bis. Calcul répartition CM'!AV$9:AV$58),'3bis. Calcul répartition CM'!AV25>0,COUNTIF('3bis. Calcul répartition CM'!AV$9:AV$58,'3bis. Calcul répartition CM'!AV25)>1,SUM('3bis. Calcul répartition CM'!AW$9:AW$58)-SUM('3bis. Calcul répartition CM'!AU$9:AU$58)>1),\"erreur\",\"\")","v":""},{"$f":"IF(AV20=\"erreur\",0,IF(OR('3bis. Calcul répartition CM'!AW$5=0,'3bis. Calcul répartition CM'!AV25=0),0,IF('3bis. Calcul répartition CM'!AW25-'3bis. Calcul répartition CM'!AU25>0,1,0)))","v":0},{"$f":"IF(AND('3bis. Calcul répartition CM'!AX25=MAX('3bis. Calcul répartition CM'!AX$9:AX$58),'3bis. Calcul répartition CM'!AX25>0,COUNTIF('3bis. Calcul répartition CM'!AX$9:AX$58,'3bis. Calcul répartition CM'!AX25)>1,SUM('3bis. Calcul répartition CM'!AY$9:AY$58)-SUM('3bis. Calcul répartition CM'!AW$9:AW$58)>1),\"erreur\",\"\")","v":""},{"$f":"IF(AX20=\"erreur\",0,IF(OR('3bis. Calcul répartition CM'!AY$5=0,'3bis. Calcul répartition CM'!AX25=0),0,IF('3bis. Calcul répartition CM'!AY25-'3bis. Calcul répartition CM'!AW25>0,1,0)))","v":0},{"$f":"IF(AND('3bis. Calcul répartition CM'!AZ25=MAX('3bis. Calcul répartition CM'!AZ$9:AZ$58),'3bis. Calcul répartition CM'!AZ25>0,COUNTIF('3bis. Calcul répartition CM'!AZ$9:AZ$58,'3bis. Calcul répartition CM'!AZ25)>1,SUM('3bis. Calcul répartition CM'!BA$9:BA$58)-SUM('3bis. Calcul répartition CM'!AY$9:AY$58)>1),\"erreur\",\"\")","v":""},{"$f":"IF(AZ20=\"erreur\",0,IF(OR('3bis. Calcul répartition CM'!BA$5=0,'3bis. Calcul répartition CM'!AZ25=0),0,IF('3bis. Calcul répartition CM'!BA25-'3bis. Calcul répartition CM'!AY25>0,1,0)))","v":0},{"$f":"IF(AND('3bis. Calcul répartition CM'!BB25=MAX('3bis. Calcul répartition CM'!BB$9:BB$58),'3bis. Calcul répartition CM'!BB25>0,COUNTIF('3bis. Calcul répartition CM'!BB$9:BB$58,'3bis. Calcul répartition CM'!BB25)>1,SUM('3bis. Calcul répartition CM'!BC$9:BC$58)-SUM('3bis. Calcul répartition CM'!BA$9:BA$58)>1),\"erreur\",\"\")","v":""},{"$f":"IF(BB20=\"erreur\",0,IF(OR('3bis. Calcul répartition CM'!BC$5=0,'3bis. Calcul répartition CM'!BB25=0),0,IF('3bis. Calcul répartition CM'!BC25-'3bis. Calcul répartition CM'!BA25>0,1,0)))","v":0},{"$f":"IF(AND('3bis. Calcul répartition CM'!BD25=MAX('3bis. Calcul répartition CM'!BD$9:BD$58),'3bis. Calcul répartition CM'!BD25>0,COUNTIF('3bis. Calcul répartition CM'!BD$9:BD$58,'3bis. Calcul répartition CM'!BD25)>1,SUM('3bis. Calcul répartition CM'!BE$9:BE$58)-SUM('3bis. Calcul répartition CM'!BC$9:BC$58)>1),\"erreur\",\"\")","v":""},{"$f":"IF(BD20=\"erreur\",0,IF(OR('3bis. Calcul répartition CM'!BE$5=0,'3bis. Calcul répartition CM'!BD25=0),0,IF('3bis. Calcul répartition CM'!BE25-'3bis. Calcul répartition CM'!BC25>0,1,0)))","v":0},{"$f":"IF(AND('3bis. Calcul répartition CM'!BF25=MAX('3bis. Calcul répartition CM'!BF$9:BF$58),'3bis. Calcul répartition CM'!BF25>0,COUNTIF('3bis. Calcul répartition CM'!BF$9:BF$58,'3bis. Calcul répartition CM'!BF25)>1,SUM('3bis. Calcul répartition CM'!BG$9:BG$58)-SUM('3bis. Calcul répartition CM'!BE$9:BE$58)>1),\"erreur\",\"\")","v":""},{"$f":"IF(BF20=\"erreur\",0,IF(OR('3bis. Calcul répartition CM'!BG$5=0,'3bis. Calcul répartition CM'!BF25=0),0,IF('3bis. Calcul répartition CM'!BG25-'3bis. Calcul répartition CM'!BE25>0,1,0)))","v":0},{"$f":"IF(AND('3bis. Calcul répartition CM'!BH25=MAX('3bis. Calcul répartition CM'!BH$9:BH$58),'3bis. Calcul répartition CM'!BH25>0,COUNTIF('3bis. Calcul répartition CM'!BH$9:BH$58,'3bis. Calcul répartition CM'!BH25)>1,SUM('3bis. Calcul répartition CM'!BI$9:BI$58)-SUM('3bis. Calcul répartition CM'!BG$9:BG$58)>1),\"erreur\",\"\")","v":""},{"$f":"IF(BH20=\"erreur\",0,IF(OR('3bis. Calcul répartition CM'!BI$5=0,'3bis. Calcul répartition CM'!BH25=0),0,IF('3bis. Calcul répartition CM'!BI25-'3bis. Calcul répartition CM'!BG25>0,1,0)))","v":0},{"$f":"IF(AND('3bis. Calcul répartition CM'!BJ25=MAX('3bis. Calcul répartition CM'!BJ$9:BJ$58),'3bis. Calcul répartition CM'!BJ25>0,COUNTIF('3bis. Calcul répartition CM'!BJ$9:BJ$58,'3bis. Calcul répartition CM'!BJ25)>1,SUM('3bis. Calcul répartition CM'!BK$9:BK$58)-SUM('3bis. Calcul répartition CM'!BI$9:BI$58)>1),\"erreur\",\"\")","v":""},{"$f":"IF(BJ20=\"erreur\",0,IF(OR('3bis. Calcul répartition CM'!BK$5=0,'3bis. Calcul répartition CM'!BJ25=0),0,IF('3bis. Calcul répartition CM'!BK25-'3bis. Calcul répartition CM'!BI25>0,1,0)))","v":0},{"$f":"IF(AND('3bis. Calcul répartition CM'!BL25=MAX('3bis. Calcul répartition CM'!BL$9:BL$58),'3bis. Calcul répartition CM'!BL25>0,COUNTIF('3bis. Calcul répartition CM'!BL$9:BL$58,'3bis. Calcul répartition CM'!BL25)>1,SUM('3bis. Calcul répartition CM'!BM$9:BM$58)-SUM('3bis. Calcul répartition CM'!BK$9:BK$58)>1),\"erreur\",\"\")","v":""},{"$f":"IF(BL20=\"erreur\",0,IF(OR('3bis. Calcul répartition CM'!BM$5=0,'3bis. Calcul répartition CM'!BL25=0),0,IF('3bis. Calcul répartition CM'!BM25-'3bis. Calcul répartition CM'!BK25>0,1,0)))","v":0},{"$f":"IF(AND('3bis. Calcul répartition CM'!BN25=MAX('3bis. Calcul répartition CM'!BN$9:BN$58),'3bis. Calcul répartition CM'!BN25>0,COUNTIF('3bis. Calcul répartition CM'!BN$9:BN$58,'3bis. Calcul répartition CM'!BN25)>1,SUM('3bis. Calcul répartition CM'!BO$9:BO$58)-SUM('3bis. Calcul répartition CM'!BM$9:BM$58)>1),\"erreur\",\"\")","v":""},{"$f":"IF(BN20=\"erreur\",0,IF(OR('3bis. Calcul répartition CM'!BO$5=0,'3bis. Calcul répartition CM'!BN25=0),0,IF('3bis. Calcul répartition CM'!BO25-'3bis. Calcul répartition CM'!BM25>0,1,0)))","v":0},{"$f":"IF(AND('3bis. Calcul répartition CM'!BP25=MAX('3bis. Calcul répartition CM'!BP$9:BP$58),'3bis. Calcul répartition CM'!BP25>0,COUNTIF('3bis. Calcul répartition CM'!BP$9:BP$58,'3bis. Calcul répartition CM'!BP25)>1,SUM('3bis. Calcul répartition CM'!BQ$9:BQ$58)-SUM('3bis. Calcul répartition CM'!BO$9:BO$58)>1),\"erreur\",\"\")","v":""},{"$f":"IF(BP20=\"erreur\",0,IF(OR('3bis. Calcul répartition CM'!BQ$5=0,'3bis. Calcul répartition CM'!BP25=0),0,IF('3bis. Calcul répartition CM'!BQ25-'3bis. Calcul répartition CM'!BO25>0,1,0)))","v":0}]
[null,null,null,null,null,null,null,null,{"$f":"'3bis. Calcul répartition CM'!B26","v":0},{"$f":"IF(AND('3bis. Calcul répartition CM'!J26=MAX('3bis. Calcul répartition CM'!J$9:J$58),'3bis. Calcul répartition CM'!J26>0,COUNTIF('3bis. Calcul répartition CM'!J$9:J$58,'3bis. Calcul répartition CM'!J26)>1,SUM('3bis. Calcul répartition CM'!$K$9:$K$58)-SUM('3bis. Calcul répartition CM'!$D$9:$D$58)>1),\"erreur\",\"\")","v":""},{"$f":"IF(J21=\"erreur\",0,IF(OR('3bis. Calcul répartition CM'!K$5=0,'3bis. Calcul répartition CM'!J26=0),0,IF('3bis. Calcul répartition CM'!K26-'3bis. Calcul répartition CM'!D26>0,1,0)))","v":0},{"$f":"IF(AND('3bis. Calcul répartition CM'!L26=MAX('3bis. Calcul répartition CM'!L$9:L$58),'3bis. Calcul répartition CM'!L26>0,COUNTIF('3bis. Calcul répartition CM'!L$9:L$58,'3bis. Calcul répartition CM'!L26)>1,SUM('3bis. Calcul répartition CM'!M$9:M$58)-SUM('3bis. Calcul répartition CM'!K$9:K$58)>1),\"erreur\",\"\")","v":""},{"$f":"IF(L21=\"erreur\",0,IF(OR('3bis. Calcul répartition CM'!M$5=0,'3bis. Calcul répartition CM'!L26=0),0,IF('3bis. Calcul répartition CM'!M26-'3bis. Calcul répartition CM'!K26>0,1,0)))","v":0},{"$f":"IF(AND('3bis. Calcul répartition CM'!N26=MAX('3bis. Calcul répartition CM'!N$9:N$58),'3bis. Calcul répartition CM'!N26>0,COUNTIF('3bis. Calcul répartition CM'!N$9:N$58,'3bis. Calcul répartition CM'!N26)>1,SUM('3bis. Calcul répartition CM'!O$9:O$58)-SUM('3bis. Calcul répartition CM'!M$9:M$58)>1),\"erreur\",\"\")","v":""},{"$f":"IF(N21=\"erreur\",0,IF(OR('3bis. Calcul répartition CM'!O$5=0,'3bis. Calcul répartition CM'!N26=0),0,IF('3bis. Calcul répartition CM'!O26-'3bis. Calcul répartition CM'!M26>0,1,0)))","v":0},{"$f":"IF(AND('3bis. Calcul répartition CM'!P26=MAX('3bis. Calcul répartition CM'!P$9:P$58),'3bis. Calcul répartition CM'!P26>0,COUNTIF('3bis. Calcul répartition CM'!P$9:P$58,'3bis. Calcul répartition CM'!P26)>1,SUM('3bis. Calcul répartition CM'!Q$9:Q$58)-SUM('3bis. Calcul répartition CM'!O$9:O$58)>1),\"erreur\",\"\")","v":""},{"$f":"IF(P21=\"erreur\",0,IF(OR('3bis. Calcul répartition CM'!Q$5=0,'3bis. Calcul répartition CM'!P26=0),0,IF('3bis. Calcul répartition CM'!Q26-'3bis. Calcul répartition CM'!O26>0,1,0)))","v":0},{"$f":"IF(AND('3bis. Calcul répartition CM'!R26=MAX('3bis. Calcul répartition CM'!R$9:R$58),'3bis. Calcul répartition CM'!R26>0,COUNTIF('3bis. Calcul répartition CM'!R$9:R$58,'3bis. Calcul répartition CM'!R26)>1,SUM('3bis. Calcul répartition CM'!S$9:S$58)-SUM('3bis. Calcul répartition CM'!Q$9:Q$58)>1),\"erreur\",\"\")","v":""},{"$f":"IF(R21=\"erreur\",0,IF(OR('3bis. Calcul répartition CM'!S$5=0,'3bis. Calcul répartition CM'!R26=0),0,IF('3bis. Calcul répartition CM'!S26-'3bis. Calcul répartition CM'!Q26>0,1,0)))","v":0},{"$f":"IF(AND('3bis. Calcul répartition CM'!T26=MAX('3bis. Calcul répartition CM'!T$9:T$58),'3bis. Calcul répartition CM'!T26>0,COUNTIF('3bis. Calcul répartition CM'!T$9:T$58,'3bis. Calcul répartition CM'!T26)>1,SUM('3bis. Calcul répartition CM'!U$9:U$58)-SUM('3bis. Calcul répartition CM'!S$9:S$58)>1),\"erreur\",\"\")","v":""},{"$f":"IF(T21=\"erreur\",0,IF(OR('3bis. Calcul répartition CM'!U$5=0,'3bis. Calcul répartition CM'!T26=0),0,IF('3bis. Calcul répartition CM'!U26-'3bis. Calcul répartition CM'!S26>0,1,0)))","v":0},{"$f":"IF(AND('3bis. Calcul répartition CM'!V26=MAX('3bis. Calcul répartition CM'!V$9:V$58),'3bis. Calcul répartition CM'!V26>0,COUNTIF('3bis. Calcul répartition CM'!V$9:V$58,'3bis. Calcul répartition CM'!V26)>1,SUM('3bis. Calcul répartition CM'!W$9:W$58)-SUM('3bis. Calcul répartition CM'!U$9:U$58)>1),\"erreur\",\"\")","v":""},{"$f":"IF(V21=\"erreur\",0,IF(OR('3bis. Calcul répartition CM'!W$5=0,'3bis. Calcul répartition CM'!V26=0),0,IF('3bis. Calcul répartition CM'!W26-'3bis. Calcul répartition CM'!U26>0,1,0)))","v":0},{"$f":"IF(AND('3bis. Calcul répartition CM'!X26=MAX('3bis. Calcul répartition CM'!X$9:X$58),'3bis. Calcul répartition CM'!X26>0,COUNTIF('3bis. Calcul répartition CM'!X$9:X$58,'3bis. Calcul répartition CM'!X26)>1,SUM('3bis. Calcul répartition CM'!Y$9:Y$58)-SUM('3bis. Calcul répartition CM'!W$9:W$58)>1),\"erreur\",\"\")","v":""},{"$f":"IF(X21=\"erreur\",0,IF(OR('3bis. Calcul répartition CM'!Y$5=0,'3bis. Calcul répartition CM'!X26=0),0,IF('3bis. Calcul répartition CM'!Y26-'3bis. Calcul répartition CM'!W26>0,1,0)))","v":0},{"$f":"IF(AND('3bis. Calcul répartition CM'!Z26=MAX('3bis. Calcul répartition CM'!Z$9:Z$58),'3bis. Calcul répartition CM'!Z26>0,COUNTIF('3bis. Calcul répartition CM'!Z$9:Z$58,'3bis. Calcul répartition CM'!Z26)>1,SUM('3bis. Calcul répartition CM'!AA$9:AA$58)-SUM('3bis. Calcul répartition CM'!Y$9:Y$58)>1),\"erreur\",\"\")","v":""},{"$f":"IF(Z21=\"erreur\",0,IF(OR('3bis. Calcul répartition CM'!AA$5=0,'3bis. Calcul répartition CM'!Z26=0),0,IF('3bis. Calcul répartition CM'!AA26-'3bis. Calcul répartition CM'!Y26>0,1,0)))","v":0},{"$f":"IF(AND('3bis. Calcul répartition CM'!AB26=MAX('3bis. Calcul répartition CM'!AB$9:AB$58),'3bis. Calcul répartition CM'!AB26>0,COUNTIF('3bis. Calcul répartition CM'!AB$9:AB$58,'3bis. Calcul répartition CM'!AB26)>1,SUM('3bis. Calcul répartition CM'!AC$9:AC$58)-SUM('3bis. Calcul répartition CM'!AA$9:AA$58)>1),\"erreur\",\"\")","v":""},{"$f":"IF(AB21=\"erreur\",0,IF(OR('3bis. Calcul répartition CM'!AC$5=0,'3bis. Calcul répartition CM'!AB26=0),0,IF('3bis. Calcul répartition CM'!AC26-'3bis. Calcul répartition CM'!AA26>0,1,0)))","v":0},{"$f":"IF(AND('3bis. Calcul répartition CM'!AD26=MAX('3bis. Calcul répartition CM'!AD$9:AD$58),'3bis. Calcul répartition CM'!AD26>0,COUNTIF('3bis. Calcul répartition CM'!AD$9:AD$58,'3bis. Calcul répartition CM'!AD26)>1,SUM('3bis. Calcul répartition CM'!AE$9:AE$58)-SUM('3bis. Calcul répartition CM'!AC$9:AC$58)>1),\"erreur\",\"\")","v":""},{"$f":"IF(AD21=\"erreur\",0,IF(OR('3bis. Calcul répartition CM'!AE$5=0,'3bis. Calcul répartition CM'!AD26=0),0,IF('3bis. Calcul répartition CM'!AE26-'3bis. Calcul répartition CM'!AC26>0,1,0)))","v":0},{"$f":"IF(AND('3bis. Calcul répartition CM'!AF26=MAX('3bis. Calcul répartition CM'!AF$9:AF$58),'3bis. Calcul répartition CM'!AF26>0,COUNTIF('3bis. Calcul répartition CM'!AF$9:AF$58,'3bis. Calcul répartition CM'!AF26)>1,SUM('3bis. Calcul répartition CM'!AG$9:AG$58)-SUM('3bis. Calcul répartition CM'!AE$9:AE$58)>1),\"erreur\",\"\")","v":""},{"$f":"IF(AF21=\"erreur\",0,IF(OR('3bis. Calcul répartition CM'!AG$5=0,'3bis. Calcul répartition CM'!AF26=0),0,IF('3bis. Calcul répartition CM'!AG26-'3bis. Calcul répartition CM'!AE26>0,1,0)))","v":0},{"$f":"IF(AND('3bis. Calcul répartition CM'!AH26=MAX('3bis. Calcul répartition CM'!AH$9:AH$58),'3bis. Calcul répartition CM'!AH26>0,COUNTIF('3bis. Calcul répartition CM'!AH$9:AH$58,'3bis. Calcul répartition CM'!AH26)>1,SUM('3bis. Calcul répartition CM'!AI$9:AI$58)-SUM('3bis. Calcul répartition CM'!AG$9:AG$58)>1),\"erreur\",\"\")","v":""},{"$f":"IF(AH21=\"erreur\",0,IF(OR('3bis. Calcul répartition CM'!AI$5=0,'3bis. Calcul répartition CM'!AH26=0),0,IF('3bis. Calcul répartition CM'!AI26-'3bis. Calcul répartition CM'!AG26>0,1,0)))","v":0},{"$f":"IF(AND('3bis. Calcul répartition CM'!AJ26=MAX('3bis. Calcul répartition CM'!AJ$9:AJ$58),'3bis. Calcul répartition CM'!AJ26>0,COUNTIF('3bis. Calcul répartition CM'!AJ$9:AJ$58,'3bis. Calcul répartition CM'!AJ26)>1,SUM('3bis. Calcul répartition CM'!AK$9:AK$58)-SUM('3bis. Calcul répartition CM'!AI$9:AI$58)>1),\"erreur\",\"\")","v":""},{"$f":"IF(AJ21=\"erreur\",0,IF(OR('3bis. Calcul répartition CM'!AK$5=0,'3bis. Calcul répartition CM'!AJ26=0),0,IF('3bis. Calcul répartition CM'!AK26-'3bis. Calcul répartition CM'!AI26>0,1,0)))","v":0},{"$f":"IF(AND('3bis. Calcul répartition CM'!AL26=MAX('3bis. Calcul répartition CM'!AL$9:AL$58),'3bis. Calcul répartition CM'!AL26>0,COUNTIF('3bis. Calcul répartition CM'!AL$9:AL$58,'3bis. Calcul répartition CM'!AL26)>1,SUM('3bis. Calcul répartition CM'!AM$9:AM$58)-SUM('3bis. Calcul répartition CM'!AK$9:AK$58)>1),\"erreur\",\"\")","v":""},{"$f":"IF(AL21=\"erreur\",0,IF(OR('3bis. Calcul répartition CM'!AM$5=0,'3bis. Calcul répartition CM'!AL26=0),0,IF('3bis. Calcul répartition CM'!AM26-'3bis. Calcul répartition CM'!AK26>0,1,0)))","v":0},{"$f":"IF(AND('3bis. Calcul répartition CM'!AN26=MAX('3bis. Calcul répartition CM'!AN$9:AN$58),'3bis. Calcul répartition CM'!AN26>0,COUNTIF('3bis. Calcul répartition CM'!AN$9:AN$58,'3bis. Calcul répartition CM'!AN26)>1,SUM('3bis. Calcul répartition CM'!AO$9:AO$58)-SUM('3bis. Calcul répartition CM'!AM$9:AM$58)>1),\"erreur\",\"\")","v":""},{"$f":"IF(AN21=\"erreur\",0,IF(OR('3bis. Calcul répartition CM'!AO$5=0,'3bis. Calcul répartition CM'!AN26=0),0,IF('3bis. Calcul répartition CM'!AO26-'3bis. Calcul répartition CM'!AM26>0,1,0)))","v":0},{"$f":"IF(AND('3bis. Calcul répartition CM'!AP26=MAX('3bis. Calcul répartition CM'!AP$9:AP$58),'3bis. Calcul répartition CM'!AP26>0,COUNTIF('3bis. Calcul répartition CM'!AP$9:AP$58,'3bis. Calcul répartition CM'!AP26)>1,SUM('3bis. Calcul répartition CM'!AQ$9:AQ$58)-SUM('3bis. Calcul répartition CM'!AO$9:AO$58)>1),\"erreur\",\"\")","v":""},{"$f":"IF(AP21=\"erreur\",0,IF(OR('3bis. Calcul répartition CM'!AQ$5=0,'3bis. Calcul répartition CM'!AP26=0),0,IF('3bis. Calcul répartition CM'!AQ26-'3bis. Calcul répartition CM'!AO26>0,1,0)))","v":0},{"$f":"IF(AND('3bis. Calcul répartition CM'!AR26=MAX('3bis. Calcul répartition CM'!AR$9:AR$58),'3bis. Calcul répartition CM'!AR26>0,COUNTIF('3bis. Calcul répartition CM'!AR$9:AR$58,'3bis. Calcul répartition CM'!AR26)>1,SUM('3bis. Calcul répartition CM'!AS$9:AS$58)-SUM('3bis. Calcul répartition CM'!AQ$9:AQ$58)>1),\"erreur\",\"\")","v":""},{"$f":"IF(AR21=\"erreur\",0,IF(OR('3bis. Calcul répartition CM'!AS$5=0,'3bis. Calcul répartition CM'!AR26=0),0,IF('3bis. Calcul répartition CM'!AS26-'3bis. Calcul répartition CM'!AQ26>0,1,0)))","v":0},{"$f":"IF(AND('3bis. Calcul répartition CM'!AT26=MAX('3bis. Calcul répartition CM'!AT$9:AT$58),'3bis. Calcul répartition CM'!AT26>0,COUNTIF('3bis. Calcul répartition CM'!AT$9:AT$58,'3bis. Calcul répartition CM'!AT26)>1,SUM('3bis. Calcul répartition CM'!AU$9:AU$58)-SUM('3bis. Calcul répartition CM'!AS$9:AS$58)>1),\"erreur\",\"\")","v":""},{"$f":"IF(AT21=\"erreur\",0,IF(OR('3bis. Calcul répartition CM'!AU$5=0,'3bis. Calcul répartition CM'!AT26=0),0,IF('3bis. Calcul répartition CM'!AU26-'3bis. Calcul répartition CM'!AS26>0,1,0)))","v":0},{"$f":"IF(AND('3bis. Calcul répartition CM'!AV26=MAX('3bis. Calcul répartition CM'!AV$9:AV$58),'3bis. Calcul répartition CM'!AV26>0,COUNTIF('3bis. Calcul répartition CM'!AV$9:AV$58,'3bis. Calcul répartition CM'!AV26)>1,SUM('3bis. Calcul répartition CM'!AW$9:AW$58)-SUM('3bis. Calcul répartition CM'!AU$9:AU$58)>1),\"erreur\",\"\")","v":""},{"$f":"IF(AV21=\"erreur\",0,IF(OR('3bis. Calcul répartition CM'!AW$5=0,'3bis. Calcul répartition CM'!AV26=0),0,IF('3bis. Calcul répartition CM'!AW26-'3bis. Calcul répartition CM'!AU26>0,1,0)))","v":0},{"$f":"IF(AND('3bis. Calcul répartition CM'!AX26=MAX('3bis. Calcul répartition CM'!AX$9:AX$58),'3bis. Calcul répartition CM'!AX26>0,COUNTIF('3bis. Calcul répartition CM'!AX$9:AX$58,'3bis. Calcul répartition CM'!AX26)>1,SUM('3bis. Calcul répartition CM'!AY$9:AY$58)-SUM('3bis. Calcul répartition CM'!AW$9:AW$58)>1),\"erreur\",\"\")","v":""},{"$f":"IF(AX21=\"erreur\",0,IF(OR('3bis. Calcul répartition CM'!AY$5=0,'3bis. Calcul répartition CM'!AX26=0),0,IF('3bis. Calcul répartition CM'!AY26-'3bis. Calcul répartition CM'!AW26>0,1,0)))","v":0},{"$f":"IF(AND('3bis. Calcul répartition CM'!AZ26=MAX('3bis. Calcul répartition CM'!AZ$9:AZ$58),'3bis. Calcul répartition CM'!AZ26>0,COUNTIF('3bis. Calcul répartition CM'!AZ$9:AZ$58,'3bis. Calcul répartition CM'!AZ26)>1,SUM('3bis. Calcul répartition CM'!BA$9:BA$58)-SUM('3bis. Calcul répartition CM'!AY$9:AY$58)>1),\"erreur\",\"\")","v":""},{"$f":"IF(AZ21=\"erreur\",0,IF(OR('3bis. Calcul répartition CM'!BA$5=0,'3bis. Calcul répartition CM'!AZ26=0),0,IF('3bis. Calcul répartition CM'!BA26-'3bis. Calcul répartition CM'!AY26>0,1,0)))","v":0},{"$f":"IF(AND('3bis. Calcul répartition CM'!BB26=MAX('3bis. Calcul répartition CM'!BB$9:BB$58),'3bis. Calcul répartition CM'!BB26>0,COUNTIF('3bis. Calcul répartition CM'!BB$9:BB$58,'3bis. Calcul répartition CM'!BB26)>1,SUM('3bis. Calcul répartition CM'!BC$9:BC$58)-SUM('3bis. Calcul répartition CM'!BA$9:BA$58)>1),\"erreur\",\"\")","v":""},{"$f":"IF(BB21=\"erreur\",0,IF(OR('3bis. Calcul répartition CM'!BC$5=0,'3bis. Calcul répartition CM'!BB26=0),0,IF('3bis. Calcul répartition CM'!BC26-'3bis. Calcul répartition CM'!BA26>0,1,0)))","v":0},{"$f":"IF(AND('3bis. Calcul répartition CM'!BD26=MAX('3bis. Calcul répartition CM'!BD$9:BD$58),'3bis. Calcul répartition CM'!BD26>0,COUNTIF('3bis. Calcul répartition CM'!BD$9:BD$58,'3bis. Calcul répartition CM'!BD26)>1,SUM('3bis. Calcul répartition CM'!BE$9:BE$58)-SUM('3bis. Calcul répartition CM'!BC$9:BC$58)>1),\"erreur\",\"\")","v":""},{"$f":"IF(BD21=\"erreur\",0,IF(OR('3bis. Calcul répartition CM'!BE$5=0,'3bis. Calcul répartition CM'!BD26=0),0,IF('3bis. Calcul répartition CM'!BE26-'3bis. Calcul répartition CM'!BC26>0,1,0)))","v":0},{"$f":"IF(AND('3bis. Calcul répartition CM'!BF26=MAX('3bis. Calcul répartition CM'!BF$9:BF$58),'3bis. Calcul répartition CM'!BF26>0,COUNTIF('3bis. Calcul répartition CM'!BF$9:BF$58,'3bis. Calcul répartition CM'!BF26)>1,SUM('3bis. Calcul répartition CM'!BG$9:BG$58)-SUM('3bis. Calcul répartition CM'!BE$9:BE$58)>1),\"erreur\",\"\")","v":""},{"$f":"IF(BF21=\"erreur\",0,IF(OR('3bis. Calcul répartition CM'!BG$5=0,'3bis. Calcul répartition CM'!BF26=0),0,IF('3bis. Calcul répartition CM'!BG26-'3bis. Calcul répartition CM'!BE26>0,1,0)))","v":0},{"$f":"IF(AND('3bis. Calcul répartition CM'!BH26=MAX('3bis. Calcul répartition CM'!BH$9:BH$58),'3bis. Calcul répartition CM'!BH26>0,COUNTIF('3bis. Calcul répartition CM'!BH$9:BH$58,'3bis. Calcul répartition CM'!BH26)>1,SUM('3bis. Calcul répartition CM'!BI$9:BI$58)-SUM('3bis. Calcul répartition CM'!BG$9:BG$58)>1),\"erreur\",\"\")","v":""},{"$f":"IF(BH21=\"erreur\",0,IF(OR('3bis. Calcul répartition CM'!BI$5=0,'3bis. Calcul répartition CM'!BH26=0),0,IF('3bis. Calcul répartition CM'!BI26-'3bis. Calcul répartition CM'!BG26>0,1,0)))","v":0},{"$f":"IF(AND('3bis. Calcul répartition CM'!BJ26=MAX('3bis. Calcul répartition CM'!BJ$9:BJ$58),'3bis. Calcul répartition CM'!BJ26>0,COUNTIF('3bis. Calcul répartition CM'!BJ$9:BJ$58,'3bis. Calcul répartition CM'!BJ26)>1,SUM('3bis. Calcul répartition CM'!BK$9:BK$58)-SUM('3bis. Calcul répartition CM'!BI$9:BI$58)>1),\"erreur\",\"\")","v":""},{"$f":"IF(BJ21=\"erreur\",0,IF(OR('3bis. Calcul répartition CM'!BK$5=0,'3bis. Calcul répartition CM'!BJ26=0),0,IF('3bis. Calcul répartition CM'!BK26-'3bis. Calcul répartition CM'!BI26>0,1,0)))","v":0},{"$f":"IF(AND('3bis. Calcul répartition CM'!BL26=MAX('3bis. Calcul répartition CM'!BL$9:BL$58),'3bis. Calcul répartition CM'!BL26>0,COUNTIF('3bis. Calcul répartition CM'!BL$9:BL$58,'3bis. Calcul répartition CM'!BL26)>1,SUM('3bis. Calcul répartition CM'!BM$9:BM$58)-SUM('3bis. Calcul répartition CM'!BK$9:BK$58)>1),\"erreur\",\"\")","v":""},{"$f":"IF(BL21=\"erreur\",0,IF(OR('3bis. Calcul répartition CM'!BM$5=0,'3bis. Calcul répartition CM'!BL26=0),0,IF('3bis. Calcul répartition CM'!BM26-'3bis. Calcul répartition CM'!BK26>0,1,0)))","v":0},{"$f":"IF(AND('3bis. Calcul répartition CM'!BN26=MAX('3bis. Calcul répartition CM'!BN$9:BN$58),'3bis. Calcul répartition CM'!BN26>0,COUNTIF('3bis. Calcul répartition CM'!BN$9:BN$58,'3bis. Calcul répartition CM'!BN26)>1,SUM('3bis. Calcul répartition CM'!BO$9:BO$58)-SUM('3bis. Calcul répartition CM'!BM$9:BM$58)>1),\"erreur\",\"\")","v":""},{"$f":"IF(BN21=\"erreur\",0,IF(OR('3bis. Calcul répartition CM'!BO$5=0,'3bis. Calcul répartition CM'!BN26=0),0,IF('3bis. Calcul répartition CM'!BO26-'3bis. Calcul répartition CM'!BM26>0,1,0)))","v":0},{"$f":"IF(AND('3bis. Calcul répartition CM'!BP26=MAX('3bis. Calcul répartition CM'!BP$9:BP$58),'3bis. Calcul répartition CM'!BP26>0,COUNTIF('3bis. Calcul répartition CM'!BP$9:BP$58,'3bis. Calcul répartition CM'!BP26)>1,SUM('3bis. Calcul répartition CM'!BQ$9:BQ$58)-SUM('3bis. Calcul répartition CM'!BO$9:BO$58)>1),\"erreur\",\"\")","v":""},{"$f":"IF(BP21=\"erreur\",0,IF(OR('3bis. Calcul répartition CM'!BQ$5=0,'3bis. Calcul répartition CM'!BP26=0),0,IF('3bis. Calcul répartition CM'!BQ26-'3bis. Calcul répartition CM'!BO26>0,1,0)))","v":0}]
[null,null,null,null,null,null,null,null,{"$f":"'3bis. Calcul répartition CM'!B27","v":0},{"$f":"IF(AND('3bis. Calcul répartition CM'!J27=MAX('3bis. Calcul répartition CM'!J$9:J$58),'3bis. Calcul répartition CM'!J27>0,COUNTIF('3bis. Calcul répartition CM'!J$9:J$58,'3bis. Calcul répartition CM'!J27)>1,SUM('3bis. Calcul répartition CM'!$K$9:$K$58)-SUM('3bis. Calcul répartition CM'!$D$9:$D$58)>1),\"erreur\",\"\")","v":""},{"$f":"IF(J22=\"erreur\",0,IF(OR('3bis. Calcul répartition CM'!K$5=0,'3bis. Calcul répartition CM'!J27=0),0,IF('3bis. Calcul répartition CM'!K27-'3bis. Calcul répartition CM'!D27>0,1,0)))","v":0},{"$f":"IF(AND('3bis. Calcul répartition CM'!L27=MAX('3bis. Calcul répartition CM'!L$9:L$58),'3bis. Calcul répartition CM'!L27>0,COUNTIF('3bis. Calcul répartition CM'!L$9:L$58,'3bis. Calcul répartition CM'!L27)>1,SUM('3bis. Calcul répartition CM'!M$9:M$58)-SUM('3bis. Calcul répartition CM'!K$9:K$58)>1),\"erreur\",\"\")","v":""},{"$f":"IF(L22=\"erreur\",0,IF(OR('3bis. Calcul répartition CM'!M$5=0,'3bis. Calcul répartition CM'!L27=0),0,IF('3bis. Calcul répartition CM'!M27-'3bis. Calcul répartition CM'!K27>0,1,0)))","v":0},{"$f":"IF(AND('3bis. Calcul répartition CM'!N27=MAX('3bis. Calcul répartition CM'!N$9:N$58),'3bis. Calcul répartition CM'!N27>0,COUNTIF('3bis. Calcul répartition CM'!N$9:N$58,'3bis. Calcul répartition CM'!N27)>1,SUM('3bis. Calcul répartition CM'!O$9:O$58)-SUM('3bis. Calcul répartition CM'!M$9:M$58)>1),\"erreur\",\"\")","v":""},{"$f":"IF(N22=\"erreur\",0,IF(OR('3bis. Calcul répartition CM'!O$5=0,'3bis. Calcul répartition CM'!N27=0),0,IF('3bis. Calcul répartition CM'!O27-'3bis. Calcul répartition CM'!M27>0,1,0)))","v":0},{"$f":"IF(AND('3bis. Calcul répartition CM'!P27=MAX('3bis. Calcul répartition CM'!P$9:P$58),'3bis. Calcul répartition CM'!P27>0,COUNTIF('3bis. Calcul répartition CM'!P$9:P$58,'3bis. Calcul répartition CM'!P27)>1,SUM('3bis. Calcul répartition CM'!Q$9:Q$58)-SUM('3bis. Calcul répartition CM'!O$9:O$58)>1),\"erreur\",\"\")","v":""},{"$f":"IF(P22=\"erreur\",0,IF(OR('3bis. Calcul répartition CM'!Q$5=0,'3bis. Calcul répartition CM'!P27=0),0,IF('3bis. Calcul répartition CM'!Q27-'3bis. Calcul répartition CM'!O27>0,1,0)))","v":0},{"$f":"IF(AND('3bis. Calcul répartition CM'!R27=MAX('3bis. Calcul répartition CM'!R$9:R$58),'3bis. Calcul répartition CM'!R27>0,COUNTIF('3bis. Calcul répartition CM'!R$9:R$58,'3bis. Calcul répartition CM'!R27)>1,SUM('3bis. Calcul répartition CM'!S$9:S$58)-SUM('3bis. Calcul répartition CM'!Q$9:Q$58)>1),\"erreur\",\"\")","v":""},{"$f":"IF(R22=\"erreur\",0,IF(OR('3bis. Calcul répartition CM'!S$5=0,'3bis. Calcul répartition CM'!R27=0),0,IF('3bis. Calcul répartition CM'!S27-'3bis. Calcul répartition CM'!Q27>0,1,0)))","v":0},{"$f":"IF(AND('3bis. Calcul répartition CM'!T27=MAX('3bis. Calcul répartition CM'!T$9:T$58),'3bis. Calcul répartition CM'!T27>0,COUNTIF('3bis. Calcul répartition CM'!T$9:T$58,'3bis. Calcul répartition CM'!T27)>1,SUM('3bis. Calcul répartition CM'!U$9:U$58)-SUM('3bis. Calcul répartition CM'!S$9:S$58)>1),\"erreur\",\"\")","v":""},{"$f":"IF(T22=\"erreur\",0,IF(OR('3bis. Calcul répartition CM'!U$5=0,'3bis. Calcul répartition CM'!T27=0),0,IF('3bis. Calcul répartition CM'!U27-'3bis. Calcul répartition CM'!S27>0,1,0)))","v":0},{"$f":"IF(AND('3bis. Calcul répartition CM'!V27=MAX('3bis. Calcul répartition CM'!V$9:V$58),'3bis. Calcul répartition CM'!V27>0,COUNTIF('3bis. Calcul répartition CM'!V$9:V$58,'3bis. Calcul répartition CM'!V27)>1,SUM('3bis. Calcul répartition CM'!W$9:W$58)-SUM('3bis. Calcul répartition CM'!U$9:U$58)>1),\"erreur\",\"\")","v":""},{"$f":"IF(V22=\"erreur\",0,IF(OR('3bis. Calcul répartition CM'!W$5=0,'3bis. Calcul répartition CM'!V27=0),0,IF('3bis. Calcul répartition CM'!W27-'3bis. Calcul répartition CM'!U27>0,1,0)))","v":0},{"$f":"IF(AND('3bis. Calcul répartition CM'!X27=MAX('3bis. Calcul répartition CM'!X$9:X$58),'3bis. Calcul répartition CM'!X27>0,COUNTIF('3bis. Calcul répartition CM'!X$9:X$58,'3bis. Calcul répartition CM'!X27)>1,SUM('3bis. Calcul répartition CM'!Y$9:Y$58)-SUM('3bis. Calcul répartition CM'!W$9:W$58)>1),\"erreur\",\"\")","v":""},{"$f":"IF(X22=\"erreur\",0,IF(OR('3bis. Calcul répartition CM'!Y$5=0,'3bis. Calcul répartition CM'!X27=0),0,IF('3bis. Calcul répartition CM'!Y27-'3bis. Calcul répartition CM'!W27>0,1,0)))","v":0},{"$f":"IF(AND('3bis. Calcul répartition CM'!Z27=MAX('3bis. Calcul répartition CM'!Z$9:Z$58),'3bis. Calcul répartition CM'!Z27>0,COUNTIF('3bis. Calcul répartition CM'!Z$9:Z$58,'3bis. Calcul répartition CM'!Z27)>1,SUM('3bis. Calcul répartition CM'!AA$9:AA$58)-SUM('3bis. Calcul répartition CM'!Y$9:Y$58)>1),\"erreur\",\"\")","v":""},{"$f":"IF(Z22=\"erreur\",0,IF(OR('3bis. Calcul répartition CM'!AA$5=0,'3bis. Calcul répartition CM'!Z27=0),0,IF('3bis. Calcul répartition CM'!AA27-'3bis. Calcul répartition CM'!Y27>0,1,0)))","v":0},{"$f":"IF(AND('3bis. Calcul répartition CM'!AB27=MAX('3bis. Calcul répartition CM'!AB$9:AB$58),'3bis. Calcul répartition CM'!AB27>0,COUNTIF('3bis. Calcul répartition CM'!AB$9:AB$58,'3bis. Calcul répartition CM'!AB27)>1,SUM('3bis. Calcul répartition CM'!AC$9:AC$58)-SUM('3bis. Calcul répartition CM'!AA$9:AA$58)>1),\"erreur\",\"\")","v":""},{"$f":"IF(AB22=\"erreur\",0,IF(OR('3bis. Calcul répartition CM'!AC$5=0,'3bis. Calcul répartition CM'!AB27=0),0,IF('3bis. Calcul répartition CM'!AC27-'3bis. Calcul répartition CM'!AA27>0,1,0)))","v":0},{"$f":"IF(AND('3bis. Calcul répartition CM'!AD27=MAX('3bis. Calcul répartition CM'!AD$9:AD$58),'3bis. Calcul répartition CM'!AD27>0,COUNTIF('3bis. Calcul répartition CM'!AD$9:AD$58,'3bis. Calcul répartition CM'!AD27)>1,SUM('3bis. Calcul répartition CM'!AE$9:AE$58)-SUM('3bis. Calcul répartition CM'!AC$9:AC$58)>1),\"erreur\",\"\")","v":""},{"$f":"IF(AD22=\"erreur\",0,IF(OR('3bis. Calcul répartition CM'!AE$5=0,'3bis. Calcul répartition CM'!AD27=0),0,IF('3bis. Calcul répartition CM'!AE27-'3bis. Calcul répartition CM'!AC27>0,1,0)))","v":0},{"$f":"IF(AND('3bis. Calcul répartition CM'!AF27=MAX('3bis. Calcul répartition CM'!AF$9:AF$58),'3bis. Calcul répartition CM'!AF27>0,COUNTIF('3bis. Calcul répartition CM'!AF$9:AF$58,'3bis. Calcul répartition CM'!AF27)>1,SUM('3bis. Calcul répartition CM'!AG$9:AG$58)-SUM('3bis. Calcul répartition CM'!AE$9:AE$58)>1),\"erreur\",\"\")","v":""},{"$f":"IF(AF22=\"erreur\",0,IF(OR('3bis. Calcul répartition CM'!AG$5=0,'3bis. Calcul répartition CM'!AF27=0),0,IF('3bis. Calcul répartition CM'!AG27-'3bis. Calcul répartition CM'!AE27>0,1,0)))","v":0},{"$f":"IF(AND('3bis. Calcul répartition CM'!AH27=MAX('3bis. Calcul répartition CM'!AH$9:AH$58),'3bis. Calcul répartition CM'!AH27>0,COUNTIF('3bis. Calcul répartition CM'!AH$9:AH$58,'3bis. Calcul répartition CM'!AH27)>1,SUM('3bis. Calcul répartition CM'!AI$9:AI$58)-SUM('3bis. Calcul répartition CM'!AG$9:AG$58)>1),\"erreur\",\"\")","v":""},{"$f":"IF(AH22=\"erreur\",0,IF(OR('3bis. Calcul répartition CM'!AI$5=0,'3bis. Calcul répartition CM'!AH27=0),0,IF('3bis. Calcul répartition CM'!AI27-'3bis. Calcul répartition CM'!AG27>0,1,0)))","v":0},{"$f":"IF(AND('3bis. Calcul répartition CM'!AJ27=MAX('3bis. Calcul répartition CM'!AJ$9:AJ$58),'3bis. Calcul répartition CM'!AJ27>0,COUNTIF('3bis. Calcul répartition CM'!AJ$9:AJ$58,'3bis. Calcul répartition CM'!AJ27)>1,SUM('3bis. Calcul répartition CM'!AK$9:AK$58)-SUM('3bis. Calcul répartition CM'!AI$9:AI$58)>1),\"erreur\",\"\")","v":""},{"$f":"IF(AJ22=\"erreur\",0,IF(OR('3bis. Calcul répartition CM'!AK$5=0,'3bis. Calcul répartition CM'!AJ27=0),0,IF('3bis. Calcul répartition CM'!AK27-'3bis. Calcul répartition CM'!AI27>0,1,0)))","v":0},{"$f":"IF(AND('3bis. Calcul répartition CM'!AL27=MAX('3bis. Calcul répartition CM'!AL$9:AL$58),'3bis. Calcul répartition CM'!AL27>0,COUNTIF('3bis. Calcul répartition CM'!AL$9:AL$58,'3bis. Calcul répartition CM'!AL27)>1,SUM('3bis. Calcul répartition CM'!AM$9:AM$58)-SUM('3bis. Calcul répartition CM'!AK$9:AK$58)>1),\"erreur\",\"\")","v":""},{"$f":"IF(AL22=\"erreur\",0,IF(OR('3bis. Calcul répartition CM'!AM$5=0,'3bis. Calcul répartition CM'!AL27=0),0,IF('3bis. Calcul répartition CM'!AM27-'3bis. Calcul répartition CM'!AK27>0,1,0)))","v":0},{"$f":"IF(AND('3bis. Calcul répartition CM'!AN27=MAX('3bis. Calcul répartition CM'!AN$9:AN$58),'3bis. Calcul répartition CM'!AN27>0,COUNTIF('3bis. Calcul répartition CM'!AN$9:AN$58,'3bis. Calcul répartition CM'!AN27)>1,SUM('3bis. Calcul répartition CM'!AO$9:AO$58)-SUM('3bis. Calcul répartition CM'!AM$9:AM$58)>1),\"erreur\",\"\")","v":""},{"$f":"IF(AN22=\"erreur\",0,IF(OR('3bis. Calcul répartition CM'!AO$5=0,'3bis. Calcul répartition CM'!AN27=0),0,IF('3bis. Calcul répartition CM'!AO27-'3bis. Calcul répartition CM'!AM27>0,1,0)))","v":0},{"$f":"IF(AND('3bis. Calcul répartition CM'!AP27=MAX('3bis. Calcul répartition CM'!AP$9:AP$58),'3bis. Calcul répartition CM'!AP27>0,COUNTIF('3bis. Calcul répartition CM'!AP$9:AP$58,'3bis. Calcul répartition CM'!AP27)>1,SUM('3bis. Calcul répartition CM'!AQ$9:AQ$58)-SUM('3bis. Calcul répartition CM'!AO$9:AO$58)>1),\"erreur\",\"\")","v":""},{"$f":"IF(AP22=\"erreur\",0,IF(OR('3bis. Calcul répartition CM'!AQ$5=0,'3bis. Calcul répartition CM'!AP27=0),0,IF('3bis. Calcul répartition CM'!AQ27-'3bis. Calcul répartition CM'!AO27>0,1,0)))","v":0},{"$f":"IF(AND('3bis. Calcul répartition CM'!AR27=MAX('3bis. Calcul répartition CM'!AR$9:AR$58),'3bis. Calcul répartition CM'!AR27>0,COUNTIF('3bis. Calcul répartition CM'!AR$9:AR$58,'3bis. Calcul répartition CM'!AR27)>1,SUM('3bis. Calcul répartition CM'!AS$9:AS$58)-SUM('3bis. Calcul répartition CM'!AQ$9:AQ$58)>1),\"erreur\",\"\")","v":""},{"$f":"IF(AR22=\"erreur\",0,IF(OR('3bis. Calcul répartition CM'!AS$5=0,'3bis. Calcul répartition CM'!AR27=0),0,IF('3bis. Calcul répartition CM'!AS27-'3bis. Calcul répartition CM'!AQ27>0,1,0)))","v":0},{"$f":"IF(AND('3bis. Calcul répartition CM'!AT27=MAX('3bis. Calcul répartition CM'!AT$9:AT$58),'3bis. Calcul répartition CM'!AT27>0,COUNTIF('3bis. Calcul répartition CM'!AT$9:AT$58,'3bis. Calcul répartition CM'!AT27)>1,SUM('3bis. Calcul répartition CM'!AU$9:AU$58)-SUM('3bis. Calcul répartition CM'!AS$9:AS$58)>1),\"erreur\",\"\")","v":""},{"$f":"IF(AT22=\"erreur\",0,IF(OR('3bis. Calcul répartition CM'!AU$5=0,'3bis. Calcul répartition CM'!AT27=0),0,IF('3bis. Calcul répartition CM'!AU27-'3bis. Calcul répartition CM'!AS27>0,1,0)))","v":0},{"$f":"IF(AND('3bis. Calcul répartition CM'!AV27=MAX('3bis. Calcul répartition CM'!AV$9:AV$58),'3bis. Calcul répartition CM'!AV27>0,COUNTIF('3bis. Calcul répartition CM'!AV$9:AV$58,'3bis. Calcul répartition CM'!AV27)>1,SUM('3bis. Calcul répartition CM'!AW$9:AW$58)-SUM('3bis. Calcul répartition CM'!AU$9:AU$58)>1),\"erreur\",\"\")","v":""},{"$f":"IF(AV22=\"erreur\",0,IF(OR('3bis. Calcul répartition CM'!AW$5=0,'3bis. Calcul répartition CM'!AV27=0),0,IF('3bis. Calcul répartition CM'!AW27-'3bis. Calcul répartition CM'!AU27>0,1,0)))","v":0},{"$f":"IF(AND('3bis. Calcul répartition CM'!AX27=MAX('3bis. Calcul répartition CM'!AX$9:AX$58),'3bis. Calcul répartition CM'!AX27>0,COUNTIF('3bis. Calcul répartition CM'!AX$9:AX$58,'3bis. Calcul répartition CM'!AX27)>1,SUM('3bis. Calcul répartition CM'!AY$9:AY$58)-SUM('3bis. Calcul répartition CM'!AW$9:AW$58)>1),\"erreur\",\"\")","v":""},{"$f":"IF(AX22=\"erreur\",0,IF(OR('3bis. Calcul répartition CM'!AY$5=0,'3bis. Calcul répartition CM'!AX27=0),0,IF('3bis. Calcul répartition CM'!AY27-'3bis. Calcul répartition CM'!AW27>0,1,0)))","v":0},{"$f":"IF(AND('3bis. Calcul répartition CM'!AZ27=MAX('3bis. Calcul répartition CM'!AZ$9:AZ$58),'3bis. Calcul répartition CM'!AZ27>0,COUNTIF('3bis. Calcul répartition CM'!AZ$9:AZ$58,'3bis. Calcul répartition CM'!AZ27)>1,SUM('3bis. Calcul répartition CM'!BA$9:BA$58)-SUM('3bis. Calcul répartition CM'!AY$9:AY$58)>1),\"erreur\",\"\")","v":""},{"$f":"IF(AZ22=\"erreur\",0,IF(OR('3bis. Calcul répartition CM'!BA$5=0,'3bis. Calcul répartition CM'!AZ27=0),0,IF('3bis. Calcul répartition CM'!BA27-'3bis. Calcul répartition CM'!AY27>0,1,0)))","v":0},{"$f":"IF(AND('3bis. Calcul répartition CM'!BB27=MAX('3bis. Calcul répartition CM'!BB$9:BB$58),'3bis. Calcul répartition CM'!BB27>0,COUNTIF('3bis. Calcul répartition CM'!BB$9:BB$58,'3bis. Calcul répartition CM'!BB27)>1,SUM('3bis. Calcul répartition CM'!BC$9:BC$58)-SUM('3bis. Calcul répartition CM'!BA$9:BA$58)>1),\"erreur\",\"\")","v":""},{"$f":"IF(BB22=\"erreur\",0,IF(OR('3bis. Calcul répartition CM'!BC$5=0,'3bis. Calcul répartition CM'!BB27=0),0,IF('3bis. Calcul répartition CM'!BC27-'3bis. Calcul répartition CM'!BA27>0,1,0)))","v":0},{"$f":"IF(AND('3bis. Calcul répartition CM'!BD27=MAX('3bis. Calcul répartition CM'!BD$9:BD$58),'3bis. Calcul répartition CM'!BD27>0,COUNTIF('3bis. Calcul répartition CM'!BD$9:BD$58,'3bis. Calcul répartition CM'!BD27)>1,SUM('3bis. Calcul répartition CM'!BE$9:BE$58)-SUM('3bis. Calcul répartition CM'!BC$9:BC$58)>1),\"erreur\",\"\")","v":""},{"$f":"IF(BD22=\"erreur\",0,IF(OR('3bis. Calcul répartition CM'!BE$5=0,'3bis. Calcul répartition CM'!BD27=0),0,IF('3bis. Calcul répartition CM'!BE27-'3bis. Calcul répartition CM'!BC27>0,1,0)))","v":0},{"$f":"IF(AND('3bis. Calcul répartition CM'!BF27=MAX('3bis. Calcul répartition CM'!BF$9:BF$58),'3bis. Calcul répartition CM'!BF27>0,COUNTIF('3bis. Calcul répartition CM'!BF$9:BF$58,'3bis. Calcul répartition CM'!BF27)>1,SUM('3bis. Calcul répartition CM'!BG$9:BG$58)-SUM('3bis. Calcul répartition CM'!BE$9:BE$58)>1),\"erreur\",\"\")","v":""},{"$f":"IF(BF22=\"erreur\",0,IF(OR('3bis. Calcul répartition CM'!BG$5=0,'3bis. Calcul répartition CM'!BF27=0),0,IF('3bis. Calcul répartition CM'!BG27-'3bis. Calcul répartition CM'!BE27>0,1,0)))","v":0},{"$f":"IF(AND('3bis. Calcul répartition CM'!BH27=MAX('3bis. Calcul répartition CM'!BH$9:BH$58),'3bis. Calcul répartition CM'!BH27>0,COUNTIF('3bis. Calcul répartition CM'!BH$9:BH$58,'3bis. Calcul répartition CM'!BH27)>1,SUM('3bis. Calcul répartition CM'!BI$9:BI$58)-SUM('3bis. Calcul répartition CM'!BG$9:BG$58)>1),\"erreur\",\"\")","v":""},{"$f":"IF(BH22=\"erreur\",0,IF(OR('3bis. Calcul répartition CM'!BI$5=0,'3bis. Calcul répartition CM'!BH27=0),0,IF('3bis. Calcul répartition CM'!BI27-'3bis. Calcul répartition CM'!BG27>0,1,0)))","v":0},{"$f":"IF(AND('3bis. Calcul répartition CM'!BJ27=MAX('3bis. Calcul répartition CM'!BJ$9:BJ$58),'3bis. Calcul répartition CM'!BJ27>0,COUNTIF('3bis. Calcul répartition CM'!BJ$9:BJ$58,'3bis. Calcul répartition CM'!BJ27)>1,SUM('3bis. Calcul répartition CM'!BK$9:BK$58)-SUM('3bis. Calcul répartition CM'!BI$9:BI$58)>1),\"erreur\",\"\")","v":""},{"$f":"IF(BJ22=\"erreur\",0,IF(OR('3bis. Calcul répartition CM'!BK$5=0,'3bis. Calcul répartition CM'!BJ27=0),0,IF('3bis. Calcul répartition CM'!BK27-'3bis. Calcul répartition CM'!BI27>0,1,0)))","v":0},{"$f":"IF(AND('3bis. Calcul répartition CM'!BL27=MAX('3bis. Calcul répartition CM'!BL$9:BL$58),'3bis. Calcul répartition CM'!BL27>0,COUNTIF('3bis. Calcul répartition CM'!BL$9:BL$58,'3bis. Calcul répartition CM'!BL27)>1,SUM('3bis. Calcul répartition CM'!BM$9:BM$58)-SUM('3bis. Calcul répartition CM'!BK$9:BK$58)>1),\"erreur\",\"\")","v":""},{"$f":"IF(BL22=\"erreur\",0,IF(OR('3bis. Calcul répartition CM'!BM$5=0,'3bis. Calcul répartition CM'!BL27=0),0,IF('3bis. Calcul répartition CM'!BM27-'3bis. Calcul répartition CM'!BK27>0,1,0)))","v":0},{"$f":"IF(AND('3bis. Calcul répartition CM'!BN27=MAX('3bis. Calcul répartition CM'!BN$9:BN$58),'3bis. Calcul répartition CM'!BN27>0,COUNTIF('3bis. Calcul répartition CM'!BN$9:BN$58,'3bis. Calcul répartition CM'!BN27)>1,SUM('3bis. Calcul répartition CM'!BO$9:BO$58)-SUM('3bis. Calcul répartition CM'!BM$9:BM$58)>1),\"erreur\",\"\")","v":""},{"$f":"IF(BN22=\"erreur\",0,IF(OR('3bis. Calcul répartition CM'!BO$5=0,'3bis. Calcul répartition CM'!BN27=0),0,IF('3bis. Calcul répartition CM'!BO27-'3bis. Calcul répartition CM'!BM27>0,1,0)))","v":0},{"$f":"IF(AND('3bis. Calcul répartition CM'!BP27=MAX('3bis. Calcul répartition CM'!BP$9:BP$58),'3bis. Calcul répartition CM'!BP27>0,COUNTIF('3bis. Calcul répartition CM'!BP$9:BP$58,'3bis. Calcul répartition CM'!BP27)>1,SUM('3bis. Calcul répartition CM'!BQ$9:BQ$58)-SUM('3bis. Calcul répartition CM'!BO$9:BO$58)>1),\"erreur\",\"\")","v":""},{"$f":"IF(BP22=\"erreur\",0,IF(OR('3bis. Calcul répartition CM'!BQ$5=0,'3bis. Calcul répartition CM'!BP27=0),0,IF('3bis. Calcul répartition CM'!BQ27-'3bis. Calcul répartition CM'!BO27>0,1,0)))","v":0}]
[null,null,null,null,null,null,null,null,{"$f":"'3bis. Calcul répartition CM'!B28","v":0},{"$f":"IF(AND('3bis. Calcul répartition CM'!J28=MAX('3bis. Calcul répartition CM'!J$9:J$58),'3bis. Calcul répartition CM'!J28>0,COUNTIF('3bis. Calcul répartition CM'!J$9:J$58,'3bis. Calcul répartition CM'!J28)>1,SUM('3bis. Calcul répartition CM'!$K$9:$K$58)-SUM('3bis. Calcul répartition CM'!$D$9:$D$58)>1),\"erreur\",\"\")","v":""},{"$f":"IF(J23=\"erreur\",0,IF(OR('3bis. Calcul répartition CM'!K$5=0,'3bis. Calcul répartition CM'!J28=0),0,IF('3bis. Calcul répartition CM'!K28-'3bis. Calcul répartition CM'!D28>0,1,0)))","v":0},{"$f":"IF(AND('3bis. Calcul répartition CM'!L28=MAX('3bis. Calcul répartition CM'!L$9:L$58),'3bis. Calcul répartition CM'!L28>0,COUNTIF('3bis. Calcul répartition CM'!L$9:L$58,'3bis. Calcul répartition CM'!L28)>1,SUM('3bis. Calcul répartition CM'!M$9:M$58)-SUM('3bis. Calcul répartition CM'!K$9:K$58)>1),\"erreur\",\"\")","v":""},{"$f":"IF(L23=\"erreur\",0,IF(OR('3bis. Calcul répartition CM'!M$5=0,'3bis. Calcul répartition CM'!L28=0),0,IF('3bis. Calcul répartition CM'!M28-'3bis. Calcul répartition CM'!K28>0,1,0)))","v":0},{"$f":"IF(AND('3bis. Calcul répartition CM'!N28=MAX('3bis. Calcul répartition CM'!N$9:N$58),'3bis. Calcul répartition CM'!N28>0,COUNTIF('3bis. Calcul répartition CM'!N$9:N$58,'3bis. Calcul répartition CM'!N28)>1,SUM('3bis. Calcul répartition CM'!O$9:O$58)-SUM('3bis. Calcul répartition CM'!M$9:M$58)>1),\"erreur\",\"\")","v":""},{"$f":"IF(N23=\"erreur\",0,IF(OR('3bis. Calcul répartition CM'!O$5=0,'3bis. Calcul répartition CM'!N28=0),0,IF('3bis. Calcul répartition CM'!O28-'3bis. Calcul répartition CM'!M28>0,1,0)))","v":0},{"$f":"IF(AND('3bis. Calcul répartition CM'!P28=MAX('3bis. Calcul répartition CM'!P$9:P$58),'3bis. Calcul répartition CM'!P28>0,COUNTIF('3bis. Calcul répartition CM'!P$9:P$58,'3bis. Calcul répartition CM'!P28)>1,SUM('3bis. Calcul répartition CM'!Q$9:Q$58)-SUM('3bis. Calcul répartition CM'!O$9:O$58)>1),\"erreur\",\"\")","v":""},{"$f":"IF(P23=\"erreur\",0,IF(OR('3bis. Calcul répartition CM'!Q$5=0,'3bis. Calcul répartition CM'!P28=0),0,IF('3bis. Calcul répartition CM'!Q28-'3bis. Calcul répartition CM'!O28>0,1,0)))","v":0},{"$f":"IF(AND('3bis. Calcul répartition CM'!R28=MAX('3bis. Calcul répartition CM'!R$9:R$58),'3bis. Calcul répartition CM'!R28>0,COUNTIF('3bis. Calcul répartition CM'!R$9:R$58,'3bis. Calcul répartition CM'!R28)>1,SUM('3bis. Calcul répartition CM'!S$9:S$58)-SUM('3bis. Calcul répartition CM'!Q$9:Q$58)>1),\"erreur\",\"\")","v":""},{"$f":"IF(R23=\"erreur\",0,IF(OR('3bis. Calcul répartition CM'!S$5=0,'3bis. Calcul répartition CM'!R28=0),0,IF('3bis. Calcul répartition CM'!S28-'3bis. Calcul répartition CM'!Q28>0,1,0)))","v":0},{"$f":"IF(AND('3bis. Calcul répartition CM'!T28=MAX('3bis. Calcul répartition CM'!T$9:T$58),'3bis. Calcul répartition CM'!T28>0,COUNTIF('3bis. Calcul répartition CM'!T$9:T$58,'3bis. Calcul répartition CM'!T28)>1,SUM('3bis. Calcul répartition CM'!U$9:U$58)-SUM('3bis. Calcul répartition CM'!S$9:S$58)>1),\"erreur\",\"\")","v":""},{"$f":"IF(T23=\"erreur\",0,IF(OR('3bis. Calcul répartition CM'!U$5=0,'3bis. Calcul répartition CM'!T28=0),0,IF('3bis. Calcul répartition CM'!U28-'3bis. Calcul répartition CM'!S28>0,1,0)))","v":0},{"$f":"IF(AND('3bis. Calcul répartition CM'!V28=MAX('3bis. Calcul répartition CM'!V$9:V$58),'3bis. Calcul répartition CM'!V28>0,COUNTIF('3bis. Calcul répartition CM'!V$9:V$58,'3bis. Calcul répartition CM'!V28)>1,SUM('3bis. Calcul répartition CM'!W$9:W$58)-SUM('3bis. Calcul répartition CM'!U$9:U$58)>1),\"erreur\",\"\")","v":""},{"$f":"IF(V23=\"erreur\",0,IF(OR('3bis. Calcul répartition CM'!W$5=0,'3bis. Calcul répartition CM'!V28=0),0,IF('3bis. Calcul répartition CM'!W28-'3bis. Calcul répartition CM'!U28>0,1,0)))","v":0},{"$f":"IF(AND('3bis. Calcul répartition CM'!X28=MAX('3bis. Calcul répartition CM'!X$9:X$58),'3bis. Calcul répartition CM'!X28>0,COUNTIF('3bis. Calcul répartition CM'!X$9:X$58,'3bis. Calcul répartition CM'!X28)>1,SUM('3bis. Calcul répartition CM'!Y$9:Y$58)-SUM('3bis. Calcul répartition CM'!W$9:W$58)>1),\"erreur\",\"\")","v":""},{"$f":"IF(X23=\"erreur\",0,IF(OR('3bis. Calcul répartition CM'!Y$5=0,'3bis. Calcul répartition CM'!X28=0),0,IF('3bis. Calcul répartition CM'!Y28-'3bis. Calcul répartition CM'!W28>0,1,0)))","v":0},{"$f":"IF(AND('3bis. Calcul répartition CM'!Z28=MAX('3bis. Calcul répartition CM'!Z$9:Z$58),'3bis. Calcul répartition CM'!Z28>0,COUNTIF('3bis. Calcul répartition CM'!Z$9:Z$58,'3bis. Calcul répartition CM'!Z28)>1,SUM('3bis. Calcul répartition CM'!AA$9:AA$58)-SUM('3bis. Calcul répartition CM'!Y$9:Y$58)>1),\"erreur\",\"\")","v":""},{"$f":"IF(Z23=\"erreur\",0,IF(OR('3bis. Calcul répartition CM'!AA$5=0,'3bis. Calcul répartition CM'!Z28=0),0,IF('3bis. Calcul répartition CM'!AA28-'3bis. Calcul répartition CM'!Y28>0,1,0)))","v":0},{"$f":"IF(AND('3bis. Calcul répartition CM'!AB28=MAX('3bis. Calcul répartition CM'!AB$9:AB$58),'3bis. Calcul répartition CM'!AB28>0,COUNTIF('3bis. Calcul répartition CM'!AB$9:AB$58,'3bis. Calcul répartition CM'!AB28)>1,SUM('3bis. Calcul répartition CM'!AC$9:AC$58)-SUM('3bis. Calcul répartition CM'!AA$9:AA$58)>1),\"erreur\",\"\")","v":""},{"$f":"IF(AB23=\"erreur\",0,IF(OR('3bis. Calcul répartition CM'!AC$5=0,'3bis. Calcul répartition CM'!AB28=0),0,IF('3bis. Calcul répartition CM'!AC28-'3bis. Calcul répartition CM'!AA28>0,1,0)))","v":0},{"$f":"IF(AND('3bis. Calcul répartition CM'!AD28=MAX('3bis. Calcul répartition CM'!AD$9:AD$58),'3bis. Calcul répartition CM'!AD28>0,COUNTIF('3bis. Calcul répartition CM'!AD$9:AD$58,'3bis. Calcul répartition CM'!AD28)>1,SUM('3bis. Calcul répartition CM'!AE$9:AE$58)-SUM('3bis. Calcul répartition CM'!AC$9:AC$58)>1),\"erreur\",\"\")","v":""},{"$f":"IF(AD23=\"erreur\",0,IF(OR('3bis. Calcul répartition CM'!AE$5=0,'3bis. Calcul répartition CM'!AD28=0),0,IF('3bis. Calcul répartition CM'!AE28-'3bis. Calcul répartition CM'!AC28>0,1,0)))","v":0},{"$f":"IF(AND('3bis. Calcul répartition CM'!AF28=MAX('3bis. Calcul répartition CM'!AF$9:AF$58),'3bis. Calcul répartition CM'!AF28>0,COUNTIF('3bis. Calcul répartition CM'!AF$9:AF$58,'3bis. Calcul répartition CM'!AF28)>1,SUM('3bis. Calcul répartition CM'!AG$9:AG$58)-SUM('3bis. Calcul répartition CM'!AE$9:AE$58)>1),\"erreur\",\"\")","v":""},{"$f":"IF(AF23=\"erreur\",0,IF(OR('3bis. Calcul répartition CM'!AG$5=0,'3bis. Calcul répartition CM'!AF28=0),0,IF('3bis. Calcul répartition CM'!AG28-'3bis. Calcul répartition CM'!AE28>0,1,0)))","v":0},{"$f":"IF(AND('3bis. Calcul répartition CM'!AH28=MAX('3bis. Calcul répartition CM'!AH$9:AH$58),'3bis. Calcul répartition CM'!AH28>0,COUNTIF('3bis. Calcul répartition CM'!AH$9:AH$58,'3bis. Calcul répartition CM'!AH28)>1,SUM('3bis. Calcul répartition CM'!AI$9:AI$58)-SUM('3bis. Calcul répartition CM'!AG$9:AG$58)>1),\"erreur\",\"\")","v":""},{"$f":"IF(AH23=\"erreur\",0,IF(OR('3bis. Calcul répartition CM'!AI$5=0,'3bis. Calcul répartition CM'!AH28=0),0,IF('3bis. Calcul répartition CM'!AI28-'3bis. Calcul répartition CM'!AG28>0,1,0)))","v":0},{"$f":"IF(AND('3bis. Calcul répartition CM'!AJ28=MAX('3bis. Calcul répartition CM'!AJ$9:AJ$58),'3bis. Calcul répartition CM'!AJ28>0,COUNTIF('3bis. Calcul répartition CM'!AJ$9:AJ$58,'3bis. Calcul répartition CM'!AJ28)>1,SUM('3bis. Calcul répartition CM'!AK$9:AK$58)-SUM('3bis. Calcul répartition CM'!AI$9:AI$58)>1),\"erreur\",\"\")","v":""},{"$f":"IF(AJ23=\"erreur\",0,IF(OR('3bis. Calcul répartition CM'!AK$5=0,'3bis. Calcul répartition CM'!AJ28=0),0,IF('3bis. Calcul répartition CM'!AK28-'3bis. Calcul répartition CM'!AI28>0,1,0)))","v":0},{"$f":"IF(AND('3bis. Calcul répartition CM'!AL28=MAX('3bis. Calcul répartition CM'!AL$9:AL$58),'3bis. Calcul répartition CM'!AL28>0,COUNTIF('3bis. Calcul répartition CM'!AL$9:AL$58,'3bis. Calcul répartition CM'!AL28)>1,SUM('3bis. Calcul répartition CM'!AM$9:AM$58)-SUM('3bis. Calcul répartition CM'!AK$9:AK$58)>1),\"erreur\",\"\")","v":""},{"$f":"IF(AL23=\"erreur\",0,IF(OR('3bis. Calcul répartition CM'!AM$5=0,'3bis. Calcul répartition CM'!AL28=0),0,IF('3bis. Calcul répartition CM'!AM28-'3bis. Calcul répartition CM'!AK28>0,1,0)))","v":0},{"$f":"IF(AND('3bis. Calcul répartition CM'!AN28=MAX('3bis. Calcul répartition CM'!AN$9:AN$58),'3bis. Calcul répartition CM'!AN28>0,COUNTIF('3bis. Calcul répartition CM'!AN$9:AN$58,'3bis. Calcul répartition CM'!AN28)>1,SUM('3bis. Calcul répartition CM'!AO$9:AO$58)-SUM('3bis. Calcul répartition CM'!AM$9:AM$58)>1),\"erreur\",\"\")","v":""},{"$f":"IF(AN23=\"erreur\",0,IF(OR('3bis. Calcul répartition CM'!AO$5=0,'3bis. Calcul répartition CM'!AN28=0),0,IF('3bis. Calcul répartition CM'!AO28-'3bis. Calcul répartition CM'!AM28>0,1,0)))","v":0},{"$f":"IF(AND('3bis. Calcul répartition CM'!AP28=MAX('3bis. Calcul répartition CM'!AP$9:AP$58),'3bis. Calcul répartition CM'!AP28>0,COUNTIF('3bis. Calcul répartition CM'!AP$9:AP$58,'3bis. Calcul répartition CM'!AP28)>1,SUM('3bis. Calcul répartition CM'!AQ$9:AQ$58)-SUM('3bis. Calcul répartition CM'!AO$9:AO$58)>1),\"erreur\",\"\")","v":""},{"$f":"IF(AP23=\"erreur\",0,IF(OR('3bis. Calcul répartition CM'!AQ$5=0,'3bis. Calcul répartition CM'!AP28=0),0,IF('3bis. Calcul répartition CM'!AQ28-'3bis. Calcul répartition CM'!AO28>0,1,0)))","v":0},{"$f":"IF(AND('3bis. Calcul répartition CM'!AR28=MAX('3bis. Calcul répartition CM'!AR$9:AR$58),'3bis. Calcul répartition CM'!AR28>0,COUNTIF('3bis. Calcul répartition CM'!AR$9:AR$58,'3bis. Calcul répartition CM'!AR28)>1,SUM('3bis. Calcul répartition CM'!AS$9:AS$58)-SUM('3bis. Calcul répartition CM'!AQ$9:AQ$58)>1),\"erreur\",\"\")","v":""},{"$f":"IF(AR23=\"erreur\",0,IF(OR('3bis. Calcul répartition CM'!AS$5=0,'3bis. Calcul répartition CM'!AR28=0),0,IF('3bis. Calcul répartition CM'!AS28-'3bis. Calcul répartition CM'!AQ28>0,1,0)))","v":0},{"$f":"IF(AND('3bis. Calcul répartition CM'!AT28=MAX('3bis. Calcul répartition CM'!AT$9:AT$58),'3bis. Calcul répartition CM'!AT28>0,COUNTIF('3bis. Calcul répartition CM'!AT$9:AT$58,'3bis. Calcul répartition CM'!AT28)>1,SUM('3bis. Calcul répartition CM'!AU$9:AU$58)-SUM('3bis. Calcul répartition CM'!AS$9:AS$58)>1),\"erreur\",\"\")","v":""},{"$f":"IF(AT23=\"erreur\",0,IF(OR('3bis. Calcul répartition CM'!AU$5=0,'3bis. Calcul répartition CM'!AT28=0),0,IF('3bis. Calcul répartition CM'!AU28-'3bis. Calcul répartition CM'!AS28>0,1,0)))","v":0},{"$f":"IF(AND('3bis. Calcul répartition CM'!AV28=MAX('3bis. Calcul répartition CM'!AV$9:AV$58),'3bis. Calcul répartition CM'!AV28>0,COUNTIF('3bis. Calcul répartition CM'!AV$9:AV$58,'3bis. Calcul répartition CM'!AV28)>1,SUM('3bis. Calcul répartition CM'!AW$9:AW$58)-SUM('3bis. Calcul répartition CM'!AU$9:AU$58)>1),\"erreur\",\"\")","v":""},{"$f":"IF(AV23=\"erreur\",0,IF(OR('3bis. Calcul répartition CM'!AW$5=0,'3bis. Calcul répartition CM'!AV28=0),0,IF('3bis. Calcul répartition CM'!AW28-'3bis. Calcul répartition CM'!AU28>0,1,0)))","v":0},{"$f":"IF(AND('3bis. Calcul répartition CM'!AX28=MAX('3bis. Calcul répartition CM'!AX$9:AX$58),'3bis. Calcul répartition CM'!AX28>0,COUNTIF('3bis. Calcul répartition CM'!AX$9:AX$58,'3bis. Calcul répartition CM'!AX28)>1,SUM('3bis. Calcul répartition CM'!AY$9:AY$58)-SUM('3bis. Calcul répartition CM'!AW$9:AW$58)>1),\"erreur\",\"\")","v":""},{"$f":"IF(AX23=\"erreur\",0,IF(OR('3bis. Calcul répartition CM'!AY$5=0,'3bis. Calcul répartition CM'!AX28=0),0,IF('3bis. Calcul répartition CM'!AY28-'3bis. Calcul répartition CM'!AW28>0,1,0)))","v":0},{"$f":"IF(AND('3bis. Calcul répartition CM'!AZ28=MAX('3bis. Calcul répartition CM'!AZ$9:AZ$58),'3bis. Calcul répartition CM'!AZ28>0,COUNTIF('3bis. Calcul répartition CM'!AZ$9:AZ$58,'3bis. Calcul répartition CM'!AZ28)>1,SUM('3bis. Calcul répartition CM'!BA$9:BA$58)-SUM('3bis. Calcul répartition CM'!AY$9:AY$58)>1),\"erreur\",\"\")","v":""},{"$f":"IF(AZ23=\"erreur\",0,IF(OR('3bis. Calcul répartition CM'!BA$5=0,'3bis. Calcul répartition CM'!AZ28=0),0,IF('3bis. Calcul répartition CM'!BA28-'3bis. Calcul répartition CM'!AY28>0,1,0)))","v":0},{"$f":"IF(AND('3bis. Calcul répartition CM'!BB28=MAX('3bis. Calcul répartition CM'!BB$9:BB$58),'3bis. Calcul répartition CM'!BB28>0,COUNTIF('3bis. Calcul répartition CM'!BB$9:BB$58,'3bis. Calcul répartition CM'!BB28)>1,SUM('3bis. Calcul répartition CM'!BC$9:BC$58)-SUM('3bis. Calcul répartition CM'!BA$9:BA$58)>1),\"erreur\",\"\")","v":""},{"$f":"IF(BB23=\"erreur\",0,IF(OR('3bis. Calcul répartition CM'!BC$5=0,'3bis. Calcul répartition CM'!BB28=0),0,IF('3bis. Calcul répartition CM'!BC28-'3bis. Calcul répartition CM'!BA28>0,1,0)))","v":0},{"$f":"IF(AND('3bis. Calcul répartition CM'!BD28=MAX('3bis. Calcul répartition CM'!BD$9:BD$58),'3bis. Calcul répartition CM'!BD28>0,COUNTIF('3bis. Calcul répartition CM'!BD$9:BD$58,'3bis. Calcul répartition CM'!BD28)>1,SUM('3bis. Calcul répartition CM'!BE$9:BE$58)-SUM('3bis. Calcul répartition CM'!BC$9:BC$58)>1),\"erreur\",\"\")","v":""},{"$f":"IF(BD23=\"erreur\",0,IF(OR('3bis. Calcul répartition CM'!BE$5=0,'3bis. Calcul répartition CM'!BD28=0),0,IF('3bis. Calcul répartition CM'!BE28-'3bis. Calcul répartition CM'!BC28>0,1,0)))","v":0},{"$f":"IF(AND('3bis. Calcul répartition CM'!BF28=MAX('3bis. Calcul répartition CM'!BF$9:BF$58),'3bis. Calcul répartition CM'!BF28>0,COUNTIF('3bis. Calcul répartition CM'!BF$9:BF$58,'3bis. Calcul répartition CM'!BF28)>1,SUM('3bis. Calcul répartition CM'!BG$9:BG$58)-SUM('3bis. Calcul répartition CM'!BE$9:BE$58)>1),\"erreur\",\"\")","v":""},{"$f":"IF(BF23=\"erreur\",0,IF(OR('3bis. Calcul répartition CM'!BG$5=0,'3bis. Calcul répartition CM'!BF28=0),0,IF('3bis. Calcul répartition CM'!BG28-'3bis. Calcul répartition CM'!BE28>0,1,0)))","v":0},{"$f":"IF(AND('3bis. Calcul répartition CM'!BH28=MAX('3bis. Calcul répartition CM'!BH$9:BH$58),'3bis. Calcul répartition CM'!BH28>0,COUNTIF('3bis. Calcul répartition CM'!BH$9:BH$58,'3bis. Calcul répartition CM'!BH28)>1,SUM('3bis. Calcul répartition CM'!BI$9:BI$58)-SUM('3bis. Calcul répartition CM'!BG$9:BG$58)>1),\"erreur\",\"\")","v":""},{"$f":"IF(BH23=\"erreur\",0,IF(OR('3bis. Calcul répartition CM'!BI$5=0,'3bis. Calcul répartition CM'!BH28=0),0,IF('3bis. Calcul répartition CM'!BI28-'3bis. Calcul répartition CM'!BG28>0,1,0)))","v":0},{"$f":"IF(AND('3bis. Calcul répartition CM'!BJ28=MAX('3bis. Calcul répartition CM'!BJ$9:BJ$58),'3bis. Calcul répartition CM'!BJ28>0,COUNTIF('3bis. Calcul répartition CM'!BJ$9:BJ$58,'3bis. Calcul répartition CM'!BJ28)>1,SUM('3bis. Calcul répartition CM'!BK$9:BK$58)-SUM('3bis. Calcul répartition CM'!BI$9:BI$58)>1),\"erreur\",\"\")","v":""},{"$f":"IF(BJ23=\"erreur\",0,IF(OR('3bis. Calcul répartition CM'!BK$5=0,'3bis. Calcul répartition CM'!BJ28=0),0,IF('3bis. Calcul répartition CM'!BK28-'3bis. Calcul répartition CM'!BI28>0,1,0)))","v":0},{"$f":"IF(AND('3bis. Calcul répartition CM'!BL28=MAX('3bis. Calcul répartition CM'!BL$9:BL$58),'3bis. Calcul répartition CM'!BL28>0,COUNTIF('3bis. Calcul répartition CM'!BL$9:BL$58,'3bis. Calcul répartition CM'!BL28)>1,SUM('3bis. Calcul répartition CM'!BM$9:BM$58)-SUM('3bis. Calcul répartition CM'!BK$9:BK$58)>1),\"erreur\",\"\")","v":""},{"$f":"IF(BL23=\"erreur\",0,IF(OR('3bis. Calcul répartition CM'!BM$5=0,'3bis. Calcul répartition CM'!BL28=0),0,IF('3bis. Calcul répartition CM'!BM28-'3bis. Calcul répartition CM'!BK28>0,1,0)))","v":0},{"$f":"IF(AND('3bis. Calcul répartition CM'!BN28=MAX('3bis. Calcul répartition CM'!BN$9:BN$58),'3bis. Calcul répartition CM'!BN28>0,COUNTIF('3bis. Calcul répartition CM'!BN$9:BN$58,'3bis. Calcul répartition CM'!BN28)>1,SUM('3bis. Calcul répartition CM'!BO$9:BO$58)-SUM('3bis. Calcul répartition CM'!BM$9:BM$58)>1),\"erreur\",\"\")","v":""},{"$f":"IF(BN23=\"erreur\",0,IF(OR('3bis. Calcul répartition CM'!BO$5=0,'3bis. Calcul répartition CM'!BN28=0),0,IF('3bis. Calcul répartition CM'!BO28-'3bis. Calcul répartition CM'!BM28>0,1,0)))","v":0},{"$f":"IF(AND('3bis. Calcul répartition CM'!BP28=MAX('3bis. Calcul répartition CM'!BP$9:BP$58),'3bis. Calcul répartition CM'!BP28>0,COUNTIF('3bis. Calcul répartition CM'!BP$9:BP$58,'3bis. Calcul répartition CM'!BP28)>1,SUM('3bis. Calcul répartition CM'!BQ$9:BQ$58)-SUM('3bis. Calcul répartition CM'!BO$9:BO$58)>1),\"erreur\",\"\")","v":""},{"$f":"IF(BP23=\"erreur\",0,IF(OR('3bis. Calcul répartition CM'!BQ$5=0,'3bis. Calcul répartition CM'!BP28=0),0,IF('3bis. Calcul répartition CM'!BQ28-'3bis. Calcul répartition CM'!BO28>0,1,0)))","v":0}]
[null,null,null,null,null,null,null,null,{"$f":"'3bis. Calcul répartition CM'!B29","v":0},{"$f":"IF(AND('3bis. Calcul répartition CM'!J29=MAX('3bis. Calcul répartition CM'!J$9:J$58),'3bis. Calcul répartition CM'!J29>0,COUNTIF('3bis. Calcul répartition CM'!J$9:J$58,'3bis. Calcul répartition CM'!J29)>1,SUM('3bis. Calcul répartition CM'!$K$9:$K$58)-SUM('3bis. Calcul répartition CM'!$D$9:$D$58)>1),\"erreur\",\"\")","v":""},{"$f":"IF(J24=\"erreur\",0,IF(OR('3bis. Calcul répartition CM'!K$5=0,'3bis. Calcul répartition CM'!J29=0),0,IF('3bis. Calcul répartition CM'!K29-'3bis. Calcul répartition CM'!D29>0,1,0)))","v":0},{"$f":"IF(AND('3bis. Calcul répartition CM'!L29=MAX('3bis. Calcul répartition CM'!L$9:L$58),'3bis. Calcul répartition CM'!L29>0,COUNTIF('3bis. Calcul répartition CM'!L$9:L$58,'3bis. Calcul répartition CM'!L29)>1,SUM('3bis. Calcul répartition CM'!M$9:M$58)-SUM('3bis. Calcul répartition CM'!K$9:K$58)>1),\"erreur\",\"\")","v":""},{"$f":"IF(L24=\"erreur\",0,IF(OR('3bis. Calcul répartition CM'!M$5=0,'3bis. Calcul répartition CM'!L29=0),0,IF('3bis. Calcul répartition CM'!M29-'3bis. Calcul répartition CM'!K29>0,1,0)))","v":0},{"$f":"IF(AND('3bis. Calcul répartition CM'!N29=MAX('3bis. Calcul répartition CM'!N$9:N$58),'3bis. Calcul répartition CM'!N29>0,COUNTIF('3bis. Calcul répartition CM'!N$9:N$58,'3bis. Calcul répartition CM'!N29)>1,SUM('3bis. Calcul répartition CM'!O$9:O$58)-SUM('3bis. Calcul répartition CM'!M$9:M$58)>1),\"erreur\",\"\")","v":""},{"$f":"IF(N24=\"erreur\",0,IF(OR('3bis. Calcul répartition CM'!O$5=0,'3bis. Calcul répartition CM'!N29=0),0,IF('3bis. Calcul répartition CM'!O29-'3bis. Calcul répartition CM'!M29>0,1,0)))","v":0},{"$f":"IF(AND('3bis. Calcul répartition CM'!P29=MAX('3bis. Calcul répartition CM'!P$9:P$58),'3bis. Calcul répartition CM'!P29>0,COUNTIF('3bis. Calcul répartition CM'!P$9:P$58,'3bis. Calcul répartition CM'!P29)>1,SUM('3bis. Calcul répartition CM'!Q$9:Q$58)-SUM('3bis. Calcul répartition CM'!O$9:O$58)>1),\"erreur\",\"\")","v":""},{"$f":"IF(P24=\"erreur\",0,IF(OR('3bis. Calcul répartition CM'!Q$5=0,'3bis. Calcul répartition CM'!P29=0),0,IF('3bis. Calcul répartition CM'!Q29-'3bis. Calcul répartition CM'!O29>0,1,0)))","v":0},{"$f":"IF(AND('3bis. Calcul répartition CM'!R29=MAX('3bis. Calcul répartition CM'!R$9:R$58),'3bis. Calcul répartition CM'!R29>0,COUNTIF('3bis. Calcul répartition CM'!R$9:R$58,'3bis. Calcul répartition CM'!R29)>1,SUM('3bis. Calcul répartition CM'!S$9:S$58)-SUM('3bis. Calcul répartition CM'!Q$9:Q$58)>1),\"erreur\",\"\")","v":""},{"$f":"IF(R24=\"erreur\",0,IF(OR('3bis. Calcul répartition CM'!S$5=0,'3bis. Calcul répartition CM'!R29=0),0,IF('3bis. Calcul répartition CM'!S29-'3bis. Calcul répartition CM'!Q29>0,1,0)))","v":0},{"$f":"IF(AND('3bis. Calcul répartition CM'!T29=MAX('3bis. Calcul répartition CM'!T$9:T$58),'3bis. Calcul répartition CM'!T29>0,COUNTIF('3bis. Calcul répartition CM'!T$9:T$58,'3bis. Calcul répartition CM'!T29)>1,SUM('3bis. Calcul répartition CM'!U$9:U$58)-SUM('3bis. Calcul répartition CM'!S$9:S$58)>1),\"erreur\",\"\")","v":""},{"$f":"IF(T24=\"erreur\",0,IF(OR('3bis. Calcul répartition CM'!U$5=0,'3bis. Calcul répartition CM'!T29=0),0,IF('3bis. Calcul répartition CM'!U29-'3bis. Calcul répartition CM'!S29>0,1,0)))","v":0},{"$f":"IF(AND('3bis. Calcul répartition CM'!V29=MAX('3bis. Calcul répartition CM'!V$9:V$58),'3bis. Calcul répartition CM'!V29>0,COUNTIF('3bis. Calcul répartition CM'!V$9:V$58,'3bis. Calcul répartition CM'!V29)>1,SUM('3bis. Calcul répartition CM'!W$9:W$58)-SUM('3bis. Calcul répartition CM'!U$9:U$58)>1),\"erreur\",\"\")","v":""},{"$f":"IF(V24=\"erreur\",0,IF(OR('3bis. Calcul répartition CM'!W$5=0,'3bis. Calcul répartition CM'!V29=0),0,IF('3bis. Calcul répartition CM'!W29-'3bis. Calcul répartition CM'!U29>0,1,0)))","v":0},{"$f":"IF(AND('3bis. Calcul répartition CM'!X29=MAX('3bis. Calcul répartition CM'!X$9:X$58),'3bis. Calcul répartition CM'!X29>0,COUNTIF('3bis. Calcul répartition CM'!X$9:X$58,'3bis. Calcul répartition CM'!X29)>1,SUM('3bis. Calcul répartition CM'!Y$9:Y$58)-SUM('3bis. Calcul répartition CM'!W$9:W$58)>1),\"erreur\",\"\")","v":""},{"$f":"IF(X24=\"erreur\",0,IF(OR('3bis. Calcul répartition CM'!Y$5=0,'3bis. Calcul répartition CM'!X29=0),0,IF('3bis. Calcul répartition CM'!Y29-'3bis. Calcul répartition CM'!W29>0,1,0)))","v":0},{"$f":"IF(AND('3bis. Calcul répartition CM'!Z29=MAX('3bis. Calcul répartition CM'!Z$9:Z$58),'3bis. Calcul répartition CM'!Z29>0,COUNTIF('3bis. Calcul répartition CM'!Z$9:Z$58,'3bis. Calcul répartition CM'!Z29)>1,SUM('3bis. Calcul répartition CM'!AA$9:AA$58)-SUM('3bis. Calcul répartition CM'!Y$9:Y$58)>1),\"erreur\",\"\")","v":""},{"$f":"IF(Z24=\"erreur\",0,IF(OR('3bis. Calcul répartition CM'!AA$5=0,'3bis. Calcul répartition CM'!Z29=0),0,IF('3bis. Calcul répartition CM'!AA29-'3bis. Calcul répartition CM'!Y29>0,1,0)))","v":0},{"$f":"IF(AND('3bis. Calcul répartition CM'!AB29=MAX('3bis. Calcul répartition CM'!AB$9:AB$58),'3bis. Calcul répartition CM'!AB29>0,COUNTIF('3bis. Calcul répartition CM'!AB$9:AB$58,'3bis. Calcul répartition CM'!AB29)>1,SUM('3bis. Calcul répartition CM'!AC$9:AC$58)-SUM('3bis. Calcul répartition CM'!AA$9:AA$58)>1),\"erreur\",\"\")","v":""},{"$f":"IF(AB24=\"erreur\",0,IF(OR('3bis. Calcul répartition CM'!AC$5=0,'3bis. Calcul répartition CM'!AB29=0),0,IF('3bis. Calcul répartition CM'!AC29-'3bis. Calcul répartition CM'!AA29>0,1,0)))","v":0},{"$f":"IF(AND('3bis. Calcul répartition CM'!AD29=MAX('3bis. Calcul répartition CM'!AD$9:AD$58),'3bis. Calcul répartition CM'!AD29>0,COUNTIF('3bis. Calcul répartition CM'!AD$9:AD$58,'3bis. Calcul répartition CM'!AD29)>1,SUM('3bis. Calcul répartition CM'!AE$9:AE$58)-SUM('3bis. Calcul répartition CM'!AC$9:AC$58)>1),\"erreur\",\"\")","v":""},{"$f":"IF(AD24=\"erreur\",0,IF(OR('3bis. Calcul répartition CM'!AE$5=0,'3bis. Calcul répartition CM'!AD29=0),0,IF('3bis. Calcul répartition CM'!AE29-'3bis. Calcul répartition CM'!AC29>0,1,0)))","v":0},{"$f":"IF(AND('3bis. Calcul répartition CM'!AF29=MAX('3bis. Calcul répartition CM'!AF$9:AF$58),'3bis. Calcul répartition CM'!AF29>0,COUNTIF('3bis. Calcul répartition CM'!AF$9:AF$58,'3bis. Calcul répartition CM'!AF29)>1,SUM('3bis. Calcul répartition CM'!AG$9:AG$58)-SUM('3bis. Calcul répartition CM'!AE$9:AE$58)>1),\"erreur\",\"\")","v":""},{"$f":"IF(AF24=\"erreur\",0,IF(OR('3bis. Calcul répartition CM'!AG$5=0,'3bis. Calcul répartition CM'!AF29=0),0,IF('3bis. Calcul répartition CM'!AG29-'3bis. Calcul répartition CM'!AE29>0,1,0)))","v":0},{"$f":"IF(AND('3bis. Calcul répartition CM'!AH29=MAX('3bis. Calcul répartition CM'!AH$9:AH$58),'3bis. Calcul répartition CM'!AH29>0,COUNTIF('3bis. Calcul répartition CM'!AH$9:AH$58,'3bis. Calcul répartition CM'!AH29)>1,SUM('3bis. Calcul répartition CM'!AI$9:AI$58)-SUM('3bis. Calcul répartition CM'!AG$9:AG$58)>1),\"erreur\",\"\")","v":""},{"$f":"IF(AH24=\"erreur\",0,IF(OR('3bis. Calcul répartition CM'!AI$5=0,'3bis. Calcul répartition CM'!AH29=0),0,IF('3bis. Calcul répartition CM'!AI29-'3bis. Calcul répartition CM'!AG29>0,1,0)))","v":0},{"$f":"IF(AND('3bis. Calcul répartition CM'!AJ29=MAX('3bis. Calcul répartition CM'!AJ$9:AJ$58),'3bis. Calcul répartition CM'!AJ29>0,COUNTIF('3bis. Calcul répartition CM'!AJ$9:AJ$58,'3bis. Calcul répartition CM'!AJ29)>1,SUM('3bis. Calcul répartition CM'!AK$9:AK$58)-SUM('3bis. Calcul répartition CM'!AI$9:AI$58)>1),\"erreur\",\"\")","v":""},{"$f":"IF(AJ24=\"erreur\",0,IF(OR('3bis. Calcul répartition CM'!AK$5=0,'3bis. Calcul répartition CM'!AJ29=0),0,IF('3bis. Calcul répartition CM'!AK29-'3bis. Calcul répartition CM'!AI29>0,1,0)))","v":0},{"$f":"IF(AND('3bis. Calcul répartition CM'!AL29=MAX('3bis. Calcul répartition CM'!AL$9:AL$58),'3bis. Calcul répartition CM'!AL29>0,COUNTIF('3bis. Calcul répartition CM'!AL$9:AL$58,'3bis. Calcul répartition CM'!AL29)>1,SUM('3bis. Calcul répartition CM'!AM$9:AM$58)-SUM('3bis. Calcul répartition CM'!AK$9:AK$58)>1),\"erreur\",\"\")","v":""},{"$f":"IF(AL24=\"erreur\",0,IF(OR('3bis. Calcul répartition CM'!AM$5=0,'3bis. Calcul répartition CM'!AL29=0),0,IF('3bis. Calcul répartition CM'!AM29-'3bis. Calcul répartition CM'!AK29>0,1,0)))","v":0},{"$f":"IF(AND('3bis. Calcul répartition CM'!AN29=MAX('3bis. Calcul répartition CM'!AN$9:AN$58),'3bis. Calcul répartition CM'!AN29>0,COUNTIF('3bis. Calcul répartition CM'!AN$9:AN$58,'3bis. Calcul répartition CM'!AN29)>1,SUM('3bis. Calcul répartition CM'!AO$9:AO$58)-SUM('3bis. Calcul répartition CM'!AM$9:AM$58)>1),\"erreur\",\"\")","v":""},{"$f":"IF(AN24=\"erreur\",0,IF(OR('3bis. Calcul répartition CM'!AO$5=0,'3bis. Calcul répartition CM'!AN29=0),0,IF('3bis. Calcul répartition CM'!AO29-'3bis. Calcul répartition CM'!AM29>0,1,0)))","v":0},{"$f":"IF(AND('3bis. Calcul répartition CM'!AP29=MAX('3bis. Calcul répartition CM'!AP$9:AP$58),'3bis. Calcul répartition CM'!AP29>0,COUNTIF('3bis. Calcul répartition CM'!AP$9:AP$58,'3bis. Calcul répartition CM'!AP29)>1,SUM('3bis. Calcul répartition CM'!AQ$9:AQ$58)-SUM('3bis. Calcul répartition CM'!AO$9:AO$58)>1),\"erreur\",\"\")","v":""},{"$f":"IF(AP24=\"erreur\",0,IF(OR('3bis. Calcul répartition CM'!AQ$5=0,'3bis. Calcul répartition CM'!AP29=0),0,IF('3bis. Calcul répartition CM'!AQ29-'3bis. Calcul répartition CM'!AO29>0,1,0)))","v":0},{"$f":"IF(AND('3bis. Calcul répartition CM'!AR29=MAX('3bis. Calcul répartition CM'!AR$9:AR$58),'3bis. Calcul répartition CM'!AR29>0,COUNTIF('3bis. Calcul répartition CM'!AR$9:AR$58,'3bis. Calcul répartition CM'!AR29)>1,SUM('3bis. Calcul répartition CM'!AS$9:AS$58)-SUM('3bis. Calcul répartition CM'!AQ$9:AQ$58)>1),\"erreur\",\"\")","v":""},{"$f":"IF(AR24=\"erreur\",0,IF(OR('3bis. Calcul répartition CM'!AS$5=0,'3bis. Calcul répartition CM'!AR29=0),0,IF('3bis. Calcul répartition CM'!AS29-'3bis. Calcul répartition CM'!AQ29>0,1,0)))","v":0},{"$f":"IF(AND('3bis. Calcul répartition CM'!AT29=MAX('3bis. Calcul répartition CM'!AT$9:AT$58),'3bis. Calcul répartition CM'!AT29>0,COUNTIF('3bis. Calcul répartition CM'!AT$9:AT$58,'3bis. Calcul répartition CM'!AT29)>1,SUM('3bis. Calcul répartition CM'!AU$9:AU$58)-SUM('3bis. Calcul répartition CM'!AS$9:AS$58)>1),\"erreur\",\"\")","v":""},{"$f":"IF(AT24=\"erreur\",0,IF(OR('3bis. Calcul répartition CM'!AU$5=0,'3bis. Calcul répartition CM'!AT29=0),0,IF('3bis. Calcul répartition CM'!AU29-'3bis. Calcul répartition CM'!AS29>0,1,0)))","v":0},{"$f":"IF(AND('3bis. Calcul répartition CM'!AV29=MAX('3bis. Calcul répartition CM'!AV$9:AV$58),'3bis. Calcul répartition CM'!AV29>0,COUNTIF('3bis. Calcul répartition CM'!AV$9:AV$58,'3bis. Calcul répartition CM'!AV29)>1,SUM('3bis. Calcul répartition CM'!AW$9:AW$58)-SUM('3bis. Calcul répartition CM'!AU$9:AU$58)>1),\"erreur\",\"\")","v":""},{"$f":"IF(AV24=\"erreur\",0,IF(OR('3bis. Calcul répartition CM'!AW$5=0,'3bis. Calcul répartition CM'!AV29=0),0,IF('3bis. Calcul répartition CM'!AW29-'3bis. Calcul répartition CM'!AU29>0,1,0)))","v":0},{"$f":"IF(AND('3bis. Calcul répartition CM'!AX29=MAX('3bis. Calcul répartition CM'!AX$9:AX$58),'3bis. Calcul répartition CM'!AX29>0,COUNTIF('3bis. Calcul répartition CM'!AX$9:AX$58,'3bis. Calcul répartition CM'!AX29)>1,SUM('3bis. Calcul répartition CM'!AY$9:AY$58)-SUM('3bis. Calcul répartition CM'!AW$9:AW$58)>1),\"erreur\",\"\")","v":""},{"$f":"IF(AX24=\"erreur\",0,IF(OR('3bis. Calcul répartition CM'!AY$5=0,'3bis. Calcul répartition CM'!AX29=0),0,IF('3bis. Calcul répartition CM'!AY29-'3bis. Calcul répartition CM'!AW29>0,1,0)))","v":0},{"$f":"IF(AND('3bis. Calcul répartition CM'!AZ29=MAX('3bis. Calcul répartition CM'!AZ$9:AZ$58),'3bis. Calcul répartition CM'!AZ29>0,COUNTIF('3bis. Calcul répartition CM'!AZ$9:AZ$58,'3bis. Calcul répartition CM'!AZ29)>1,SUM('3bis. Calcul répartition CM'!BA$9:BA$58)-SUM('3bis. Calcul répartition CM'!AY$9:AY$58)>1),\"erreur\",\"\")","v":""},{"$f":"IF(AZ24=\"erreur\",0,IF(OR('3bis. Calcul répartition CM'!BA$5=0,'3bis. Calcul répartition CM'!AZ29=0),0,IF('3bis. Calcul répartition CM'!BA29-'3bis. Calcul répartition CM'!AY29>0,1,0)))","v":0},{"$f":"IF(AND('3bis. Calcul répartition CM'!BB29=MAX('3bis. Calcul répartition CM'!BB$9:BB$58),'3bis. Calcul répartition CM'!BB29>0,COUNTIF('3bis. Calcul répartition CM'!BB$9:BB$58,'3bis. Calcul répartition CM'!BB29)>1,SUM('3bis. Calcul répartition CM'!BC$9:BC$58)-SUM('3bis. Calcul répartition CM'!BA$9:BA$58)>1),\"erreur\",\"\")","v":""},{"$f":"IF(BB24=\"erreur\",0,IF(OR('3bis. Calcul répartition CM'!BC$5=0,'3bis. Calcul répartition CM'!BB29=0),0,IF('3bis. Calcul répartition CM'!BC29-'3bis. Calcul répartition CM'!BA29>0,1,0)))","v":0},{"$f":"IF(AND('3bis. Calcul répartition CM'!BD29=MAX('3bis. Calcul répartition CM'!BD$9:BD$58),'3bis. Calcul répartition CM'!BD29>0,COUNTIF('3bis. Calcul répartition CM'!BD$9:BD$58,'3bis. Calcul répartition CM'!BD29)>1,SUM('3bis. Calcul répartition CM'!BE$9:BE$58)-SUM('3bis. Calcul répartition CM'!BC$9:BC$58)>1),\"erreur\",\"\")","v":""},{"$f":"IF(BD24=\"erreur\",0,IF(OR('3bis. Calcul répartition CM'!BE$5=0,'3bis. Calcul répartition CM'!BD29=0),0,IF('3bis. Calcul répartition CM'!BE29-'3bis. Calcul répartition CM'!BC29>0,1,0)))","v":0},{"$f":"IF(AND('3bis. Calcul répartition CM'!BF29=MAX('3bis. Calcul répartition CM'!BF$9:BF$58),'3bis. Calcul répartition CM'!BF29>0,COUNTIF('3bis. Calcul répartition CM'!BF$9:BF$58,'3bis. Calcul répartition CM'!BF29)>1,SUM('3bis. Calcul répartition CM'!BG$9:BG$58)-SUM('3bis. Calcul répartition CM'!BE$9:BE$58)>1),\"erreur\",\"\")","v":""},{"$f":"IF(BF24=\"erreur\",0,IF(OR('3bis. Calcul répartition CM'!BG$5=0,'3bis. Calcul répartition CM'!BF29=0),0,IF('3bis. Calcul répartition CM'!BG29-'3bis. Calcul répartition CM'!BE29>0,1,0)))","v":0},{"$f":"IF(AND('3bis. Calcul répartition CM'!BH29=MAX('3bis. Calcul répartition CM'!BH$9:BH$58),'3bis. Calcul répartition CM'!BH29>0,COUNTIF('3bis. Calcul répartition CM'!BH$9:BH$58,'3bis. Calcul répartition CM'!BH29)>1,SUM('3bis. Calcul répartition CM'!BI$9:BI$58)-SUM('3bis. Calcul répartition CM'!BG$9:BG$58)>1),\"erreur\",\"\")","v":""},{"$f":"IF(BH24=\"erreur\",0,IF(OR('3bis. Calcul répartition CM'!BI$5=0,'3bis. Calcul répartition CM'!BH29=0),0,IF('3bis. Calcul répartition CM'!BI29-'3bis. Calcul répartition CM'!BG29>0,1,0)))","v":0},{"$f":"IF(AND('3bis. Calcul répartition CM'!BJ29=MAX('3bis. Calcul répartition CM'!BJ$9:BJ$58),'3bis. Calcul répartition CM'!BJ29>0,COUNTIF('3bis. Calcul répartition CM'!BJ$9:BJ$58,'3bis. Calcul répartition CM'!BJ29)>1,SUM('3bis. Calcul répartition CM'!BK$9:BK$58)-SUM('3bis. Calcul répartition CM'!BI$9:BI$58)>1),\"erreur\",\"\")","v":""},{"$f":"IF(BJ24=\"erreur\",0,IF(OR('3bis. Calcul répartition CM'!BK$5=0,'3bis. Calcul répartition CM'!BJ29=0),0,IF('3bis. Calcul répartition CM'!BK29-'3bis. Calcul répartition CM'!BI29>0,1,0)))","v":0},{"$f":"IF(AND('3bis. Calcul répartition CM'!BL29=MAX('3bis. Calcul répartition CM'!BL$9:BL$58),'3bis. Calcul répartition CM'!BL29>0,COUNTIF('3bis. Calcul répartition CM'!BL$9:BL$58,'3bis. Calcul répartition CM'!BL29)>1,SUM('3bis. Calcul répartition CM'!BM$9:BM$58)-SUM('3bis. Calcul répartition CM'!BK$9:BK$58)>1),\"erreur\",\"\")","v":""},{"$f":"IF(BL24=\"erreur\",0,IF(OR('3bis. Calcul répartition CM'!BM$5=0,'3bis. Calcul répartition CM'!BL29=0),0,IF('3bis. Calcul répartition CM'!BM29-'3bis. Calcul répartition CM'!BK29>0,1,0)))","v":0},{"$f":"IF(AND('3bis. Calcul répartition CM'!BN29=MAX('3bis. Calcul répartition CM'!BN$9:BN$58),'3bis. Calcul répartition CM'!BN29>0,COUNTIF('3bis. Calcul répartition CM'!BN$9:BN$58,'3bis. Calcul répartition CM'!BN29)>1,SUM('3bis. Calcul répartition CM'!BO$9:BO$58)-SUM('3bis. Calcul répartition CM'!BM$9:BM$58)>1),\"erreur\",\"\")","v":""},{"$f":"IF(BN24=\"erreur\",0,IF(OR('3bis. Calcul répartition CM'!BO$5=0,'3bis. Calcul répartition CM'!BN29=0),0,IF('3bis. Calcul répartition CM'!BO29-'3bis. Calcul répartition CM'!BM29>0,1,0)))","v":0},{"$f":"IF(AND('3bis. Calcul répartition CM'!BP29=MAX('3bis. Calcul répartition CM'!BP$9:BP$58),'3bis. Calcul répartition CM'!BP29>0,COUNTIF('3bis. Calcul répartition CM'!BP$9:BP$58,'3bis. Calcul répartition CM'!BP29)>1,SUM('3bis. Calcul répartition CM'!BQ$9:BQ$58)-SUM('3bis. Calcul répartition CM'!BO$9:BO$58)>1),\"erreur\",\"\")","v":""},{"$f":"IF(BP24=\"erreur\",0,IF(OR('3bis. Calcul répartition CM'!BQ$5=0,'3bis. Calcul répartition CM'!BP29=0),0,IF('3bis. Calcul répartition CM'!BQ29-'3bis. Calcul répartition CM'!BO29>0,1,0)))","v":0}]
[null,null,null,null,null,null,null,null,{"$f":"'3bis. Calcul répartition CM'!B30","v":0},{"$f":"IF(AND('3bis. Calcul répartition CM'!J30=MAX('3bis. Calcul répartition CM'!J$9:J$58),'3bis. Calcul répartition CM'!J30>0,COUNTIF('3bis. Calcul répartition CM'!J$9:J$58,'3bis. Calcul répartition CM'!J30)>1,SUM('3bis. Calcul répartition CM'!$K$9:$K$58)-SUM('3bis. Calcul répartition CM'!$D$9:$D$58)>1),\"erreur\",\"\")","v":""},{"$f":"IF(J25=\"erreur\",0,IF(OR('3bis. Calcul répartition CM'!K$5=0,'3bis. Calcul répartition CM'!J30=0),0,IF('3bis. Calcul répartition CM'!K30-'3bis. Calcul répartition CM'!D30>0,1,0)))","v":0},{"$f":"IF(AND('3bis. Calcul répartition CM'!L30=MAX('3bis. Calcul répartition CM'!L$9:L$58),'3bis. Calcul répartition CM'!L30>0,COUNTIF('3bis. Calcul répartition CM'!L$9:L$58,'3bis. Calcul répartition CM'!L30)>1,SUM('3bis. Calcul répartition CM'!M$9:M$58)-SUM('3bis. Calcul répartition CM'!K$9:K$58)>1),\"erreur\",\"\")","v":""},{"$f":"IF(L25=\"erreur\",0,IF(OR('3bis. Calcul répartition CM'!M$5=0,'3bis. Calcul répartition CM'!L30=0),0,IF('3bis. Calcul répartition CM'!M30-'3bis. Calcul répartition CM'!K30>0,1,0)))","v":0},{"$f":"IF(AND('3bis. Calcul répartition CM'!N30=MAX('3bis. Calcul répartition CM'!N$9:N$58),'3bis. Calcul répartition CM'!N30>0,COUNTIF('3bis. Calcul répartition CM'!N$9:N$58,'3bis. Calcul répartition CM'!N30)>1,SUM('3bis. Calcul répartition CM'!O$9:O$58)-SUM('3bis. Calcul répartition CM'!M$9:M$58)>1),\"erreur\",\"\")","v":""},{"$f":"IF(N25=\"erreur\",0,IF(OR('3bis. Calcul répartition CM'!O$5=0,'3bis. Calcul répartition CM'!N30=0),0,IF('3bis. Calcul répartition CM'!O30-'3bis. Calcul répartition CM'!M30>0,1,0)))","v":0},{"$f":"IF(AND('3bis. Calcul répartition CM'!P30=MAX('3bis. Calcul répartition CM'!P$9:P$58),'3bis. Calcul répartition CM'!P30>0,COUNTIF('3bis. Calcul répartition CM'!P$9:P$58,'3bis. Calcul répartition CM'!P30)>1,SUM('3bis. Calcul répartition CM'!Q$9:Q$58)-SUM('3bis. Calcul répartition CM'!O$9:O$58)>1),\"erreur\",\"\")","v":""},{"$f":"IF(P25=\"erreur\",0,IF(OR('3bis. Calcul répartition CM'!Q$5=0,'3bis. Calcul répartition CM'!P30=0),0,IF('3bis. Calcul répartition CM'!Q30-'3bis. Calcul répartition CM'!O30>0,1,0)))","v":0},{"$f":"IF(AND('3bis. Calcul répartition CM'!R30=MAX('3bis. Calcul répartition CM'!R$9:R$58),'3bis. Calcul répartition CM'!R30>0,COUNTIF('3bis. Calcul répartition CM'!R$9:R$58,'3bis. Calcul répartition CM'!R30)>1,SUM('3bis. Calcul répartition CM'!S$9:S$58)-SUM('3bis. Calcul répartition CM'!Q$9:Q$58)>1),\"erreur\",\"\")","v":""},{"$f":"IF(R25=\"erreur\",0,IF(OR('3bis. Calcul répartition CM'!S$5=0,'3bis. Calcul répartition CM'!R30=0),0,IF('3bis. Calcul répartition CM'!S30-'3bis. Calcul répartition CM'!Q30>0,1,0)))","v":0},{"$f":"IF(AND('3bis. Calcul répartition CM'!T30=MAX('3bis. Calcul répartition CM'!T$9:T$58),'3bis. Calcul répartition CM'!T30>0,COUNTIF('3bis. Calcul répartition CM'!T$9:T$58,'3bis. Calcul répartition CM'!T30)>1,SUM('3bis. Calcul répartition CM'!U$9:U$58)-SUM('3bis. Calcul répartition CM'!S$9:S$58)>1),\"erreur\",\"\")","v":""},{"$f":"IF(T25=\"erreur\",0,IF(OR('3bis. Calcul répartition CM'!U$5=0,'3bis. Calcul répartition CM'!T30=0),0,IF('3bis. Calcul répartition CM'!U30-'3bis. Calcul répartition CM'!S30>0,1,0)))","v":0},{"$f":"IF(AND('3bis. Calcul répartition CM'!V30=MAX('3bis. Calcul répartition CM'!V$9:V$58),'3bis. Calcul répartition CM'!V30>0,COUNTIF('3bis. Calcul répartition CM'!V$9:V$58,'3bis. Calcul répartition CM'!V30)>1,SUM('3bis. Calcul répartition CM'!W$9:W$58)-SUM('3bis. Calcul répartition CM'!U$9:U$58)>1),\"erreur\",\"\")","v":""},{"$f":"IF(V25=\"erreur\",0,IF(OR('3bis. Calcul répartition CM'!W$5=0,'3bis. Calcul répartition CM'!V30=0),0,IF('3bis. Calcul répartition CM'!W30-'3bis. Calcul répartition CM'!U30>0,1,0)))","v":0},{"$f":"IF(AND('3bis. Calcul répartition CM'!X30=MAX('3bis. Calcul répartition CM'!X$9:X$58),'3bis. Calcul répartition CM'!X30>0,COUNTIF('3bis. Calcul répartition CM'!X$9:X$58,'3bis. Calcul répartition CM'!X30)>1,SUM('3bis. Calcul répartition CM'!Y$9:Y$58)-SUM('3bis. Calcul répartition CM'!W$9:W$58)>1),\"erreur\",\"\")","v":""},{"$f":"IF(X25=\"erreur\",0,IF(OR('3bis. Calcul répartition CM'!Y$5=0,'3bis. Calcul répartition CM'!X30=0),0,IF('3bis. Calcul répartition CM'!Y30-'3bis. Calcul répartition CM'!W30>0,1,0)))","v":0},{"$f":"IF(AND('3bis. Calcul répartition CM'!Z30=MAX('3bis. Calcul répartition CM'!Z$9:Z$58),'3bis. Calcul répartition CM'!Z30>0,COUNTIF('3bis. Calcul répartition CM'!Z$9:Z$58,'3bis. Calcul répartition CM'!Z30)>1,SUM('3bis. Calcul répartition CM'!AA$9:AA$58)-SUM('3bis. Calcul répartition CM'!Y$9:Y$58)>1),\"erreur\",\"\")","v":""},{"$f":"IF(Z25=\"erreur\",0,IF(OR('3bis. Calcul répartition CM'!AA$5=0,'3bis. Calcul répartition CM'!Z30=0),0,IF('3bis. Calcul répartition CM'!AA30-'3bis. Calcul répartition CM'!Y30>0,1,0)))","v":0},{"$f":"IF(AND('3bis. Calcul répartition CM'!AB30=MAX('3bis. Calcul répartition CM'!AB$9:AB$58),'3bis. Calcul répartition CM'!AB30>0,COUNTIF('3bis. Calcul répartition CM'!AB$9:AB$58,'3bis. Calcul répartition CM'!AB30)>1,SUM('3bis. Calcul répartition CM'!AC$9:AC$58)-SUM('3bis. Calcul répartition CM'!AA$9:AA$58)>1),\"erreur\",\"\")","v":""},{"$f":"IF(AB25=\"erreur\",0,IF(OR('3bis. Calcul répartition CM'!AC$5=0,'3bis. Calcul répartition CM'!AB30=0),0,IF('3bis. Calcul répartition CM'!AC30-'3bis. Calcul répartition CM'!AA30>0,1,0)))","v":0},{"$f":"IF(AND('3bis. Calcul répartition CM'!AD30=MAX('3bis. Calcul répartition CM'!AD$9:AD$58),'3bis. Calcul répartition CM'!AD30>0,COUNTIF('3bis. Calcul répartition CM'!AD$9:AD$58,'3bis. Calcul répartition CM'!AD30)>1,SUM('3bis. Calcul répartition CM'!AE$9:AE$58)-SUM('3bis. Calcul répartition CM'!AC$9:AC$58)>1),\"erreur\",\"\")","v":""},{"$f":"IF(AD25=\"erreur\",0,IF(OR('3bis. Calcul répartition CM'!AE$5=0,'3bis. Calcul répartition CM'!AD30=0),0,IF('3bis. Calcul répartition CM'!AE30-'3bis. Calcul répartition CM'!AC30>0,1,0)))","v":0},{"$f":"IF(AND('3bis. Calcul répartition CM'!AF30=MAX('3bis. Calcul répartition CM'!AF$9:AF$58),'3bis. Calcul répartition CM'!AF30>0,COUNTIF('3bis. Calcul répartition CM'!AF$9:AF$58,'3bis. Calcul répartition CM'!AF30)>1,SUM('3bis. Calcul répartition CM'!AG$9:AG$58)-SUM('3bis. Calcul répartition CM'!AE$9:AE$58)>1),\"erreur\",\"\")","v":""},{"$f":"IF(AF25=\"erreur\",0,IF(OR('3bis. Calcul répartition CM'!AG$5=0,'3bis. Calcul répartition CM'!AF30=0),0,IF('3bis. Calcul répartition CM'!AG30-'3bis. Calcul répartition CM'!AE30>0,1,0)))","v":0},{"$f":"IF(AND('3bis. Calcul répartition CM'!AH30=MAX('3bis. Calcul répartition CM'!AH$9:AH$58),'3bis. Calcul répartition CM'!AH30>0,COUNTIF('3bis. Calcul répartition CM'!AH$9:AH$58,'3bis. Calcul répartition CM'!AH30)>1,SUM('3bis. Calcul répartition CM'!AI$9:AI$58)-SUM('3bis. Calcul répartition CM'!AG$9:AG$58)>1),\"erreur\",\"\")","v":""},{"$f":"IF(AH25=\"erreur\",0,IF(OR('3bis. Calcul répartition CM'!AI$5=0,'3bis. Calcul répartition CM'!AH30=0),0,IF('3bis. Calcul répartition CM'!AI30-'3bis. Calcul répartition CM'!AG30>0,1,0)))","v":0},{"$f":"IF(AND('3bis. Calcul répartition CM'!AJ30=MAX('3bis. Calcul répartition CM'!AJ$9:AJ$58),'3bis. Calcul répartition CM'!AJ30>0,COUNTIF('3bis. Calcul répartition CM'!AJ$9:AJ$58,'3bis. Calcul répartition CM'!AJ30)>1,SUM('3bis. Calcul répartition CM'!AK$9:AK$58)-SUM('3bis. Calcul répartition CM'!AI$9:AI$58)>1),\"erreur\",\"\")","v":""},{"$f":"IF(AJ25=\"erreur\",0,IF(OR('3bis. Calcul répartition CM'!AK$5=0,'3bis. Calcul répartition CM'!AJ30=0),0,IF('3bis. Calcul répartition CM'!AK30-'3bis. Calcul répartition CM'!AI30>0,1,0)))","v":0},{"$f":"IF(AND('3bis. Calcul répartition CM'!AL30=MAX('3bis. Calcul répartition CM'!AL$9:AL$58),'3bis. Calcul répartition CM'!AL30>0,COUNTIF('3bis. Calcul répartition CM'!AL$9:AL$58,'3bis. Calcul répartition CM'!AL30)>1,SUM('3bis. Calcul répartition CM'!AM$9:AM$58)-SUM('3bis. Calcul répartition CM'!AK$9:AK$58)>1),\"erreur\",\"\")","v":""},{"$f":"IF(AL25=\"erreur\",0,IF(OR('3bis. Calcul répartition CM'!AM$5=0,'3bis. Calcul répartition CM'!AL30=0),0,IF('3bis. Calcul répartition CM'!AM30-'3bis. Calcul répartition CM'!AK30>0,1,0)))","v":0},{"$f":"IF(AND('3bis. Calcul répartition CM'!AN30=MAX('3bis. Calcul répartition CM'!AN$9:AN$58),'3bis. Calcul répartition CM'!AN30>0,COUNTIF('3bis. Calcul répartition CM'!AN$9:AN$58,'3bis. Calcul répartition CM'!AN30)>1,SUM('3bis. Calcul répartition CM'!AO$9:AO$58)-SUM('3bis. Calcul répartition CM'!AM$9:AM$58)>1),\"erreur\",\"\")","v":""},{"$f":"IF(AN25=\"erreur\",0,IF(OR('3bis. Calcul répartition CM'!AO$5=0,'3bis. Calcul répartition CM'!AN30=0),0,IF('3bis. Calcul répartition CM'!AO30-'3bis. Calcul répartition CM'!AM30>0,1,0)))","v":0},{"$f":"IF(AND('3bis. Calcul répartition CM'!AP30=MAX('3bis. Calcul répartition CM'!AP$9:AP$58),'3bis. Calcul répartition CM'!AP30>0,COUNTIF('3bis. Calcul répartition CM'!AP$9:AP$58,'3bis. Calcul répartition CM'!AP30)>1,SUM('3bis. Calcul répartition CM'!AQ$9:AQ$58)-SUM('3bis. Calcul répartition CM'!AO$9:AO$58)>1),\"erreur\",\"\")","v":""},{"$f":"IF(AP25=\"erreur\",0,IF(OR('3bis. Calcul répartition CM'!AQ$5=0,'3bis. Calcul répartition CM'!AP30=0),0,IF('3bis. Calcul répartition CM'!AQ30-'3bis. Calcul répartition CM'!AO30>0,1,0)))","v":0},{"$f":"IF(AND('3bis. Calcul répartition CM'!AR30=MAX('3bis. Calcul répartition CM'!AR$9:AR$58),'3bis. Calcul répartition CM'!AR30>0,COUNTIF('3bis. Calcul répartition CM'!AR$9:AR$58,'3bis. Calcul répartition CM'!AR30)>1,SUM('3bis. Calcul répartition CM'!AS$9:AS$58)-SUM('3bis. Calcul répartition CM'!AQ$9:AQ$58)>1),\"erreur\",\"\")","v":""},{"$f":"IF(AR25=\"erreur\",0,IF(OR('3bis. Calcul répartition CM'!AS$5=0,'3bis. Calcul répartition CM'!AR30=0),0,IF('3bis. Calcul répartition CM'!AS30-'3bis. Calcul répartition CM'!AQ30>0,1,0)))","v":0},{"$f":"IF(AND('3bis. Calcul répartition CM'!AT30=MAX('3bis. Calcul répartition CM'!AT$9:AT$58),'3bis. Calcul répartition CM'!AT30>0,COUNTIF('3bis. Calcul répartition CM'!AT$9:AT$58,'3bis. Calcul répartition CM'!AT30)>1,SUM('3bis. Calcul répartition CM'!AU$9:AU$58)-SUM('3bis. Calcul répartition CM'!AS$9:AS$58)>1),\"erreur\",\"\")","v":""},{"$f":"IF(AT25=\"erreur\",0,IF(OR('3bis. Calcul répartition CM'!AU$5=0,'3bis. Calcul répartition CM'!AT30=0),0,IF('3bis. Calcul répartition CM'!AU30-'3bis. Calcul répartition CM'!AS30>0,1,0)))","v":0},{"$f":"IF(AND('3bis. Calcul répartition CM'!AV30=MAX('3bis. Calcul répartition CM'!AV$9:AV$58),'3bis. Calcul répartition CM'!AV30>0,COUNTIF('3bis. Calcul répartition CM'!AV$9:AV$58,'3bis. Calcul répartition CM'!AV30)>1,SUM('3bis. Calcul répartition CM'!AW$9:AW$58)-SUM('3bis. Calcul répartition CM'!AU$9:AU$58)>1),\"erreur\",\"\")","v":""},{"$f":"IF(AV25=\"erreur\",0,IF(OR('3bis. Calcul répartition CM'!AW$5=0,'3bis. Calcul répartition CM'!AV30=0),0,IF('3bis. Calcul répartition CM'!AW30-'3bis. Calcul répartition CM'!AU30>0,1,0)))","v":0},{"$f":"IF(AND('3bis. Calcul répartition CM'!AX30=MAX('3bis. Calcul répartition CM'!AX$9:AX$58),'3bis. Calcul répartition CM'!AX30>0,COUNTIF('3bis. Calcul répartition CM'!AX$9:AX$58,'3bis. Calcul répartition CM'!AX30)>1,SUM('3bis. Calcul répartition CM'!AY$9:AY$58)-SUM('3bis. Calcul répartition CM'!AW$9:AW$58)>1),\"erreur\",\"\")","v":""},{"$f":"IF(AX25=\"erreur\",0,IF(OR('3bis. Calcul répartition CM'!AY$5=0,'3bis. Calcul répartition CM'!AX30=0),0,IF('3bis. Calcul répartition CM'!AY30-'3bis. Calcul répartition CM'!AW30>0,1,0)))","v":0},{"$f":"IF(AND('3bis. Calcul répartition CM'!AZ30=MAX('3bis. Calcul répartition CM'!AZ$9:AZ$58),'3bis. Calcul répartition CM'!AZ30>0,COUNTIF('3bis. Calcul répartition CM'!AZ$9:AZ$58,'3bis. Calcul répartition CM'!AZ30)>1,SUM('3bis. Calcul répartition CM'!BA$9:BA$58)-SUM('3bis. Calcul répartition CM'!AY$9:AY$58)>1),\"erreur\",\"\")","v":""},{"$f":"IF(AZ25=\"erreur\",0,IF(OR('3bis. Calcul répartition CM'!BA$5=0,'3bis. Calcul répartition CM'!AZ30=0),0,IF('3bis. Calcul répartition CM'!BA30-'3bis. Calcul répartition CM'!AY30>0,1,0)))","v":0},{"$f":"IF(AND('3bis. Calcul répartition CM'!BB30=MAX('3bis. Calcul répartition CM'!BB$9:BB$58),'3bis. Calcul répartition CM'!BB30>0,COUNTIF('3bis. Calcul répartition CM'!BB$9:BB$58,'3bis. Calcul répartition CM'!BB30)>1,SUM('3bis. Calcul répartition CM'!BC$9:BC$58)-SUM('3bis. Calcul répartition CM'!BA$9:BA$58)>1),\"erreur\",\"\")","v":""},{"$f":"IF(BB25=\"erreur\",0,IF(OR('3bis. Calcul répartition CM'!BC$5=0,'3bis. Calcul répartition CM'!BB30=0),0,IF('3bis. Calcul répartition CM'!BC30-'3bis. Calcul répartition CM'!BA30>0,1,0)))","v":0},{"$f":"IF(AND('3bis. Calcul répartition CM'!BD30=MAX('3bis. Calcul répartition CM'!BD$9:BD$58),'3bis. Calcul répartition CM'!BD30>0,COUNTIF('3bis. Calcul répartition CM'!BD$9:BD$58,'3bis. Calcul répartition CM'!BD30)>1,SUM('3bis. Calcul répartition CM'!BE$9:BE$58)-SUM('3bis. Calcul répartition CM'!BC$9:BC$58)>1),\"erreur\",\"\")","v":""},{"$f":"IF(BD25=\"erreur\",0,IF(OR('3bis. Calcul répartition CM'!BE$5=0,'3bis. Calcul répartition CM'!BD30=0),0,IF('3bis. Calcul répartition CM'!BE30-'3bis. Calcul répartition CM'!BC30>0,1,0)))","v":0},{"$f":"IF(AND('3bis. Calcul répartition CM'!BF30=MAX('3bis. Calcul répartition CM'!BF$9:BF$58),'3bis. Calcul répartition CM'!BF30>0,COUNTIF('3bis. Calcul répartition CM'!BF$9:BF$58,'3bis. Calcul répartition CM'!BF30)>1,SUM('3bis. Calcul répartition CM'!BG$9:BG$58)-SUM('3bis. Calcul répartition CM'!BE$9:BE$58)>1),\"erreur\",\"\")","v":""},{"$f":"IF(BF25=\"erreur\",0,IF(OR('3bis. Calcul répartition CM'!BG$5=0,'3bis. Calcul répartition CM'!BF30=0),0,IF('3bis. Calcul répartition CM'!BG30-'3bis. Calcul répartition CM'!BE30>0,1,0)))","v":0},{"$f":"IF(AND('3bis. Calcul répartition CM'!BH30=MAX('3bis. Calcul répartition CM'!BH$9:BH$58),'3bis. Calcul répartition CM'!BH30>0,COUNTIF('3bis. Calcul répartition CM'!BH$9:BH$58,'3bis. Calcul répartition CM'!BH30)>1,SUM('3bis. Calcul répartition CM'!BI$9:BI$58)-SUM('3bis. Calcul répartition CM'!BG$9:BG$58)>1),\"erreur\",\"\")","v":""},{"$f":"IF(BH25=\"erreur\",0,IF(OR('3bis. Calcul répartition CM'!BI$5=0,'3bis. Calcul répartition CM'!BH30=0),0,IF('3bis. Calcul répartition CM'!BI30-'3bis. Calcul répartition CM'!BG30>0,1,0)))","v":0},{"$f":"IF(AND('3bis. Calcul répartition CM'!BJ30=MAX('3bis. Calcul répartition CM'!BJ$9:BJ$58),'3bis. Calcul répartition CM'!BJ30>0,COUNTIF('3bis. Calcul répartition CM'!BJ$9:BJ$58,'3bis. Calcul répartition CM'!BJ30)>1,SUM('3bis. Calcul répartition CM'!BK$9:BK$58)-SUM('3bis. Calcul répartition CM'!BI$9:BI$58)>1),\"erreur\",\"\")","v":""},{"$f":"IF(BJ25=\"erreur\",0,IF(OR('3bis. Calcul répartition CM'!BK$5=0,'3bis. Calcul répartition CM'!BJ30=0),0,IF('3bis. Calcul répartition CM'!BK30-'3bis. Calcul répartition CM'!BI30>0,1,0)))","v":0},{"$f":"IF(AND('3bis. Calcul répartition CM'!BL30=MAX('3bis. Calcul répartition CM'!BL$9:BL$58),'3bis. Calcul répartition CM'!BL30>0,COUNTIF('3bis. Calcul répartition CM'!BL$9:BL$58,'3bis. Calcul répartition CM'!BL30)>1,SUM('3bis. Calcul répartition CM'!BM$9:BM$58)-SUM('3bis. Calcul répartition CM'!BK$9:BK$58)>1),\"erreur\",\"\")","v":""},{"$f":"IF(BL25=\"erreur\",0,IF(OR('3bis. Calcul répartition CM'!BM$5=0,'3bis. Calcul répartition CM'!BL30=0),0,IF('3bis. Calcul répartition CM'!BM30-'3bis. Calcul répartition CM'!BK30>0,1,0)))","v":0},{"$f":"IF(AND('3bis. Calcul répartition CM'!BN30=MAX('3bis. Calcul répartition CM'!BN$9:BN$58),'3bis. Calcul répartition CM'!BN30>0,COUNTIF('3bis. Calcul répartition CM'!BN$9:BN$58,'3bis. Calcul répartition CM'!BN30)>1,SUM('3bis. Calcul répartition CM'!BO$9:BO$58)-SUM('3bis. Calcul répartition CM'!BM$9:BM$58)>1),\"erreur\",\"\")","v":""},{"$f":"IF(BN25=\"erreur\",0,IF(OR('3bis. Calcul répartition CM'!BO$5=0,'3bis. Calcul répartition CM'!BN30=0),0,IF('3bis. Calcul répartition CM'!BO30-'3bis. Calcul répartition CM'!BM30>0,1,0)))","v":0},{"$f":"IF(AND('3bis. Calcul répartition CM'!BP30=MAX('3bis. Calcul répartition CM'!BP$9:BP$58),'3bis. Calcul répartition CM'!BP30>0,COUNTIF('3bis. Calcul répartition CM'!BP$9:BP$58,'3bis. Calcul répartition CM'!BP30)>1,SUM('3bis. Calcul répartition CM'!BQ$9:BQ$58)-SUM('3bis. Calcul répartition CM'!BO$9:BO$58)>1),\"erreur\",\"\")","v":""},{"$f":"IF(BP25=\"erreur\",0,IF(OR('3bis. Calcul répartition CM'!BQ$5=0,'3bis. Calcul répartition CM'!BP30=0),0,IF('3bis. Calcul répartition CM'!BQ30-'3bis. Calcul répartition CM'!BO30>0,1,0)))","v":0}]
[null,null,null,null,null,null,null,null,{"$f":"'3bis. Calcul répartition CM'!B31","v":0},{"$f":"IF(AND('3bis. Calcul répartition CM'!J31=MAX('3bis. Calcul répartition CM'!J$9:J$58),'3bis. Calcul répartition CM'!J31>0,COUNTIF('3bis. Calcul répartition CM'!J$9:J$58,'3bis. Calcul répartition CM'!J31)>1,SUM('3bis. Calcul répartition CM'!$K$9:$K$58)-SUM('3bis. Calcul répartition CM'!$D$9:$D$58)>1),\"erreur\",\"\")","v":""},{"$f":"IF(J26=\"erreur\",0,IF(OR('3bis. Calcul répartition CM'!K$5=0,'3bis. Calcul répartition CM'!J31=0),0,IF('3bis. Calcul répartition CM'!K31-'3bis. Calcul répartition CM'!D31>0,1,0)))","v":0},{"$f":"IF(AND('3bis. Calcul répartition CM'!L31=MAX('3bis. Calcul répartition CM'!L$9:L$58),'3bis. Calcul répartition CM'!L31>0,COUNTIF('3bis. Calcul répartition CM'!L$9:L$58,'3bis. Calcul répartition CM'!L31)>1,SUM('3bis. Calcul répartition CM'!M$9:M$58)-SUM('3bis. Calcul répartition CM'!K$9:K$58)>1),\"erreur\",\"\")","v":""},{"$f":"IF(L26=\"erreur\",0,IF(OR('3bis. Calcul répartition CM'!M$5=0,'3bis. Calcul répartition CM'!L31=0),0,IF('3bis. Calcul répartition CM'!M31-'3bis. Calcul répartition CM'!K31>0,1,0)))","v":0},{"$f":"IF(AND('3bis. Calcul répartition CM'!N31=MAX('3bis. Calcul répartition CM'!N$9:N$58),'3bis. Calcul répartition CM'!N31>0,COUNTIF('3bis. Calcul répartition CM'!N$9:N$58,'3bis. Calcul répartition CM'!N31)>1,SUM('3bis. Calcul répartition CM'!O$9:O$58)-SUM('3bis. Calcul répartition CM'!M$9:M$58)>1),\"erreur\",\"\")","v":""},{"$f":"IF(N26=\"erreur\",0,IF(OR('3bis. Calcul répartition CM'!O$5=0,'3bis. Calcul répartition CM'!N31=0),0,IF('3bis. Calcul répartition CM'!O31-'3bis. Calcul répartition CM'!M31>0,1,0)))","v":0},{"$f":"IF(AND('3bis. Calcul répartition CM'!P31=MAX('3bis. Calcul répartition CM'!P$9:P$58),'3bis. Calcul répartition CM'!P31>0,COUNTIF('3bis. Calcul répartition CM'!P$9:P$58,'3bis. Calcul répartition CM'!P31)>1,SUM('3bis. Calcul répartition CM'!Q$9:Q$58)-SUM('3bis. Calcul répartition CM'!O$9:O$58)>1),\"erreur\",\"\")","v":""},{"$f":"IF(P26=\"erreur\",0,IF(OR('3bis. Calcul répartition CM'!Q$5=0,'3bis. Calcul répartition CM'!P31=0),0,IF('3bis. Calcul répartition CM'!Q31-'3bis. Calcul répartition CM'!O31>0,1,0)))","v":0},{"$f":"IF(AND('3bis. Calcul répartition CM'!R31=MAX('3bis. Calcul répartition CM'!R$9:R$58),'3bis. Calcul répartition CM'!R31>0,COUNTIF('3bis. Calcul répartition CM'!R$9:R$58,'3bis. Calcul répartition CM'!R31)>1,SUM('3bis. Calcul répartition CM'!S$9:S$58)-SUM('3bis. Calcul répartition CM'!Q$9:Q$58)>1),\"erreur\",\"\")","v":""},{"$f":"IF(R26=\"erreur\",0,IF(OR('3bis. Calcul répartition CM'!S$5=0,'3bis. Calcul répartition CM'!R31=0),0,IF('3bis. Calcul répartition CM'!S31-'3bis. Calcul répartition CM'!Q31>0,1,0)))","v":0},{"$f":"IF(AND('3bis. Calcul répartition CM'!T31=MAX('3bis. Calcul répartition CM'!T$9:T$58),'3bis. Calcul répartition CM'!T31>0,COUNTIF('3bis. Calcul répartition CM'!T$9:T$58,'3bis. Calcul répartition CM'!T31)>1,SUM('3bis. Calcul répartition CM'!U$9:U$58)-SUM('3bis. Calcul répartition CM'!S$9:S$58)>1),\"erreur\",\"\")","v":""},{"$f":"IF(T26=\"erreur\",0,IF(OR('3bis. Calcul répartition CM'!U$5=0,'3bis. Calcul répartition CM'!T31=0),0,IF('3bis. Calcul répartition CM'!U31-'3bis. Calcul répartition CM'!S31>0,1,0)))","v":0},{"$f":"IF(AND('3bis. Calcul répartition CM'!V31=MAX('3bis. Calcul répartition CM'!V$9:V$58),'3bis. Calcul répartition CM'!V31>0,COUNTIF('3bis. Calcul répartition CM'!V$9:V$58,'3bis. Calcul répartition CM'!V31)>1,SUM('3bis. Calcul répartition CM'!W$9:W$58)-SUM('3bis. Calcul répartition CM'!U$9:U$58)>1),\"erreur\",\"\")","v":""},{"$f":"IF(V26=\"erreur\",0,IF(OR('3bis. Calcul répartition CM'!W$5=0,'3bis. Calcul répartition CM'!V31=0),0,IF('3bis. Calcul répartition CM'!W31-'3bis. Calcul répartition CM'!U31>0,1,0)))","v":0},{"$f":"IF(AND('3bis. Calcul répartition CM'!X31=MAX('3bis. Calcul répartition CM'!X$9:X$58),'3bis. Calcul répartition CM'!X31>0,COUNTIF('3bis. Calcul répartition CM'!X$9:X$58,'3bis. Calcul répartition CM'!X31)>1,SUM('3bis. Calcul répartition CM'!Y$9:Y$58)-SUM('3bis. Calcul répartition CM'!W$9:W$58)>1),\"erreur\",\"\")","v":""},{"$f":"IF(X26=\"erreur\",0,IF(OR('3bis. Calcul répartition CM'!Y$5=0,'3bis. Calcul répartition CM'!X31=0),0,IF('3bis. Calcul répartition CM'!Y31-'3bis. Calcul répartition CM'!W31>0,1,0)))","v":0},{"$f":"IF(AND('3bis. Calcul répartition CM'!Z31=MAX('3bis. Calcul répartition CM'!Z$9:Z$58),'3bis. Calcul répartition CM'!Z31>0,COUNTIF('3bis. Calcul répartition CM'!Z$9:Z$58,'3bis. Calcul répartition CM'!Z31)>1,SUM('3bis. Calcul répartition CM'!AA$9:AA$58)-SUM('3bis. Calcul répartition CM'!Y$9:Y$58)>1),\"erreur\",\"\")","v":""},{"$f":"IF(Z26=\"erreur\",0,IF(OR('3bis. Calcul répartition CM'!AA$5=0,'3bis. Calcul répartition CM'!Z31=0),0,IF('3bis. Calcul répartition CM'!AA31-'3bis. Calcul répartition CM'!Y31>0,1,0)))","v":0},{"$f":"IF(AND('3bis. Calcul répartition CM'!AB31=MAX('3bis. Calcul répartition CM'!AB$9:AB$58),'3bis. Calcul répartition CM'!AB31>0,COUNTIF('3bis. Calcul répartition CM'!AB$9:AB$58,'3bis. Calcul répartition CM'!AB31)>1,SUM('3bis. Calcul répartition CM'!AC$9:AC$58)-SUM('3bis. Calcul répartition CM'!AA$9:AA$58)>1),\"erreur\",\"\")","v":""},{"$f":"IF(AB26=\"erreur\",0,IF(OR('3bis. Calcul répartition CM'!AC$5=0,'3bis. Calcul répartition CM'!AB31=0),0,IF('3bis. Calcul répartition CM'!AC31-'3bis. Calcul répartition CM'!AA31>0,1,0)))","v":0},{"$f":"IF(AND('3bis. Calcul répartition CM'!AD31=MAX('3bis. Calcul répartition CM'!AD$9:AD$58),'3bis. Calcul répartition CM'!AD31>0,COUNTIF('3bis. Calcul répartition CM'!AD$9:AD$58,'3bis. Calcul répartition CM'!AD31)>1,SUM('3bis. Calcul répartition CM'!AE$9:AE$58)-SUM('3bis. Calcul répartition CM'!AC$9:AC$58)>1),\"erreur\",\"\")","v":""},{"$f":"IF(AD26=\"erreur\",0,IF(OR('3bis. Calcul répartition CM'!AE$5=0,'3bis. Calcul répartition CM'!AD31=0),0,IF('3bis. Calcul répartition CM'!AE31-'3bis. Calcul répartition CM'!AC31>0,1,0)))","v":0},{"$f":"IF(AND('3bis. Calcul répartition CM'!AF31=MAX('3bis. Calcul répartition CM'!AF$9:AF$58),'3bis. Calcul répartition CM'!AF31>0,COUNTIF('3bis. Calcul répartition CM'!AF$9:AF$58,'3bis. Calcul répartition CM'!AF31)>1,SUM('3bis. Calcul répartition CM'!AG$9:AG$58)-SUM('3bis. Calcul répartition CM'!AE$9:AE$58)>1),\"erreur\",\"\")","v":""},{"$f":"IF(AF26=\"erreur\",0,IF(OR('3bis. Calcul répartition CM'!AG$5=0,'3bis. Calcul répartition CM'!AF31=0),0,IF('3bis. Calcul répartition CM'!AG31-'3bis. Calcul répartition CM'!AE31>0,1,0)))","v":0},{"$f":"IF(AND('3bis. Calcul répartition CM'!AH31=MAX('3bis. Calcul répartition CM'!AH$9:AH$58),'3bis. Calcul répartition CM'!AH31>0,COUNTIF('3bis. Calcul répartition CM'!AH$9:AH$58,'3bis. Calcul répartition CM'!AH31)>1,SUM('3bis. Calcul répartition CM'!AI$9:AI$58)-SUM('3bis. Calcul répartition CM'!AG$9:AG$58)>1),\"erreur\",\"\")","v":""},{"$f":"IF(AH26=\"erreur\",0,IF(OR('3bis. Calcul répartition CM'!AI$5=0,'3bis. Calcul répartition CM'!AH31=0),0,IF('3bis. Calcul répartition CM'!AI31-'3bis. Calcul répartition CM'!AG31>0,1,0)))","v":0},{"$f":"IF(AND('3bis. Calcul répartition CM'!AJ31=MAX('3bis. Calcul répartition CM'!AJ$9:AJ$58),'3bis. Calcul répartition CM'!AJ31>0,COUNTIF('3bis. Calcul répartition CM'!AJ$9:AJ$58,'3bis. Calcul répartition CM'!AJ31)>1,SUM('3bis. Calcul répartition CM'!AK$9:AK$58)-SUM('3bis. Calcul répartition CM'!AI$9:AI$58)>1),\"erreur\",\"\")","v":""},{"$f":"IF(AJ26=\"erreur\",0,IF(OR('3bis. Calcul répartition CM'!AK$5=0,'3bis. Calcul répartition CM'!AJ31=0),0,IF('3bis. Calcul répartition CM'!AK31-'3bis. Calcul répartition CM'!AI31>0,1,0)))","v":0},{"$f":"IF(AND('3bis. Calcul répartition CM'!AL31=MAX('3bis. Calcul répartition CM'!AL$9:AL$58),'3bis. Calcul répartition CM'!AL31>0,COUNTIF('3bis. Calcul répartition CM'!AL$9:AL$58,'3bis. Calcul répartition CM'!AL31)>1,SUM('3bis. Calcul répartition CM'!AM$9:AM$58)-SUM('3bis. Calcul répartition CM'!AK$9:AK$58)>1),\"erreur\",\"\")","v":""},{"$f":"IF(AL26=\"erreur\",0,IF(OR('3bis. Calcul répartition CM'!AM$5=0,'3bis. Calcul répartition CM'!AL31=0),0,IF('3bis. Calcul répartition CM'!AM31-'3bis. Calcul répartition CM'!AK31>0,1,0)))","v":0},{"$f":"IF(AND('3bis. Calcul répartition CM'!AN31=MAX('3bis. Calcul répartition CM'!AN$9:AN$58),'3bis. Calcul répartition CM'!AN31>0,COUNTIF('3bis. Calcul répartition CM'!AN$9:AN$58,'3bis. Calcul répartition CM'!AN31)>1,SUM('3bis. Calcul répartition CM'!AO$9:AO$58)-SUM('3bis. Calcul répartition CM'!AM$9:AM$58)>1),\"erreur\",\"\")","v":""},{"$f":"IF(AN26=\"erreur\",0,IF(OR('3bis. Calcul répartition CM'!AO$5=0,'3bis. Calcul répartition CM'!AN31=0),0,IF('3bis. Calcul répartition CM'!AO31-'3bis. Calcul répartition CM'!AM31>0,1,0)))","v":0},{"$f":"IF(AND('3bis. Calcul répartition CM'!AP31=MAX('3bis. Calcul répartition CM'!AP$9:AP$58),'3bis. Calcul répartition CM'!AP31>0,COUNTIF('3bis. Calcul répartition CM'!AP$9:AP$58,'3bis. Calcul répartition CM'!AP31)>1,SUM('3bis. Calcul répartition CM'!AQ$9:AQ$58)-SUM('3bis. Calcul répartition CM'!AO$9:AO$58)>1),\"erreur\",\"\")","v":""},{"$f":"IF(AP26=\"erreur\",0,IF(OR('3bis. Calcul répartition CM'!AQ$5=0,'3bis. Calcul répartition CM'!AP31=0),0,IF('3bis. Calcul répartition CM'!AQ31-'3bis. Calcul répartition CM'!AO31>0,1,0)))","v":0},{"$f":"IF(AND('3bis. Calcul répartition CM'!AR31=MAX('3bis. Calcul répartition CM'!AR$9:AR$58),'3bis. Calcul répartition CM'!AR31>0,COUNTIF('3bis. Calcul répartition CM'!AR$9:AR$58,'3bis. Calcul répartition CM'!AR31)>1,SUM('3bis. Calcul répartition CM'!AS$9:AS$58)-SUM('3bis. Calcul répartition CM'!AQ$9:AQ$58)>1),\"erreur\",\"\")","v":""},{"$f":"IF(AR26=\"erreur\",0,IF(OR('3bis. Calcul répartition CM'!AS$5=0,'3bis. Calcul répartition CM'!AR31=0),0,IF('3bis. Calcul répartition CM'!AS31-'3bis. Calcul répartition CM'!AQ31>0,1,0)))","v":0},{"$f":"IF(AND('3bis. Calcul répartition CM'!AT31=MAX('3bis. Calcul répartition CM'!AT$9:AT$58),'3bis. Calcul répartition CM'!AT31>0,COUNTIF('3bis. Calcul répartition CM'!AT$9:AT$58,'3bis. Calcul répartition CM'!AT31)>1,SUM('3bis. Calcul répartition CM'!AU$9:AU$58)-SUM('3bis. Calcul répartition CM'!AS$9:AS$58)>1),\"erreur\",\"\")","v":""},{"$f":"IF(AT26=\"erreur\",0,IF(OR('3bis. Calcul répartition CM'!AU$5=0,'3bis. Calcul répartition CM'!AT31=0),0,IF('3bis. Calcul répartition CM'!AU31-'3bis. Calcul répartition CM'!AS31>0,1,0)))","v":0},{"$f":"IF(AND('3bis. Calcul répartition CM'!AV31=MAX('3bis. Calcul répartition CM'!AV$9:AV$58),'3bis. Calcul répartition CM'!AV31>0,COUNTIF('3bis. Calcul répartition CM'!AV$9:AV$58,'3bis. Calcul répartition CM'!AV31)>1,SUM('3bis. Calcul répartition CM'!AW$9:AW$58)-SUM('3bis. Calcul répartition CM'!AU$9:AU$58)>1),\"erreur\",\"\")","v":""},{"$f":"IF(AV26=\"erreur\",0,IF(OR('3bis. Calcul répartition CM'!AW$5=0,'3bis. Calcul répartition CM'!AV31=0),0,IF('3bis. Calcul répartition CM'!AW31-'3bis. Calcul répartition CM'!AU31>0,1,0)))","v":0},{"$f":"IF(AND('3bis. Calcul répartition CM'!AX31=MAX('3bis. Calcul répartition CM'!AX$9:AX$58),'3bis. Calcul répartition CM'!AX31>0,COUNTIF('3bis. Calcul répartition CM'!AX$9:AX$58,'3bis. Calcul répartition CM'!AX31)>1,SUM('3bis. Calcul répartition CM'!AY$9:AY$58)-SUM('3bis. Calcul répartition CM'!AW$9:AW$58)>1),\"erreur\",\"\")","v":""},{"$f":"IF(AX26=\"erreur\",0,IF(OR('3bis. Calcul répartition CM'!AY$5=0,'3bis. Calcul répartition CM'!AX31=0),0,IF('3bis. Calcul répartition CM'!AY31-'3bis. Calcul répartition CM'!AW31>0,1,0)))","v":0},{"$f":"IF(AND('3bis. Calcul répartition CM'!AZ31=MAX('3bis. Calcul répartition CM'!AZ$9:AZ$58),'3bis. Calcul répartition CM'!AZ31>0,COUNTIF('3bis. Calcul répartition CM'!AZ$9:AZ$58,'3bis. Calcul répartition CM'!AZ31)>1,SUM('3bis. Calcul répartition CM'!BA$9:BA$58)-SUM('3bis. Calcul répartition CM'!AY$9:AY$58)>1),\"erreur\",\"\")","v":""},{"$f":"IF(AZ26=\"erreur\",0,IF(OR('3bis. Calcul répartition CM'!BA$5=0,'3bis. Calcul répartition CM'!AZ31=0),0,IF('3bis. Calcul répartition CM'!BA31-'3bis. Calcul répartition CM'!AY31>0,1,0)))","v":0},{"$f":"IF(AND('3bis. Calcul répartition CM'!BB31=MAX('3bis. Calcul répartition CM'!BB$9:BB$58),'3bis. Calcul répartition CM'!BB31>0,COUNTIF('3bis. Calcul répartition CM'!BB$9:BB$58,'3bis. Calcul répartition CM'!BB31)>1,SUM('3bis. Calcul répartition CM'!BC$9:BC$58)-SUM('3bis. Calcul répartition CM'!BA$9:BA$58)>1),\"erreur\",\"\")","v":""},{"$f":"IF(BB26=\"erreur\",0,IF(OR('3bis. Calcul répartition CM'!BC$5=0,'3bis. Calcul répartition CM'!BB31=0),0,IF('3bis. Calcul répartition CM'!BC31-'3bis. Calcul répartition CM'!BA31>0,1,0)))","v":0},{"$f":"IF(AND('3bis. Calcul répartition CM'!BD31=MAX('3bis. Calcul répartition CM'!BD$9:BD$58),'3bis. Calcul répartition CM'!BD31>0,COUNTIF('3bis. Calcul répartition CM'!BD$9:BD$58,'3bis. Calcul répartition CM'!BD31)>1,SUM('3bis. Calcul répartition CM'!BE$9:BE$58)-SUM('3bis. Calcul répartition CM'!BC$9:BC$58)>1),\"erreur\",\"\")","v":""},{"$f":"IF(BD26=\"erreur\",0,IF(OR('3bis. Calcul répartition CM'!BE$5=0,'3bis. Calcul répartition CM'!BD31=0),0,IF('3bis. Calcul répartition CM'!BE31-'3bis. Calcul répartition CM'!BC31>0,1,0)))","v":0},{"$f":"IF(AND('3bis. Calcul répartition CM'!BF31=MAX('3bis. Calcul répartition CM'!BF$9:BF$58),'3bis. Calcul répartition CM'!BF31>0,COUNTIF('3bis. Calcul répartition CM'!BF$9:BF$58,'3bis. Calcul répartition CM'!BF31)>1,SUM('3bis. Calcul répartition CM'!BG$9:BG$58)-SUM('3bis. Calcul répartition CM'!BE$9:BE$58)>1),\"erreur\",\"\")","v":""},{"$f":"IF(BF26=\"erreur\",0,IF(OR('3bis. Calcul répartition CM'!BG$5=0,'3bis. Calcul répartition CM'!BF31=0),0,IF('3bis. Calcul répartition CM'!BG31-'3bis. Calcul répartition CM'!BE31>0,1,0)))","v":0},{"$f":"IF(AND('3bis. Calcul répartition CM'!BH31=MAX('3bis. Calcul répartition CM'!BH$9:BH$58),'3bis. Calcul répartition CM'!BH31>0,COUNTIF('3bis. Calcul répartition CM'!BH$9:BH$58,'3bis. Calcul répartition CM'!BH31)>1,SUM('3bis. Calcul répartition CM'!BI$9:BI$58)-SUM('3bis. Calcul répartition CM'!BG$9:BG$58)>1),\"erreur\",\"\")","v":""},{"$f":"IF(BH26=\"erreur\",0,IF(OR('3bis. Calcul répartition CM'!BI$5=0,'3bis. Calcul répartition CM'!BH31=0),0,IF('3bis. Calcul répartition CM'!BI31-'3bis. Calcul répartition CM'!BG31>0,1,0)))","v":0},{"$f":"IF(AND('3bis. Calcul répartition CM'!BJ31=MAX('3bis. Calcul répartition CM'!BJ$9:BJ$58),'3bis. Calcul répartition CM'!BJ31>0,COUNTIF('3bis. Calcul répartition CM'!BJ$9:BJ$58,'3bis. Calcul répartition CM'!BJ31)>1,SUM('3bis. Calcul répartition CM'!BK$9:BK$58)-SUM('3bis. Calcul répartition CM'!BI$9:BI$58)>1),\"erreur\",\"\")","v":""},{"$f":"IF(BJ26=\"erreur\",0,IF(OR('3bis. Calcul répartition CM'!BK$5=0,'3bis. Calcul répartition CM'!BJ31=0),0,IF('3bis. Calcul répartition CM'!BK31-'3bis. Calcul répartition CM'!BI31>0,1,0)))","v":0},{"$f":"IF(AND('3bis. Calcul répartition CM'!BL31=MAX('3bis. Calcul répartition CM'!BL$9:BL$58),'3bis. Calcul répartition CM'!BL31>0,COUNTIF('3bis. Calcul répartition CM'!BL$9:BL$58,'3bis. Calcul répartition CM'!BL31)>1,SUM('3bis. Calcul répartition CM'!BM$9:BM$58)-SUM('3bis. Calcul répartition CM'!BK$9:BK$58)>1),\"erreur\",\"\")","v":""},{"$f":"IF(BL26=\"erreur\",0,IF(OR('3bis. Calcul répartition CM'!BM$5=0,'3bis. Calcul répartition CM'!BL31=0),0,IF('3bis. Calcul répartition CM'!BM31-'3bis. Calcul répartition CM'!BK31>0,1,0)))","v":0},{"$f":"IF(AND('3bis. Calcul répartition CM'!BN31=MAX('3bis. Calcul répartition CM'!BN$9:BN$58),'3bis. Calcul répartition CM'!BN31>0,COUNTIF('3bis. Calcul répartition CM'!BN$9:BN$58,'3bis. Calcul répartition CM'!BN31)>1,SUM('3bis. Calcul répartition CM'!BO$9:BO$58)-SUM('3bis. Calcul répartition CM'!BM$9:BM$58)>1),\"erreur\",\"\")","v":""},{"$f":"IF(BN26=\"erreur\",0,IF(OR('3bis. Calcul répartition CM'!BO$5=0,'3bis. Calcul répartition CM'!BN31=0),0,IF('3bis. Calcul répartition CM'!BO31-'3bis. Calcul répartition CM'!BM31>0,1,0)))","v":0},{"$f":"IF(AND('3bis. Calcul répartition CM'!BP31=MAX('3bis. Calcul répartition CM'!BP$9:BP$58),'3bis. Calcul répartition CM'!BP31>0,COUNTIF('3bis. Calcul répartition CM'!BP$9:BP$58,'3bis. Calcul répartition CM'!BP31)>1,SUM('3bis. Calcul répartition CM'!BQ$9:BQ$58)-SUM('3bis. Calcul répartition CM'!BO$9:BO$58)>1),\"erreur\",\"\")","v":""},{"$f":"IF(BP26=\"erreur\",0,IF(OR('3bis. Calcul répartition CM'!BQ$5=0,'3bis. Calcul répartition CM'!BP31=0),0,IF('3bis. Calcul répartition CM'!BQ31-'3bis. Calcul répartition CM'!BO31>0,1,0)))","v":0}]
[null,null,null,null,null,null,null,null,{"$f":"'3bis. Calcul répartition CM'!B32","v":0},{"$f":"IF(AND('3bis. Calcul répartition CM'!J32=MAX('3bis. Calcul répartition CM'!J$9:J$58),'3bis. Calcul répartition CM'!J32>0,COUNTIF('3bis. Calcul répartition CM'!J$9:J$58,'3bis. Calcul répartition CM'!J32)>1,SUM('3bis. Calcul répartition CM'!$K$9:$K$58)-SUM('3bis. Calcul répartition CM'!$D$9:$D$58)>1),\"erreur\",\"\")","v":""},{"$f":"IF(J27=\"erreur\",0,IF(OR('3bis. Calcul répartition CM'!K$5=0,'3bis. Calcul répartition CM'!J32=0),0,IF('3bis. Calcul répartition CM'!K32-'3bis. Calcul répartition CM'!D32>0,1,0)))","v":0},{"$f":"IF(AND('3bis. Calcul répartition CM'!L32=MAX('3bis. Calcul répartition CM'!L$9:L$58),'3bis. Calcul répartition CM'!L32>0,COUNTIF('3bis. Calcul répartition CM'!L$9:L$58,'3bis. Calcul répartition CM'!L32)>1,SUM('3bis. Calcul répartition CM'!M$9:M$58)-SUM('3bis. Calcul répartition CM'!K$9:K$58)>1),\"erreur\",\"\")","v":""},{"$f":"IF(L27=\"erreur\",0,IF(OR('3bis. Calcul répartition CM'!M$5=0,'3bis. Calcul répartition CM'!L32=0),0,IF('3bis. Calcul répartition CM'!M32-'3bis. Calcul répartition CM'!K32>0,1,0)))","v":0},{"$f":"IF(AND('3bis. Calcul répartition CM'!N32=MAX('3bis. Calcul répartition CM'!N$9:N$58),'3bis. Calcul répartition CM'!N32>0,COUNTIF('3bis. Calcul répartition CM'!N$9:N$58,'3bis. Calcul répartition CM'!N32)>1,SUM('3bis. Calcul répartition CM'!O$9:O$58)-SUM('3bis. Calcul répartition CM'!M$9:M$58)>1),\"erreur\",\"\")","v":""},{"$f":"IF(N27=\"erreur\",0,IF(OR('3bis. Calcul répartition CM'!O$5=0,'3bis. Calcul répartition CM'!N32=0),0,IF('3bis. Calcul répartition CM'!O32-'3bis. Calcul répartition CM'!M32>0,1,0)))","v":0},{"$f":"IF(AND('3bis. Calcul répartition CM'!P32=MAX('3bis. Calcul répartition CM'!P$9:P$58),'3bis. Calcul répartition CM'!P32>0,COUNTIF('3bis. Calcul répartition CM'!P$9:P$58,'3bis. Calcul répartition CM'!P32)>1,SUM('3bis. Calcul répartition CM'!Q$9:Q$58)-SUM('3bis. Calcul répartition CM'!O$9:O$58)>1),\"erreur\",\"\")","v":""},{"$f":"IF(P27=\"erreur\",0,IF(OR('3bis. Calcul répartition CM'!Q$5=0,'3bis. Calcul répartition CM'!P32=0),0,IF('3bis. Calcul répartition CM'!Q32-'3bis. Calcul répartition CM'!O32>0,1,0)))","v":0},{"$f":"IF(AND('3bis. Calcul répartition CM'!R32=MAX('3bis. Calcul répartition CM'!R$9:R$58),'3bis. Calcul répartition CM'!R32>0,COUNTIF('3bis. Calcul répartition CM'!R$9:R$58,'3bis. Calcul répartition CM'!R32)>1,SUM('3bis. Calcul répartition CM'!S$9:S$58)-SUM('3bis. Calcul répartition CM'!Q$9:Q$58)>1),\"erreur\",\"\")","v":""},{"$f":"IF(R27=\"erreur\",0,IF(OR('3bis. Calcul répartition CM'!S$5=0,'3bis. Calcul répartition CM'!R32=0),0,IF('3bis. Calcul répartition CM'!S32-'3bis. Calcul répartition CM'!Q32>0,1,0)))","v":0},{"$f":"IF(AND('3bis. Calcul répartition CM'!T32=MAX('3bis. Calcul répartition CM'!T$9:T$58),'3bis. Calcul répartition CM'!T32>0,COUNTIF('3bis. Calcul répartition CM'!T$9:T$58,'3bis. Calcul répartition CM'!T32)>1,SUM('3bis. Calcul répartition CM'!U$9:U$58)-SUM('3bis. Calcul répartition CM'!S$9:S$58)>1),\"erreur\",\"\")","v":""},{"$f":"IF(T27=\"erreur\",0,IF(OR('3bis. Calcul répartition CM'!U$5=0,'3bis. Calcul répartition CM'!T32=0),0,IF('3bis. Calcul répartition CM'!U32-'3bis. Calcul répartition CM'!S32>0,1,0)))","v":0},{"$f":"IF(AND('3bis. Calcul répartition CM'!V32=MAX('3bis. Calcul répartition CM'!V$9:V$58),'3bis. Calcul répartition CM'!V32>0,COUNTIF('3bis. Calcul répartition CM'!V$9:V$58,'3bis. Calcul répartition CM'!V32)>1,SUM('3bis. Calcul répartition CM'!W$9:W$58)-SUM('3bis. Calcul répartition CM'!U$9:U$58)>1),\"erreur\",\"\")","v":""},{"$f":"IF(V27=\"erreur\",0,IF(OR('3bis. Calcul répartition CM'!W$5=0,'3bis. Calcul répartition CM'!V32=0),0,IF('3bis. Calcul répartition CM'!W32-'3bis. Calcul répartition CM'!U32>0,1,0)))","v":0},{"$f":"IF(AND('3bis. Calcul répartition CM'!X32=MAX('3bis. Calcul répartition CM'!X$9:X$58),'3bis. Calcul répartition CM'!X32>0,COUNTIF('3bis. Calcul répartition CM'!X$9:X$58,'3bis. Calcul répartition CM'!X32)>1,SUM('3bis. Calcul répartition CM'!Y$9:Y$58)-SUM('3bis. Calcul répartition CM'!W$9:W$58)>1),\"erreur\",\"\")","v":""},{"$f":"IF(X27=\"erreur\",0,IF(OR('3bis. Calcul répartition CM'!Y$5=0,'3bis. Calcul répartition CM'!X32=0),0,IF('3bis. Calcul répartition CM'!Y32-'3bis. Calcul répartition CM'!W32>0,1,0)))","v":0},{"$f":"IF(AND('3bis. Calcul répartition CM'!Z32=MAX('3bis. Calcul répartition CM'!Z$9:Z$58),'3bis. Calcul répartition CM'!Z32>0,COUNTIF('3bis. Calcul répartition CM'!Z$9:Z$58,'3bis. Calcul répartition CM'!Z32)>1,SUM('3bis. Calcul répartition CM'!AA$9:AA$58)-SUM('3bis. Calcul répartition CM'!Y$9:Y$58)>1),\"erreur\",\"\")","v":""},{"$f":"IF(Z27=\"erreur\",0,IF(OR('3bis. Calcul répartition CM'!AA$5=0,'3bis. Calcul répartition CM'!Z32=0),0,IF('3bis. Calcul répartition CM'!AA32-'3bis. Calcul répartition CM'!Y32>0,1,0)))","v":0},{"$f":"IF(AND('3bis. Calcul répartition CM'!AB32=MAX('3bis. Calcul répartition CM'!AB$9:AB$58),'3bis. Calcul répartition CM'!AB32>0,COUNTIF('3bis. Calcul répartition CM'!AB$9:AB$58,'3bis. Calcul répartition CM'!AB32)>1,SUM('3bis. Calcul répartition CM'!AC$9:AC$58)-SUM('3bis. Calcul répartition CM'!AA$9:AA$58)>1),\"erreur\",\"\")","v":""},{"$f":"IF(AB27=\"erreur\",0,IF(OR('3bis. Calcul répartition CM'!AC$5=0,'3bis. Calcul répartition CM'!AB32=0),0,IF('3bis. Calcul répartition CM'!AC32-'3bis. Calcul répartition CM'!AA32>0,1,0)))","v":0},{"$f":"IF(AND('3bis. Calcul répartition CM'!AD32=MAX('3bis. Calcul répartition CM'!AD$9:AD$58),'3bis. Calcul répartition CM'!AD32>0,COUNTIF('3bis. Calcul répartition CM'!AD$9:AD$58,'3bis. Calcul répartition CM'!AD32)>1,SUM('3bis. Calcul répartition CM'!AE$9:AE$58)-SUM('3bis. Calcul répartition CM'!AC$9:AC$58)>1),\"erreur\",\"\")","v":""},{"$f":"IF(AD27=\"erreur\",0,IF(OR('3bis. Calcul répartition CM'!AE$5=0,'3bis. Calcul répartition CM'!AD32=0),0,IF('3bis. Calcul répartition CM'!AE32-'3bis. Calcul répartition CM'!AC32>0,1,0)))","v":0},{"$f":"IF(AND('3bis. Calcul répartition CM'!AF32=MAX('3bis. Calcul répartition CM'!AF$9:AF$58),'3bis. Calcul répartition CM'!AF32>0,COUNTIF('3bis. Calcul répartition CM'!AF$9:AF$58,'3bis. Calcul répartition CM'!AF32)>1,SUM('3bis. Calcul répartition CM'!AG$9:AG$58)-SUM('3bis. Calcul répartition CM'!AE$9:AE$58)>1),\"erreur\",\"\")","v":""},{"$f":"IF(AF27=\"erreur\",0,IF(OR('3bis. Calcul répartition CM'!AG$5=0,'3bis. Calcul répartition CM'!AF32=0),0,IF('3bis. Calcul répartition CM'!AG32-'3bis. Calcul répartition CM'!AE32>0,1,0)))","v":0},{"$f":"IF(AND('3bis. Calcul répartition CM'!AH32=MAX('3bis. Calcul répartition CM'!AH$9:AH$58),'3bis. Calcul répartition CM'!AH32>0,COUNTIF('3bis. Calcul répartition CM'!AH$9:AH$58,'3bis. Calcul répartition CM'!AH32)>1,SUM('3bis. Calcul répartition CM'!AI$9:AI$58)-SUM('3bis. Calcul répartition CM'!AG$9:AG$58)>1),\"erreur\",\"\")","v":""},{"$f":"IF(AH27=\"erreur\",0,IF(OR('3bis. Calcul répartition CM'!AI$5=0,'3bis. Calcul répartition CM'!AH32=0),0,IF('3bis. Calcul répartition CM'!AI32-'3bis. Calcul répartition CM'!AG32>0,1,0)))","v":0},{"$f":"IF(AND('3bis. Calcul répartition CM'!AJ32=MAX('3bis. Calcul répartition CM'!AJ$9:AJ$58),'3bis. Calcul répartition CM'!AJ32>0,COUNTIF('3bis. Calcul répartition CM'!AJ$9:AJ$58,'3bis. Calcul répartition CM'!AJ32)>1,SUM('3bis. Calcul répartition CM'!AK$9:AK$58)-SUM('3bis. Calcul répartition CM'!AI$9:AI$58)>1),\"erreur\",\"\")","v":""},{"$f":"IF(AJ27=\"erreur\",0,IF(OR('3bis. Calcul répartition CM'!AK$5=0,'3bis. Calcul répartition CM'!AJ32=0),0,IF('3bis. Calcul répartition CM'!AK32-'3bis. Calcul répartition CM'!AI32>0,1,0)))","v":0},{"$f":"IF(AND('3bis. Calcul répartition CM'!AL32=MAX('3bis. Calcul répartition CM'!AL$9:AL$58),'3bis. Calcul répartition CM'!AL32>0,COUNTIF('3bis. Calcul répartition CM'!AL$9:AL$58,'3bis. Calcul répartition CM'!AL32)>1,SUM('3bis. Calcul répartition CM'!AM$9:AM$58)-SUM('3bis. Calcul répartition CM'!AK$9:AK$58)>1),\"erreur\",\"\")","v":""},{"$f":"IF(AL27=\"erreur\",0,IF(OR('3bis. Calcul répartition CM'!AM$5=0,'3bis. Calcul répartition CM'!AL32=0),0,IF('3bis. Calcul répartition CM'!AM32-'3bis. Calcul répartition CM'!AK32>0,1,0)))","v":0},{"$f":"IF(AND('3bis. Calcul répartition CM'!AN32=MAX('3bis. Calcul répartition CM'!AN$9:AN$58),'3bis. Calcul répartition CM'!AN32>0,COUNTIF('3bis. Calcul répartition CM'!AN$9:AN$58,'3bis. Calcul répartition CM'!AN32)>1,SUM('3bis. Calcul répartition CM'!AO$9:AO$58)-SUM('3bis. Calcul répartition CM'!AM$9:AM$58)>1),\"erreur\",\"\")","v":""},{"$f":"IF(AN27=\"erreur\",0,IF(OR('3bis. Calcul répartition CM'!AO$5=0,'3bis. Calcul répartition CM'!AN32=0),0,IF('3bis. Calcul répartition CM'!AO32-'3bis. Calcul répartition CM'!AM32>0,1,0)))","v":0},{"$f":"IF(AND('3bis. Calcul répartition CM'!AP32=MAX('3bis. Calcul répartition CM'!AP$9:AP$58),'3bis. Calcul répartition CM'!AP32>0,COUNTIF('3bis. Calcul répartition CM'!AP$9:AP$58,'3bis. Calcul répartition CM'!AP32)>1,SUM('3bis. Calcul répartition CM'!AQ$9:AQ$58)-SUM('3bis. Calcul répartition CM'!AO$9:AO$58)>1),\"erreur\",\"\")","v":""},{"$f":"IF(AP27=\"erreur\",0,IF(OR('3bis. Calcul répartition CM'!AQ$5=0,'3bis. Calcul répartition CM'!AP32=0),0,IF('3bis. Calcul répartition CM'!AQ32-'3bis. Calcul répartition CM'!AO32>0,1,0)))","v":0},{"$f":"IF(AND('3bis. Calcul répartition CM'!AR32=MAX('3bis. Calcul répartition CM'!AR$9:AR$58),'3bis. Calcul répartition CM'!AR32>0,COUNTIF('3bis. Calcul répartition CM'!AR$9:AR$58,'3bis. Calcul répartition CM'!AR32)>1,SUM('3bis. Calcul répartition CM'!AS$9:AS$58)-SUM('3bis. Calcul répartition CM'!AQ$9:AQ$58)>1),\"erreur\",\"\")","v":""},{"$f":"IF(AR27=\"erreur\",0,IF(OR('3bis. Calcul répartition CM'!AS$5=0,'3bis. Calcul répartition CM'!AR32=0),0,IF('3bis. Calcul répartition CM'!AS32-'3bis. Calcul répartition CM'!AQ32>0,1,0)))","v":0},{"$f":"IF(AND('3bis. Calcul répartition CM'!AT32=MAX('3bis. Calcul répartition CM'!AT$9:AT$58),'3bis. Calcul répartition CM'!AT32>0,COUNTIF('3bis. Calcul répartition CM'!AT$9:AT$58,'3bis. Calcul répartition CM'!AT32)>1,SUM('3bis. Calcul répartition CM'!AU$9:AU$58)-SUM('3bis. Calcul répartition CM'!AS$9:AS$58)>1),\"erreur\",\"\")","v":""},{"$f":"IF(AT27=\"erreur\",0,IF(OR('3bis. Calcul répartition CM'!AU$5=0,'3bis. Calcul répartition CM'!AT32=0),0,IF('3bis. Calcul répartition CM'!AU32-'3bis. Calcul répartition CM'!AS32>0,1,0)))","v":0},{"$f":"IF(AND('3bis. Calcul répartition CM'!AV32=MAX('3bis. Calcul répartition CM'!AV$9:AV$58),'3bis. Calcul répartition CM'!AV32>0,COUNTIF('3bis. Calcul répartition CM'!AV$9:AV$58,'3bis. Calcul répartition CM'!AV32)>1,SUM('3bis. Calcul répartition CM'!AW$9:AW$58)-SUM('3bis. Calcul répartition CM'!AU$9:AU$58)>1),\"erreur\",\"\")","v":""},{"$f":"IF(AV27=\"erreur\",0,IF(OR('3bis. Calcul répartition CM'!AW$5=0,'3bis. Calcul répartition CM'!AV32=0),0,IF('3bis. Calcul répartition CM'!AW32-'3bis. Calcul répartition CM'!AU32>0,1,0)))","v":0},{"$f":"IF(AND('3bis. Calcul répartition CM'!AX32=MAX('3bis. Calcul répartition CM'!AX$9:AX$58),'3bis. Calcul répartition CM'!AX32>0,COUNTIF('3bis. Calcul répartition CM'!AX$9:AX$58,'3bis. Calcul répartition CM'!AX32)>1,SUM('3bis. Calcul répartition CM'!AY$9:AY$58)-SUM('3bis. Calcul répartition CM'!AW$9:AW$58)>1),\"erreur\",\"\")","v":""},{"$f":"IF(AX27=\"erreur\",0,IF(OR('3bis. Calcul répartition CM'!AY$5=0,'3bis. Calcul répartition CM'!AX32=0),0,IF('3bis. Calcul répartition CM'!AY32-'3bis. Calcul répartition CM'!AW32>0,1,0)))","v":0},{"$f":"IF(AND('3bis. Calcul répartition CM'!AZ32=MAX('3bis. Calcul répartition CM'!AZ$9:AZ$58),'3bis. Calcul répartition CM'!AZ32>0,COUNTIF('3bis. Calcul répartition CM'!AZ$9:AZ$58,'3bis. Calcul répartition CM'!AZ32)>1,SUM('3bis. Calcul répartition CM'!BA$9:BA$58)-SUM('3bis. Calcul répartition CM'!AY$9:AY$58)>1),\"erreur\",\"\")","v":""},{"$f":"IF(AZ27=\"erreur\",0,IF(OR('3bis. Calcul répartition CM'!BA$5=0,'3bis. Calcul répartition CM'!AZ32=0),0,IF('3bis. Calcul répartition CM'!BA32-'3bis. Calcul répartition CM'!AY32>0,1,0)))","v":0},{"$f":"IF(AND('3bis. Calcul répartition CM'!BB32=MAX('3bis. Calcul répartition CM'!BB$9:BB$58),'3bis. Calcul répartition CM'!BB32>0,COUNTIF('3bis. Calcul répartition CM'!BB$9:BB$58,'3bis. Calcul répartition CM'!BB32)>1,SUM('3bis. Calcul répartition CM'!BC$9:BC$58)-SUM('3bis. Calcul répartition CM'!BA$9:BA$58)>1),\"erreur\",\"\")","v":""},{"$f":"IF(BB27=\"erreur\",0,IF(OR('3bis. Calcul répartition CM'!BC$5=0,'3bis. Calcul répartition CM'!BB32=0),0,IF('3bis. Calcul répartition CM'!BC32-'3bis. Calcul répartition CM'!BA32>0,1,0)))","v":0},{"$f":"IF(AND('3bis. Calcul répartition CM'!BD32=MAX('3bis. Calcul répartition CM'!BD$9:BD$58),'3bis. Calcul répartition CM'!BD32>0,COUNTIF('3bis. Calcul répartition CM'!BD$9:BD$58,'3bis. Calcul répartition CM'!BD32)>1,SUM('3bis. Calcul répartition CM'!BE$9:BE$58)-SUM('3bis. Calcul répartition CM'!BC$9:BC$58)>1),\"erreur\",\"\")","v":""},{"$f":"IF(BD27=\"erreur\",0,IF(OR('3bis. Calcul répartition CM'!BE$5=0,'3bis. Calcul répartition CM'!BD32=0),0,IF('3bis. Calcul répartition CM'!BE32-'3bis. Calcul répartition CM'!BC32>0,1,0)))","v":0},{"$f":"IF(AND('3bis. Calcul répartition CM'!BF32=MAX('3bis. Calcul répartition CM'!BF$9:BF$58),'3bis. Calcul répartition CM'!BF32>0,COUNTIF('3bis. Calcul répartition CM'!BF$9:BF$58,'3bis. Calcul répartition CM'!BF32)>1,SUM('3bis. Calcul répartition CM'!BG$9:BG$58)-SUM('3bis. Calcul répartition CM'!BE$9:BE$58)>1),\"erreur\",\"\")","v":""},{"$f":"IF(BF27=\"erreur\",0,IF(OR('3bis. Calcul répartition CM'!BG$5=0,'3bis. Calcul répartition CM'!BF32=0),0,IF('3bis. Calcul répartition CM'!BG32-'3bis. Calcul répartition CM'!BE32>0,1,0)))","v":0},{"$f":"IF(AND('3bis. Calcul répartition CM'!BH32=MAX('3bis. Calcul répartition CM'!BH$9:BH$58),'3bis. Calcul répartition CM'!BH32>0,COUNTIF('3bis. Calcul répartition CM'!BH$9:BH$58,'3bis. Calcul répartition CM'!BH32)>1,SUM('3bis. Calcul répartition CM'!BI$9:BI$58)-SUM('3bis. Calcul répartition CM'!BG$9:BG$58)>1),\"erreur\",\"\")","v":""},{"$f":"IF(BH27=\"erreur\",0,IF(OR('3bis. Calcul répartition CM'!BI$5=0,'3bis. Calcul répartition CM'!BH32=0),0,IF('3bis. Calcul répartition CM'!BI32-'3bis. Calcul répartition CM'!BG32>0,1,0)))","v":0},{"$f":"IF(AND('3bis. Calcul répartition CM'!BJ32=MAX('3bis. Calcul répartition CM'!BJ$9:BJ$58),'3bis. Calcul répartition CM'!BJ32>0,COUNTIF('3bis. Calcul répartition CM'!BJ$9:BJ$58,'3bis. Calcul répartition CM'!BJ32)>1,SUM('3bis. Calcul répartition CM'!BK$9:BK$58)-SUM('3bis. Calcul répartition CM'!BI$9:BI$58)>1),\"erreur\",\"\")","v":""},{"$f":"IF(BJ27=\"erreur\",0,IF(OR('3bis. Calcul répartition CM'!BK$5=0,'3bis. Calcul répartition CM'!BJ32=0),0,IF('3bis. Calcul répartition CM'!BK32-'3bis. Calcul répartition CM'!BI32>0,1,0)))","v":0},{"$f":"IF(AND('3bis. Calcul répartition CM'!BL32=MAX('3bis. Calcul répartition CM'!BL$9:BL$58),'3bis. Calcul répartition CM'!BL32>0,COUNTIF('3bis. Calcul répartition CM'!BL$9:BL$58,'3bis. Calcul répartition CM'!BL32)>1,SUM('3bis. Calcul répartition CM'!BM$9:BM$58)-SUM('3bis. Calcul répartition CM'!BK$9:BK$58)>1),\"erreur\",\"\")","v":""},{"$f":"IF(BL27=\"erreur\",0,IF(OR('3bis. Calcul répartition CM'!BM$5=0,'3bis. Calcul répartition CM'!BL32=0),0,IF('3bis. Calcul répartition CM'!BM32-'3bis. Calcul répartition CM'!BK32>0,1,0)))","v":0},{"$f":"IF(AND('3bis. Calcul répartition CM'!BN32=MAX('3bis. Calcul répartition CM'!BN$9:BN$58),'3bis. Calcul répartition CM'!BN32>0,COUNTIF('3bis. Calcul répartition CM'!BN$9:BN$58,'3bis. Calcul répartition CM'!BN32)>1,SUM('3bis. Calcul répartition CM'!BO$9:BO$58)-SUM('3bis. Calcul répartition CM'!BM$9:BM$58)>1),\"erreur\",\"\")","v":""},{"$f":"IF(BN27=\"erreur\",0,IF(OR('3bis. Calcul répartition CM'!BO$5=0,'3bis. Calcul répartition CM'!BN32=0),0,IF('3bis. Calcul répartition CM'!BO32-'3bis. Calcul répartition CM'!BM32>0,1,0)))","v":0},{"$f":"IF(AND('3bis. Calcul répartition CM'!BP32=MAX('3bis. Calcul répartition CM'!BP$9:BP$58),'3bis. Calcul répartition CM'!BP32>0,COUNTIF('3bis. Calcul répartition CM'!BP$9:BP$58,'3bis. Calcul répartition CM'!BP32)>1,SUM('3bis. Calcul répartition CM'!BQ$9:BQ$58)-SUM('3bis. Calcul répartition CM'!BO$9:BO$58)>1),\"erreur\",\"\")","v":""},{"$f":"IF(BP27=\"erreur\",0,IF(OR('3bis. Calcul répartition CM'!BQ$5=0,'3bis. Calcul répartition CM'!BP32=0),0,IF('3bis. Calcul répartition CM'!BQ32-'3bis. Calcul répartition CM'!BO32>0,1,0)))","v":0}]
[null,null,null,null,null,null,null,null,{"$f":"'3bis. Calcul répartition CM'!B33","v":0},{"$f":"IF(AND('3bis. Calcul répartition CM'!J33=MAX('3bis. Calcul répartition CM'!J$9:J$58),'3bis. Calcul répartition CM'!J33>0,COUNTIF('3bis. Calcul répartition CM'!J$9:J$58,'3bis. Calcul répartition CM'!J33)>1,SUM('3bis. Calcul répartition CM'!$K$9:$K$58)-SUM('3bis. Calcul répartition CM'!$D$9:$D$58)>1),\"erreur\",\"\")","v":""},{"$f":"IF(J28=\"erreur\",0,IF(OR('3bis. Calcul répartition CM'!K$5=0,'3bis. Calcul répartition CM'!J33=0),0,IF('3bis. Calcul répartition CM'!K33-'3bis. Calcul répartition CM'!D33>0,1,0)))","v":0},{"$f":"IF(AND('3bis. Calcul répartition CM'!L33=MAX('3bis. Calcul répartition CM'!L$9:L$58),'3bis. Calcul répartition CM'!L33>0,COUNTIF('3bis. Calcul répartition CM'!L$9:L$58,'3bis. Calcul répartition CM'!L33)>1,SUM('3bis. Calcul répartition CM'!M$9:M$58)-SUM('3bis. Calcul répartition CM'!K$9:K$58)>1),\"erreur\",\"\")","v":""},{"$f":"IF(L28=\"erreur\",0,IF(OR('3bis. Calcul répartition CM'!M$5=0,'3bis. Calcul répartition CM'!L33=0),0,IF('3bis. Calcul répartition CM'!M33-'3bis. Calcul répartition CM'!K33>0,1,0)))","v":0},{"$f":"IF(AND('3bis. Calcul répartition CM'!N33=MAX('3bis. Calcul répartition CM'!N$9:N$58),'3bis. Calcul répartition CM'!N33>0,COUNTIF('3bis. Calcul répartition CM'!N$9:N$58,'3bis. Calcul répartition CM'!N33)>1,SUM('3bis. Calcul répartition CM'!O$9:O$58)-SUM('3bis. Calcul répartition CM'!M$9:M$58)>1),\"erreur\",\"\")","v":""},{"$f":"IF(N28=\"erreur\",0,IF(OR('3bis. Calcul répartition CM'!O$5=0,'3bis. Calcul répartition CM'!N33=0),0,IF('3bis. Calcul répartition CM'!O33-'3bis. Calcul répartition CM'!M33>0,1,0)))","v":0},{"$f":"IF(AND('3bis. Calcul répartition CM'!P33=MAX('3bis. Calcul répartition CM'!P$9:P$58),'3bis. Calcul répartition CM'!P33>0,COUNTIF('3bis. Calcul répartition CM'!P$9:P$58,'3bis. Calcul répartition CM'!P33)>1,SUM('3bis. Calcul répartition CM'!Q$9:Q$58)-SUM('3bis. Calcul répartition CM'!O$9:O$58)>1),\"erreur\",\"\")","v":""},{"$f":"IF(P28=\"erreur\",0,IF(OR('3bis. Calcul répartition CM'!Q$5=0,'3bis. Calcul répartition CM'!P33=0),0,IF('3bis. Calcul répartition CM'!Q33-'3bis. Calcul répartition CM'!O33>0,1,0)))","v":0},{"$f":"IF(AND('3bis. Calcul répartition CM'!R33=MAX('3bis. Calcul répartition CM'!R$9:R$58),'3bis. Calcul répartition CM'!R33>0,COUNTIF('3bis. Calcul répartition CM'!R$9:R$58,'3bis. Calcul répartition CM'!R33)>1,SUM('3bis. Calcul répartition CM'!S$9:S$58)-SUM('3bis. Calcul répartition CM'!Q$9:Q$58)>1),\"erreur\",\"\")","v":""},{"$f":"IF(R28=\"erreur\",0,IF(OR('3bis. Calcul répartition CM'!S$5=0,'3bis. Calcul répartition CM'!R33=0),0,IF('3bis. Calcul répartition CM'!S33-'3bis. Calcul répartition CM'!Q33>0,1,0)))","v":0},{"$f":"IF(AND('3bis. Calcul répartition CM'!T33=MAX('3bis. Calcul répartition CM'!T$9:T$58),'3bis. Calcul répartition CM'!T33>0,COUNTIF('3bis. Calcul répartition CM'!T$9:T$58,'3bis. Calcul répartition CM'!T33)>1,SUM('3bis. Calcul répartition CM'!U$9:U$58)-SUM('3bis. Calcul répartition CM'!S$9:S$58)>1),\"erreur\",\"\")","v":""},{"$f":"IF(T28=\"erreur\",0,IF(OR('3bis. Calcul répartition CM'!U$5=0,'3bis. Calcul répartition CM'!T33=0),0,IF('3bis. Calcul répartition CM'!U33-'3bis. Calcul répartition CM'!S33>0,1,0)))","v":0},{"$f":"IF(AND('3bis. Calcul répartition CM'!V33=MAX('3bis. Calcul répartition CM'!V$9:V$58),'3bis. Calcul répartition CM'!V33>0,COUNTIF('3bis. Calcul répartition CM'!V$9:V$58,'3bis. Calcul répartition CM'!V33)>1,SUM('3bis. Calcul répartition CM'!W$9:W$58)-SUM('3bis. Calcul répartition CM'!U$9:U$58)>1),\"erreur\",\"\")","v":""},{"$f":"IF(V28=\"erreur\",0,IF(OR('3bis. Calcul répartition CM'!W$5=0,'3bis. Calcul répartition CM'!V33=0),0,IF('3bis. Calcul répartition CM'!W33-'3bis. Calcul répartition CM'!U33>0,1,0)))","v":0},{"$f":"IF(AND('3bis. Calcul répartition CM'!X33=MAX('3bis. Calcul répartition CM'!X$9:X$58),'3bis. Calcul répartition CM'!X33>0,COUNTIF('3bis. Calcul répartition CM'!X$9:X$58,'3bis. Calcul répartition CM'!X33)>1,SUM('3bis. Calcul répartition CM'!Y$9:Y$58)-SUM('3bis. Calcul répartition CM'!W$9:W$58)>1),\"erreur\",\"\")","v":""},{"$f":"IF(X28=\"erreur\",0,IF(OR('3bis. Calcul répartition CM'!Y$5=0,'3bis. Calcul répartition CM'!X33=0),0,IF('3bis. Calcul répartition CM'!Y33-'3bis. Calcul répartition CM'!W33>0,1,0)))","v":0},{"$f":"IF(AND('3bis. Calcul répartition CM'!Z33=MAX('3bis. Calcul répartition CM'!Z$9:Z$58),'3bis. Calcul répartition CM'!Z33>0,COUNTIF('3bis. Calcul répartition CM'!Z$9:Z$58,'3bis. Calcul répartition CM'!Z33)>1,SUM('3bis. Calcul répartition CM'!AA$9:AA$58)-SUM('3bis. Calcul répartition CM'!Y$9:Y$58)>1),\"erreur\",\"\")","v":""},{"$f":"IF(Z28=\"erreur\",0,IF(OR('3bis. Calcul répartition CM'!AA$5=0,'3bis. Calcul répartition CM'!Z33=0),0,IF('3bis. Calcul répartition CM'!AA33-'3bis. Calcul répartition CM'!Y33>0,1,0)))","v":0},{"$f":"IF(AND('3bis. Calcul répartition CM'!AB33=MAX('3bis. Calcul répartition CM'!AB$9:AB$58),'3bis. Calcul répartition CM'!AB33>0,COUNTIF('3bis. Calcul répartition CM'!AB$9:AB$58,'3bis. Calcul répartition CM'!AB33)>1,SUM('3bis. Calcul répartition CM'!AC$9:AC$58)-SUM('3bis. Calcul répartition CM'!AA$9:AA$58)>1),\"erreur\",\"\")","v":""},{"$f":"IF(AB28=\"erreur\",0,IF(OR('3bis. Calcul répartition CM'!AC$5=0,'3bis. Calcul répartition CM'!AB33=0),0,IF('3bis. Calcul répartition CM'!AC33-'3bis. Calcul répartition CM'!AA33>0,1,0)))","v":0},{"$f":"IF(AND('3bis. Calcul répartition CM'!AD33=MAX('3bis. Calcul répartition CM'!AD$9:AD$58),'3bis. Calcul répartition CM'!AD33>0,COUNTIF('3bis. Calcul répartition CM'!AD$9:AD$58,'3bis. Calcul répartition CM'!AD33)>1,SUM('3bis. Calcul répartition CM'!AE$9:AE$58)-SUM('3bis. Calcul répartition CM'!AC$9:AC$58)>1),\"erreur\",\"\")","v":""},{"$f":"IF(AD28=\"erreur\",0,IF(OR('3bis. Calcul répartition CM'!AE$5=0,'3bis. Calcul répartition CM'!AD33=0),0,IF('3bis. Calcul répartition CM'!AE33-'3bis. Calcul répartition CM'!AC33>0,1,0)))","v":0},{"$f":"IF(AND('3bis. Calcul répartition CM'!AF33=MAX('3bis. Calcul répartition CM'!AF$9:AF$58),'3bis. Calcul répartition CM'!AF33>0,COUNTIF('3bis. Calcul répartition CM'!AF$9:AF$58,'3bis. Calcul répartition CM'!AF33)>1,SUM('3bis. Calcul répartition CM'!AG$9:AG$58)-SUM('3bis. Calcul répartition CM'!AE$9:AE$58)>1),\"erreur\",\"\")","v":""},{"$f":"IF(AF28=\"erreur\",0,IF(OR('3bis. Calcul répartition CM'!AG$5=0,'3bis. Calcul répartition CM'!AF33=0),0,IF('3bis. Calcul répartition CM'!AG33-'3bis. Calcul répartition CM'!AE33>0,1,0)))","v":0},{"$f":"IF(AND('3bis. Calcul répartition CM'!AH33=MAX('3bis. Calcul répartition CM'!AH$9:AH$58),'3bis. Calcul répartition CM'!AH33>0,COUNTIF('3bis. Calcul répartition CM'!AH$9:AH$58,'3bis. Calcul répartition CM'!AH33)>1,SUM('3bis. Calcul répartition CM'!AI$9:AI$58)-SUM('3bis. Calcul répartition CM'!AG$9:AG$58)>1),\"erreur\",\"\")","v":""},{"$f":"IF(AH28=\"erreur\",0,IF(OR('3bis. Calcul répartition CM'!AI$5=0,'3bis. Calcul répartition CM'!AH33=0),0,IF('3bis. Calcul répartition CM'!AI33-'3bis. Calcul répartition CM'!AG33>0,1,0)))","v":0},{"$f":"IF(AND('3bis. Calcul répartition CM'!AJ33=MAX('3bis. Calcul répartition CM'!AJ$9:AJ$58),'3bis. Calcul répartition CM'!AJ33>0,COUNTIF('3bis. Calcul répartition CM'!AJ$9:AJ$58,'3bis. Calcul répartition CM'!AJ33)>1,SUM('3bis. Calcul répartition CM'!AK$9:AK$58)-SUM('3bis. Calcul répartition CM'!AI$9:AI$58)>1),\"erreur\",\"\")","v":""},{"$f":"IF(AJ28=\"erreur\",0,IF(OR('3bis. Calcul répartition CM'!AK$5=0,'3bis. Calcul répartition CM'!AJ33=0),0,IF('3bis. Calcul répartition CM'!AK33-'3bis. Calcul répartition CM'!AI33>0,1,0)))","v":0},{"$f":"IF(AND('3bis. Calcul répartition CM'!AL33=MAX('3bis. Calcul répartition CM'!AL$9:AL$58),'3bis. Calcul répartition CM'!AL33>0,COUNTIF('3bis. Calcul répartition CM'!AL$9:AL$58,'3bis. Calcul répartition CM'!AL33)>1,SUM('3bis. Calcul répartition CM'!AM$9:AM$58)-SUM('3bis. Calcul répartition CM'!AK$9:AK$58)>1),\"erreur\",\"\")","v":""},{"$f":"IF(AL28=\"erreur\",0,IF(OR('3bis. Calcul répartition CM'!AM$5=0,'3bis. Calcul répartition CM'!AL33=0),0,IF('3bis. Calcul répartition CM'!AM33-'3bis. Calcul répartition CM'!AK33>0,1,0)))","v":0},{"$f":"IF(AND('3bis. Calcul répartition CM'!AN33=MAX('3bis. Calcul répartition CM'!AN$9:AN$58),'3bis. Calcul répartition CM'!AN33>0,COUNTIF('3bis. Calcul répartition CM'!AN$9:AN$58,'3bis. Calcul répartition CM'!AN33)>1,SUM('3bis. Calcul répartition CM'!AO$9:AO$58)-SUM('3bis. Calcul répartition CM'!AM$9:AM$58)>1),\"erreur\",\"\")","v":""},{"$f":"IF(AN28=\"erreur\",0,IF(OR('3bis. Calcul répartition CM'!AO$5=0,'3bis. Calcul répartition CM'!AN33=0),0,IF('3bis. Calcul répartition CM'!AO33-'3bis. Calcul répartition CM'!AM33>0,1,0)))","v":0},{"$f":"IF(AND('3bis. Calcul répartition CM'!AP33=MAX('3bis. Calcul répartition CM'!AP$9:AP$58),'3bis. Calcul répartition CM'!AP33>0,COUNTIF('3bis. Calcul répartition CM'!AP$9:AP$58,'3bis. Calcul répartition CM'!AP33)>1,SUM('3bis. Calcul répartition CM'!AQ$9:AQ$58)-SUM('3bis. Calcul répartition CM'!AO$9:AO$58)>1),\"erreur\",\"\")","v":""},{"$f":"IF(AP28=\"erreur\",0,IF(OR('3bis. Calcul répartition CM'!AQ$5=0,'3bis. Calcul répartition CM'!AP33=0),0,IF('3bis. Calcul répartition CM'!AQ33-'3bis. Calcul répartition CM'!AO33>0,1,0)))","v":0},{"$f":"IF(AND('3bis. Calcul répartition CM'!AR33=MAX('3bis. Calcul répartition CM'!AR$9:AR$58),'3bis. Calcul répartition CM'!AR33>0,COUNTIF('3bis. Calcul répartition CM'!AR$9:AR$58,'3bis. Calcul répartition CM'!AR33)>1,SUM('3bis. Calcul répartition CM'!AS$9:AS$58)-SUM('3bis. Calcul répartition CM'!AQ$9:AQ$58)>1),\"erreur\",\"\")","v":""},{"$f":"IF(AR28=\"erreur\",0,IF(OR('3bis. Calcul répartition CM'!AS$5=0,'3bis. Calcul répartition CM'!AR33=0),0,IF('3bis. Calcul répartition CM'!AS33-'3bis. Calcul répartition CM'!AQ33>0,1,0)))","v":0},{"$f":"IF(AND('3bis. Calcul répartition CM'!AT33=MAX('3bis. Calcul répartition CM'!AT$9:AT$58),'3bis. Calcul répartition CM'!AT33>0,COUNTIF('3bis. Calcul répartition CM'!AT$9:AT$58,'3bis. Calcul répartition CM'!AT33)>1,SUM('3bis. Calcul répartition CM'!AU$9:AU$58)-SUM('3bis. Calcul répartition CM'!AS$9:AS$58)>1),\"erreur\",\"\")","v":""},{"$f":"IF(AT28=\"erreur\",0,IF(OR('3bis. Calcul répartition CM'!AU$5=0,'3bis. Calcul répartition CM'!AT33=0),0,IF('3bis. Calcul répartition CM'!AU33-'3bis. Calcul répartition CM'!AS33>0,1,0)))","v":0},{"$f":"IF(AND('3bis. Calcul répartition CM'!AV33=MAX('3bis. Calcul répartition CM'!AV$9:AV$58),'3bis. Calcul répartition CM'!AV33>0,COUNTIF('3bis. Calcul répartition CM'!AV$9:AV$58,'3bis. Calcul répartition CM'!AV33)>1,SUM('3bis. Calcul répartition CM'!AW$9:AW$58)-SUM('3bis. Calcul répartition CM'!AU$9:AU$58)>1),\"erreur\",\"\")","v":""},{"$f":"IF(AV28=\"erreur\",0,IF(OR('3bis. Calcul répartition CM'!AW$5=0,'3bis. Calcul répartition CM'!AV33=0),0,IF('3bis. Calcul répartition CM'!AW33-'3bis. Calcul répartition CM'!AU33>0,1,0)))","v":0},{"$f":"IF(AND('3bis. Calcul répartition CM'!AX33=MAX('3bis. Calcul répartition CM'!AX$9:AX$58),'3bis. Calcul répartition CM'!AX33>0,COUNTIF('3bis. Calcul répartition CM'!AX$9:AX$58,'3bis. Calcul répartition CM'!AX33)>1,SUM('3bis. Calcul répartition CM'!AY$9:AY$58)-SUM('3bis. Calcul répartition CM'!AW$9:AW$58)>1),\"erreur\",\"\")","v":""},{"$f":"IF(AX28=\"erreur\",0,IF(OR('3bis. Calcul répartition CM'!AY$5=0,'3bis. Calcul répartition CM'!AX33=0),0,IF('3bis. Calcul répartition CM'!AY33-'3bis. Calcul répartition CM'!AW33>0,1,0)))","v":0},{"$f":"IF(AND('3bis. Calcul répartition CM'!AZ33=MAX('3bis. Calcul répartition CM'!AZ$9:AZ$58),'3bis. Calcul répartition CM'!AZ33>0,COUNTIF('3bis. Calcul répartition CM'!AZ$9:AZ$58,'3bis. Calcul répartition CM'!AZ33)>1,SUM('3bis. Calcul répartition CM'!BA$9:BA$58)-SUM('3bis. Calcul répartition CM'!AY$9:AY$58)>1),\"erreur\",\"\")","v":""},{"$f":"IF(AZ28=\"erreur\",0,IF(OR('3bis. Calcul répartition CM'!BA$5=0,'3bis. Calcul répartition CM'!AZ33=0),0,IF('3bis. Calcul répartition CM'!BA33-'3bis. Calcul répartition CM'!AY33>0,1,0)))","v":0},{"$f":"IF(AND('3bis. Calcul répartition CM'!BB33=MAX('3bis. Calcul répartition CM'!BB$9:BB$58),'3bis. Calcul répartition CM'!BB33>0,COUNTIF('3bis. Calcul répartition CM'!BB$9:BB$58,'3bis. Calcul répartition CM'!BB33)>1,SUM('3bis. Calcul répartition CM'!BC$9:BC$58)-SUM('3bis. Calcul répartition CM'!BA$9:BA$58)>1),\"erreur\",\"\")","v":""},{"$f":"IF(BB28=\"erreur\",0,IF(OR('3bis. Calcul répartition CM'!BC$5=0,'3bis. Calcul répartition CM'!BB33=0),0,IF('3bis. Calcul répartition CM'!BC33-'3bis. Calcul répartition CM'!BA33>0,1,0)))","v":0},{"$f":"IF(AND('3bis. Calcul répartition CM'!BD33=MAX('3bis. Calcul répartition CM'!BD$9:BD$58),'3bis. Calcul répartition CM'!BD33>0,COUNTIF('3bis. Calcul répartition CM'!BD$9:BD$58,'3bis. Calcul répartition CM'!BD33)>1,SUM('3bis. Calcul répartition CM'!BE$9:BE$58)-SUM('3bis. Calcul répartition CM'!BC$9:BC$58)>1),\"erreur\",\"\")","v":""},{"$f":"IF(BD28=\"erreur\",0,IF(OR('3bis. Calcul répartition CM'!BE$5=0,'3bis. Calcul répartition CM'!BD33=0),0,IF('3bis. Calcul répartition CM'!BE33-'3bis. Calcul répartition CM'!BC33>0,1,0)))","v":0},{"$f":"IF(AND('3bis. Calcul répartition CM'!BF33=MAX('3bis. Calcul répartition CM'!BF$9:BF$58),'3bis. Calcul répartition CM'!BF33>0,COUNTIF('3bis. Calcul répartition CM'!BF$9:BF$58,'3bis. Calcul répartition CM'!BF33)>1,SUM('3bis. Calcul répartition CM'!BG$9:BG$58)-SUM('3bis. Calcul répartition CM'!BE$9:BE$58)>1),\"erreur\",\"\")","v":""},{"$f":"IF(BF28=\"erreur\",0,IF(OR('3bis. Calcul répartition CM'!BG$5=0,'3bis. Calcul répartition CM'!BF33=0),0,IF('3bis. Calcul répartition CM'!BG33-'3bis. Calcul répartition CM'!BE33>0,1,0)))","v":0},{"$f":"IF(AND('3bis. Calcul répartition CM'!BH33=MAX('3bis. Calcul répartition CM'!BH$9:BH$58),'3bis. Calcul répartition CM'!BH33>0,COUNTIF('3bis. Calcul répartition CM'!BH$9:BH$58,'3bis. Calcul répartition CM'!BH33)>1,SUM('3bis. Calcul répartition CM'!BI$9:BI$58)-SUM('3bis. Calcul répartition CM'!BG$9:BG$58)>1),\"erreur\",\"\")","v":""},{"$f":"IF(BH28=\"erreur\",0,IF(OR('3bis. Calcul répartition CM'!BI$5=0,'3bis. Calcul répartition CM'!BH33=0),0,IF('3bis. Calcul répartition CM'!BI33-'3bis. Calcul répartition CM'!BG33>0,1,0)))","v":0},{"$f":"IF(AND('3bis. Calcul répartition CM'!BJ33=MAX('3bis. Calcul répartition CM'!BJ$9:BJ$58),'3bis. Calcul répartition CM'!BJ33>0,COUNTIF('3bis. Calcul répartition CM'!BJ$9:BJ$58,'3bis. Calcul répartition CM'!BJ33)>1,SUM('3bis. Calcul répartition CM'!BK$9:BK$58)-SUM('3bis. Calcul répartition CM'!BI$9:BI$58)>1),\"erreur\",\"\")","v":""},{"$f":"IF(BJ28=\"erreur\",0,IF(OR('3bis. Calcul répartition CM'!BK$5=0,'3bis. Calcul répartition CM'!BJ33=0),0,IF('3bis. Calcul répartition CM'!BK33-'3bis. Calcul répartition CM'!BI33>0,1,0)))","v":0},{"$f":"IF(AND('3bis. Calcul répartition CM'!BL33=MAX('3bis. Calcul répartition CM'!BL$9:BL$58),'3bis. Calcul répartition CM'!BL33>0,COUNTIF('3bis. Calcul répartition CM'!BL$9:BL$58,'3bis. Calcul répartition CM'!BL33)>1,SUM('3bis. Calcul répartition CM'!BM$9:BM$58)-SUM('3bis. Calcul répartition CM'!BK$9:BK$58)>1),\"erreur\",\"\")","v":""},{"$f":"IF(BL28=\"erreur\",0,IF(OR('3bis. Calcul répartition CM'!BM$5=0,'3bis. Calcul répartition CM'!BL33=0),0,IF('3bis. Calcul répartition CM'!BM33-'3bis. Calcul répartition CM'!BK33>0,1,0)))","v":0},{"$f":"IF(AND('3bis. Calcul répartition CM'!BN33=MAX('3bis. Calcul répartition CM'!BN$9:BN$58),'3bis. Calcul répartition CM'!BN33>0,COUNTIF('3bis. Calcul répartition CM'!BN$9:BN$58,'3bis. Calcul répartition CM'!BN33)>1,SUM('3bis. Calcul répartition CM'!BO$9:BO$58)-SUM('3bis. Calcul répartition CM'!BM$9:BM$58)>1),\"erreur\",\"\")","v":""},{"$f":"IF(BN28=\"erreur\",0,IF(OR('3bis. Calcul répartition CM'!BO$5=0,'3bis. Calcul répartition CM'!BN33=0),0,IF('3bis. Calcul répartition CM'!BO33-'3bis. Calcul répartition CM'!BM33>0,1,0)))","v":0},{"$f":"IF(AND('3bis. Calcul répartition CM'!BP33=MAX('3bis. Calcul répartition CM'!BP$9:BP$58),'3bis. Calcul répartition CM'!BP33>0,COUNTIF('3bis. Calcul répartition CM'!BP$9:BP$58,'3bis. Calcul répartition CM'!BP33)>1,SUM('3bis. Calcul répartition CM'!BQ$9:BQ$58)-SUM('3bis. Calcul répartition CM'!BO$9:BO$58)>1),\"erreur\",\"\")","v":""},{"$f":"IF(BP28=\"erreur\",0,IF(OR('3bis. Calcul répartition CM'!BQ$5=0,'3bis. Calcul répartition CM'!BP33=0),0,IF('3bis. Calcul répartition CM'!BQ33-'3bis. Calcul répartition CM'!BO33>0,1,0)))","v":0}]
[null,null,null,null,null,null,null,null,{"$f":"'3bis. Calcul répartition CM'!B34","v":0},{"$f":"IF(AND('3bis. Calcul répartition CM'!J34=MAX('3bis. Calcul répartition CM'!J$9:J$58),'3bis. Calcul répartition CM'!J34>0,COUNTIF('3bis. Calcul répartition CM'!J$9:J$58,'3bis. Calcul répartition CM'!J34)>1,SUM('3bis. Calcul répartition CM'!$K$9:$K$58)-SUM('3bis. Calcul répartition CM'!$D$9:$D$58)>1),\"erreur\",\"\")","v":""},{"$f":"IF(J29=\"erreur\",0,IF(OR('3bis. Calcul répartition CM'!K$5=0,'3bis. Calcul répartition CM'!J34=0),0,IF('3bis. Calcul répartition CM'!K34-'3bis. Calcul répartition CM'!D34>0,1,0)))","v":0},{"$f":"IF(AND('3bis. Calcul répartition CM'!L34=MAX('3bis. Calcul répartition CM'!L$9:L$58),'3bis. Calcul répartition CM'!L34>0,COUNTIF('3bis. Calcul répartition CM'!L$9:L$58,'3bis. Calcul répartition CM'!L34)>1,SUM('3bis. Calcul répartition CM'!M$9:M$58)-SUM('3bis. Calcul répartition CM'!K$9:K$58)>1),\"erreur\",\"\")","v":""},{"$f":"IF(L29=\"erreur\",0,IF(OR('3bis. Calcul répartition CM'!M$5=0,'3bis. Calcul répartition CM'!L34=0),0,IF('3bis. Calcul répartition CM'!M34-'3bis. Calcul répartition CM'!K34>0,1,0)))","v":0},{"$f":"IF(AND('3bis. Calcul répartition CM'!N34=MAX('3bis. Calcul répartition CM'!N$9:N$58),'3bis. Calcul répartition CM'!N34>0,COUNTIF('3bis. Calcul répartition CM'!N$9:N$58,'3bis. Calcul répartition CM'!N34)>1,SUM('3bis. Calcul répartition CM'!O$9:O$58)-SUM('3bis. Calcul répartition CM'!M$9:M$58)>1),\"erreur\",\"\")","v":""},{"$f":"IF(N29=\"erreur\",0,IF(OR('3bis. Calcul répartition CM'!O$5=0,'3bis. Calcul répartition CM'!N34=0),0,IF('3bis. Calcul répartition CM'!O34-'3bis. Calcul répartition CM'!M34>0,1,0)))","v":0},{"$f":"IF(AND('3bis. Calcul répartition CM'!P34=MAX('3bis. Calcul répartition CM'!P$9:P$58),'3bis. Calcul répartition CM'!P34>0,COUNTIF('3bis. Calcul répartition CM'!P$9:P$58,'3bis. Calcul répartition CM'!P34)>1,SUM('3bis. Calcul répartition CM'!Q$9:Q$58)-SUM('3bis. Calcul répartition CM'!O$9:O$58)>1),\"erreur\",\"\")","v":""},{"$f":"IF(P29=\"erreur\",0,IF(OR('3bis. Calcul répartition CM'!Q$5=0,'3bis. Calcul répartition CM'!P34=0),0,IF('3bis. Calcul répartition CM'!Q34-'3bis. Calcul répartition CM'!O34>0,1,0)))","v":0},{"$f":"IF(AND('3bis. Calcul répartition CM'!R34=MAX('3bis. Calcul répartition CM'!R$9:R$58),'3bis. Calcul répartition CM'!R34>0,COUNTIF('3bis. Calcul répartition CM'!R$9:R$58,'3bis. Calcul répartition CM'!R34)>1,SUM('3bis. Calcul répartition CM'!S$9:S$58)-SUM('3bis. Calcul répartition CM'!Q$9:Q$58)>1),\"erreur\",\"\")","v":""},{"$f":"IF(R29=\"erreur\",0,IF(OR('3bis. Calcul répartition CM'!S$5=0,'3bis. Calcul répartition CM'!R34=0),0,IF('3bis. Calcul répartition CM'!S34-'3bis. Calcul répartition CM'!Q34>0,1,0)))","v":0},{"$f":"IF(AND('3bis. Calcul répartition CM'!T34=MAX('3bis. Calcul répartition CM'!T$9:T$58),'3bis. Calcul répartition CM'!T34>0,COUNTIF('3bis. Calcul répartition CM'!T$9:T$58,'3bis. Calcul répartition CM'!T34)>1,SUM('3bis. Calcul répartition CM'!U$9:U$58)-SUM('3bis. Calcul répartition CM'!S$9:S$58)>1),\"erreur\",\"\")","v":""},{"$f":"IF(T29=\"erreur\",0,IF(OR('3bis. Calcul répartition CM'!U$5=0,'3bis. Calcul répartition CM'!T34=0),0,IF('3bis. Calcul répartition CM'!U34-'3bis. Calcul répartition CM'!S34>0,1,0)))","v":0},{"$f":"IF(AND('3bis. Calcul répartition CM'!V34=MAX('3bis. Calcul répartition CM'!V$9:V$58),'3bis. Calcul répartition CM'!V34>0,COUNTIF('3bis. Calcul répartition CM'!V$9:V$58,'3bis. Calcul répartition CM'!V34)>1,SUM('3bis. Calcul répartition CM'!W$9:W$58)-SUM('3bis. Calcul répartition CM'!U$9:U$58)>1),\"erreur\",\"\")","v":""},{"$f":"IF(V29=\"erreur\",0,IF(OR('3bis. Calcul répartition CM'!W$5=0,'3bis. Calcul répartition CM'!V34=0),0,IF('3bis. Calcul répartition CM'!W34-'3bis. Calcul répartition CM'!U34>0,1,0)))","v":0},{"$f":"IF(AND('3bis. Calcul répartition CM'!X34=MAX('3bis. Calcul répartition CM'!X$9:X$58),'3bis. Calcul répartition CM'!X34>0,COUNTIF('3bis. Calcul répartition CM'!X$9:X$58,'3bis. Calcul répartition CM'!X34)>1,SUM('3bis. Calcul répartition CM'!Y$9:Y$58)-SUM('3bis. Calcul répartition CM'!W$9:W$58)>1),\"erreur\",\"\")","v":""},{"$f":"IF(X29=\"erreur\",0,IF(OR('3bis. Calcul répartition CM'!Y$5=0,'3bis. Calcul répartition CM'!X34=0),0,IF('3bis. Calcul répartition CM'!Y34-'3bis. Calcul répartition CM'!W34>0,1,0)))","v":0},{"$f":"IF(AND('3bis. Calcul répartition CM'!Z34=MAX('3bis. Calcul répartition CM'!Z$9:Z$58),'3bis. Calcul répartition CM'!Z34>0,COUNTIF('3bis. Calcul répartition CM'!Z$9:Z$58,'3bis. Calcul répartition CM'!Z34)>1,SUM('3bis. Calcul répartition CM'!AA$9:AA$58)-SUM('3bis. Calcul répartition CM'!Y$9:Y$58)>1),\"erreur\",\"\")","v":""},{"$f":"IF(Z29=\"erreur\",0,IF(OR('3bis. Calcul répartition CM'!AA$5=0,'3bis. Calcul répartition CM'!Z34=0),0,IF('3bis. Calcul répartition CM'!AA34-'3bis. Calcul répartition CM'!Y34>0,1,0)))","v":0},{"$f":"IF(AND('3bis. Calcul répartition CM'!AB34=MAX('3bis. Calcul répartition CM'!AB$9:AB$58),'3bis. Calcul répartition CM'!AB34>0,COUNTIF('3bis. Calcul répartition CM'!AB$9:AB$58,'3bis. Calcul répartition CM'!AB34)>1,SUM('3bis. Calcul répartition CM'!AC$9:AC$58)-SUM('3bis. Calcul répartition CM'!AA$9:AA$58)>1),\"erreur\",\"\")","v":""},{"$f":"IF(AB29=\"erreur\",0,IF(OR('3bis. Calcul répartition CM'!AC$5=0,'3bis. Calcul répartition CM'!AB34=0),0,IF('3bis. Calcul répartition CM'!AC34-'3bis. Calcul répartition CM'!AA34>0,1,0)))","v":0},{"$f":"IF(AND('3bis. Calcul répartition CM'!AD34=MAX('3bis. Calcul répartition CM'!AD$9:AD$58),'3bis. Calcul répartition CM'!AD34>0,COUNTIF('3bis. Calcul répartition CM'!AD$9:AD$58,'3bis. Calcul répartition CM'!AD34)>1,SUM('3bis. Calcul répartition CM'!AE$9:AE$58)-SUM('3bis. Calcul répartition CM'!AC$9:AC$58)>1),\"erreur\",\"\")","v":""},{"$f":"IF(AD29=\"erreur\",0,IF(OR('3bis. Calcul répartition CM'!AE$5=0,'3bis. Calcul répartition CM'!AD34=0),0,IF('3bis. Calcul répartition CM'!AE34-'3bis. Calcul répartition CM'!AC34>0,1,0)))","v":0},{"$f":"IF(AND('3bis. Calcul répartition CM'!AF34=MAX('3bis. Calcul répartition CM'!AF$9:AF$58),'3bis. Calcul répartition CM'!AF34>0,COUNTIF('3bis. Calcul répartition CM'!AF$9:AF$58,'3bis. Calcul répartition CM'!AF34)>1,SUM('3bis. Calcul répartition CM'!AG$9:AG$58)-SUM('3bis. Calcul répartition CM'!AE$9:AE$58)>1),\"erreur\",\"\")","v":""},{"$f":"IF(AF29=\"erreur\",0,IF(OR('3bis. Calcul répartition CM'!AG$5=0,'3bis. Calcul répartition CM'!AF34=0),0,IF('3bis. Calcul répartition CM'!AG34-'3bis. Calcul répartition CM'!AE34>0,1,0)))","v":0},{"$f":"IF(AND('3bis. Calcul répartition CM'!AH34=MAX('3bis. Calcul répartition CM'!AH$9:AH$58),'3bis. Calcul répartition CM'!AH34>0,COUNTIF('3bis. Calcul répartition CM'!AH$9:AH$58,'3bis. Calcul répartition CM'!AH34)>1,SUM('3bis. Calcul répartition CM'!AI$9:AI$58)-SUM('3bis. Calcul répartition CM'!AG$9:AG$58)>1),\"erreur\",\"\")","v":""},{"$f":"IF(AH29=\"erreur\",0,IF(OR('3bis. Calcul répartition CM'!AI$5=0,'3bis. Calcul répartition CM'!AH34=0),0,IF('3bis. Calcul répartition CM'!AI34-'3bis. Calcul répartition CM'!AG34>0,1,0)))","v":0},{"$f":"IF(AND('3bis. Calcul répartition CM'!AJ34=MAX('3bis. Calcul répartition CM'!AJ$9:AJ$58),'3bis. Calcul répartition CM'!AJ34>0,COUNTIF('3bis. Calcul répartition CM'!AJ$9:AJ$58,'3bis. Calcul répartition CM'!AJ34)>1,SUM('3bis. Calcul répartition CM'!AK$9:AK$58)-SUM('3bis. Calcul répartition CM'!AI$9:AI$58)>1),\"erreur\",\"\")","v":""},{"$f":"IF(AJ29=\"erreur\",0,IF(OR('3bis. Calcul répartition CM'!AK$5=0,'3bis. Calcul répartition CM'!AJ34=0),0,IF('3bis. Calcul répartition CM'!AK34-'3bis. Calcul répartition CM'!AI34>0,1,0)))","v":0},{"$f":"IF(AND('3bis. Calcul répartition CM'!AL34=MAX('3bis. Calcul répartition CM'!AL$9:AL$58),'3bis. Calcul répartition CM'!AL34>0,COUNTIF('3bis. Calcul répartition CM'!AL$9:AL$58,'3bis. Calcul répartition CM'!AL34)>1,SUM('3bis. Calcul répartition CM'!AM$9:AM$58)-SUM('3bis. Calcul répartition CM'!AK$9:AK$58)>1),\"erreur\",\"\")","v":""},{"$f":"IF(AL29=\"erreur\",0,IF(OR('3bis. Calcul répartition CM'!AM$5=0,'3bis. Calcul répartition CM'!AL34=0),0,IF('3bis. Calcul répartition CM'!AM34-'3bis. Calcul répartition CM'!AK34>0,1,0)))","v":0},{"$f":"IF(AND('3bis. Calcul répartition CM'!AN34=MAX('3bis. Calcul répartition CM'!AN$9:AN$58),'3bis. Calcul répartition CM'!AN34>0,COUNTIF('3bis. Calcul répartition CM'!AN$9:AN$58,'3bis. Calcul répartition CM'!AN34)>1,SUM('3bis. Calcul répartition CM'!AO$9:AO$58)-SUM('3bis. Calcul répartition CM'!AM$9:AM$58)>1),\"erreur\",\"\")","v":""},{"$f":"IF(AN29=\"erreur\",0,IF(OR('3bis. Calcul répartition CM'!AO$5=0,'3bis. Calcul répartition CM'!AN34=0),0,IF('3bis. Calcul répartition CM'!AO34-'3bis. Calcul répartition CM'!AM34>0,1,0)))","v":0},{"$f":"IF(AND('3bis. Calcul répartition CM'!AP34=MAX('3bis. Calcul répartition CM'!AP$9:AP$58),'3bis. Calcul répartition CM'!AP34>0,COUNTIF('3bis. Calcul répartition CM'!AP$9:AP$58,'3bis. Calcul répartition CM'!AP34)>1,SUM('3bis. Calcul répartition CM'!AQ$9:AQ$58)-SUM('3bis. Calcul répartition CM'!AO$9:AO$58)>1),\"erreur\",\"\")","v":""},{"$f":"IF(AP29=\"erreur\",0,IF(OR('3bis. Calcul répartition CM'!AQ$5=0,'3bis. Calcul répartition CM'!AP34=0),0,IF('3bis. Calcul répartition CM'!AQ34-'3bis. Calcul répartition CM'!AO34>0,1,0)))","v":0},{"$f":"IF(AND('3bis. Calcul répartition CM'!AR34=MAX('3bis. Calcul répartition CM'!AR$9:AR$58),'3bis. Calcul répartition CM'!AR34>0,COUNTIF('3bis. Calcul répartition CM'!AR$9:AR$58,'3bis. Calcul répartition CM'!AR34)>1,SUM('3bis. Calcul répartition CM'!AS$9:AS$58)-SUM('3bis. Calcul répartition CM'!AQ$9:AQ$58)>1),\"erreur\",\"\")","v":""},{"$f":"IF(AR29=\"erreur\",0,IF(OR('3bis. Calcul répartition CM'!AS$5=0,'3bis. Calcul répartition CM'!AR34=0),0,IF('3bis. Calcul répartition CM'!AS34-'3bis. Calcul répartition CM'!AQ34>0,1,0)))","v":0},{"$f":"IF(AND('3bis. Calcul répartition CM'!AT34=MAX('3bis. Calcul répartition CM'!AT$9:AT$58),'3bis. Calcul répartition CM'!AT34>0,COUNTIF('3bis. Calcul répartition CM'!AT$9:AT$58,'3bis. Calcul répartition CM'!AT34)>1,SUM('3bis. Calcul répartition CM'!AU$9:AU$58)-SUM('3bis. Calcul répartition CM'!AS$9:AS$58)>1),\"erreur\",\"\")","v":""},{"$f":"IF(AT29=\"erreur\",0,IF(OR('3bis. Calcul répartition CM'!AU$5=0,'3bis. Calcul répartition CM'!AT34=0),0,IF('3bis. Calcul répartition CM'!AU34-'3bis. Calcul répartition CM'!AS34>0,1,0)))","v":0},{"$f":"IF(AND('3bis. Calcul répartition CM'!AV34=MAX('3bis. Calcul répartition CM'!AV$9:AV$58),'3bis. Calcul répartition CM'!AV34>0,COUNTIF('3bis. Calcul répartition CM'!AV$9:AV$58,'3bis. Calcul répartition CM'!AV34)>1,SUM('3bis. Calcul répartition CM'!AW$9:AW$58)-SUM('3bis. Calcul répartition CM'!AU$9:AU$58)>1),\"erreur\",\"\")","v":""},{"$f":"IF(AV29=\"erreur\",0,IF(OR('3bis. Calcul répartition CM'!AW$5=0,'3bis. Calcul répartition CM'!AV34=0),0,IF('3bis. Calcul répartition CM'!AW34-'3bis. Calcul répartition CM'!AU34>0,1,0)))","v":0},{"$f":"IF(AND('3bis. Calcul répartition CM'!AX34=MAX('3bis. Calcul répartition CM'!AX$9:AX$58),'3bis. Calcul répartition CM'!AX34>0,COUNTIF('3bis. Calcul répartition CM'!AX$9:AX$58,'3bis. Calcul répartition CM'!AX34)>1,SUM('3bis. Calcul répartition CM'!AY$9:AY$58)-SUM('3bis. Calcul répartition CM'!AW$9:AW$58)>1),\"erreur\",\"\")","v":""},{"$f":"IF(AX29=\"erreur\",0,IF(OR('3bis. Calcul répartition CM'!AY$5=0,'3bis. Calcul répartition CM'!AX34=0),0,IF('3bis. Calcul répartition CM'!AY34-'3bis. Calcul répartition CM'!AW34>0,1,0)))","v":0},{"$f":"IF(AND('3bis. Calcul répartition CM'!AZ34=MAX('3bis. Calcul répartition CM'!AZ$9:AZ$58),'3bis. Calcul répartition CM'!AZ34>0,COUNTIF('3bis. Calcul répartition CM'!AZ$9:AZ$58,'3bis. Calcul répartition CM'!AZ34)>1,SUM('3bis. Calcul répartition CM'!BA$9:BA$58)-SUM('3bis. Calcul répartition CM'!AY$9:AY$58)>1),\"erreur\",\"\")","v":""},{"$f":"IF(AZ29=\"erreur\",0,IF(OR('3bis. Calcul répartition CM'!BA$5=0,'3bis. Calcul répartition CM'!AZ34=0),0,IF('3bis. Calcul répartition CM'!BA34-'3bis. Calcul répartition CM'!AY34>0,1,0)))","v":0},{"$f":"IF(AND('3bis. Calcul répartition CM'!BB34=MAX('3bis. Calcul répartition CM'!BB$9:BB$58),'3bis. Calcul répartition CM'!BB34>0,COUNTIF('3bis. Calcul répartition CM'!BB$9:BB$58,'3bis. Calcul répartition CM'!BB34)>1,SUM('3bis. Calcul répartition CM'!BC$9:BC$58)-SUM('3bis. Calcul répartition CM'!BA$9:BA$58)>1),\"erreur\",\"\")","v":""},{"$f":"IF(BB29=\"erreur\",0,IF(OR('3bis. Calcul répartition CM'!BC$5=0,'3bis. Calcul répartition CM'!BB34=0),0,IF('3bis. Calcul répartition CM'!BC34-'3bis. Calcul répartition CM'!BA34>0,1,0)))","v":0},{"$f":"IF(AND('3bis. Calcul répartition CM'!BD34=MAX('3bis. Calcul répartition CM'!BD$9:BD$58),'3bis. Calcul répartition CM'!BD34>0,COUNTIF('3bis. Calcul répartition CM'!BD$9:BD$58,'3bis. Calcul répartition CM'!BD34)>1,SUM('3bis. Calcul répartition CM'!BE$9:BE$58)-SUM('3bis. Calcul répartition CM'!BC$9:BC$58)>1),\"erreur\",\"\")","v":""},{"$f":"IF(BD29=\"erreur\",0,IF(OR('3bis. Calcul répartition CM'!BE$5=0,'3bis. Calcul répartition CM'!BD34=0),0,IF('3bis. Calcul répartition CM'!BE34-'3bis. Calcul répartition CM'!BC34>0,1,0)))","v":0},{"$f":"IF(AND('3bis. Calcul répartition CM'!BF34=MAX('3bis. Calcul répartition CM'!BF$9:BF$58),'3bis. Calcul répartition CM'!BF34>0,COUNTIF('3bis. Calcul répartition CM'!BF$9:BF$58,'3bis. Calcul répartition CM'!BF34)>1,SUM('3bis. Calcul répartition CM'!BG$9:BG$58)-SUM('3bis. Calcul répartition CM'!BE$9:BE$58)>1),\"erreur\",\"\")","v":""},{"$f":"IF(BF29=\"erreur\",0,IF(OR('3bis. Calcul répartition CM'!BG$5=0,'3bis. Calcul répartition CM'!BF34=0),0,IF('3bis. Calcul répartition CM'!BG34-'3bis. Calcul répartition CM'!BE34>0,1,0)))","v":0},{"$f":"IF(AND('3bis. Calcul répartition CM'!BH34=MAX('3bis. Calcul répartition CM'!BH$9:BH$58),'3bis. Calcul répartition CM'!BH34>0,COUNTIF('3bis. Calcul répartition CM'!BH$9:BH$58,'3bis. Calcul répartition CM'!BH34)>1,SUM('3bis. Calcul répartition CM'!BI$9:BI$58)-SUM('3bis. Calcul répartition CM'!BG$9:BG$58)>1),\"erreur\",\"\")","v":""},{"$f":"IF(BH29=\"erreur\",0,IF(OR('3bis. Calcul répartition CM'!BI$5=0,'3bis. Calcul répartition CM'!BH34=0),0,IF('3bis. Calcul répartition CM'!BI34-'3bis. Calcul répartition CM'!BG34>0,1,0)))","v":0},{"$f":"IF(AND('3bis. Calcul répartition CM'!BJ34=MAX('3bis. Calcul répartition CM'!BJ$9:BJ$58),'3bis. Calcul répartition CM'!BJ34>0,COUNTIF('3bis. Calcul répartition CM'!BJ$9:BJ$58,'3bis. Calcul répartition CM'!BJ34)>1,SUM('3bis. Calcul répartition CM'!BK$9:BK$58)-SUM('3bis. Calcul répartition CM'!BI$9:BI$58)>1),\"erreur\",\"\")","v":""},{"$f":"IF(BJ29=\"erreur\",0,IF(OR('3bis. Calcul répartition CM'!BK$5=0,'3bis. Calcul répartition CM'!BJ34=0),0,IF('3bis. Calcul répartition CM'!BK34-'3bis. Calcul répartition CM'!BI34>0,1,0)))","v":0},{"$f":"IF(AND('3bis. Calcul répartition CM'!BL34=MAX('3bis. Calcul répartition CM'!BL$9:BL$58),'3bis. Calcul répartition CM'!BL34>0,COUNTIF('3bis. Calcul répartition CM'!BL$9:BL$58,'3bis. Calcul répartition CM'!BL34)>1,SUM('3bis. Calcul répartition CM'!BM$9:BM$58)-SUM('3bis. Calcul répartition CM'!BK$9:BK$58)>1),\"erreur\",\"\")","v":""},{"$f":"IF(BL29=\"erreur\",0,IF(OR('3bis. Calcul répartition CM'!BM$5=0,'3bis. Calcul répartition CM'!BL34=0),0,IF('3bis. Calcul répartition CM'!BM34-'3bis. Calcul répartition CM'!BK34>0,1,0)))","v":0},{"$f":"IF(AND('3bis. Calcul répartition CM'!BN34=MAX('3bis. Calcul répartition CM'!BN$9:BN$58),'3bis. Calcul répartition CM'!BN34>0,COUNTIF('3bis. Calcul répartition CM'!BN$9:BN$58,'3bis. Calcul répartition CM'!BN34)>1,SUM('3bis. Calcul répartition CM'!BO$9:BO$58)-SUM('3bis. Calcul répartition CM'!BM$9:BM$58)>1),\"erreur\",\"\")","v":""},{"$f":"IF(BN29=\"erreur\",0,IF(OR('3bis. Calcul répartition CM'!BO$5=0,'3bis. Calcul répartition CM'!BN34=0),0,IF('3bis. Calcul répartition CM'!BO34-'3bis. Calcul répartition CM'!BM34>0,1,0)))","v":0},{"$f":"IF(AND('3bis. Calcul répartition CM'!BP34=MAX('3bis. Calcul répartition CM'!BP$9:BP$58),'3bis. Calcul répartition CM'!BP34>0,COUNTIF('3bis. Calcul répartition CM'!BP$9:BP$58,'3bis. Calcul répartition CM'!BP34)>1,SUM('3bis. Calcul répartition CM'!BQ$9:BQ$58)-SUM('3bis. Calcul répartition CM'!BO$9:BO$58)>1),\"erreur\",\"\")","v":""},{"$f":"IF(BP29=\"erreur\",0,IF(OR('3bis. Calcul répartition CM'!BQ$5=0,'3bis. Calcul répartition CM'!BP34=0),0,IF('3bis. Calcul répartition CM'!BQ34-'3bis. Calcul répartition CM'!BO34>0,1,0)))","v":0}]
[null,null,null,null,null,null,null,null,{"$f":"'3bis. Calcul répartition CM'!B35","v":0},{"$f":"IF(AND('3bis. Calcul répartition CM'!J35=MAX('3bis. Calcul répartition CM'!J$9:J$58),'3bis. Calcul répartition CM'!J35>0,COUNTIF('3bis. Calcul répartition CM'!J$9:J$58,'3bis. Calcul répartition CM'!J35)>1,SUM('3bis. Calcul répartition CM'!$K$9:$K$58)-SUM('3bis. Calcul répartition CM'!$D$9:$D$58)>1),\"erreur\",\"\")","v":""},{"$f":"IF(J30=\"erreur\",0,IF(OR('3bis. Calcul répartition CM'!K$5=0,'3bis. Calcul répartition CM'!J35=0),0,IF('3bis. Calcul répartition CM'!K35-'3bis. Calcul répartition CM'!D35>0,1,0)))","v":0},{"$f":"IF(AND('3bis. Calcul répartition CM'!L35=MAX('3bis. Calcul répartition CM'!L$9:L$58),'3bis. Calcul répartition CM'!L35>0,COUNTIF('3bis. Calcul répartition CM'!L$9:L$58,'3bis. Calcul répartition CM'!L35)>1,SUM('3bis. Calcul répartition CM'!M$9:M$58)-SUM('3bis. Calcul répartition CM'!K$9:K$58)>1),\"erreur\",\"\")","v":""},{"$f":"IF(L30=\"erreur\",0,IF(OR('3bis. Calcul répartition CM'!M$5=0,'3bis. Calcul répartition CM'!L35=0),0,IF('3bis. Calcul répartition CM'!M35-'3bis. Calcul répartition CM'!K35>0,1,0)))","v":0},{"$f":"IF(AND('3bis. Calcul répartition CM'!N35=MAX('3bis. Calcul répartition CM'!N$9:N$58),'3bis. Calcul répartition CM'!N35>0,COUNTIF('3bis. Calcul répartition CM'!N$9:N$58,'3bis. Calcul répartition CM'!N35)>1,SUM('3bis. Calcul répartition CM'!O$9:O$58)-SUM('3bis. Calcul répartition CM'!M$9:M$58)>1),\"erreur\",\"\")","v":""},{"$f":"IF(N30=\"erreur\",0,IF(OR('3bis. Calcul répartition CM'!O$5=0,'3bis. Calcul répartition CM'!N35=0),0,IF('3bis. Calcul répartition CM'!O35-'3bis. Calcul répartition CM'!M35>0,1,0)))","v":0},{"$f":"IF(AND('3bis. Calcul répartition CM'!P35=MAX('3bis. Calcul répartition CM'!P$9:P$58),'3bis. Calcul répartition CM'!P35>0,COUNTIF('3bis. Calcul répartition CM'!P$9:P$58,'3bis. Calcul répartition CM'!P35)>1,SUM('3bis. Calcul répartition CM'!Q$9:Q$58)-SUM('3bis. Calcul répartition CM'!O$9:O$58)>1),\"erreur\",\"\")","v":""},{"$f":"IF(P30=\"erreur\",0,IF(OR('3bis. Calcul répartition CM'!Q$5=0,'3bis. Calcul répartition CM'!P35=0),0,IF('3bis. Calcul répartition CM'!Q35-'3bis. Calcul répartition CM'!O35>0,1,0)))","v":0},{"$f":"IF(AND('3bis. Calcul répartition CM'!R35=MAX('3bis. Calcul répartition CM'!R$9:R$58),'3bis. Calcul répartition CM'!R35>0,COUNTIF('3bis. Calcul répartition CM'!R$9:R$58,'3bis. Calcul répartition CM'!R35)>1,SUM('3bis. Calcul répartition CM'!S$9:S$58)-SUM('3bis. Calcul répartition CM'!Q$9:Q$58)>1),\"erreur\",\"\")","v":""},{"$f":"IF(R30=\"erreur\",0,IF(OR('3bis. Calcul répartition CM'!S$5=0,'3bis. Calcul répartition CM'!R35=0),0,IF('3bis. Calcul répartition CM'!S35-'3bis. Calcul répartition CM'!Q35>0,1,0)))","v":0},{"$f":"IF(AND('3bis. Calcul répartition CM'!T35=MAX('3bis. Calcul répartition CM'!T$9:T$58),'3bis. Calcul répartition CM'!T35>0,COUNTIF('3bis. Calcul répartition CM'!T$9:T$58,'3bis. Calcul répartition CM'!T35)>1,SUM('3bis. Calcul répartition CM'!U$9:U$58)-SUM('3bis. Calcul répartition CM'!S$9:S$58)>1),\"erreur\",\"\")","v":""},{"$f":"IF(T30=\"erreur\",0,IF(OR('3bis. Calcul répartition CM'!U$5=0,'3bis. Calcul répartition CM'!T35=0),0,IF('3bis. Calcul répartition CM'!U35-'3bis. Calcul répartition CM'!S35>0,1,0)))","v":0},{"$f":"IF(AND('3bis. Calcul répartition CM'!V35=MAX('3bis. Calcul répartition CM'!V$9:V$58),'3bis. Calcul répartition CM'!V35>0,COUNTIF('3bis. Calcul répartition CM'!V$9:V$58,'3bis. Calcul répartition CM'!V35)>1,SUM('3bis. Calcul répartition CM'!W$9:W$58)-SUM('3bis. Calcul répartition CM'!U$9:U$58)>1),\"erreur\",\"\")","v":""},{"$f":"IF(V30=\"erreur\",0,IF(OR('3bis. Calcul répartition CM'!W$5=0,'3bis. Calcul répartition CM'!V35=0),0,IF('3bis. Calcul répartition CM'!W35-'3bis. Calcul répartition CM'!U35>0,1,0)))","v":0},{"$f":"IF(AND('3bis. Calcul répartition CM'!X35=MAX('3bis. Calcul répartition CM'!X$9:X$58),'3bis. Calcul répartition CM'!X35>0,COUNTIF('3bis. Calcul répartition CM'!X$9:X$58,'3bis. Calcul répartition CM'!X35)>1,SUM('3bis. Calcul répartition CM'!Y$9:Y$58)-SUM('3bis. Calcul répartition CM'!W$9:W$58)>1),\"erreur\",\"\")","v":""},{"$f":"IF(X30=\"erreur\",0,IF(OR('3bis. Calcul répartition CM'!Y$5=0,'3bis. Calcul répartition CM'!X35=0),0,IF('3bis. Calcul répartition CM'!Y35-'3bis. Calcul répartition CM'!W35>0,1,0)))","v":0},{"$f":"IF(AND('3bis. Calcul répartition CM'!Z35=MAX('3bis. Calcul répartition CM'!Z$9:Z$58),'3bis. Calcul répartition CM'!Z35>0,COUNTIF('3bis. Calcul répartition CM'!Z$9:Z$58,'3bis. Calcul répartition CM'!Z35)>1,SUM('3bis. Calcul répartition CM'!AA$9:AA$58)-SUM('3bis. Calcul répartition CM'!Y$9:Y$58)>1),\"erreur\",\"\")","v":""},{"$f":"IF(Z30=\"erreur\",0,IF(OR('3bis. Calcul répartition CM'!AA$5=0,'3bis. Calcul répartition CM'!Z35=0),0,IF('3bis. Calcul répartition CM'!AA35-'3bis. Calcul répartition CM'!Y35>0,1,0)))","v":0},{"$f":"IF(AND('3bis. Calcul répartition CM'!AB35=MAX('3bis. Calcul répartition CM'!AB$9:AB$58),'3bis. Calcul répartition CM'!AB35>0,COUNTIF('3bis. Calcul répartition CM'!AB$9:AB$58,'3bis. Calcul répartition CM'!AB35)>1,SUM('3bis. Calcul répartition CM'!AC$9:AC$58)-SUM('3bis. Calcul répartition CM'!AA$9:AA$58)>1),\"erreur\",\"\")","v":""},{"$f":"IF(AB30=\"erreur\",0,IF(OR('3bis. Calcul répartition CM'!AC$5=0,'3bis. Calcul répartition CM'!AB35=0),0,IF('3bis. Calcul répartition CM'!AC35-'3bis. Calcul répartition CM'!AA35>0,1,0)))","v":0},{"$f":"IF(AND('3bis. Calcul répartition CM'!AD35=MAX('3bis. Calcul répartition CM'!AD$9:AD$58),'3bis. Calcul répartition CM'!AD35>0,COUNTIF('3bis. Calcul répartition CM'!AD$9:AD$58,'3bis. Calcul répartition CM'!AD35)>1,SUM('3bis. Calcul répartition CM'!AE$9:AE$58)-SUM('3bis. Calcul répartition CM'!AC$9:AC$58)>1),\"erreur\",\"\")","v":""},{"$f":"IF(AD30=\"erreur\",0,IF(OR('3bis. Calcul répartition CM'!AE$5=0,'3bis. Calcul répartition CM'!AD35=0),0,IF('3bis. Calcul répartition CM'!AE35-'3bis. Calcul répartition CM'!AC35>0,1,0)))","v":0},{"$f":"IF(AND('3bis. Calcul répartition CM'!AF35=MAX('3bis. Calcul répartition CM'!AF$9:AF$58),'3bis. Calcul répartition CM'!AF35>0,COUNTIF('3bis. Calcul répartition CM'!AF$9:AF$58,'3bis. Calcul répartition CM'!AF35)>1,SUM('3bis. Calcul répartition CM'!AG$9:AG$58)-SUM('3bis. Calcul répartition CM'!AE$9:AE$58)>1),\"erreur\",\"\")","v":""},{"$f":"IF(AF30=\"erreur\",0,IF(OR('3bis. Calcul répartition CM'!AG$5=0,'3bis. Calcul répartition CM'!AF35=0),0,IF('3bis. Calcul répartition CM'!AG35-'3bis. Calcul répartition CM'!AE35>0,1,0)))","v":0},{"$f":"IF(AND('3bis. Calcul répartition CM'!AH35=MAX('3bis. Calcul répartition CM'!AH$9:AH$58),'3bis. Calcul répartition CM'!AH35>0,COUNTIF('3bis. Calcul répartition CM'!AH$9:AH$58,'3bis. Calcul répartition CM'!AH35)>1,SUM('3bis. Calcul répartition CM'!AI$9:AI$58)-SUM('3bis. Calcul répartition CM'!AG$9:AG$58)>1),\"erreur\",\"\")","v":""},{"$f":"IF(AH30=\"erreur\",0,IF(OR('3bis. Calcul répartition CM'!AI$5=0,'3bis. Calcul répartition CM'!AH35=0),0,IF('3bis. Calcul répartition CM'!AI35-'3bis. Calcul répartition CM'!AG35>0,1,0)))","v":0},{"$f":"IF(AND('3bis. Calcul répartition CM'!AJ35=MAX('3bis. Calcul répartition CM'!AJ$9:AJ$58),'3bis. Calcul répartition CM'!AJ35>0,COUNTIF('3bis. Calcul répartition CM'!AJ$9:AJ$58,'3bis. Calcul répartition CM'!AJ35)>1,SUM('3bis. Calcul répartition CM'!AK$9:AK$58)-SUM('3bis. Calcul répartition CM'!AI$9:AI$58)>1),\"erreur\",\"\")","v":""},{"$f":"IF(AJ30=\"erreur\",0,IF(OR('3bis. Calcul répartition CM'!AK$5=0,'3bis. Calcul répartition CM'!AJ35=0),0,IF('3bis. Calcul répartition CM'!AK35-'3bis. Calcul répartition CM'!AI35>0,1,0)))","v":0},{"$f":"IF(AND('3bis. Calcul répartition CM'!AL35=MAX('3bis. Calcul répartition CM'!AL$9:AL$58),'3bis. Calcul répartition CM'!AL35>0,COUNTIF('3bis. Calcul répartition CM'!AL$9:AL$58,'3bis. Calcul répartition CM'!AL35)>1,SUM('3bis. Calcul répartition CM'!AM$9:AM$58)-SUM('3bis. Calcul répartition CM'!AK$9:AK$58)>1),\"erreur\",\"\")","v":""},{"$f":"IF(AL30=\"erreur\",0,IF(OR('3bis. Calcul répartition CM'!AM$5=0,'3bis. Calcul répartition CM'!AL35=0),0,IF('3bis. Calcul répartition CM'!AM35-'3bis. Calcul répartition CM'!AK35>0,1,0)))","v":0},{"$f":"IF(AND('3bis. Calcul répartition CM'!AN35=MAX('3bis. Calcul répartition CM'!AN$9:AN$58),'3bis. Calcul répartition CM'!AN35>0,COUNTIF('3bis. Calcul répartition CM'!AN$9:AN$58,'3bis. Calcul répartition CM'!AN35)>1,SUM('3bis. Calcul répartition CM'!AO$9:AO$58)-SUM('3bis. Calcul répartition CM'!AM$9:AM$58)>1),\"erreur\",\"\")","v":""},{"$f":"IF(AN30=\"erreur\",0,IF(OR('3bis. Calcul répartition CM'!AO$5=0,'3bis. Calcul répartition CM'!AN35=0),0,IF('3bis. Calcul répartition CM'!AO35-'3bis. Calcul répartition CM'!AM35>0,1,0)))","v":0},{"$f":"IF(AND('3bis. Calcul répartition CM'!AP35=MAX('3bis. Calcul répartition CM'!AP$9:AP$58),'3bis. Calcul répartition CM'!AP35>0,COUNTIF('3bis. Calcul répartition CM'!AP$9:AP$58,'3bis. Calcul répartition CM'!AP35)>1,SUM('3bis. Calcul répartition CM'!AQ$9:AQ$58)-SUM('3bis. Calcul répartition CM'!AO$9:AO$58)>1),\"erreur\",\"\")","v":""},{"$f":"IF(AP30=\"erreur\",0,IF(OR('3bis. Calcul répartition CM'!AQ$5=0,'3bis. Calcul répartition CM'!AP35=0),0,IF('3bis. Calcul répartition CM'!AQ35-'3bis. Calcul répartition CM'!AO35>0,1,0)))","v":0},{"$f":"IF(AND('3bis. Calcul répartition CM'!AR35=MAX('3bis. Calcul répartition CM'!AR$9:AR$58),'3bis. Calcul répartition CM'!AR35>0,COUNTIF('3bis. Calcul répartition CM'!AR$9:AR$58,'3bis. Calcul répartition CM'!AR35)>1,SUM('3bis. Calcul répartition CM'!AS$9:AS$58)-SUM('3bis. Calcul répartition CM'!AQ$9:AQ$58)>1),\"erreur\",\"\")","v":""},{"$f":"IF(AR30=\"erreur\",0,IF(OR('3bis. Calcul répartition CM'!AS$5=0,'3bis. Calcul répartition CM'!AR35=0),0,IF('3bis. Calcul répartition CM'!AS35-'3bis. Calcul répartition CM'!AQ35>0,1,0)))","v":0},{"$f":"IF(AND('3bis. Calcul répartition CM'!AT35=MAX('3bis. Calcul répartition CM'!AT$9:AT$58),'3bis. Calcul répartition CM'!AT35>0,COUNTIF('3bis. Calcul répartition CM'!AT$9:AT$58,'3bis. Calcul répartition CM'!AT35)>1,SUM('3bis. Calcul répartition CM'!AU$9:AU$58)-SUM('3bis. Calcul répartition CM'!AS$9:AS$58)>1),\"erreur\",\"\")","v":""},{"$f":"IF(AT30=\"erreur\",0,IF(OR('3bis. Calcul répartition CM'!AU$5=0,'3bis. Calcul répartition CM'!AT35=0),0,IF('3bis. Calcul répartition CM'!AU35-'3bis. Calcul répartition CM'!AS35>0,1,0)))","v":0},{"$f":"IF(AND('3bis. Calcul répartition CM'!AV35=MAX('3bis. Calcul répartition CM'!AV$9:AV$58),'3bis. Calcul répartition CM'!AV35>0,COUNTIF('3bis. Calcul répartition CM'!AV$9:AV$58,'3bis. Calcul répartition CM'!AV35)>1,SUM('3bis. Calcul répartition CM'!AW$9:AW$58)-SUM('3bis. Calcul répartition CM'!AU$9:AU$58)>1),\"erreur\",\"\")","v":""},{"$f":"IF(AV30=\"erreur\",0,IF(OR('3bis. Calcul répartition CM'!AW$5=0,'3bis. Calcul répartition CM'!AV35=0),0,IF('3bis. Calcul répartition CM'!AW35-'3bis. Calcul répartition CM'!AU35>0,1,0)))","v":0},{"$f":"IF(AND('3bis. Calcul répartition CM'!AX35=MAX('3bis. Calcul répartition CM'!AX$9:AX$58),'3bis. Calcul répartition CM'!AX35>0,COUNTIF('3bis. Calcul répartition CM'!AX$9:AX$58,'3bis. Calcul répartition CM'!AX35)>1,SUM('3bis. Calcul répartition CM'!AY$9:AY$58)-SUM('3bis. Calcul répartition CM'!AW$9:AW$58)>1),\"erreur\",\"\")","v":""},{"$f":"IF(AX30=\"erreur\",0,IF(OR('3bis. Calcul répartition CM'!AY$5=0,'3bis. Calcul répartition CM'!AX35=0),0,IF('3bis. Calcul répartition CM'!AY35-'3bis. Calcul répartition CM'!AW35>0,1,0)))","v":0},{"$f":"IF(AND('3bis. Calcul répartition CM'!AZ35=MAX('3bis. Calcul répartition CM'!AZ$9:AZ$58),'3bis. Calcul répartition CM'!AZ35>0,COUNTIF('3bis. Calcul répartition CM'!AZ$9:AZ$58,'3bis. Calcul répartition CM'!AZ35)>1,SUM('3bis. Calcul répartition CM'!BA$9:BA$58)-SUM('3bis. Calcul répartition CM'!AY$9:AY$58)>1),\"erreur\",\"\")","v":""},{"$f":"IF(AZ30=\"erreur\",0,IF(OR('3bis. Calcul répartition CM'!BA$5=0,'3bis. Calcul répartition CM'!AZ35=0),0,IF('3bis. Calcul répartition CM'!BA35-'3bis. Calcul répartition CM'!AY35>0,1,0)))","v":0},{"$f":"IF(AND('3bis. Calcul répartition CM'!BB35=MAX('3bis. Calcul répartition CM'!BB$9:BB$58),'3bis. Calcul répartition CM'!BB35>0,COUNTIF('3bis. Calcul répartition CM'!BB$9:BB$58,'3bis. Calcul répartition CM'!BB35)>1,SUM('3bis. Calcul répartition CM'!BC$9:BC$58)-SUM('3bis. Calcul répartition CM'!BA$9:BA$58)>1),\"erreur\",\"\")","v":""},{"$f":"IF(BB30=\"erreur\",0,IF(OR('3bis. Calcul répartition CM'!BC$5=0,'3bis. Calcul répartition CM'!BB35=0),0,IF('3bis. Calcul répartition CM'!BC35-'3bis. Calcul répartition CM'!BA35>0,1,0)))","v":0},{"$f":"IF(AND('3bis. Calcul répartition CM'!BD35=MAX('3bis. Calcul répartition CM'!BD$9:BD$58),'3bis. Calcul répartition CM'!BD35>0,COUNTIF('3bis. Calcul répartition CM'!BD$9:BD$58,'3bis. Calcul répartition CM'!BD35)>1,SUM('3bis. Calcul répartition CM'!BE$9:BE$58)-SUM('3bis. Calcul répartition CM'!BC$9:BC$58)>1),\"erreur\",\"\")","v":""},{"$f":"IF(BD30=\"erreur\",0,IF(OR('3bis. Calcul répartition CM'!BE$5=0,'3bis. Calcul répartition CM'!BD35=0),0,IF('3bis. Calcul répartition CM'!BE35-'3bis. Calcul répartition CM'!BC35>0,1,0)))","v":0},{"$f":"IF(AND('3bis. Calcul répartition CM'!BF35=MAX('3bis. Calcul répartition CM'!BF$9:BF$58),'3bis. Calcul répartition CM'!BF35>0,COUNTIF('3bis. Calcul répartition CM'!BF$9:BF$58,'3bis. Calcul répartition CM'!BF35)>1,SUM('3bis. Calcul répartition CM'!BG$9:BG$58)-SUM('3bis. Calcul répartition CM'!BE$9:BE$58)>1),\"erreur\",\"\")","v":""},{"$f":"IF(BF30=\"erreur\",0,IF(OR('3bis. Calcul répartition CM'!BG$5=0,'3bis. Calcul répartition CM'!BF35=0),0,IF('3bis. Calcul répartition CM'!BG35-'3bis. Calcul répartition CM'!BE35>0,1,0)))","v":0},{"$f":"IF(AND('3bis. Calcul répartition CM'!BH35=MAX('3bis. Calcul répartition CM'!BH$9:BH$58),'3bis. Calcul répartition CM'!BH35>0,COUNTIF('3bis. Calcul répartition CM'!BH$9:BH$58,'3bis. Calcul répartition CM'!BH35)>1,SUM('3bis. Calcul répartition CM'!BI$9:BI$58)-SUM('3bis. Calcul répartition CM'!BG$9:BG$58)>1),\"erreur\",\"\")","v":""},{"$f":"IF(BH30=\"erreur\",0,IF(OR('3bis. Calcul répartition CM'!BI$5=0,'3bis. Calcul répartition CM'!BH35=0),0,IF('3bis. Calcul répartition CM'!BI35-'3bis. Calcul répartition CM'!BG35>0,1,0)))","v":0},{"$f":"IF(AND('3bis. Calcul répartition CM'!BJ35=MAX('3bis. Calcul répartition CM'!BJ$9:BJ$58),'3bis. Calcul répartition CM'!BJ35>0,COUNTIF('3bis. Calcul répartition CM'!BJ$9:BJ$58,'3bis. Calcul répartition CM'!BJ35)>1,SUM('3bis. Calcul répartition CM'!BK$9:BK$58)-SUM('3bis. Calcul répartition CM'!BI$9:BI$58)>1),\"erreur\",\"\")","v":""},{"$f":"IF(BJ30=\"erreur\",0,IF(OR('3bis. Calcul répartition CM'!BK$5=0,'3bis. Calcul répartition CM'!BJ35=0),0,IF('3bis. Calcul répartition CM'!BK35-'3bis. Calcul répartition CM'!BI35>0,1,0)))","v":0},{"$f":"IF(AND('3bis. Calcul répartition CM'!BL35=MAX('3bis. Calcul répartition CM'!BL$9:BL$58),'3bis. Calcul répartition CM'!BL35>0,COUNTIF('3bis. Calcul répartition CM'!BL$9:BL$58,'3bis. Calcul répartition CM'!BL35)>1,SUM('3bis. Calcul répartition CM'!BM$9:BM$58)-SUM('3bis. Calcul répartition CM'!BK$9:BK$58)>1),\"erreur\",\"\")","v":""},{"$f":"IF(BL30=\"erreur\",0,IF(OR('3bis. Calcul répartition CM'!BM$5=0,'3bis. Calcul répartition CM'!BL35=0),0,IF('3bis. Calcul répartition CM'!BM35-'3bis. Calcul répartition CM'!BK35>0,1,0)))","v":0},{"$f":"IF(AND('3bis. Calcul répartition CM'!BN35=MAX('3bis. Calcul répartition CM'!BN$9:BN$58),'3bis. Calcul répartition CM'!BN35>0,COUNTIF('3bis. Calcul répartition CM'!BN$9:BN$58,'3bis. Calcul répartition CM'!BN35)>1,SUM('3bis. Calcul répartition CM'!BO$9:BO$58)-SUM('3bis. Calcul répartition CM'!BM$9:BM$58)>1),\"erreur\",\"\")","v":""},{"$f":"IF(BN30=\"erreur\",0,IF(OR('3bis. Calcul répartition CM'!BO$5=0,'3bis. Calcul répartition CM'!BN35=0),0,IF('3bis. Calcul répartition CM'!BO35-'3bis. Calcul répartition CM'!BM35>0,1,0)))","v":0},{"$f":"IF(AND('3bis. Calcul répartition CM'!BP35=MAX('3bis. Calcul répartition CM'!BP$9:BP$58),'3bis. Calcul répartition CM'!BP35>0,COUNTIF('3bis. Calcul répartition CM'!BP$9:BP$58,'3bis. Calcul répartition CM'!BP35)>1,SUM('3bis. Calcul répartition CM'!BQ$9:BQ$58)-SUM('3bis. Calcul répartition CM'!BO$9:BO$58)>1),\"erreur\",\"\")","v":""},{"$f":"IF(BP30=\"erreur\",0,IF(OR('3bis. Calcul répartition CM'!BQ$5=0,'3bis. Calcul répartition CM'!BP35=0),0,IF('3bis. Calcul répartition CM'!BQ35-'3bis. Calcul répartition CM'!BO35>0,1,0)))","v":0}]
[null,null,null,null,null,null,null,null,{"$f":"'3bis. Calcul répartition CM'!B36","v":0},{"$f":"IF(AND('3bis. Calcul répartition CM'!J36=MAX('3bis. Calcul répartition CM'!J$9:J$58),'3bis. Calcul répartition CM'!J36>0,COUNTIF('3bis. Calcul répartition CM'!J$9:J$58,'3bis. Calcul répartition CM'!J36)>1,SUM('3bis. Calcul répartition CM'!$K$9:$K$58)-SUM('3bis. Calcul répartition CM'!$D$9:$D$58)>1),\"erreur\",\"\")","v":""},{"$f":"IF(J31=\"erreur\",0,IF(OR('3bis. Calcul répartition CM'!K$5=0,'3bis. Calcul répartition CM'!J36=0),0,IF('3bis. Calcul répartition CM'!K36-'3bis. Calcul répartition CM'!D36>0,1,0)))","v":0},{"$f":"IF(AND('3bis. Calcul répartition CM'!L36=MAX('3bis. Calcul répartition CM'!L$9:L$58),'3bis. Calcul répartition CM'!L36>0,COUNTIF('3bis. Calcul répartition CM'!L$9:L$58,'3bis. Calcul répartition CM'!L36)>1,SUM('3bis. Calcul répartition CM'!M$9:M$58)-SUM('3bis. Calcul répartition CM'!K$9:K$58)>1),\"erreur\",\"\")","v":""},{"$f":"IF(L31=\"erreur\",0,IF(OR('3bis. Calcul répartition CM'!M$5=0,'3bis. Calcul répartition CM'!L36=0),0,IF('3bis. Calcul répartition CM'!M36-'3bis. Calcul répartition CM'!K36>0,1,0)))","v":0},{"$f":"IF(AND('3bis. Calcul répartition CM'!N36=MAX('3bis. Calcul répartition CM'!N$9:N$58),'3bis. Calcul répartition CM'!N36>0,COUNTIF('3bis. Calcul répartition CM'!N$9:N$58,'3bis. Calcul répartition CM'!N36)>1,SUM('3bis. Calcul répartition CM'!O$9:O$58)-SUM('3bis. Calcul répartition CM'!M$9:M$58)>1),\"erreur\",\"\")","v":""},{"$f":"IF(N31=\"erreur\",0,IF(OR('3bis. Calcul répartition CM'!O$5=0,'3bis. Calcul répartition CM'!N36=0),0,IF('3bis. Calcul répartition CM'!O36-'3bis. Calcul répartition CM'!M36>0,1,0)))","v":0},{"$f":"IF(AND('3bis. Calcul répartition CM'!P36=MAX('3bis. Calcul répartition CM'!P$9:P$58),'3bis. Calcul répartition CM'!P36>0,COUNTIF('3bis. Calcul répartition CM'!P$9:P$58,'3bis. Calcul répartition CM'!P36)>1,SUM('3bis. Calcul répartition CM'!Q$9:Q$58)-SUM('3bis. Calcul répartition CM'!O$9:O$58)>1),\"erreur\",\"\")","v":""},{"$f":"IF(P31=\"erreur\",0,IF(OR('3bis. Calcul répartition CM'!Q$5=0,'3bis. Calcul répartition CM'!P36=0),0,IF('3bis. Calcul répartition CM'!Q36-'3bis. Calcul répartition CM'!O36>0,1,0)))","v":0},{"$f":"IF(AND('3bis. Calcul répartition CM'!R36=MAX('3bis. Calcul répartition CM'!R$9:R$58),'3bis. Calcul répartition CM'!R36>0,COUNTIF('3bis. Calcul répartition CM'!R$9:R$58,'3bis. Calcul répartition CM'!R36)>1,SUM('3bis. Calcul répartition CM'!S$9:S$58)-SUM('3bis. Calcul répartition CM'!Q$9:Q$58)>1),\"erreur\",\"\")","v":""},{"$f":"IF(R31=\"erreur\",0,IF(OR('3bis. Calcul répartition CM'!S$5=0,'3bis. Calcul répartition CM'!R36=0),0,IF('3bis. Calcul répartition CM'!S36-'3bis. Calcul répartition CM'!Q36>0,1,0)))","v":0},{"$f":"IF(AND('3bis. Calcul répartition CM'!T36=MAX('3bis. Calcul répartition CM'!T$9:T$58),'3bis. Calcul répartition CM'!T36>0,COUNTIF('3bis. Calcul répartition CM'!T$9:T$58,'3bis. Calcul répartition CM'!T36)>1,SUM('3bis. Calcul répartition CM'!U$9:U$58)-SUM('3bis. Calcul répartition CM'!S$9:S$58)>1),\"erreur\",\"\")","v":""},{"$f":"IF(T31=\"erreur\",0,IF(OR('3bis. Calcul répartition CM'!U$5=0,'3bis. Calcul répartition CM'!T36=0),0,IF('3bis. Calcul répartition CM'!U36-'3bis. Calcul répartition CM'!S36>0,1,0)))","v":0},{"$f":"IF(AND('3bis. Calcul répartition CM'!V36=MAX('3bis. Calcul répartition CM'!V$9:V$58),'3bis. Calcul répartition CM'!V36>0,COUNTIF('3bis. Calcul répartition CM'!V$9:V$58,'3bis. Calcul répartition CM'!V36)>1,SUM('3bis. Calcul répartition CM'!W$9:W$58)-SUM('3bis. Calcul répartition CM'!U$9:U$58)>1),\"erreur\",\"\")","v":""},{"$f":"IF(V31=\"erreur\",0,IF(OR('3bis. Calcul répartition CM'!W$5=0,'3bis. Calcul répartition CM'!V36=0),0,IF('3bis. Calcul répartition CM'!W36-'3bis. Calcul répartition CM'!U36>0,1,0)))","v":0},{"$f":"IF(AND('3bis. Calcul répartition CM'!X36=MAX('3bis. Calcul répartition CM'!X$9:X$58),'3bis. Calcul répartition CM'!X36>0,COUNTIF('3bis. Calcul répartition CM'!X$9:X$58,'3bis. Calcul répartition CM'!X36)>1,SUM('3bis. Calcul répartition CM'!Y$9:Y$58)-SUM('3bis. Calcul répartition CM'!W$9:W$58)>1),\"erreur\",\"\")","v":""},{"$f":"IF(X31=\"erreur\",0,IF(OR('3bis. Calcul répartition CM'!Y$5=0,'3bis. Calcul répartition CM'!X36=0),0,IF('3bis. Calcul répartition CM'!Y36-'3bis. Calcul répartition CM'!W36>0,1,0)))","v":0},{"$f":"IF(AND('3bis. Calcul répartition CM'!Z36=MAX('3bis. Calcul répartition CM'!Z$9:Z$58),'3bis. Calcul répartition CM'!Z36>0,COUNTIF('3bis. Calcul répartition CM'!Z$9:Z$58,'3bis. Calcul répartition CM'!Z36)>1,SUM('3bis. Calcul répartition CM'!AA$9:AA$58)-SUM('3bis. Calcul répartition CM'!Y$9:Y$58)>1),\"erreur\",\"\")","v":""},{"$f":"IF(Z31=\"erreur\",0,IF(OR('3bis. Calcul répartition CM'!AA$5=0,'3bis. Calcul répartition CM'!Z36=0),0,IF('3bis. Calcul répartition CM'!AA36-'3bis. Calcul répartition CM'!Y36>0,1,0)))","v":0},{"$f":"IF(AND('3bis. Calcul répartition CM'!AB36=MAX('3bis. Calcul répartition CM'!AB$9:AB$58),'3bis. Calcul répartition CM'!AB36>0,COUNTIF('3bis. Calcul répartition CM'!AB$9:AB$58,'3bis. Calcul répartition CM'!AB36)>1,SUM('3bis. Calcul répartition CM'!AC$9:AC$58)-SUM('3bis. Calcul répartition CM'!AA$9:AA$58)>1),\"erreur\",\"\")","v":""},{"$f":"IF(AB31=\"erreur\",0,IF(OR('3bis. Calcul répartition CM'!AC$5=0,'3bis. Calcul répartition CM'!AB36=0),0,IF('3bis. Calcul répartition CM'!AC36-'3bis. Calcul répartition CM'!AA36>0,1,0)))","v":0},{"$f":"IF(AND('3bis. Calcul répartition CM'!AD36=MAX('3bis. Calcul répartition CM'!AD$9:AD$58),'3bis. Calcul répartition CM'!AD36>0,COUNTIF('3bis. Calcul répartition CM'!AD$9:AD$58,'3bis. Calcul répartition CM'!AD36)>1,SUM('3bis. Calcul répartition CM'!AE$9:AE$58)-SUM('3bis. Calcul répartition CM'!AC$9:AC$58)>1),\"erreur\",\"\")","v":""},{"$f":"IF(AD31=\"erreur\",0,IF(OR('3bis. Calcul répartition CM'!AE$5=0,'3bis. Calcul répartition CM'!AD36=0),0,IF('3bis. Calcul répartition CM'!AE36-'3bis. Calcul répartition CM'!AC36>0,1,0)))","v":0},{"$f":"IF(AND('3bis. Calcul répartition CM'!AF36=MAX('3bis. Calcul répartition CM'!AF$9:AF$58),'3bis. Calcul répartition CM'!AF36>0,COUNTIF('3bis. Calcul répartition CM'!AF$9:AF$58,'3bis. Calcul répartition CM'!AF36)>1,SUM('3bis. Calcul répartition CM'!AG$9:AG$58)-SUM('3bis. Calcul répartition CM'!AE$9:AE$58)>1),\"erreur\",\"\")","v":""},{"$f":"IF(AF31=\"erreur\",0,IF(OR('3bis. Calcul répartition CM'!AG$5=0,'3bis. Calcul répartition CM'!AF36=0),0,IF('3bis. Calcul répartition CM'!AG36-'3bis. Calcul répartition CM'!AE36>0,1,0)))","v":0},{"$f":"IF(AND('3bis. Calcul répartition CM'!AH36=MAX('3bis. Calcul répartition CM'!AH$9:AH$58),'3bis. Calcul répartition CM'!AH36>0,COUNTIF('3bis. Calcul répartition CM'!AH$9:AH$58,'3bis. Calcul répartition CM'!AH36)>1,SUM('3bis. Calcul répartition CM'!AI$9:AI$58)-SUM('3bis. Calcul répartition CM'!AG$9:AG$58)>1),\"erreur\",\"\")","v":""},{"$f":"IF(AH31=\"erreur\",0,IF(OR('3bis. Calcul répartition CM'!AI$5=0,'3bis. Calcul répartition CM'!AH36=0),0,IF('3bis. Calcul répartition CM'!AI36-'3bis. Calcul répartition CM'!AG36>0,1,0)))","v":0},{"$f":"IF(AND('3bis. Calcul répartition CM'!AJ36=MAX('3bis. Calcul répartition CM'!AJ$9:AJ$58),'3bis. Calcul répartition CM'!AJ36>0,COUNTIF('3bis. Calcul répartition CM'!AJ$9:AJ$58,'3bis. Calcul répartition CM'!AJ36)>1,SUM('3bis. Calcul répartition CM'!AK$9:AK$58)-SUM('3bis. Calcul répartition CM'!AI$9:AI$58)>1),\"erreur\",\"\")","v":""},{"$f":"IF(AJ31=\"erreur\",0,IF(OR('3bis. Calcul répartition CM'!AK$5=0,'3bis. Calcul répartition CM'!AJ36=0),0,IF('3bis. Calcul répartition CM'!AK36-'3bis. Calcul répartition CM'!AI36>0,1,0)))","v":0},{"$f":"IF(AND('3bis. Calcul répartition CM'!AL36=MAX('3bis. Calcul répartition CM'!AL$9:AL$58),'3bis. Calcul répartition CM'!AL36>0,COUNTIF('3bis. Calcul répartition CM'!AL$9:AL$58,'3bis. Calcul répartition CM'!AL36)>1,SUM('3bis. Calcul répartition CM'!AM$9:AM$58)-SUM('3bis. Calcul répartition CM'!AK$9:AK$58)>1),\"erreur\",\"\")","v":""},{"$f":"IF(AL31=\"erreur\",0,IF(OR('3bis. Calcul répartition CM'!AM$5=0,'3bis. Calcul répartition CM'!AL36=0),0,IF('3bis. Calcul répartition CM'!AM36-'3bis. Calcul répartition CM'!AK36>0,1,0)))","v":0},{"$f":"IF(AND('3bis. Calcul répartition CM'!AN36=MAX('3bis. Calcul répartition CM'!AN$9:AN$58),'3bis. Calcul répartition CM'!AN36>0,COUNTIF('3bis. Calcul répartition CM'!AN$9:AN$58,'3bis. Calcul répartition CM'!AN36)>1,SUM('3bis. Calcul répartition CM'!AO$9:AO$58)-SUM('3bis. Calcul répartition CM'!AM$9:AM$58)>1),\"erreur\",\"\")","v":""},{"$f":"IF(AN31=\"erreur\",0,IF(OR('3bis. Calcul répartition CM'!AO$5=0,'3bis. Calcul répartition CM'!AN36=0),0,IF('3bis. Calcul répartition CM'!AO36-'3bis. Calcul répartition CM'!AM36>0,1,0)))","v":0},{"$f":"IF(AND('3bis. Calcul répartition CM'!AP36=MAX('3bis. Calcul répartition CM'!AP$9:AP$58),'3bis. Calcul répartition CM'!AP36>0,COUNTIF('3bis. Calcul répartition CM'!AP$9:AP$58,'3bis. Calcul répartition CM'!AP36)>1,SUM('3bis. Calcul répartition CM'!AQ$9:AQ$58)-SUM('3bis. Calcul répartition CM'!AO$9:AO$58)>1),\"erreur\",\"\")","v":""},{"$f":"IF(AP31=\"erreur\",0,IF(OR('3bis. Calcul répartition CM'!AQ$5=0,'3bis. Calcul répartition CM'!AP36=0),0,IF('3bis. Calcul répartition CM'!AQ36-'3bis. Calcul répartition CM'!AO36>0,1,0)))","v":0},{"$f":"IF(AND('3bis. Calcul répartition CM'!AR36=MAX('3bis. Calcul répartition CM'!AR$9:AR$58),'3bis. Calcul répartition CM'!AR36>0,COUNTIF('3bis. Calcul répartition CM'!AR$9:AR$58,'3bis. Calcul répartition CM'!AR36)>1,SUM('3bis. Calcul répartition CM'!AS$9:AS$58)-SUM('3bis. Calcul répartition CM'!AQ$9:AQ$58)>1),\"erreur\",\"\")","v":""},{"$f":"IF(AR31=\"erreur\",0,IF(OR('3bis. Calcul répartition CM'!AS$5=0,'3bis. Calcul répartition CM'!AR36=0),0,IF('3bis. Calcul répartition CM'!AS36-'3bis. Calcul répartition CM'!AQ36>0,1,0)))","v":0},{"$f":"IF(AND('3bis. Calcul répartition CM'!AT36=MAX('3bis. Calcul répartition CM'!AT$9:AT$58),'3bis. Calcul répartition CM'!AT36>0,COUNTIF('3bis. Calcul répartition CM'!AT$9:AT$58,'3bis. Calcul répartition CM'!AT36)>1,SUM('3bis. Calcul répartition CM'!AU$9:AU$58)-SUM('3bis. Calcul répartition CM'!AS$9:AS$58)>1),\"erreur\",\"\")","v":""},{"$f":"IF(AT31=\"erreur\",0,IF(OR('3bis. Calcul répartition CM'!AU$5=0,'3bis. Calcul répartition CM'!AT36=0),0,IF('3bis. Calcul répartition CM'!AU36-'3bis. Calcul répartition CM'!AS36>0,1,0)))","v":0},{"$f":"IF(AND('3bis. Calcul répartition CM'!AV36=MAX('3bis. Calcul répartition CM'!AV$9:AV$58),'3bis. Calcul répartition CM'!AV36>0,COUNTIF('3bis. Calcul répartition CM'!AV$9:AV$58,'3bis. Calcul répartition CM'!AV36)>1,SUM('3bis. Calcul répartition CM'!AW$9:AW$58)-SUM('3bis. Calcul répartition CM'!AU$9:AU$58)>1),\"erreur\",\"\")","v":""},{"$f":"IF(AV31=\"erreur\",0,IF(OR('3bis. Calcul répartition CM'!AW$5=0,'3bis. Calcul répartition CM'!AV36=0),0,IF('3bis. Calcul répartition CM'!AW36-'3bis. Calcul répartition CM'!AU36>0,1,0)))","v":0},{"$f":"IF(AND('3bis. Calcul répartition CM'!AX36=MAX('3bis. Calcul répartition CM'!AX$9:AX$58),'3bis. Calcul répartition CM'!AX36>0,COUNTIF('3bis. Calcul répartition CM'!AX$9:AX$58,'3bis. Calcul répartition CM'!AX36)>1,SUM('3bis. Calcul répartition CM'!AY$9:AY$58)-SUM('3bis. Calcul répartition CM'!AW$9:AW$58)>1),\"erreur\",\"\")","v":""},{"$f":"IF(AX31=\"erreur\",0,IF(OR('3bis. Calcul répartition CM'!AY$5=0,'3bis. Calcul répartition CM'!AX36=0),0,IF('3bis. Calcul répartition CM'!AY36-'3bis. Calcul répartition CM'!AW36>0,1,0)))","v":0},{"$f":"IF(AND('3bis. Calcul répartition CM'!AZ36=MAX('3bis. Calcul répartition CM'!AZ$9:AZ$58),'3bis. Calcul répartition CM'!AZ36>0,COUNTIF('3bis. Calcul répartition CM'!AZ$9:AZ$58,'3bis. Calcul répartition CM'!AZ36)>1,SUM('3bis. Calcul répartition CM'!BA$9:BA$58)-SUM('3bis. Calcul répartition CM'!AY$9:AY$58)>1),\"erreur\",\"\")","v":""},{"$f":"IF(AZ31=\"erreur\",0,IF(OR('3bis. Calcul répartition CM'!BA$5=0,'3bis. Calcul répartition CM'!AZ36=0),0,IF('3bis. Calcul répartition CM'!BA36-'3bis. Calcul répartition CM'!AY36>0,1,0)))","v":0},{"$f":"IF(AND('3bis. Calcul répartition CM'!BB36=MAX('3bis. Calcul répartition CM'!BB$9:BB$58),'3bis. Calcul répartition CM'!BB36>0,COUNTIF('3bis. Calcul répartition CM'!BB$9:BB$58,'3bis. Calcul répartition CM'!BB36)>1,SUM('3bis. Calcul répartition CM'!BC$9:BC$58)-SUM('3bis. Calcul répartition CM'!BA$9:BA$58)>1),\"erreur\",\"\")","v":""},{"$f":"IF(BB31=\"erreur\",0,IF(OR('3bis. Calcul répartition CM'!BC$5=0,'3bis. Calcul répartition CM'!BB36=0),0,IF('3bis. Calcul répartition CM'!BC36-'3bis. Calcul répartition CM'!BA36>0,1,0)))","v":0},{"$f":"IF(AND('3bis. Calcul répartition CM'!BD36=MAX('3bis. Calcul répartition CM'!BD$9:BD$58),'3bis. Calcul répartition CM'!BD36>0,COUNTIF('3bis. Calcul répartition CM'!BD$9:BD$58,'3bis. Calcul répartition CM'!BD36)>1,SUM('3bis. Calcul répartition CM'!BE$9:BE$58)-SUM('3bis. Calcul répartition CM'!BC$9:BC$58)>1),\"erreur\",\"\")","v":""},{"$f":"IF(BD31=\"erreur\",0,IF(OR('3bis. Calcul répartition CM'!BE$5=0,'3bis. Calcul répartition CM'!BD36=0),0,IF('3bis. Calcul répartition CM'!BE36-'3bis. Calcul répartition CM'!BC36>0,1,0)))","v":0},{"$f":"IF(AND('3bis. Calcul répartition CM'!BF36=MAX('3bis. Calcul répartition CM'!BF$9:BF$58),'3bis. Calcul répartition CM'!BF36>0,COUNTIF('3bis. Calcul répartition CM'!BF$9:BF$58,'3bis. Calcul répartition CM'!BF36)>1,SUM('3bis. Calcul répartition CM'!BG$9:BG$58)-SUM('3bis. Calcul répartition CM'!BE$9:BE$58)>1),\"erreur\",\"\")","v":""},{"$f":"IF(BF31=\"erreur\",0,IF(OR('3bis. Calcul répartition CM'!BG$5=0,'3bis. Calcul répartition CM'!BF36=0),0,IF('3bis. Calcul répartition CM'!BG36-'3bis. Calcul répartition CM'!BE36>0,1,0)))","v":0},{"$f":"IF(AND('3bis. Calcul répartition CM'!BH36=MAX('3bis. Calcul répartition CM'!BH$9:BH$58),'3bis. Calcul répartition CM'!BH36>0,COUNTIF('3bis. Calcul répartition CM'!BH$9:BH$58,'3bis. Calcul répartition CM'!BH36)>1,SUM('3bis. Calcul répartition CM'!BI$9:BI$58)-SUM('3bis. Calcul répartition CM'!BG$9:BG$58)>1),\"erreur\",\"\")","v":""},{"$f":"IF(BH31=\"erreur\",0,IF(OR('3bis. Calcul répartition CM'!BI$5=0,'3bis. Calcul répartition CM'!BH36=0),0,IF('3bis. Calcul répartition CM'!BI36-'3bis. Calcul répartition CM'!BG36>0,1,0)))","v":0},{"$f":"IF(AND('3bis. Calcul répartition CM'!BJ36=MAX('3bis. Calcul répartition CM'!BJ$9:BJ$58),'3bis. Calcul répartition CM'!BJ36>0,COUNTIF('3bis. Calcul répartition CM'!BJ$9:BJ$58,'3bis. Calcul répartition CM'!BJ36)>1,SUM('3bis. Calcul répartition CM'!BK$9:BK$58)-SUM('3bis. Calcul répartition CM'!BI$9:BI$58)>1),\"erreur\",\"\")","v":""},{"$f":"IF(BJ31=\"erreur\",0,IF(OR('3bis. Calcul répartition CM'!BK$5=0,'3bis. Calcul répartition CM'!BJ36=0),0,IF('3bis. Calcul répartition CM'!BK36-'3bis. Calcul répartition CM'!BI36>0,1,0)))","v":0},{"$f":"IF(AND('3bis. Calcul répartition CM'!BL36=MAX('3bis. Calcul répartition CM'!BL$9:BL$58),'3bis. Calcul répartition CM'!BL36>0,COUNTIF('3bis. Calcul répartition CM'!BL$9:BL$58,'3bis. Calcul répartition CM'!BL36)>1,SUM('3bis. Calcul répartition CM'!BM$9:BM$58)-SUM('3bis. Calcul répartition CM'!BK$9:BK$58)>1),\"erreur\",\"\")","v":""},{"$f":"IF(BL31=\"erreur\",0,IF(OR('3bis. Calcul répartition CM'!BM$5=0,'3bis. Calcul répartition CM'!BL36=0),0,IF('3bis. Calcul répartition CM'!BM36-'3bis. Calcul répartition CM'!BK36>0,1,0)))","v":0},{"$f":"IF(AND('3bis. Calcul répartition CM'!BN36=MAX('3bis. Calcul répartition CM'!BN$9:BN$58),'3bis. Calcul répartition CM'!BN36>0,COUNTIF('3bis. Calcul répartition CM'!BN$9:BN$58,'3bis. Calcul répartition CM'!BN36)>1,SUM('3bis. Calcul répartition CM'!BO$9:BO$58)-SUM('3bis. Calcul répartition CM'!BM$9:BM$58)>1),\"erreur\",\"\")","v":""},{"$f":"IF(BN31=\"erreur\",0,IF(OR('3bis. Calcul répartition CM'!BO$5=0,'3bis. Calcul répartition CM'!BN36=0),0,IF('3bis. Calcul répartition CM'!BO36-'3bis. Calcul répartition CM'!BM36>0,1,0)))","v":0},{"$f":"IF(AND('3bis. Calcul répartition CM'!BP36=MAX('3bis. Calcul répartition CM'!BP$9:BP$58),'3bis. Calcul répartition CM'!BP36>0,COUNTIF('3bis. Calcul répartition CM'!BP$9:BP$58,'3bis. Calcul répartition CM'!BP36)>1,SUM('3bis. Calcul répartition CM'!BQ$9:BQ$58)-SUM('3bis. Calcul répartition CM'!BO$9:BO$58)>1),\"erreur\",\"\")","v":""},{"$f":"IF(BP31=\"erreur\",0,IF(OR('3bis. Calcul répartition CM'!BQ$5=0,'3bis. Calcul répartition CM'!BP36=0),0,IF('3bis. Calcul répartition CM'!BQ36-'3bis. Calcul répartition CM'!BO36>0,1,0)))","v":0}]
[null,null,null,null,null,null,null,null,{"$f":"'3bis. Calcul répartition CM'!B37","v":0},{"$f":"IF(AND('3bis. Calcul répartition CM'!J37=MAX('3bis. Calcul répartition CM'!J$9:J$58),'3bis. Calcul répartition CM'!J37>0,COUNTIF('3bis. Calcul répartition CM'!J$9:J$58,'3bis. Calcul répartition CM'!J37)>1,SUM('3bis. Calcul répartition CM'!$K$9:$K$58)-SUM('3bis. Calcul répartition CM'!$D$9:$D$58)>1),\"erreur\",\"\")","v":""},{"$f":"IF(J32=\"erreur\",0,IF(OR('3bis. Calcul répartition CM'!K$5=0,'3bis. Calcul répartition CM'!J37=0),0,IF('3bis. Calcul répartition CM'!K37-'3bis. Calcul répartition CM'!D37>0,1,0)))","v":0},{"$f":"IF(AND('3bis. Calcul répartition CM'!L37=MAX('3bis. Calcul répartition CM'!L$9:L$58),'3bis. Calcul répartition CM'!L37>0,COUNTIF('3bis. Calcul répartition CM'!L$9:L$58,'3bis. Calcul répartition CM'!L37)>1,SUM('3bis. Calcul répartition CM'!M$9:M$58)-SUM('3bis. Calcul répartition CM'!K$9:K$58)>1),\"erreur\",\"\")","v":""},{"$f":"IF(L32=\"erreur\",0,IF(OR('3bis. Calcul répartition CM'!M$5=0,'3bis. Calcul répartition CM'!L37=0),0,IF('3bis. Calcul répartition CM'!M37-'3bis. Calcul répartition CM'!K37>0,1,0)))","v":0},{"$f":"IF(AND('3bis. Calcul répartition CM'!N37=MAX('3bis. Calcul répartition CM'!N$9:N$58),'3bis. Calcul répartition CM'!N37>0,COUNTIF('3bis. Calcul répartition CM'!N$9:N$58,'3bis. Calcul répartition CM'!N37)>1,SUM('3bis. Calcul répartition CM'!O$9:O$58)-SUM('3bis. Calcul répartition CM'!M$9:M$58)>1),\"erreur\",\"\")","v":""},{"$f":"IF(N32=\"erreur\",0,IF(OR('3bis. Calcul répartition CM'!O$5=0,'3bis. Calcul répartition CM'!N37=0),0,IF('3bis. Calcul répartition CM'!O37-'3bis. Calcul répartition CM'!M37>0,1,0)))","v":0},{"$f":"IF(AND('3bis. Calcul répartition CM'!P37=MAX('3bis. Calcul répartition CM'!P$9:P$58),'3bis. Calcul répartition CM'!P37>0,COUNTIF('3bis. Calcul répartition CM'!P$9:P$58,'3bis. Calcul répartition CM'!P37)>1,SUM('3bis. Calcul répartition CM'!Q$9:Q$58)-SUM('3bis. Calcul répartition CM'!O$9:O$58)>1),\"erreur\",\"\")","v":""},{"$f":"IF(P32=\"erreur\",0,IF(OR('3bis. Calcul répartition CM'!Q$5=0,'3bis. Calcul répartition CM'!P37=0),0,IF('3bis. Calcul répartition CM'!Q37-'3bis. Calcul répartition CM'!O37>0,1,0)))","v":0},{"$f":"IF(AND('3bis. Calcul répartition CM'!R37=MAX('3bis. Calcul répartition CM'!R$9:R$58),'3bis. Calcul répartition CM'!R37>0,COUNTIF('3bis. Calcul répartition CM'!R$9:R$58,'3bis. Calcul répartition CM'!R37)>1,SUM('3bis. Calcul répartition CM'!S$9:S$58)-SUM('3bis. Calcul répartition CM'!Q$9:Q$58)>1),\"erreur\",\"\")","v":""},{"$f":"IF(R32=\"erreur\",0,IF(OR('3bis. Calcul répartition CM'!S$5=0,'3bis. Calcul répartition CM'!R37=0),0,IF('3bis. Calcul répartition CM'!S37-'3bis. Calcul répartition CM'!Q37>0,1,0)))","v":0},{"$f":"IF(AND('3bis. Calcul répartition CM'!T37=MAX('3bis. Calcul répartition CM'!T$9:T$58),'3bis. Calcul répartition CM'!T37>0,COUNTIF('3bis. Calcul répartition CM'!T$9:T$58,'3bis. Calcul répartition CM'!T37)>1,SUM('3bis. Calcul répartition CM'!U$9:U$58)-SUM('3bis. Calcul répartition CM'!S$9:S$58)>1),\"erreur\",\"\")","v":""},{"$f":"IF(T32=\"erreur\",0,IF(OR('3bis. Calcul répartition CM'!U$5=0,'3bis. Calcul répartition CM'!T37=0),0,IF('3bis. Calcul répartition CM'!U37-'3bis. Calcul répartition CM'!S37>0,1,0)))","v":0},{"$f":"IF(AND('3bis. Calcul répartition CM'!V37=MAX('3bis. Calcul répartition CM'!V$9:V$58),'3bis. Calcul répartition CM'!V37>0,COUNTIF('3bis. Calcul répartition CM'!V$9:V$58,'3bis. Calcul répartition CM'!V37)>1,SUM('3bis. Calcul répartition CM'!W$9:W$58)-SUM('3bis. Calcul répartition CM'!U$9:U$58)>1),\"erreur\",\"\")","v":""},{"$f":"IF(V32=\"erreur\",0,IF(OR('3bis. Calcul répartition CM'!W$5=0,'3bis. Calcul répartition CM'!V37=0),0,IF('3bis. Calcul répartition CM'!W37-'3bis. Calcul répartition CM'!U37>0,1,0)))","v":0},{"$f":"IF(AND('3bis. Calcul répartition CM'!X37=MAX('3bis. Calcul répartition CM'!X$9:X$58),'3bis. Calcul répartition CM'!X37>0,COUNTIF('3bis. Calcul répartition CM'!X$9:X$58,'3bis. Calcul répartition CM'!X37)>1,SUM('3bis. Calcul répartition CM'!Y$9:Y$58)-SUM('3bis. Calcul répartition CM'!W$9:W$58)>1),\"erreur\",\"\")","v":""},{"$f":"IF(X32=\"erreur\",0,IF(OR('3bis. Calcul répartition CM'!Y$5=0,'3bis. Calcul répartition CM'!X37=0),0,IF('3bis. Calcul répartition CM'!Y37-'3bis. Calcul répartition CM'!W37>0,1,0)))","v":0},{"$f":"IF(AND('3bis. Calcul répartition CM'!Z37=MAX('3bis. Calcul répartition CM'!Z$9:Z$58),'3bis. Calcul répartition CM'!Z37>0,COUNTIF('3bis. Calcul répartition CM'!Z$9:Z$58,'3bis. Calcul répartition CM'!Z37)>1,SUM('3bis. Calcul répartition CM'!AA$9:AA$58)-SUM('3bis. Calcul répartition CM'!Y$9:Y$58)>1),\"erreur\",\"\")","v":""},{"$f":"IF(Z32=\"erreur\",0,IF(OR('3bis. Calcul répartition CM'!AA$5=0,'3bis. Calcul répartition CM'!Z37=0),0,IF('3bis. Calcul répartition CM'!AA37-'3bis. Calcul répartition CM'!Y37>0,1,0)))","v":0},{"$f":"IF(AND('3bis. Calcul répartition CM'!AB37=MAX('3bis. Calcul répartition CM'!AB$9:AB$58),'3bis. Calcul répartition CM'!AB37>0,COUNTIF('3bis. Calcul répartition CM'!AB$9:AB$58,'3bis. Calcul répartition CM'!AB37)>1,SUM('3bis. Calcul répartition CM'!AC$9:AC$58)-SUM('3bis. Calcul répartition CM'!AA$9:AA$58)>1),\"erreur\",\"\")","v":""},{"$f":"IF(AB32=\"erreur\",0,IF(OR('3bis. Calcul répartition CM'!AC$5=0,'3bis. Calcul répartition CM'!AB37=0),0,IF('3bis. Calcul répartition CM'!AC37-'3bis. Calcul répartition CM'!AA37>0,1,0)))","v":0},{"$f":"IF(AND('3bis. Calcul répartition CM'!AD37=MAX('3bis. Calcul répartition CM'!AD$9:AD$58),'3bis. Calcul répartition CM'!AD37>0,COUNTIF('3bis. Calcul répartition CM'!AD$9:AD$58,'3bis. Calcul répartition CM'!AD37)>1,SUM('3bis. Calcul répartition CM'!AE$9:AE$58)-SUM('3bis. Calcul répartition CM'!AC$9:AC$58)>1),\"erreur\",\"\")","v":""},{"$f":"IF(AD32=\"erreur\",0,IF(OR('3bis. Calcul répartition CM'!AE$5=0,'3bis. Calcul répartition CM'!AD37=0),0,IF('3bis. Calcul répartition CM'!AE37-'3bis. Calcul répartition CM'!AC37>0,1,0)))","v":0},{"$f":"IF(AND('3bis. Calcul répartition CM'!AF37=MAX('3bis. Calcul répartition CM'!AF$9:AF$58),'3bis. Calcul répartition CM'!AF37>0,COUNTIF('3bis. Calcul répartition CM'!AF$9:AF$58,'3bis. Calcul répartition CM'!AF37)>1,SUM('3bis. Calcul répartition CM'!AG$9:AG$58)-SUM('3bis. Calcul répartition CM'!AE$9:AE$58)>1),\"erreur\",\"\")","v":""},{"$f":"IF(AF32=\"erreur\",0,IF(OR('3bis. Calcul répartition CM'!AG$5=0,'3bis. Calcul répartition CM'!AF37=0),0,IF('3bis. Calcul répartition CM'!AG37-'3bis. Calcul répartition CM'!AE37>0,1,0)))","v":0},{"$f":"IF(AND('3bis. Calcul répartition CM'!AH37=MAX('3bis. Calcul répartition CM'!AH$9:AH$58),'3bis. Calcul répartition CM'!AH37>0,COUNTIF('3bis. Calcul répartition CM'!AH$9:AH$58,'3bis. Calcul répartition CM'!AH37)>1,SUM('3bis. Calcul répartition CM'!AI$9:AI$58)-SUM('3bis. Calcul répartition CM'!AG$9:AG$58)>1),\"erreur\",\"\")","v":""},{"$f":"IF(AH32=\"erreur\",0,IF(OR('3bis. Calcul répartition CM'!AI$5=0,'3bis. Calcul répartition CM'!AH37=0),0,IF('3bis. Calcul répartition CM'!AI37-'3bis. Calcul répartition CM'!AG37>0,1,0)))","v":0},{"$f":"IF(AND('3bis. Calcul répartition CM'!AJ37=MAX('3bis. Calcul répartition CM'!AJ$9:AJ$58),'3bis. Calcul répartition CM'!AJ37>0,COUNTIF('3bis. Calcul répartition CM'!AJ$9:AJ$58,'3bis. Calcul répartition CM'!AJ37)>1,SUM('3bis. Calcul répartition CM'!AK$9:AK$58)-SUM('3bis. Calcul répartition CM'!AI$9:AI$58)>1),\"erreur\",\"\")","v":""},{"$f":"IF(AJ32=\"erreur\",0,IF(OR('3bis. Calcul répartition CM'!AK$5=0,'3bis. Calcul répartition CM'!AJ37=0),0,IF('3bis. Calcul répartition CM'!AK37-'3bis. Calcul répartition CM'!AI37>0,1,0)))","v":0},{"$f":"IF(AND('3bis. Calcul répartition CM'!AL37=MAX('3bis. Calcul répartition CM'!AL$9:AL$58),'3bis. Calcul répartition CM'!AL37>0,COUNTIF('3bis. Calcul répartition CM'!AL$9:AL$58,'3bis. Calcul répartition CM'!AL37)>1,SUM('3bis. Calcul répartition CM'!AM$9:AM$58)-SUM('3bis. Calcul répartition CM'!AK$9:AK$58)>1),\"erreur\",\"\")","v":""},{"$f":"IF(AL32=\"erreur\",0,IF(OR('3bis. Calcul répartition CM'!AM$5=0,'3bis. Calcul répartition CM'!AL37=0),0,IF('3bis. Calcul répartition CM'!AM37-'3bis. Calcul répartition CM'!AK37>0,1,0)))","v":0},{"$f":"IF(AND('3bis. Calcul répartition CM'!AN37=MAX('3bis. Calcul répartition CM'!AN$9:AN$58),'3bis. Calcul répartition CM'!AN37>0,COUNTIF('3bis. Calcul répartition CM'!AN$9:AN$58,'3bis. Calcul répartition CM'!AN37)>1,SUM('3bis. Calcul répartition CM'!AO$9:AO$58)-SUM('3bis. Calcul répartition CM'!AM$9:AM$58)>1),\"erreur\",\"\")","v":""},{"$f":"IF(AN32=\"erreur\",0,IF(OR('3bis. Calcul répartition CM'!AO$5=0,'3bis. Calcul répartition CM'!AN37=0),0,IF('3bis. Calcul répartition CM'!AO37-'3bis. Calcul répartition CM'!AM37>0,1,0)))","v":0},{"$f":"IF(AND('3bis. Calcul répartition CM'!AP37=MAX('3bis. Calcul répartition CM'!AP$9:AP$58),'3bis. Calcul répartition CM'!AP37>0,COUNTIF('3bis. Calcul répartition CM'!AP$9:AP$58,'3bis. Calcul répartition CM'!AP37)>1,SUM('3bis. Calcul répartition CM'!AQ$9:AQ$58)-SUM('3bis. Calcul répartition CM'!AO$9:AO$58)>1),\"erreur\",\"\")","v":""},{"$f":"IF(AP32=\"erreur\",0,IF(OR('3bis. Calcul répartition CM'!AQ$5=0,'3bis. Calcul répartition CM'!AP37=0),0,IF('3bis. Calcul répartition CM'!AQ37-'3bis. Calcul répartition CM'!AO37>0,1,0)))","v":0},{"$f":"IF(AND('3bis. Calcul répartition CM'!AR37=MAX('3bis. Calcul répartition CM'!AR$9:AR$58),'3bis. Calcul répartition CM'!AR37>0,COUNTIF('3bis. Calcul répartition CM'!AR$9:AR$58,'3bis. Calcul répartition CM'!AR37)>1,SUM('3bis. Calcul répartition CM'!AS$9:AS$58)-SUM('3bis. Calcul répartition CM'!AQ$9:AQ$58)>1),\"erreur\",\"\")","v":""},{"$f":"IF(AR32=\"erreur\",0,IF(OR('3bis. Calcul répartition CM'!AS$5=0,'3bis. Calcul répartition CM'!AR37=0),0,IF('3bis. Calcul répartition CM'!AS37-'3bis. Calcul répartition CM'!AQ37>0,1,0)))","v":0},{"$f":"IF(AND('3bis. Calcul répartition CM'!AT37=MAX('3bis. Calcul répartition CM'!AT$9:AT$58),'3bis. Calcul répartition CM'!AT37>0,COUNTIF('3bis. Calcul répartition CM'!AT$9:AT$58,'3bis. Calcul répartition CM'!AT37)>1,SUM('3bis. Calcul répartition CM'!AU$9:AU$58)-SUM('3bis. Calcul répartition CM'!AS$9:AS$58)>1),\"erreur\",\"\")","v":""},{"$f":"IF(AT32=\"erreur\",0,IF(OR('3bis. Calcul répartition CM'!AU$5=0,'3bis. Calcul répartition CM'!AT37=0),0,IF('3bis. Calcul répartition CM'!AU37-'3bis. Calcul répartition CM'!AS37>0,1,0)))","v":0},{"$f":"IF(AND('3bis. Calcul répartition CM'!AV37=MAX('3bis. Calcul répartition CM'!AV$9:AV$58),'3bis. Calcul répartition CM'!AV37>0,COUNTIF('3bis. Calcul répartition CM'!AV$9:AV$58,'3bis. Calcul répartition CM'!AV37)>1,SUM('3bis. Calcul répartition CM'!AW$9:AW$58)-SUM('3bis. Calcul répartition CM'!AU$9:AU$58)>1),\"erreur\",\"\")","v":""},{"$f":"IF(AV32=\"erreur\",0,IF(OR('3bis. Calcul répartition CM'!AW$5=0,'3bis. Calcul répartition CM'!AV37=0),0,IF('3bis. Calcul répartition CM'!AW37-'3bis. Calcul répartition CM'!AU37>0,1,0)))","v":0},{"$f":"IF(AND('3bis. Calcul répartition CM'!AX37=MAX('3bis. Calcul répartition CM'!AX$9:AX$58),'3bis. Calcul répartition CM'!AX37>0,COUNTIF('3bis. Calcul répartition CM'!AX$9:AX$58,'3bis. Calcul répartition CM'!AX37)>1,SUM('3bis. Calcul répartition CM'!AY$9:AY$58)-SUM('3bis. Calcul répartition CM'!AW$9:AW$58)>1),\"erreur\",\"\")","v":""},{"$f":"IF(AX32=\"erreur\",0,IF(OR('3bis. Calcul répartition CM'!AY$5=0,'3bis. Calcul répartition CM'!AX37=0),0,IF('3bis. Calcul répartition CM'!AY37-'3bis. Calcul répartition CM'!AW37>0,1,0)))","v":0},{"$f":"IF(AND('3bis. Calcul répartition CM'!AZ37=MAX('3bis. Calcul répartition CM'!AZ$9:AZ$58),'3bis. Calcul répartition CM'!AZ37>0,COUNTIF('3bis. Calcul répartition CM'!AZ$9:AZ$58,'3bis. Calcul répartition CM'!AZ37)>1,SUM('3bis. Calcul répartition CM'!BA$9:BA$58)-SUM('3bis. Calcul répartition CM'!AY$9:AY$58)>1),\"erreur\",\"\")","v":""},{"$f":"IF(AZ32=\"erreur\",0,IF(OR('3bis. Calcul répartition CM'!BA$5=0,'3bis. Calcul répartition CM'!AZ37=0),0,IF('3bis. Calcul répartition CM'!BA37-'3bis. Calcul répartition CM'!AY37>0,1,0)))","v":0},{"$f":"IF(AND('3bis. Calcul répartition CM'!BB37=MAX('3bis. Calcul répartition CM'!BB$9:BB$58),'3bis. Calcul répartition CM'!BB37>0,COUNTIF('3bis. Calcul répartition CM'!BB$9:BB$58,'3bis. Calcul répartition CM'!BB37)>1,SUM('3bis. Calcul répartition CM'!BC$9:BC$58)-SUM('3bis. Calcul répartition CM'!BA$9:BA$58)>1),\"erreur\",\"\")","v":""},{"$f":"IF(BB32=\"erreur\",0,IF(OR('3bis. Calcul répartition CM'!BC$5=0,'3bis. Calcul répartition CM'!BB37=0),0,IF('3bis. Calcul répartition CM'!BC37-'3bis. Calcul répartition CM'!BA37>0,1,0)))","v":0},{"$f":"IF(AND('3bis. Calcul répartition CM'!BD37=MAX('3bis. Calcul répartition CM'!BD$9:BD$58),'3bis. Calcul répartition CM'!BD37>0,COUNTIF('3bis. Calcul répartition CM'!BD$9:BD$58,'3bis. Calcul répartition CM'!BD37)>1,SUM('3bis. Calcul répartition CM'!BE$9:BE$58)-SUM('3bis. Calcul répartition CM'!BC$9:BC$58)>1),\"erreur\",\"\")","v":""},{"$f":"IF(BD32=\"erreur\",0,IF(OR('3bis. Calcul répartition CM'!BE$5=0,'3bis. Calcul répartition CM'!BD37=0),0,IF('3bis. Calcul répartition CM'!BE37-'3bis. Calcul répartition CM'!BC37>0,1,0)))","v":0},{"$f":"IF(AND('3bis. Calcul répartition CM'!BF37=MAX('3bis. Calcul répartition CM'!BF$9:BF$58),'3bis. Calcul répartition CM'!BF37>0,COUNTIF('3bis. Calcul répartition CM'!BF$9:BF$58,'3bis. Calcul répartition CM'!BF37)>1,SUM('3bis. Calcul répartition CM'!BG$9:BG$58)-SUM('3bis. Calcul répartition CM'!BE$9:BE$58)>1),\"erreur\",\"\")","v":""},{"$f":"IF(BF32=\"erreur\",0,IF(OR('3bis. Calcul répartition CM'!BG$5=0,'3bis. Calcul répartition CM'!BF37=0),0,IF('3bis. Calcul répartition CM'!BG37-'3bis. Calcul répartition CM'!BE37>0,1,0)))","v":0},{"$f":"IF(AND('3bis. Calcul répartition CM'!BH37=MAX('3bis. Calcul répartition CM'!BH$9:BH$58),'3bis. Calcul répartition CM'!BH37>0,COUNTIF('3bis. Calcul répartition CM'!BH$9:BH$58,'3bis. Calcul répartition CM'!BH37)>1,SUM('3bis. Calcul répartition CM'!BI$9:BI$58)-SUM('3bis. Calcul répartition CM'!BG$9:BG$58)>1),\"erreur\",\"\")","v":""},{"$f":"IF(BH32=\"erreur\",0,IF(OR('3bis. Calcul répartition CM'!BI$5=0,'3bis. Calcul répartition CM'!BH37=0),0,IF('3bis. Calcul répartition CM'!BI37-'3bis. Calcul répartition CM'!BG37>0,1,0)))","v":0},{"$f":"IF(AND('3bis. Calcul répartition CM'!BJ37=MAX('3bis. Calcul répartition CM'!BJ$9:BJ$58),'3bis. Calcul répartition CM'!BJ37>0,COUNTIF('3bis. Calcul répartition CM'!BJ$9:BJ$58,'3bis. Calcul répartition CM'!BJ37)>1,SUM('3bis. Calcul répartition CM'!BK$9:BK$58)-SUM('3bis. Calcul répartition CM'!BI$9:BI$58)>1),\"erreur\",\"\")","v":""},{"$f":"IF(BJ32=\"erreur\",0,IF(OR('3bis. Calcul répartition CM'!BK$5=0,'3bis. Calcul répartition CM'!BJ37=0),0,IF('3bis. Calcul répartition CM'!BK37-'3bis. Calcul répartition CM'!BI37>0,1,0)))","v":0},{"$f":"IF(AND('3bis. Calcul répartition CM'!BL37=MAX('3bis. Calcul répartition CM'!BL$9:BL$58),'3bis. Calcul répartition CM'!BL37>0,COUNTIF('3bis. Calcul répartition CM'!BL$9:BL$58,'3bis. Calcul répartition CM'!BL37)>1,SUM('3bis. Calcul répartition CM'!BM$9:BM$58)-SUM('3bis. Calcul répartition CM'!BK$9:BK$58)>1),\"erreur\",\"\")","v":""},{"$f":"IF(BL32=\"erreur\",0,IF(OR('3bis. Calcul répartition CM'!BM$5=0,'3bis. Calcul répartition CM'!BL37=0),0,IF('3bis. Calcul répartition CM'!BM37-'3bis. Calcul répartition CM'!BK37>0,1,0)))","v":0},{"$f":"IF(AND('3bis. Calcul répartition CM'!BN37=MAX('3bis. Calcul répartition CM'!BN$9:BN$58),'3bis. Calcul répartition CM'!BN37>0,COUNTIF('3bis. Calcul répartition CM'!BN$9:BN$58,'3bis. Calcul répartition CM'!BN37)>1,SUM('3bis. Calcul répartition CM'!BO$9:BO$58)-SUM('3bis. Calcul répartition CM'!BM$9:BM$58)>1),\"erreur\",\"\")","v":""},{"$f":"IF(BN32=\"erreur\",0,IF(OR('3bis. Calcul répartition CM'!BO$5=0,'3bis. Calcul répartition CM'!BN37=0),0,IF('3bis. Calcul répartition CM'!BO37-'3bis. Calcul répartition CM'!BM37>0,1,0)))","v":0},{"$f":"IF(AND('3bis. Calcul répartition CM'!BP37=MAX('3bis. Calcul répartition CM'!BP$9:BP$58),'3bis. Calcul répartition CM'!BP37>0,COUNTIF('3bis. Calcul répartition CM'!BP$9:BP$58,'3bis. Calcul répartition CM'!BP37)>1,SUM('3bis. Calcul répartition CM'!BQ$9:BQ$58)-SUM('3bis. Calcul répartition CM'!BO$9:BO$58)>1),\"erreur\",\"\")","v":""},{"$f":"IF(BP32=\"erreur\",0,IF(OR('3bis. Calcul répartition CM'!BQ$5=0,'3bis. Calcul répartition CM'!BP37=0),0,IF('3bis. Calcul répartition CM'!BQ37-'3bis. Calcul répartition CM'!BO37>0,1,0)))","v":0}]
[null,null,null,null,null,null,null,null,{"$f":"'3bis. Calcul répartition CM'!B38","v":0},{"$f":"IF(AND('3bis. Calcul répartition CM'!J38=MAX('3bis. Calcul répartition CM'!J$9:J$58),'3bis. Calcul répartition CM'!J38>0,COUNTIF('3bis. Calcul répartition CM'!J$9:J$58,'3bis. Calcul répartition CM'!J38)>1,SUM('3bis. Calcul répartition CM'!$K$9:$K$58)-SUM('3bis. Calcul répartition CM'!$D$9:$D$58)>1),\"erreur\",\"\")","v":""},{"$f":"IF(J33=\"erreur\",0,IF(OR('3bis. Calcul répartition CM'!K$5=0,'3bis. Calcul répartition CM'!J38=0),0,IF('3bis. Calcul répartition CM'!K38-'3bis. Calcul répartition CM'!D38>0,1,0)))","v":0},{"$f":"IF(AND('3bis. Calcul répartition CM'!L38=MAX('3bis. Calcul répartition CM'!L$9:L$58),'3bis. Calcul répartition CM'!L38>0,COUNTIF('3bis. Calcul répartition CM'!L$9:L$58,'3bis. Calcul répartition CM'!L38)>1,SUM('3bis. Calcul répartition CM'!M$9:M$58)-SUM('3bis. Calcul répartition CM'!K$9:K$58)>1),\"erreur\",\"\")","v":""},{"$f":"IF(L33=\"erreur\",0,IF(OR('3bis. Calcul répartition CM'!M$5=0,'3bis. Calcul répartition CM'!L38=0),0,IF('3bis. Calcul répartition CM'!M38-'3bis. Calcul répartition CM'!K38>0,1,0)))","v":0},{"$f":"IF(AND('3bis. Calcul répartition CM'!N38=MAX('3bis. Calcul répartition CM'!N$9:N$58),'3bis. Calcul répartition CM'!N38>0,COUNTIF('3bis. Calcul répartition CM'!N$9:N$58,'3bis. Calcul répartition CM'!N38)>1,SUM('3bis. Calcul répartition CM'!O$9:O$58)-SUM('3bis. Calcul répartition CM'!M$9:M$58)>1),\"erreur\",\"\")","v":""},{"$f":"IF(N33=\"erreur\",0,IF(OR('3bis. Calcul répartition CM'!O$5=0,'3bis. Calcul répartition CM'!N38=0),0,IF('3bis. Calcul répartition CM'!O38-'3bis. Calcul répartition CM'!M38>0,1,0)))","v":0},{"$f":"IF(AND('3bis. Calcul répartition CM'!P38=MAX('3bis. Calcul répartition CM'!P$9:P$58),'3bis. Calcul répartition CM'!P38>0,COUNTIF('3bis. Calcul répartition CM'!P$9:P$58,'3bis. Calcul répartition CM'!P38)>1,SUM('3bis. Calcul répartition CM'!Q$9:Q$58)-SUM('3bis. Calcul répartition CM'!O$9:O$58)>1),\"erreur\",\"\")","v":""},{"$f":"IF(P33=\"erreur\",0,IF(OR('3bis. Calcul répartition CM'!Q$5=0,'3bis. Calcul répartition CM'!P38=0),0,IF('3bis. Calcul répartition CM'!Q38-'3bis. Calcul répartition CM'!O38>0,1,0)))","v":0},{"$f":"IF(AND('3bis. Calcul répartition CM'!R38=MAX('3bis. Calcul répartition CM'!R$9:R$58),'3bis. Calcul répartition CM'!R38>0,COUNTIF('3bis. Calcul répartition CM'!R$9:R$58,'3bis. Calcul répartition CM'!R38)>1,SUM('3bis. Calcul répartition CM'!S$9:S$58)-SUM('3bis. Calcul répartition CM'!Q$9:Q$58)>1),\"erreur\",\"\")","v":""},{"$f":"IF(R33=\"erreur\",0,IF(OR('3bis. Calcul répartition CM'!S$5=0,'3bis. Calcul répartition CM'!R38=0),0,IF('3bis. Calcul répartition CM'!S38-'3bis. Calcul répartition CM'!Q38>0,1,0)))","v":0},{"$f":"IF(AND('3bis. Calcul répartition CM'!T38=MAX('3bis. Calcul répartition CM'!T$9:T$58),'3bis. Calcul répartition CM'!T38>0,COUNTIF('3bis. Calcul répartition CM'!T$9:T$58,'3bis. Calcul répartition CM'!T38)>1,SUM('3bis. Calcul répartition CM'!U$9:U$58)-SUM('3bis. Calcul répartition CM'!S$9:S$58)>1),\"erreur\",\"\")","v":""},{"$f":"IF(T33=\"erreur\",0,IF(OR('3bis. Calcul répartition CM'!U$5=0,'3bis. Calcul répartition CM'!T38=0),0,IF('3bis. Calcul répartition CM'!U38-'3bis. Calcul répartition CM'!S38>0,1,0)))","v":0},{"$f":"IF(AND('3bis. Calcul répartition CM'!V38=MAX('3bis. Calcul répartition CM'!V$9:V$58),'3bis. Calcul répartition CM'!V38>0,COUNTIF('3bis. Calcul répartition CM'!V$9:V$58,'3bis. Calcul répartition CM'!V38)>1,SUM('3bis. Calcul répartition CM'!W$9:W$58)-SUM('3bis. Calcul répartition CM'!U$9:U$58)>1),\"erreur\",\"\")","v":""},{"$f":"IF(V33=\"erreur\",0,IF(OR('3bis. Calcul répartition CM'!W$5=0,'3bis. Calcul répartition CM'!V38=0),0,IF('3bis. Calcul répartition CM'!W38-'3bis. Calcul répartition CM'!U38>0,1,0)))","v":0},{"$f":"IF(AND('3bis. Calcul répartition CM'!X38=MAX('3bis. Calcul répartition CM'!X$9:X$58),'3bis. Calcul répartition CM'!X38>0,COUNTIF('3bis. Calcul répartition CM'!X$9:X$58,'3bis. Calcul répartition CM'!X38)>1,SUM('3bis. Calcul répartition CM'!Y$9:Y$58)-SUM('3bis. Calcul répartition CM'!W$9:W$58)>1),\"erreur\",\"\")","v":""},{"$f":"IF(X33=\"erreur\",0,IF(OR('3bis. Calcul répartition CM'!Y$5=0,'3bis. Calcul répartition CM'!X38=0),0,IF('3bis. Calcul répartition CM'!Y38-'3bis. Calcul répartition CM'!W38>0,1,0)))","v":0},{"$f":"IF(AND('3bis. Calcul répartition CM'!Z38=MAX('3bis. Calcul répartition CM'!Z$9:Z$58),'3bis. Calcul répartition CM'!Z38>0,COUNTIF('3bis. Calcul répartition CM'!Z$9:Z$58,'3bis. Calcul répartition CM'!Z38)>1,SUM('3bis. Calcul répartition CM'!AA$9:AA$58)-SUM('3bis. Calcul répartition CM'!Y$9:Y$58)>1),\"erreur\",\"\")","v":""},{"$f":"IF(Z33=\"erreur\",0,IF(OR('3bis. Calcul répartition CM'!AA$5=0,'3bis. Calcul répartition CM'!Z38=0),0,IF('3bis. Calcul répartition CM'!AA38-'3bis. Calcul répartition CM'!Y38>0,1,0)))","v":0},{"$f":"IF(AND('3bis. Calcul répartition CM'!AB38=MAX('3bis. Calcul répartition CM'!AB$9:AB$58),'3bis. Calcul répartition CM'!AB38>0,COUNTIF('3bis. Calcul répartition CM'!AB$9:AB$58,'3bis. Calcul répartition CM'!AB38)>1,SUM('3bis. Calcul répartition CM'!AC$9:AC$58)-SUM('3bis. Calcul répartition CM'!AA$9:AA$58)>1),\"erreur\",\"\")","v":""},{"$f":"IF(AB33=\"erreur\",0,IF(OR('3bis. Calcul répartition CM'!AC$5=0,'3bis. Calcul répartition CM'!AB38=0),0,IF('3bis. Calcul répartition CM'!AC38-'3bis. Calcul répartition CM'!AA38>0,1,0)))","v":0},{"$f":"IF(AND('3bis. Calcul répartition CM'!AD38=MAX('3bis. Calcul répartition CM'!AD$9:AD$58),'3bis. Calcul répartition CM'!AD38>0,COUNTIF('3bis. Calcul répartition CM'!AD$9:AD$58,'3bis. Calcul répartition CM'!AD38)>1,SUM('3bis. Calcul répartition CM'!AE$9:AE$58)-SUM('3bis. Calcul répartition CM'!AC$9:AC$58)>1),\"erreur\",\"\")","v":""},{"$f":"IF(AD33=\"erreur\",0,IF(OR('3bis. Calcul répartition CM'!AE$5=0,'3bis. Calcul répartition CM'!AD38=0),0,IF('3bis. Calcul répartition CM'!AE38-'3bis. Calcul répartition CM'!AC38>0,1,0)))","v":0},{"$f":"IF(AND('3bis. Calcul répartition CM'!AF38=MAX('3bis. Calcul répartition CM'!AF$9:AF$58),'3bis. Calcul répartition CM'!AF38>0,COUNTIF('3bis. Calcul répartition CM'!AF$9:AF$58,'3bis. Calcul répartition CM'!AF38)>1,SUM('3bis. Calcul répartition CM'!AG$9:AG$58)-SUM('3bis. Calcul répartition CM'!AE$9:AE$58)>1),\"erreur\",\"\")","v":""},{"$f":"IF(AF33=\"erreur\",0,IF(OR('3bis. Calcul répartition CM'!AG$5=0,'3bis. Calcul répartition CM'!AF38=0),0,IF('3bis. Calcul répartition CM'!AG38-'3bis. Calcul répartition CM'!AE38>0,1,0)))","v":0},{"$f":"IF(AND('3bis. Calcul répartition CM'!AH38=MAX('3bis. Calcul répartition CM'!AH$9:AH$58),'3bis. Calcul répartition CM'!AH38>0,COUNTIF('3bis. Calcul répartition CM'!AH$9:AH$58,'3bis. Calcul répartition CM'!AH38)>1,SUM('3bis. Calcul répartition CM'!AI$9:AI$58)-SUM('3bis. Calcul répartition CM'!AG$9:AG$58)>1),\"erreur\",\"\")","v":""},{"$f":"IF(AH33=\"erreur\",0,IF(OR('3bis. Calcul répartition CM'!AI$5=0,'3bis. Calcul répartition CM'!AH38=0),0,IF('3bis. Calcul répartition CM'!AI38-'3bis. Calcul répartition CM'!AG38>0,1,0)))","v":0},{"$f":"IF(AND('3bis. Calcul répartition CM'!AJ38=MAX('3bis. Calcul répartition CM'!AJ$9:AJ$58),'3bis. Calcul répartition CM'!AJ38>0,COUNTIF('3bis. Calcul répartition CM'!AJ$9:AJ$58,'3bis. Calcul répartition CM'!AJ38)>1,SUM('3bis. Calcul répartition CM'!AK$9:AK$58)-SUM('3bis. Calcul répartition CM'!AI$9:AI$58)>1),\"erreur\",\"\")","v":""},{"$f":"IF(AJ33=\"erreur\",0,IF(OR('3bis. Calcul répartition CM'!AK$5=0,'3bis. Calcul répartition CM'!AJ38=0),0,IF('3bis. Calcul répartition CM'!AK38-'3bis. Calcul répartition CM'!AI38>0,1,0)))","v":0},{"$f":"IF(AND('3bis. Calcul répartition CM'!AL38=MAX('3bis. Calcul répartition CM'!AL$9:AL$58),'3bis. Calcul répartition CM'!AL38>0,COUNTIF('3bis. Calcul répartition CM'!AL$9:AL$58,'3bis. Calcul répartition CM'!AL38)>1,SUM('3bis. Calcul répartition CM'!AM$9:AM$58)-SUM('3bis. Calcul répartition CM'!AK$9:AK$58)>1),\"erreur\",\"\")","v":""},{"$f":"IF(AL33=\"erreur\",0,IF(OR('3bis. Calcul répartition CM'!AM$5=0,'3bis. Calcul répartition CM'!AL38=0),0,IF('3bis. Calcul répartition CM'!AM38-'3bis. Calcul répartition CM'!AK38>0,1,0)))","v":0},{"$f":"IF(AND('3bis. Calcul répartition CM'!AN38=MAX('3bis. Calcul répartition CM'!AN$9:AN$58),'3bis. Calcul répartition CM'!AN38>0,COUNTIF('3bis. Calcul répartition CM'!AN$9:AN$58,'3bis. Calcul répartition CM'!AN38)>1,SUM('3bis. Calcul répartition CM'!AO$9:AO$58)-SUM('3bis. Calcul répartition CM'!AM$9:AM$58)>1),\"erreur\",\"\")","v":""},{"$f":"IF(AN33=\"erreur\",0,IF(OR('3bis. Calcul répartition CM'!AO$5=0,'3bis. Calcul répartition CM'!AN38=0),0,IF('3bis. Calcul répartition CM'!AO38-'3bis. Calcul répartition CM'!AM38>0,1,0)))","v":0},{"$f":"IF(AND('3bis. Calcul répartition CM'!AP38=MAX('3bis. Calcul répartition CM'!AP$9:AP$58),'3bis. Calcul répartition CM'!AP38>0,COUNTIF('3bis. Calcul répartition CM'!AP$9:AP$58,'3bis. Calcul répartition CM'!AP38)>1,SUM('3bis. Calcul répartition CM'!AQ$9:AQ$58)-SUM('3bis. Calcul répartition CM'!AO$9:AO$58)>1),\"erreur\",\"\")","v":""},{"$f":"IF(AP33=\"erreur\",0,IF(OR('3bis. Calcul répartition CM'!AQ$5=0,'3bis. Calcul répartition CM'!AP38=0),0,IF('3bis. Calcul répartition CM'!AQ38-'3bis. Calcul répartition CM'!AO38>0,1,0)))","v":0},{"$f":"IF(AND('3bis. Calcul répartition CM'!AR38=MAX('3bis. Calcul répartition CM'!AR$9:AR$58),'3bis. Calcul répartition CM'!AR38>0,COUNTIF('3bis. Calcul répartition CM'!AR$9:AR$58,'3bis. Calcul répartition CM'!AR38)>1,SUM('3bis. Calcul répartition CM'!AS$9:AS$58)-SUM('3bis. Calcul répartition CM'!AQ$9:AQ$58)>1),\"erreur\",\"\")","v":""},{"$f":"IF(AR33=\"erreur\",0,IF(OR('3bis. Calcul répartition CM'!AS$5=0,'3bis. Calcul répartition CM'!AR38=0),0,IF('3bis. Calcul répartition CM'!AS38-'3bis. Calcul répartition CM'!AQ38>0,1,0)))","v":0},{"$f":"IF(AND('3bis. Calcul répartition CM'!AT38=MAX('3bis. Calcul répartition CM'!AT$9:AT$58),'3bis. Calcul répartition CM'!AT38>0,COUNTIF('3bis. Calcul répartition CM'!AT$9:AT$58,'3bis. Calcul répartition CM'!AT38)>1,SUM('3bis. Calcul répartition CM'!AU$9:AU$58)-SUM('3bis. Calcul répartition CM'!AS$9:AS$58)>1),\"erreur\",\"\")","v":""},{"$f":"IF(AT33=\"erreur\",0,IF(OR('3bis. Calcul répartition CM'!AU$5=0,'3bis. Calcul répartition CM'!AT38=0),0,IF('3bis. Calcul répartition CM'!AU38-'3bis. Calcul répartition CM'!AS38>0,1,0)))","v":0},{"$f":"IF(AND('3bis. Calcul répartition CM'!AV38=MAX('3bis. Calcul répartition CM'!AV$9:AV$58),'3bis. Calcul répartition CM'!AV38>0,COUNTIF('3bis. Calcul répartition CM'!AV$9:AV$58,'3bis. Calcul répartition CM'!AV38)>1,SUM('3bis. Calcul répartition CM'!AW$9:AW$58)-SUM('3bis. Calcul répartition CM'!AU$9:AU$58)>1),\"erreur\",\"\")","v":""},{"$f":"IF(AV33=\"erreur\",0,IF(OR('3bis. Calcul répartition CM'!AW$5=0,'3bis. Calcul répartition CM'!AV38=0),0,IF('3bis. Calcul répartition CM'!AW38-'3bis. Calcul répartition CM'!AU38>0,1,0)))","v":0},{"$f":"IF(AND('3bis. Calcul répartition CM'!AX38=MAX('3bis. Calcul répartition CM'!AX$9:AX$58),'3bis. Calcul répartition CM'!AX38>0,COUNTIF('3bis. Calcul répartition CM'!AX$9:AX$58,'3bis. Calcul répartition CM'!AX38)>1,SUM('3bis. Calcul répartition CM'!AY$9:AY$58)-SUM('3bis. Calcul répartition CM'!AW$9:AW$58)>1),\"erreur\",\"\")","v":""},{"$f":"IF(AX33=\"erreur\",0,IF(OR('3bis. Calcul répartition CM'!AY$5=0,'3bis. Calcul répartition CM'!AX38=0),0,IF('3bis. Calcul répartition CM'!AY38-'3bis. Calcul répartition CM'!AW38>0,1,0)))","v":0},{"$f":"IF(AND('3bis. Calcul répartition CM'!AZ38=MAX('3bis. Calcul répartition CM'!AZ$9:AZ$58),'3bis. Calcul répartition CM'!AZ38>0,COUNTIF('3bis. Calcul répartition CM'!AZ$9:AZ$58,'3bis. Calcul répartition CM'!AZ38)>1,SUM('3bis. Calcul répartition CM'!BA$9:BA$58)-SUM('3bis. Calcul répartition CM'!AY$9:AY$58)>1),\"erreur\",\"\")","v":""},{"$f":"IF(AZ33=\"erreur\",0,IF(OR('3bis. Calcul répartition CM'!BA$5=0,'3bis. Calcul répartition CM'!AZ38=0),0,IF('3bis. Calcul répartition CM'!BA38-'3bis. Calcul répartition CM'!AY38>0,1,0)))","v":0},{"$f":"IF(AND('3bis. Calcul répartition CM'!BB38=MAX('3bis. Calcul répartition CM'!BB$9:BB$58),'3bis. Calcul répartition CM'!BB38>0,COUNTIF('3bis. Calcul répartition CM'!BB$9:BB$58,'3bis. Calcul répartition CM'!BB38)>1,SUM('3bis. Calcul répartition CM'!BC$9:BC$58)-SUM('3bis. Calcul répartition CM'!BA$9:BA$58)>1),\"erreur\",\"\")","v":""},{"$f":"IF(BB33=\"erreur\",0,IF(OR('3bis. Calcul répartition CM'!BC$5=0,'3bis. Calcul répartition CM'!BB38=0),0,IF('3bis. Calcul répartition CM'!BC38-'3bis. Calcul répartition CM'!BA38>0,1,0)))","v":0},{"$f":"IF(AND('3bis. Calcul répartition CM'!BD38=MAX('3bis. Calcul répartition CM'!BD$9:BD$58),'3bis. Calcul répartition CM'!BD38>0,COUNTIF('3bis. Calcul répartition CM'!BD$9:BD$58,'3bis. Calcul répartition CM'!BD38)>1,SUM('3bis. Calcul répartition CM'!BE$9:BE$58)-SUM('3bis. Calcul répartition CM'!BC$9:BC$58)>1),\"erreur\",\"\")","v":""},{"$f":"IF(BD33=\"erreur\",0,IF(OR('3bis. Calcul répartition CM'!BE$5=0,'3bis. Calcul répartition CM'!BD38=0),0,IF('3bis. Calcul répartition CM'!BE38-'3bis. Calcul répartition CM'!BC38>0,1,0)))","v":0},{"$f":"IF(AND('3bis. Calcul répartition CM'!BF38=MAX('3bis. Calcul répartition CM'!BF$9:BF$58),'3bis. Calcul répartition CM'!BF38>0,COUNTIF('3bis. Calcul répartition CM'!BF$9:BF$58,'3bis. Calcul répartition CM'!BF38)>1,SUM('3bis. Calcul répartition CM'!BG$9:BG$58)-SUM('3bis. Calcul répartition CM'!BE$9:BE$58)>1),\"erreur\",\"\")","v":""},{"$f":"IF(BF33=\"erreur\",0,IF(OR('3bis. Calcul répartition CM'!BG$5=0,'3bis. Calcul répartition CM'!BF38=0),0,IF('3bis. Calcul répartition CM'!BG38-'3bis. Calcul répartition CM'!BE38>0,1,0)))","v":0},{"$f":"IF(AND('3bis. Calcul répartition CM'!BH38=MAX('3bis. Calcul répartition CM'!BH$9:BH$58),'3bis. Calcul répartition CM'!BH38>0,COUNTIF('3bis. Calcul répartition CM'!BH$9:BH$58,'3bis. Calcul répartition CM'!BH38)>1,SUM('3bis. Calcul répartition CM'!BI$9:BI$58)-SUM('3bis. Calcul répartition CM'!BG$9:BG$58)>1),\"erreur\",\"\")","v":""},{"$f":"IF(BH33=\"erreur\",0,IF(OR('3bis. Calcul répartition CM'!BI$5=0,'3bis. Calcul répartition CM'!BH38=0),0,IF('3bis. Calcul répartition CM'!BI38-'3bis. Calcul répartition CM'!BG38>0,1,0)))","v":0},{"$f":"IF(AND('3bis. Calcul répartition CM'!BJ38=MAX('3bis. Calcul répartition CM'!BJ$9:BJ$58),'3bis. Calcul répartition CM'!BJ38>0,COUNTIF('3bis. Calcul répartition CM'!BJ$9:BJ$58,'3bis. Calcul répartition CM'!BJ38)>1,SUM('3bis. Calcul répartition CM'!BK$9:BK$58)-SUM('3bis. Calcul répartition CM'!BI$9:BI$58)>1),\"erreur\",\"\")","v":""},{"$f":"IF(BJ33=\"erreur\",0,IF(OR('3bis. Calcul répartition CM'!BK$5=0,'3bis. Calcul répartition CM'!BJ38=0),0,IF('3bis. Calcul répartition CM'!BK38-'3bis. Calcul répartition CM'!BI38>0,1,0)))","v":0},{"$f":"IF(AND('3bis. Calcul répartition CM'!BL38=MAX('3bis. Calcul répartition CM'!BL$9:BL$58),'3bis. Calcul répartition CM'!BL38>0,COUNTIF('3bis. Calcul répartition CM'!BL$9:BL$58,'3bis. Calcul répartition CM'!BL38)>1,SUM('3bis. Calcul répartition CM'!BM$9:BM$58)-SUM('3bis. Calcul répartition CM'!BK$9:BK$58)>1),\"erreur\",\"\")","v":""},{"$f":"IF(BL33=\"erreur\",0,IF(OR('3bis. Calcul répartition CM'!BM$5=0,'3bis. Calcul répartition CM'!BL38=0),0,IF('3bis. Calcul répartition CM'!BM38-'3bis. Calcul répartition CM'!BK38>0,1,0)))","v":0},{"$f":"IF(AND('3bis. Calcul répartition CM'!BN38=MAX('3bis. Calcul répartition CM'!BN$9:BN$58),'3bis. Calcul répartition CM'!BN38>0,COUNTIF('3bis. Calcul répartition CM'!BN$9:BN$58,'3bis. Calcul répartition CM'!BN38)>1,SUM('3bis. Calcul répartition CM'!BO$9:BO$58)-SUM('3bis. Calcul répartition CM'!BM$9:BM$58)>1),\"erreur\",\"\")","v":""},{"$f":"IF(BN33=\"erreur\",0,IF(OR('3bis. Calcul répartition CM'!BO$5=0,'3bis. Calcul répartition CM'!BN38=0),0,IF('3bis. Calcul répartition CM'!BO38-'3bis. Calcul répartition CM'!BM38>0,1,0)))","v":0},{"$f":"IF(AND('3bis. Calcul répartition CM'!BP38=MAX('3bis. Calcul répartition CM'!BP$9:BP$58),'3bis. Calcul répartition CM'!BP38>0,COUNTIF('3bis. Calcul répartition CM'!BP$9:BP$58,'3bis. Calcul répartition CM'!BP38)>1,SUM('3bis. Calcul répartition CM'!BQ$9:BQ$58)-SUM('3bis. Calcul répartition CM'!BO$9:BO$58)>1),\"erreur\",\"\")","v":""},{"$f":"IF(BP33=\"erreur\",0,IF(OR('3bis. Calcul répartition CM'!BQ$5=0,'3bis. Calcul répartition CM'!BP38=0),0,IF('3bis. Calcul répartition CM'!BQ38-'3bis. Calcul répartition CM'!BO38>0,1,0)))","v":0}]
[null,null,null,null,null,null,null,null,{"$f":"'3bis. Calcul répartition CM'!B39","v":0},{"$f":"IF(AND('3bis. Calcul répartition CM'!J39=MAX('3bis. Calcul répartition CM'!J$9:J$58),'3bis. Calcul répartition CM'!J39>0,COUNTIF('3bis. Calcul répartition CM'!J$9:J$58,'3bis. Calcul répartition CM'!J39)>1,SUM('3bis. Calcul répartition CM'!$K$9:$K$58)-SUM('3bis. Calcul répartition CM'!$D$9:$D$58)>1),\"erreur\",\"\")","v":""},{"$f":"IF(J34=\"erreur\",0,IF(OR('3bis. Calcul répartition CM'!K$5=0,'3bis. Calcul répartition CM'!J39=0),0,IF('3bis. Calcul répartition CM'!K39-'3bis. Calcul répartition CM'!D39>0,1,0)))","v":0},{"$f":"IF(AND('3bis. Calcul répartition CM'!L39=MAX('3bis. Calcul répartition CM'!L$9:L$58),'3bis. Calcul répartition CM'!L39>0,COUNTIF('3bis. Calcul répartition CM'!L$9:L$58,'3bis. Calcul répartition CM'!L39)>1,SUM('3bis. Calcul répartition CM'!M$9:M$58)-SUM('3bis. Calcul répartition CM'!K$9:K$58)>1),\"erreur\",\"\")","v":""},{"$f":"IF(L34=\"erreur\",0,IF(OR('3bis. Calcul répartition CM'!M$5=0,'3bis. Calcul répartition CM'!L39=0),0,IF('3bis. Calcul répartition CM'!M39-'3bis. Calcul répartition CM'!K39>0,1,0)))","v":0},{"$f":"IF(AND('3bis. Calcul répartition CM'!N39=MAX('3bis. Calcul répartition CM'!N$9:N$58),'3bis. Calcul répartition CM'!N39>0,COUNTIF('3bis. Calcul répartition CM'!N$9:N$58,'3bis. Calcul répartition CM'!N39)>1,SUM('3bis. Calcul répartition CM'!O$9:O$58)-SUM('3bis. Calcul répartition CM'!M$9:M$58)>1),\"erreur\",\"\")","v":""},{"$f":"IF(N34=\"erreur\",0,IF(OR('3bis. Calcul répartition CM'!O$5=0,'3bis. Calcul répartition CM'!N39=0),0,IF('3bis. Calcul répartition CM'!O39-'3bis. Calcul répartition CM'!M39>0,1,0)))","v":0},{"$f":"IF(AND('3bis. Calcul répartition CM'!P39=MAX('3bis. Calcul répartition CM'!P$9:P$58),'3bis. Calcul répartition CM'!P39>0,COUNTIF('3bis. Calcul répartition CM'!P$9:P$58,'3bis. Calcul répartition CM'!P39)>1,SUM('3bis. Calcul répartition CM'!Q$9:Q$58)-SUM('3bis. Calcul répartition CM'!O$9:O$58)>1),\"erreur\",\"\")","v":""},{"$f":"IF(P34=\"erreur\",0,IF(OR('3bis. Calcul répartition CM'!Q$5=0,'3bis. Calcul répartition CM'!P39=0),0,IF('3bis. Calcul répartition CM'!Q39-'3bis. Calcul répartition CM'!O39>0,1,0)))","v":0},{"$f":"IF(AND('3bis. Calcul répartition CM'!R39=MAX('3bis. Calcul répartition CM'!R$9:R$58),'3bis. Calcul répartition CM'!R39>0,COUNTIF('3bis. Calcul répartition CM'!R$9:R$58,'3bis. Calcul répartition CM'!R39)>1,SUM('3bis. Calcul répartition CM'!S$9:S$58)-SUM('3bis. Calcul répartition CM'!Q$9:Q$58)>1),\"erreur\",\"\")","v":""},{"$f":"IF(R34=\"erreur\",0,IF(OR('3bis. Calcul répartition CM'!S$5=0,'3bis. Calcul répartition CM'!R39=0),0,IF('3bis. Calcul répartition CM'!S39-'3bis. Calcul répartition CM'!Q39>0,1,0)))","v":0},{"$f":"IF(AND('3bis. Calcul répartition CM'!T39=MAX('3bis. Calcul répartition CM'!T$9:T$58),'3bis. Calcul répartition CM'!T39>0,COUNTIF('3bis. Calcul répartition CM'!T$9:T$58,'3bis. Calcul répartition CM'!T39)>1,SUM('3bis. Calcul répartition CM'!U$9:U$58)-SUM('3bis. Calcul répartition CM'!S$9:S$58)>1),\"erreur\",\"\")","v":""},{"$f":"IF(T34=\"erreur\",0,IF(OR('3bis. Calcul répartition CM'!U$5=0,'3bis. Calcul répartition CM'!T39=0),0,IF('3bis. Calcul répartition CM'!U39-'3bis. Calcul répartition CM'!S39>0,1,0)))","v":0},{"$f":"IF(AND('3bis. Calcul répartition CM'!V39=MAX('3bis. Calcul répartition CM'!V$9:V$58),'3bis. Calcul répartition CM'!V39>0,COUNTIF('3bis. Calcul répartition CM'!V$9:V$58,'3bis. Calcul répartition CM'!V39)>1,SUM('3bis. Calcul répartition CM'!W$9:W$58)-SUM('3bis. Calcul répartition CM'!U$9:U$58)>1),\"erreur\",\"\")","v":""},{"$f":"IF(V34=\"erreur\",0,IF(OR('3bis. Calcul répartition CM'!W$5=0,'3bis. Calcul répartition CM'!V39=0),0,IF('3bis. Calcul répartition CM'!W39-'3bis. Calcul répartition CM'!U39>0,1,0)))","v":0},{"$f":"IF(AND('3bis. Calcul répartition CM'!X39=MAX('3bis. Calcul répartition CM'!X$9:X$58),'3bis. Calcul répartition CM'!X39>0,COUNTIF('3bis. Calcul répartition CM'!X$9:X$58,'3bis. Calcul répartition CM'!X39)>1,SUM('3bis. Calcul répartition CM'!Y$9:Y$58)-SUM('3bis. Calcul répartition CM'!W$9:W$58)>1),\"erreur\",\"\")","v":""},{"$f":"IF(X34=\"erreur\",0,IF(OR('3bis. Calcul répartition CM'!Y$5=0,'3bis. Calcul répartition CM'!X39=0),0,IF('3bis. Calcul répartition CM'!Y39-'3bis. Calcul répartition CM'!W39>0,1,0)))","v":0},{"$f":"IF(AND('3bis. Calcul répartition CM'!Z39=MAX('3bis. Calcul répartition CM'!Z$9:Z$58),'3bis. Calcul répartition CM'!Z39>0,COUNTIF('3bis. Calcul répartition CM'!Z$9:Z$58,'3bis. Calcul répartition CM'!Z39)>1,SUM('3bis. Calcul répartition CM'!AA$9:AA$58)-SUM('3bis. Calcul répartition CM'!Y$9:Y$58)>1),\"erreur\",\"\")","v":""},{"$f":"IF(Z34=\"erreur\",0,IF(OR('3bis. Calcul répartition CM'!AA$5=0,'3bis. Calcul répartition CM'!Z39=0),0,IF('3bis. Calcul répartition CM'!AA39-'3bis. Calcul répartition CM'!Y39>0,1,0)))","v":0},{"$f":"IF(AND('3bis. Calcul répartition CM'!AB39=MAX('3bis. Calcul répartition CM'!AB$9:AB$58),'3bis. Calcul répartition CM'!AB39>0,COUNTIF('3bis. Calcul répartition CM'!AB$9:AB$58,'3bis. Calcul répartition CM'!AB39)>1,SUM('3bis. Calcul répartition CM'!AC$9:AC$58)-SUM('3bis. Calcul répartition CM'!AA$9:AA$58)>1),\"erreur\",\"\")","v":""},{"$f":"IF(AB34=\"erreur\",0,IF(OR('3bis. Calcul répartition CM'!AC$5=0,'3bis. Calcul répartition CM'!AB39=0),0,IF('3bis. Calcul répartition CM'!AC39-'3bis. Calcul répartition CM'!AA39>0,1,0)))","v":0},{"$f":"IF(AND('3bis. Calcul répartition CM'!AD39=MAX('3bis. Calcul répartition CM'!AD$9:AD$58),'3bis. Calcul répartition CM'!AD39>0,COUNTIF('3bis. Calcul répartition CM'!AD$9:AD$58,'3bis. Calcul répartition CM'!AD39)>1,SUM('3bis. Calcul répartition CM'!AE$9:AE$58)-SUM('3bis. Calcul répartition CM'!AC$9:AC$58)>1),\"erreur\",\"\")","v":""},{"$f":"IF(AD34=\"erreur\",0,IF(OR('3bis. Calcul répartition CM'!AE$5=0,'3bis. Calcul répartition CM'!AD39=0),0,IF('3bis. Calcul répartition CM'!AE39-'3bis. Calcul répartition CM'!AC39>0,1,0)))","v":0},{"$f":"IF(AND('3bis. Calcul répartition CM'!AF39=MAX('3bis. Calcul répartition CM'!AF$9:AF$58),'3bis. Calcul répartition CM'!AF39>0,COUNTIF('3bis. Calcul répartition CM'!AF$9:AF$58,'3bis. Calcul répartition CM'!AF39)>1,SUM('3bis. Calcul répartition CM'!AG$9:AG$58)-SUM('3bis. Calcul répartition CM'!AE$9:AE$58)>1),\"erreur\",\"\")","v":""},{"$f":"IF(AF34=\"erreur\",0,IF(OR('3bis. Calcul répartition CM'!AG$5=0,'3bis. Calcul répartition CM'!AF39=0),0,IF('3bis. Calcul répartition CM'!AG39-'3bis. Calcul répartition CM'!AE39>0,1,0)))","v":0},{"$f":"IF(AND('3bis. Calcul répartition CM'!AH39=MAX('3bis. Calcul répartition CM'!AH$9:AH$58),'3bis. Calcul répartition CM'!AH39>0,COUNTIF('3bis. Calcul répartition CM'!AH$9:AH$58,'3bis. Calcul répartition CM'!AH39)>1,SUM('3bis. Calcul répartition CM'!AI$9:AI$58)-SUM('3bis. Calcul répartition CM'!AG$9:AG$58)>1),\"erreur\",\"\")","v":""},{"$f":"IF(AH34=\"erreur\",0,IF(OR('3bis. Calcul répartition CM'!AI$5=0,'3bis. Calcul répartition CM'!AH39=0),0,IF('3bis. Calcul répartition CM'!AI39-'3bis. Calcul répartition CM'!AG39>0,1,0)))","v":0},{"$f":"IF(AND('3bis. Calcul répartition CM'!AJ39=MAX('3bis. Calcul répartition CM'!AJ$9:AJ$58),'3bis. Calcul répartition CM'!AJ39>0,COUNTIF('3bis. Calcul répartition CM'!AJ$9:AJ$58,'3bis. Calcul répartition CM'!AJ39)>1,SUM('3bis. Calcul répartition CM'!AK$9:AK$58)-SUM('3bis. Calcul répartition CM'!AI$9:AI$58)>1),\"erreur\",\"\")","v":""},{"$f":"IF(AJ34=\"erreur\",0,IF(OR('3bis. Calcul répartition CM'!AK$5=0,'3bis. Calcul répartition CM'!AJ39=0),0,IF('3bis. Calcul répartition CM'!AK39-'3bis. Calcul répartition CM'!AI39>0,1,0)))","v":0},{"$f":"IF(AND('3bis. Calcul répartition CM'!AL39=MAX('3bis. Calcul répartition CM'!AL$9:AL$58),'3bis. Calcul répartition CM'!AL39>0,COUNTIF('3bis. Calcul répartition CM'!AL$9:AL$58,'3bis. Calcul répartition CM'!AL39)>1,SUM('3bis. Calcul répartition CM'!AM$9:AM$58)-SUM('3bis. Calcul répartition CM'!AK$9:AK$58)>1),\"erreur\",\"\")","v":""},{"$f":"IF(AL34=\"erreur\",0,IF(OR('3bis. Calcul répartition CM'!AM$5=0,'3bis. Calcul répartition CM'!AL39=0),0,IF('3bis. Calcul répartition CM'!AM39-'3bis. Calcul répartition CM'!AK39>0,1,0)))","v":0},{"$f":"IF(AND('3bis. Calcul répartition CM'!AN39=MAX('3bis. Calcul répartition CM'!AN$9:AN$58),'3bis. Calcul répartition CM'!AN39>0,COUNTIF('3bis. Calcul répartition CM'!AN$9:AN$58,'3bis. Calcul répartition CM'!AN39)>1,SUM('3bis. Calcul répartition CM'!AO$9:AO$58)-SUM('3bis. Calcul répartition CM'!AM$9:AM$58)>1),\"erreur\",\"\")","v":""},{"$f":"IF(AN34=\"erreur\",0,IF(OR('3bis. Calcul répartition CM'!AO$5=0,'3bis. Calcul répartition CM'!AN39=0),0,IF('3bis. Calcul répartition CM'!AO39-'3bis. Calcul répartition CM'!AM39>0,1,0)))","v":0},{"$f":"IF(AND('3bis. Calcul répartition CM'!AP39=MAX('3bis. Calcul répartition CM'!AP$9:AP$58),'3bis. Calcul répartition CM'!AP39>0,COUNTIF('3bis. Calcul répartition CM'!AP$9:AP$58,'3bis. Calcul répartition CM'!AP39)>1,SUM('3bis. Calcul répartition CM'!AQ$9:AQ$58)-SUM('3bis. Calcul répartition CM'!AO$9:AO$58)>1),\"erreur\",\"\")","v":""},{"$f":"IF(AP34=\"erreur\",0,IF(OR('3bis. Calcul répartition CM'!AQ$5=0,'3bis. Calcul répartition CM'!AP39=0),0,IF('3bis. Calcul répartition CM'!AQ39-'3bis. Calcul répartition CM'!AO39>0,1,0)))","v":0},{"$f":"IF(AND('3bis. Calcul répartition CM'!AR39=MAX('3bis. Calcul répartition CM'!AR$9:AR$58),'3bis. Calcul répartition CM'!AR39>0,COUNTIF('3bis. Calcul répartition CM'!AR$9:AR$58,'3bis. Calcul répartition CM'!AR39)>1,SUM('3bis. Calcul répartition CM'!AS$9:AS$58)-SUM('3bis. Calcul répartition CM'!AQ$9:AQ$58)>1),\"erreur\",\"\")","v":""},{"$f":"IF(AR34=\"erreur\",0,IF(OR('3bis. Calcul répartition CM'!AS$5=0,'3bis. Calcul répartition CM'!AR39=0),0,IF('3bis. Calcul répartition CM'!AS39-'3bis. Calcul répartition CM'!AQ39>0,1,0)))","v":0},{"$f":"IF(AND('3bis. Calcul répartition CM'!AT39=MAX('3bis. Calcul répartition CM'!AT$9:AT$58),'3bis. Calcul répartition CM'!AT39>0,COUNTIF('3bis. Calcul répartition CM'!AT$9:AT$58,'3bis. Calcul répartition CM'!AT39)>1,SUM('3bis. Calcul répartition CM'!AU$9:AU$58)-SUM('3bis. Calcul répartition CM'!AS$9:AS$58)>1),\"erreur\",\"\")","v":""},{"$f":"IF(AT34=\"erreur\",0,IF(OR('3bis. Calcul répartition CM'!AU$5=0,'3bis. Calcul répartition CM'!AT39=0),0,IF('3bis. Calcul répartition CM'!AU39-'3bis. Calcul répartition CM'!AS39>0,1,0)))","v":0},{"$f":"IF(AND('3bis. Calcul répartition CM'!AV39=MAX('3bis. Calcul répartition CM'!AV$9:AV$58),'3bis. Calcul répartition CM'!AV39>0,COUNTIF('3bis. Calcul répartition CM'!AV$9:AV$58,'3bis. Calcul répartition CM'!AV39)>1,SUM('3bis. Calcul répartition CM'!AW$9:AW$58)-SUM('3bis. Calcul répartition CM'!AU$9:AU$58)>1),\"erreur\",\"\")","v":""},{"$f":"IF(AV34=\"erreur\",0,IF(OR('3bis. Calcul répartition CM'!AW$5=0,'3bis. Calcul répartition CM'!AV39=0),0,IF('3bis. Calcul répartition CM'!AW39-'3bis. Calcul répartition CM'!AU39>0,1,0)))","v":0},{"$f":"IF(AND('3bis. Calcul répartition CM'!AX39=MAX('3bis. Calcul répartition CM'!AX$9:AX$58),'3bis. Calcul répartition CM'!AX39>0,COUNTIF('3bis. Calcul répartition CM'!AX$9:AX$58,'3bis. Calcul répartition CM'!AX39)>1,SUM('3bis. Calcul répartition CM'!AY$9:AY$58)-SUM('3bis. Calcul répartition CM'!AW$9:AW$58)>1),\"erreur\",\"\")","v":""},{"$f":"IF(AX34=\"erreur\",0,IF(OR('3bis. Calcul répartition CM'!AY$5=0,'3bis. Calcul répartition CM'!AX39=0),0,IF('3bis. Calcul répartition CM'!AY39-'3bis. Calcul répartition CM'!AW39>0,1,0)))","v":0},{"$f":"IF(AND('3bis. Calcul répartition CM'!AZ39=MAX('3bis. Calcul répartition CM'!AZ$9:AZ$58),'3bis. Calcul répartition CM'!AZ39>0,COUNTIF('3bis. Calcul répartition CM'!AZ$9:AZ$58,'3bis. Calcul répartition CM'!AZ39)>1,SUM('3bis. Calcul répartition CM'!BA$9:BA$58)-SUM('3bis. Calcul répartition CM'!AY$9:AY$58)>1),\"erreur\",\"\")","v":""},{"$f":"IF(AZ34=\"erreur\",0,IF(OR('3bis. Calcul répartition CM'!BA$5=0,'3bis. Calcul répartition CM'!AZ39=0),0,IF('3bis. Calcul répartition CM'!BA39-'3bis. Calcul répartition CM'!AY39>0,1,0)))","v":0},{"$f":"IF(AND('3bis. Calcul répartition CM'!BB39=MAX('3bis. Calcul répartition CM'!BB$9:BB$58),'3bis. Calcul répartition CM'!BB39>0,COUNTIF('3bis. Calcul répartition CM'!BB$9:BB$58,'3bis. Calcul répartition CM'!BB39)>1,SUM('3bis. Calcul répartition CM'!BC$9:BC$58)-SUM('3bis. Calcul répartition CM'!BA$9:BA$58)>1),\"erreur\",\"\")","v":""},{"$f":"IF(BB34=\"erreur\",0,IF(OR('3bis. Calcul répartition CM'!BC$5=0,'3bis. Calcul répartition CM'!BB39=0),0,IF('3bis. Calcul répartition CM'!BC39-'3bis. Calcul répartition CM'!BA39>0,1,0)))","v":0},{"$f":"IF(AND('3bis. Calcul répartition CM'!BD39=MAX('3bis. Calcul répartition CM'!BD$9:BD$58),'3bis. Calcul répartition CM'!BD39>0,COUNTIF('3bis. Calcul répartition CM'!BD$9:BD$58,'3bis. Calcul répartition CM'!BD39)>1,SUM('3bis. Calcul répartition CM'!BE$9:BE$58)-SUM('3bis. Calcul répartition CM'!BC$9:BC$58)>1),\"erreur\",\"\")","v":""},{"$f":"IF(BD34=\"erreur\",0,IF(OR('3bis. Calcul répartition CM'!BE$5=0,'3bis. Calcul répartition CM'!BD39=0),0,IF('3bis. Calcul répartition CM'!BE39-'3bis. Calcul répartition CM'!BC39>0,1,0)))","v":0},{"$f":"IF(AND('3bis. Calcul répartition CM'!BF39=MAX('3bis. Calcul répartition CM'!BF$9:BF$58),'3bis. Calcul répartition CM'!BF39>0,COUNTIF('3bis. Calcul répartition CM'!BF$9:BF$58,'3bis. Calcul répartition CM'!BF39)>1,SUM('3bis. Calcul répartition CM'!BG$9:BG$58)-SUM('3bis. Calcul répartition CM'!BE$9:BE$58)>1),\"erreur\",\"\")","v":""},{"$f":"IF(BF34=\"erreur\",0,IF(OR('3bis. Calcul répartition CM'!BG$5=0,'3bis. Calcul répartition CM'!BF39=0),0,IF('3bis. Calcul répartition CM'!BG39-'3bis. Calcul répartition CM'!BE39>0,1,0)))","v":0},{"$f":"IF(AND('3bis. Calcul répartition CM'!BH39=MAX('3bis. Calcul répartition CM'!BH$9:BH$58),'3bis. Calcul répartition CM'!BH39>0,COUNTIF('3bis. Calcul répartition CM'!BH$9:BH$58,'3bis. Calcul répartition CM'!BH39)>1,SUM('3bis. Calcul répartition CM'!BI$9:BI$58)-SUM('3bis. Calcul répartition CM'!BG$9:BG$58)>1),\"erreur\",\"\")","v":""},{"$f":"IF(BH34=\"erreur\",0,IF(OR('3bis. Calcul répartition CM'!BI$5=0,'3bis. Calcul répartition CM'!BH39=0),0,IF('3bis. Calcul répartition CM'!BI39-'3bis. Calcul répartition CM'!BG39>0,1,0)))","v":0},{"$f":"IF(AND('3bis. Calcul répartition CM'!BJ39=MAX('3bis. Calcul répartition CM'!BJ$9:BJ$58),'3bis. Calcul répartition CM'!BJ39>0,COUNTIF('3bis. Calcul répartition CM'!BJ$9:BJ$58,'3bis. Calcul répartition CM'!BJ39)>1,SUM('3bis. Calcul répartition CM'!BK$9:BK$58)-SUM('3bis. Calcul répartition CM'!BI$9:BI$58)>1),\"erreur\",\"\")","v":""},{"$f":"IF(BJ34=\"erreur\",0,IF(OR('3bis. Calcul répartition CM'!BK$5=0,'3bis. Calcul répartition CM'!BJ39=0),0,IF('3bis. Calcul répartition CM'!BK39-'3bis. Calcul répartition CM'!BI39>0,1,0)))","v":0},{"$f":"IF(AND('3bis. Calcul répartition CM'!BL39=MAX('3bis. Calcul répartition CM'!BL$9:BL$58),'3bis. Calcul répartition CM'!BL39>0,COUNTIF('3bis. Calcul répartition CM'!BL$9:BL$58,'3bis. Calcul répartition CM'!BL39)>1,SUM('3bis. Calcul répartition CM'!BM$9:BM$58)-SUM('3bis. Calcul répartition CM'!BK$9:BK$58)>1),\"erreur\",\"\")","v":""},{"$f":"IF(BL34=\"erreur\",0,IF(OR('3bis. Calcul répartition CM'!BM$5=0,'3bis. Calcul répartition CM'!BL39=0),0,IF('3bis. Calcul répartition CM'!BM39-'3bis. Calcul répartition CM'!BK39>0,1,0)))","v":0},{"$f":"IF(AND('3bis. Calcul répartition CM'!BN39=MAX('3bis. Calcul répartition CM'!BN$9:BN$58),'3bis. Calcul répartition CM'!BN39>0,COUNTIF('3bis. Calcul répartition CM'!BN$9:BN$58,'3bis. Calcul répartition CM'!BN39)>1,SUM('3bis. Calcul répartition CM'!BO$9:BO$58)-SUM('3bis. Calcul répartition CM'!BM$9:BM$58)>1),\"erreur\",\"\")","v":""},{"$f":"IF(BN34=\"erreur\",0,IF(OR('3bis. Calcul répartition CM'!BO$5=0,'3bis. Calcul répartition CM'!BN39=0),0,IF('3bis. Calcul répartition CM'!BO39-'3bis. Calcul répartition CM'!BM39>0,1,0)))","v":0},{"$f":"IF(AND('3bis. Calcul répartition CM'!BP39=MAX('3bis. Calcul répartition CM'!BP$9:BP$58),'3bis. Calcul répartition CM'!BP39>0,COUNTIF('3bis. Calcul répartition CM'!BP$9:BP$58,'3bis. Calcul répartition CM'!BP39)>1,SUM('3bis. Calcul répartition CM'!BQ$9:BQ$58)-SUM('3bis. Calcul répartition CM'!BO$9:BO$58)>1),\"erreur\",\"\")","v":""},{"$f":"IF(BP34=\"erreur\",0,IF(OR('3bis. Calcul répartition CM'!BQ$5=0,'3bis. Calcul répartition CM'!BP39=0),0,IF('3bis. Calcul répartition CM'!BQ39-'3bis. Calcul répartition CM'!BO39>0,1,0)))","v":0}]
[null,null,null,null,null,null,null,null,{"$f":"'3bis. Calcul répartition CM'!B40","v":0},{"$f":"IF(AND('3bis. Calcul répartition CM'!J40=MAX('3bis. Calcul répartition CM'!J$9:J$58),'3bis. Calcul répartition CM'!J40>0,COUNTIF('3bis. Calcul répartition CM'!J$9:J$58,'3bis. Calcul répartition CM'!J40)>1,SUM('3bis. Calcul répartition CM'!$K$9:$K$58)-SUM('3bis. Calcul répartition CM'!$D$9:$D$58)>1),\"erreur\",\"\")","v":""},{"$f":"IF(J35=\"erreur\",0,IF(OR('3bis. Calcul répartition CM'!K$5=0,'3bis. Calcul répartition CM'!J40=0),0,IF('3bis. Calcul répartition CM'!K40-'3bis. Calcul répartition CM'!D40>0,1,0)))","v":0},{"$f":"IF(AND('3bis. Calcul répartition CM'!L40=MAX('3bis. Calcul répartition CM'!L$9:L$58),'3bis. Calcul répartition CM'!L40>0,COUNTIF('3bis. Calcul répartition CM'!L$9:L$58,'3bis. Calcul répartition CM'!L40)>1,SUM('3bis. Calcul répartition CM'!M$9:M$58)-SUM('3bis. Calcul répartition CM'!K$9:K$58)>1),\"erreur\",\"\")","v":""},{"$f":"IF(L35=\"erreur\",0,IF(OR('3bis. Calcul répartition CM'!M$5=0,'3bis. Calcul répartition CM'!L40=0),0,IF('3bis. Calcul répartition CM'!M40-'3bis. Calcul répartition CM'!K40>0,1,0)))","v":0},{"$f":"IF(AND('3bis. Calcul répartition CM'!N40=MAX('3bis. Calcul répartition CM'!N$9:N$58),'3bis. Calcul répartition CM'!N40>0,COUNTIF('3bis. Calcul répartition CM'!N$9:N$58,'3bis. Calcul répartition CM'!N40)>1,SUM('3bis. Calcul répartition CM'!O$9:O$58)-SUM('3bis. Calcul répartition CM'!M$9:M$58)>1),\"erreur\",\"\")","v":""},{"$f":"IF(N35=\"erreur\",0,IF(OR('3bis. Calcul répartition CM'!O$5=0,'3bis. Calcul répartition CM'!N40=0),0,IF('3bis. Calcul répartition CM'!O40-'3bis. Calcul répartition CM'!M40>0,1,0)))","v":0},{"$f":"IF(AND('3bis. Calcul répartition CM'!P40=MAX('3bis. Calcul répartition CM'!P$9:P$58),'3bis. Calcul répartition CM'!P40>0,COUNTIF('3bis. Calcul répartition CM'!P$9:P$58,'3bis. Calcul répartition CM'!P40)>1,SUM('3bis. Calcul répartition CM'!Q$9:Q$58)-SUM('3bis. Calcul répartition CM'!O$9:O$58)>1),\"erreur\",\"\")","v":""},{"$f":"IF(P35=\"erreur\",0,IF(OR('3bis. Calcul répartition CM'!Q$5=0,'3bis. Calcul répartition CM'!P40=0),0,IF('3bis. Calcul répartition CM'!Q40-'3bis. Calcul répartition CM'!O40>0,1,0)))","v":0},{"$f":"IF(AND('3bis. Calcul répartition CM'!R40=MAX('3bis. Calcul répartition CM'!R$9:R$58),'3bis. Calcul répartition CM'!R40>0,COUNTIF('3bis. Calcul répartition CM'!R$9:R$58,'3bis. Calcul répartition CM'!R40)>1,SUM('3bis. Calcul répartition CM'!S$9:S$58)-SUM('3bis. Calcul répartition CM'!Q$9:Q$58)>1),\"erreur\",\"\")","v":""},{"$f":"IF(R35=\"erreur\",0,IF(OR('3bis. Calcul répartition CM'!S$5=0,'3bis. Calcul répartition CM'!R40=0),0,IF('3bis. Calcul répartition CM'!S40-'3bis. Calcul répartition CM'!Q40>0,1,0)))","v":0},{"$f":"IF(AND('3bis. Calcul répartition CM'!T40=MAX('3bis. Calcul répartition CM'!T$9:T$58),'3bis. Calcul répartition CM'!T40>0,COUNTIF('3bis. Calcul répartition CM'!T$9:T$58,'3bis. Calcul répartition CM'!T40)>1,SUM('3bis. Calcul répartition CM'!U$9:U$58)-SUM('3bis. Calcul répartition CM'!S$9:S$58)>1),\"erreur\",\"\")","v":""},{"$f":"IF(T35=\"erreur\",0,IF(OR('3bis. Calcul répartition CM'!U$5=0,'3bis. Calcul répartition CM'!T40=0),0,IF('3bis. Calcul répartition CM'!U40-'3bis. Calcul répartition CM'!S40>0,1,0)))","v":0},{"$f":"IF(AND('3bis. Calcul répartition CM'!V40=MAX('3bis. Calcul répartition CM'!V$9:V$58),'3bis. Calcul répartition CM'!V40>0,COUNTIF('3bis. Calcul répartition CM'!V$9:V$58,'3bis. Calcul répartition CM'!V40)>1,SUM('3bis. Calcul répartition CM'!W$9:W$58)-SUM('3bis. Calcul répartition CM'!U$9:U$58)>1),\"erreur\",\"\")","v":""},{"$f":"IF(V35=\"erreur\",0,IF(OR('3bis. Calcul répartition CM'!W$5=0,'3bis. Calcul répartition CM'!V40=0),0,IF('3bis. Calcul répartition CM'!W40-'3bis. Calcul répartition CM'!U40>0,1,0)))","v":0},{"$f":"IF(AND('3bis. Calcul répartition CM'!X40=MAX('3bis. Calcul répartition CM'!X$9:X$58),'3bis. Calcul répartition CM'!X40>0,COUNTIF('3bis. Calcul répartition CM'!X$9:X$58,'3bis. Calcul répartition CM'!X40)>1,SUM('3bis. Calcul répartition CM'!Y$9:Y$58)-SUM('3bis. Calcul répartition CM'!W$9:W$58)>1),\"erreur\",\"\")","v":""},{"$f":"IF(X35=\"erreur\",0,IF(OR('3bis. Calcul répartition CM'!Y$5=0,'3bis. Calcul répartition CM'!X40=0),0,IF('3bis. Calcul répartition CM'!Y40-'3bis. Calcul répartition CM'!W40>0,1,0)))","v":0},{"$f":"IF(AND('3bis. Calcul répartition CM'!Z40=MAX('3bis. Calcul répartition CM'!Z$9:Z$58),'3bis. Calcul répartition CM'!Z40>0,COUNTIF('3bis. Calcul répartition CM'!Z$9:Z$58,'3bis. Calcul répartition CM'!Z40)>1,SUM('3bis. Calcul répartition CM'!AA$9:AA$58)-SUM('3bis. Calcul répartition CM'!Y$9:Y$58)>1),\"erreur\",\"\")","v":""},{"$f":"IF(Z35=\"erreur\",0,IF(OR('3bis. Calcul répartition CM'!AA$5=0,'3bis. Calcul répartition CM'!Z40=0),0,IF('3bis. Calcul répartition CM'!AA40-'3bis. Calcul répartition CM'!Y40>0,1,0)))","v":0},{"$f":"IF(AND('3bis. Calcul répartition CM'!AB40=MAX('3bis. Calcul répartition CM'!AB$9:AB$58),'3bis. Calcul répartition CM'!AB40>0,COUNTIF('3bis. Calcul répartition CM'!AB$9:AB$58,'3bis. Calcul répartition CM'!AB40)>1,SUM('3bis. Calcul répartition CM'!AC$9:AC$58)-SUM('3bis. Calcul répartition CM'!AA$9:AA$58)>1),\"erreur\",\"\")","v":""},{"$f":"IF(AB35=\"erreur\",0,IF(OR('3bis. Calcul répartition CM'!AC$5=0,'3bis. Calcul répartition CM'!AB40=0),0,IF('3bis. Calcul répartition CM'!AC40-'3bis. Calcul répartition CM'!AA40>0,1,0)))","v":0},{"$f":"IF(AND('3bis. Calcul répartition CM'!AD40=MAX('3bis. Calcul répartition CM'!AD$9:AD$58),'3bis. Calcul répartition CM'!AD40>0,COUNTIF('3bis. Calcul répartition CM'!AD$9:AD$58,'3bis. Calcul répartition CM'!AD40)>1,SUM('3bis. Calcul répartition CM'!AE$9:AE$58)-SUM('3bis. Calcul répartition CM'!AC$9:AC$58)>1),\"erreur\",\"\")","v":""},{"$f":"IF(AD35=\"erreur\",0,IF(OR('3bis. Calcul répartition CM'!AE$5=0,'3bis. Calcul répartition CM'!AD40=0),0,IF('3bis. Calcul répartition CM'!AE40-'3bis. Calcul répartition CM'!AC40>0,1,0)))","v":0},{"$f":"IF(AND('3bis. Calcul répartition CM'!AF40=MAX('3bis. Calcul répartition CM'!AF$9:AF$58),'3bis. Calcul répartition CM'!AF40>0,COUNTIF('3bis. Calcul répartition CM'!AF$9:AF$58,'3bis. Calcul répartition CM'!AF40)>1,SUM('3bis. Calcul répartition CM'!AG$9:AG$58)-SUM('3bis. Calcul répartition CM'!AE$9:AE$58)>1),\"erreur\",\"\")","v":""},{"$f":"IF(AF35=\"erreur\",0,IF(OR('3bis. Calcul répartition CM'!AG$5=0,'3bis. Calcul répartition CM'!AF40=0),0,IF('3bis. Calcul répartition CM'!AG40-'3bis. Calcul répartition CM'!AE40>0,1,0)))","v":0},{"$f":"IF(AND('3bis. Calcul répartition CM'!AH40=MAX('3bis. Calcul répartition CM'!AH$9:AH$58),'3bis. Calcul répartition CM'!AH40>0,COUNTIF('3bis. Calcul répartition CM'!AH$9:AH$58,'3bis. Calcul répartition CM'!AH40)>1,SUM('3bis. Calcul répartition CM'!AI$9:AI$58)-SUM('3bis. Calcul répartition CM'!AG$9:AG$58)>1),\"erreur\",\"\")","v":""},{"$f":"IF(AH35=\"erreur\",0,IF(OR('3bis. Calcul répartition CM'!AI$5=0,'3bis. Calcul répartition CM'!AH40=0),0,IF('3bis. Calcul répartition CM'!AI40-'3bis. Calcul répartition CM'!AG40>0,1,0)))","v":0},{"$f":"IF(AND('3bis. Calcul répartition CM'!AJ40=MAX('3bis. Calcul répartition CM'!AJ$9:AJ$58),'3bis. Calcul répartition CM'!AJ40>0,COUNTIF('3bis. Calcul répartition CM'!AJ$9:AJ$58,'3bis. Calcul répartition CM'!AJ40)>1,SUM('3bis. Calcul répartition CM'!AK$9:AK$58)-SUM('3bis. Calcul répartition CM'!AI$9:AI$58)>1),\"erreur\",\"\")","v":""},{"$f":"IF(AJ35=\"erreur\",0,IF(OR('3bis. Calcul répartition CM'!AK$5=0,'3bis. Calcul répartition CM'!AJ40=0),0,IF('3bis. Calcul répartition CM'!AK40-'3bis. Calcul répartition CM'!AI40>0,1,0)))","v":0},{"$f":"IF(AND('3bis. Calcul répartition CM'!AL40=MAX('3bis. Calcul répartition CM'!AL$9:AL$58),'3bis. Calcul répartition CM'!AL40>0,COUNTIF('3bis. Calcul répartition CM'!AL$9:AL$58,'3bis. Calcul répartition CM'!AL40)>1,SUM('3bis. Calcul répartition CM'!AM$9:AM$58)-SUM('3bis. Calcul répartition CM'!AK$9:AK$58)>1),\"erreur\",\"\")","v":""},{"$f":"IF(AL35=\"erreur\",0,IF(OR('3bis. Calcul répartition CM'!AM$5=0,'3bis. Calcul répartition CM'!AL40=0),0,IF('3bis. Calcul répartition CM'!AM40-'3bis. Calcul répartition CM'!AK40>0,1,0)))","v":0},{"$f":"IF(AND('3bis. Calcul répartition CM'!AN40=MAX('3bis. Calcul répartition CM'!AN$9:AN$58),'3bis. Calcul répartition CM'!AN40>0,COUNTIF('3bis. Calcul répartition CM'!AN$9:AN$58,'3bis. Calcul répartition CM'!AN40)>1,SUM('3bis. Calcul répartition CM'!AO$9:AO$58)-SUM('3bis. Calcul répartition CM'!AM$9:AM$58)>1),\"erreur\",\"\")","v":""},{"$f":"IF(AN35=\"erreur\",0,IF(OR('3bis. Calcul répartition CM'!AO$5=0,'3bis. Calcul répartition CM'!AN40=0),0,IF('3bis. Calcul répartition CM'!AO40-'3bis. Calcul répartition CM'!AM40>0,1,0)))","v":0},{"$f":"IF(AND('3bis. Calcul répartition CM'!AP40=MAX('3bis. Calcul répartition CM'!AP$9:AP$58),'3bis. Calcul répartition CM'!AP40>0,COUNTIF('3bis. Calcul répartition CM'!AP$9:AP$58,'3bis. Calcul répartition CM'!AP40)>1,SUM('3bis. Calcul répartition CM'!AQ$9:AQ$58)-SUM('3bis. Calcul répartition CM'!AO$9:AO$58)>1),\"erreur\",\"\")","v":""},{"$f":"IF(AP35=\"erreur\",0,IF(OR('3bis. Calcul répartition CM'!AQ$5=0,'3bis. Calcul répartition CM'!AP40=0),0,IF('3bis. Calcul répartition CM'!AQ40-'3bis. Calcul répartition CM'!AO40>0,1,0)))","v":0},{"$f":"IF(AND('3bis. Calcul répartition CM'!AR40=MAX('3bis. Calcul répartition CM'!AR$9:AR$58),'3bis. Calcul répartition CM'!AR40>0,COUNTIF('3bis. Calcul répartition CM'!AR$9:AR$58,'3bis. Calcul répartition CM'!AR40)>1,SUM('3bis. Calcul répartition CM'!AS$9:AS$58)-SUM('3bis. Calcul répartition CM'!AQ$9:AQ$58)>1),\"erreur\",\"\")","v":""},{"$f":"IF(AR35=\"erreur\",0,IF(OR('3bis. Calcul répartition CM'!AS$5=0,'3bis. Calcul répartition CM'!AR40=0),0,IF('3bis. Calcul répartition CM'!AS40-'3bis. Calcul répartition CM'!AQ40>0,1,0)))","v":0},{"$f":"IF(AND('3bis. Calcul répartition CM'!AT40=MAX('3bis. Calcul répartition CM'!AT$9:AT$58),'3bis. Calcul répartition CM'!AT40>0,COUNTIF('3bis. Calcul répartition CM'!AT$9:AT$58,'3bis. Calcul répartition CM'!AT40)>1,SUM('3bis. Calcul répartition CM'!AU$9:AU$58)-SUM('3bis. Calcul répartition CM'!AS$9:AS$58)>1),\"erreur\",\"\")","v":""},{"$f":"IF(AT35=\"erreur\",0,IF(OR('3bis. Calcul répartition CM'!AU$5=0,'3bis. Calcul répartition CM'!AT40=0),0,IF('3bis. Calcul répartition CM'!AU40-'3bis. Calcul répartition CM'!AS40>0,1,0)))","v":0},{"$f":"IF(AND('3bis. Calcul répartition CM'!AV40=MAX('3bis. Calcul répartition CM'!AV$9:AV$58),'3bis. Calcul répartition CM'!AV40>0,COUNTIF('3bis. Calcul répartition CM'!AV$9:AV$58,'3bis. Calcul répartition CM'!AV40)>1,SUM('3bis. Calcul répartition CM'!AW$9:AW$58)-SUM('3bis. Calcul répartition CM'!AU$9:AU$58)>1),\"erreur\",\"\")","v":""},{"$f":"IF(AV35=\"erreur\",0,IF(OR('3bis. Calcul répartition CM'!AW$5=0,'3bis. Calcul répartition CM'!AV40=0),0,IF('3bis. Calcul répartition CM'!AW40-'3bis. Calcul répartition CM'!AU40>0,1,0)))","v":0},{"$f":"IF(AND('3bis. Calcul répartition CM'!AX40=MAX('3bis. Calcul répartition CM'!AX$9:AX$58),'3bis. Calcul répartition CM'!AX40>0,COUNTIF('3bis. Calcul répartition CM'!AX$9:AX$58,'3bis. Calcul répartition CM'!AX40)>1,SUM('3bis. Calcul répartition CM'!AY$9:AY$58)-SUM('3bis. Calcul répartition CM'!AW$9:AW$58)>1),\"erreur\",\"\")","v":""},{"$f":"IF(AX35=\"erreur\",0,IF(OR('3bis. Calcul répartition CM'!AY$5=0,'3bis. Calcul répartition CM'!AX40=0),0,IF('3bis. Calcul répartition CM'!AY40-'3bis. Calcul répartition CM'!AW40>0,1,0)))","v":0},{"$f":"IF(AND('3bis. Calcul répartition CM'!AZ40=MAX('3bis. Calcul répartition CM'!AZ$9:AZ$58),'3bis. Calcul répartition CM'!AZ40>0,COUNTIF('3bis. Calcul répartition CM'!AZ$9:AZ$58,'3bis. Calcul répartition CM'!AZ40)>1,SUM('3bis. Calcul répartition CM'!BA$9:BA$58)-SUM('3bis. Calcul répartition CM'!AY$9:AY$58)>1),\"erreur\",\"\")","v":""},{"$f":"IF(AZ35=\"erreur\",0,IF(OR('3bis. Calcul répartition CM'!BA$5=0,'3bis. Calcul répartition CM'!AZ40=0),0,IF('3bis. Calcul répartition CM'!BA40-'3bis. Calcul répartition CM'!AY40>0,1,0)))","v":0},{"$f":"IF(AND('3bis. Calcul répartition CM'!BB40=MAX('3bis. Calcul répartition CM'!BB$9:BB$58),'3bis. Calcul répartition CM'!BB40>0,COUNTIF('3bis. Calcul répartition CM'!BB$9:BB$58,'3bis. Calcul répartition CM'!BB40)>1,SUM('3bis. Calcul répartition CM'!BC$9:BC$58)-SUM('3bis. Calcul répartition CM'!BA$9:BA$58)>1),\"erreur\",\"\")","v":""},{"$f":"IF(BB35=\"erreur\",0,IF(OR('3bis. Calcul répartition CM'!BC$5=0,'3bis. Calcul répartition CM'!BB40=0),0,IF('3bis. Calcul répartition CM'!BC40-'3bis. Calcul répartition CM'!BA40>0,1,0)))","v":0},{"$f":"IF(AND('3bis. Calcul répartition CM'!BD40=MAX('3bis. Calcul répartition CM'!BD$9:BD$58),'3bis. Calcul répartition CM'!BD40>0,COUNTIF('3bis. Calcul répartition CM'!BD$9:BD$58,'3bis. Calcul répartition CM'!BD40)>1,SUM('3bis. Calcul répartition CM'!BE$9:BE$58)-SUM('3bis. Calcul répartition CM'!BC$9:BC$58)>1),\"erreur\",\"\")","v":""},{"$f":"IF(BD35=\"erreur\",0,IF(OR('3bis. Calcul répartition CM'!BE$5=0,'3bis. Calcul répartition CM'!BD40=0),0,IF('3bis. Calcul répartition CM'!BE40-'3bis. Calcul répartition CM'!BC40>0,1,0)))","v":0},{"$f":"IF(AND('3bis. Calcul répartition CM'!BF40=MAX('3bis. Calcul répartition CM'!BF$9:BF$58),'3bis. Calcul répartition CM'!BF40>0,COUNTIF('3bis. Calcul répartition CM'!BF$9:BF$58,'3bis. Calcul répartition CM'!BF40)>1,SUM('3bis. Calcul répartition CM'!BG$9:BG$58)-SUM('3bis. Calcul répartition CM'!BE$9:BE$58)>1),\"erreur\",\"\")","v":""},{"$f":"IF(BF35=\"erreur\",0,IF(OR('3bis. Calcul répartition CM'!BG$5=0,'3bis. Calcul répartition CM'!BF40=0),0,IF('3bis. Calcul répartition CM'!BG40-'3bis. Calcul répartition CM'!BE40>0,1,0)))","v":0},{"$f":"IF(AND('3bis. Calcul répartition CM'!BH40=MAX('3bis. Calcul répartition CM'!BH$9:BH$58),'3bis. Calcul répartition CM'!BH40>0,COUNTIF('3bis. Calcul répartition CM'!BH$9:BH$58,'3bis. Calcul répartition CM'!BH40)>1,SUM('3bis. Calcul répartition CM'!BI$9:BI$58)-SUM('3bis. Calcul répartition CM'!BG$9:BG$58)>1),\"erreur\",\"\")","v":""},{"$f":"IF(BH35=\"erreur\",0,IF(OR('3bis. Calcul répartition CM'!BI$5=0,'3bis. Calcul répartition CM'!BH40=0),0,IF('3bis. Calcul répartition CM'!BI40-'3bis. Calcul répartition CM'!BG40>0,1,0)))","v":0},{"$f":"IF(AND('3bis. Calcul répartition CM'!BJ40=MAX('3bis. Calcul répartition CM'!BJ$9:BJ$58),'3bis. Calcul répartition CM'!BJ40>0,COUNTIF('3bis. Calcul répartition CM'!BJ$9:BJ$58,'3bis. Calcul répartition CM'!BJ40)>1,SUM('3bis. Calcul répartition CM'!BK$9:BK$58)-SUM('3bis. Calcul répartition CM'!BI$9:BI$58)>1),\"erreur\",\"\")","v":""},{"$f":"IF(BJ35=\"erreur\",0,IF(OR('3bis. Calcul répartition CM'!BK$5=0,'3bis. Calcul répartition CM'!BJ40=0),0,IF('3bis. Calcul répartition CM'!BK40-'3bis. Calcul répartition CM'!BI40>0,1,0)))","v":0},{"$f":"IF(AND('3bis. Calcul répartition CM'!BL40=MAX('3bis. Calcul répartition CM'!BL$9:BL$58),'3bis. Calcul répartition CM'!BL40>0,COUNTIF('3bis. Calcul répartition CM'!BL$9:BL$58,'3bis. Calcul répartition CM'!BL40)>1,SUM('3bis. Calcul répartition CM'!BM$9:BM$58)-SUM('3bis. Calcul répartition CM'!BK$9:BK$58)>1),\"erreur\",\"\")","v":""},{"$f":"IF(BL35=\"erreur\",0,IF(OR('3bis. Calcul répartition CM'!BM$5=0,'3bis. Calcul répartition CM'!BL40=0),0,IF('3bis. Calcul répartition CM'!BM40-'3bis. Calcul répartition CM'!BK40>0,1,0)))","v":0},{"$f":"IF(AND('3bis. Calcul répartition CM'!BN40=MAX('3bis. Calcul répartition CM'!BN$9:BN$58),'3bis. Calcul répartition CM'!BN40>0,COUNTIF('3bis. Calcul répartition CM'!BN$9:BN$58,'3bis. Calcul répartition CM'!BN40)>1,SUM('3bis. Calcul répartition CM'!BO$9:BO$58)-SUM('3bis. Calcul répartition CM'!BM$9:BM$58)>1),\"erreur\",\"\")","v":""},{"$f":"IF(BN35=\"erreur\",0,IF(OR('3bis. Calcul répartition CM'!BO$5=0,'3bis. Calcul répartition CM'!BN40=0),0,IF('3bis. Calcul répartition CM'!BO40-'3bis. Calcul répartition CM'!BM40>0,1,0)))","v":0},{"$f":"IF(AND('3bis. Calcul répartition CM'!BP40=MAX('3bis. Calcul répartition CM'!BP$9:BP$58),'3bis. Calcul répartition CM'!BP40>0,COUNTIF('3bis. Calcul répartition CM'!BP$9:BP$58,'3bis. Calcul répartition CM'!BP40)>1,SUM('3bis. Calcul répartition CM'!BQ$9:BQ$58)-SUM('3bis. Calcul répartition CM'!BO$9:BO$58)>1),\"erreur\",\"\")","v":""},{"$f":"IF(BP35=\"erreur\",0,IF(OR('3bis. Calcul répartition CM'!BQ$5=0,'3bis. Calcul répartition CM'!BP40=0),0,IF('3bis. Calcul répartition CM'!BQ40-'3bis. Calcul répartition CM'!BO40>0,1,0)))","v":0}]
[null,null,null,null,null,null,null,null,{"$f":"'3bis. Calcul répartition CM'!B41","v":0},{"$f":"IF(AND('3bis. Calcul répartition CM'!J41=MAX('3bis. Calcul répartition CM'!J$9:J$58),'3bis. Calcul répartition CM'!J41>0,COUNTIF('3bis. Calcul répartition CM'!J$9:J$58,'3bis. Calcul répartition CM'!J41)>1,SUM('3bis. Calcul répartition CM'!$K$9:$K$58)-SUM('3bis. Calcul répartition CM'!$D$9:$D$58)>1),\"erreur\",\"\")","v":""},{"$f":"IF(J36=\"erreur\",0,IF(OR('3bis. Calcul répartition CM'!K$5=0,'3bis. Calcul répartition CM'!J41=0),0,IF('3bis. Calcul répartition CM'!K41-'3bis. Calcul répartition CM'!D41>0,1,0)))","v":0},{"$f":"IF(AND('3bis. Calcul répartition CM'!L41=MAX('3bis. Calcul répartition CM'!L$9:L$58),'3bis. Calcul répartition CM'!L41>0,COUNTIF('3bis. Calcul répartition CM'!L$9:L$58,'3bis. Calcul répartition CM'!L41)>1,SUM('3bis. Calcul répartition CM'!M$9:M$58)-SUM('3bis. Calcul répartition CM'!K$9:K$58)>1),\"erreur\",\"\")","v":""},{"$f":"IF(L36=\"erreur\",0,IF(OR('3bis. Calcul répartition CM'!M$5=0,'3bis. Calcul répartition CM'!L41=0),0,IF('3bis. Calcul répartition CM'!M41-'3bis. Calcul répartition CM'!K41>0,1,0)))","v":0},{"$f":"IF(AND('3bis. Calcul répartition CM'!N41=MAX('3bis. Calcul répartition CM'!N$9:N$58),'3bis. Calcul répartition CM'!N41>0,COUNTIF('3bis. Calcul répartition CM'!N$9:N$58,'3bis. Calcul répartition CM'!N41)>1,SUM('3bis. Calcul répartition CM'!O$9:O$58)-SUM('3bis. Calcul répartition CM'!M$9:M$58)>1),\"erreur\",\"\")","v":""},{"$f":"IF(N36=\"erreur\",0,IF(OR('3bis. Calcul répartition CM'!O$5=0,'3bis. Calcul répartition CM'!N41=0),0,IF('3bis. Calcul répartition CM'!O41-'3bis. Calcul répartition CM'!M41>0,1,0)))","v":0},{"$f":"IF(AND('3bis. Calcul répartition CM'!P41=MAX('3bis. Calcul répartition CM'!P$9:P$58),'3bis. Calcul répartition CM'!P41>0,COUNTIF('3bis. Calcul répartition CM'!P$9:P$58,'3bis. Calcul répartition CM'!P41)>1,SUM('3bis. Calcul répartition CM'!Q$9:Q$58)-SUM('3bis. Calcul répartition CM'!O$9:O$58)>1),\"erreur\",\"\")","v":""},{"$f":"IF(P36=\"erreur\",0,IF(OR('3bis. Calcul répartition CM'!Q$5=0,'3bis. Calcul répartition CM'!P41=0),0,IF('3bis. Calcul répartition CM'!Q41-'3bis. Calcul répartition CM'!O41>0,1,0)))","v":0},{"$f":"IF(AND('3bis. Calcul répartition CM'!R41=MAX('3bis. Calcul répartition CM'!R$9:R$58),'3bis. Calcul répartition CM'!R41>0,COUNTIF('3bis. Calcul répartition CM'!R$9:R$58,'3bis. Calcul répartition CM'!R41)>1,SUM('3bis. Calcul répartition CM'!S$9:S$58)-SUM('3bis. Calcul répartition CM'!Q$9:Q$58)>1),\"erreur\",\"\")","v":""},{"$f":"IF(R36=\"erreur\",0,IF(OR('3bis. Calcul répartition CM'!S$5=0,'3bis. Calcul répartition CM'!R41=0),0,IF('3bis. Calcul répartition CM'!S41-'3bis. Calcul répartition CM'!Q41>0,1,0)))","v":0},{"$f":"IF(AND('3bis. Calcul répartition CM'!T41=MAX('3bis. Calcul répartition CM'!T$9:T$58),'3bis. Calcul répartition CM'!T41>0,COUNTIF('3bis. Calcul répartition CM'!T$9:T$58,'3bis. Calcul répartition CM'!T41)>1,SUM('3bis. Calcul répartition CM'!U$9:U$58)-SUM('3bis. Calcul répartition CM'!S$9:S$58)>1),\"erreur\",\"\")","v":""},{"$f":"IF(T36=\"erreur\",0,IF(OR('3bis. Calcul répartition CM'!U$5=0,'3bis. Calcul répartition CM'!T41=0),0,IF('3bis. Calcul répartition CM'!U41-'3bis. Calcul répartition CM'!S41>0,1,0)))","v":0},{"$f":"IF(AND('3bis. Calcul répartition CM'!V41=MAX('3bis. Calcul répartition CM'!V$9:V$58),'3bis. Calcul répartition CM'!V41>0,COUNTIF('3bis. Calcul répartition CM'!V$9:V$58,'3bis. Calcul répartition CM'!V41)>1,SUM('3bis. Calcul répartition CM'!W$9:W$58)-SUM('3bis. Calcul répartition CM'!U$9:U$58)>1),\"erreur\",\"\")","v":""},{"$f":"IF(V36=\"erreur\",0,IF(OR('3bis. Calcul répartition CM'!W$5=0,'3bis. Calcul répartition CM'!V41=0),0,IF('3bis. Calcul répartition CM'!W41-'3bis. Calcul répartition CM'!U41>0,1,0)))","v":0},{"$f":"IF(AND('3bis. Calcul répartition CM'!X41=MAX('3bis. Calcul répartition CM'!X$9:X$58),'3bis. Calcul répartition CM'!X41>0,COUNTIF('3bis. Calcul répartition CM'!X$9:X$58,'3bis. Calcul répartition CM'!X41)>1,SUM('3bis. Calcul répartition CM'!Y$9:Y$58)-SUM('3bis. Calcul répartition CM'!W$9:W$58)>1),\"erreur\",\"\")","v":""},{"$f":"IF(X36=\"erreur\",0,IF(OR('3bis. Calcul répartition CM'!Y$5=0,'3bis. Calcul répartition CM'!X41=0),0,IF('3bis. Calcul répartition CM'!Y41-'3bis. Calcul répartition CM'!W41>0,1,0)))","v":0},{"$f":"IF(AND('3bis. Calcul répartition CM'!Z41=MAX('3bis. Calcul répartition CM'!Z$9:Z$58),'3bis. Calcul répartition CM'!Z41>0,COUNTIF('3bis. Calcul répartition CM'!Z$9:Z$58,'3bis. Calcul répartition CM'!Z41)>1,SUM('3bis. Calcul répartition CM'!AA$9:AA$58)-SUM('3bis. Calcul répartition CM'!Y$9:Y$58)>1),\"erreur\",\"\")","v":""},{"$f":"IF(Z36=\"erreur\",0,IF(OR('3bis. Calcul répartition CM'!AA$5=0,'3bis. Calcul répartition CM'!Z41=0),0,IF('3bis. Calcul répartition CM'!AA41-'3bis. Calcul répartition CM'!Y41>0,1,0)))","v":0},{"$f":"IF(AND('3bis. Calcul répartition CM'!AB41=MAX('3bis. Calcul répartition CM'!AB$9:AB$58),'3bis. Calcul répartition CM'!AB41>0,COUNTIF('3bis. Calcul répartition CM'!AB$9:AB$58,'3bis. Calcul répartition CM'!AB41)>1,SUM('3bis. Calcul répartition CM'!AC$9:AC$58)-SUM('3bis. Calcul répartition CM'!AA$9:AA$58)>1),\"erreur\",\"\")","v":""},{"$f":"IF(AB36=\"erreur\",0,IF(OR('3bis. Calcul répartition CM'!AC$5=0,'3bis. Calcul répartition CM'!AB41=0),0,IF('3bis. Calcul répartition CM'!AC41-'3bis. Calcul répartition CM'!AA41>0,1,0)))","v":0},{"$f":"IF(AND('3bis. Calcul répartition CM'!AD41=MAX('3bis. Calcul répartition CM'!AD$9:AD$58),'3bis. Calcul répartition CM'!AD41>0,COUNTIF('3bis. Calcul répartition CM'!AD$9:AD$58,'3bis. Calcul répartition CM'!AD41)>1,SUM('3bis. Calcul répartition CM'!AE$9:AE$58)-SUM('3bis. Calcul répartition CM'!AC$9:AC$58)>1),\"erreur\",\"\")","v":""},{"$f":"IF(AD36=\"erreur\",0,IF(OR('3bis. Calcul répartition CM'!AE$5=0,'3bis. Calcul répartition CM'!AD41=0),0,IF('3bis. Calcul répartition CM'!AE41-'3bis. Calcul répartition CM'!AC41>0,1,0)))","v":0},{"$f":"IF(AND('3bis. Calcul répartition CM'!AF41=MAX('3bis. Calcul répartition CM'!AF$9:AF$58),'3bis. Calcul répartition CM'!AF41>0,COUNTIF('3bis. Calcul répartition CM'!AF$9:AF$58,'3bis. Calcul répartition CM'!AF41)>1,SUM('3bis. Calcul répartition CM'!AG$9:AG$58)-SUM('3bis. Calcul répartition CM'!AE$9:AE$58)>1),\"erreur\",\"\")","v":""},{"$f":"IF(AF36=\"erreur\",0,IF(OR('3bis. Calcul répartition CM'!AG$5=0,'3bis. Calcul répartition CM'!AF41=0),0,IF('3bis. Calcul répartition CM'!AG41-'3bis. Calcul répartition CM'!AE41>0,1,0)))","v":0},{"$f":"IF(AND('3bis. Calcul répartition CM'!AH41=MAX('3bis. Calcul répartition CM'!AH$9:AH$58),'3bis. Calcul répartition CM'!AH41>0,COUNTIF('3bis. Calcul répartition CM'!AH$9:AH$58,'3bis. Calcul répartition CM'!AH41)>1,SUM('3bis. Calcul répartition CM'!AI$9:AI$58)-SUM('3bis. Calcul répartition CM'!AG$9:AG$58)>1),\"erreur\",\"\")","v":""},{"$f":"IF(AH36=\"erreur\",0,IF(OR('3bis. Calcul répartition CM'!AI$5=0,'3bis. Calcul répartition CM'!AH41=0),0,IF('3bis. Calcul répartition CM'!AI41-'3bis. Calcul répartition CM'!AG41>0,1,0)))","v":0},{"$f":"IF(AND('3bis. Calcul répartition CM'!AJ41=MAX('3bis. Calcul répartition CM'!AJ$9:AJ$58),'3bis. Calcul répartition CM'!AJ41>0,COUNTIF('3bis. Calcul répartition CM'!AJ$9:AJ$58,'3bis. Calcul répartition CM'!AJ41)>1,SUM('3bis. Calcul répartition CM'!AK$9:AK$58)-SUM('3bis. Calcul répartition CM'!AI$9:AI$58)>1),\"erreur\",\"\")","v":""},{"$f":"IF(AJ36=\"erreur\",0,IF(OR('3bis. Calcul répartition CM'!AK$5=0,'3bis. Calcul répartition CM'!AJ41=0),0,IF('3bis. Calcul répartition CM'!AK41-'3bis. Calcul répartition CM'!AI41>0,1,0)))","v":0},{"$f":"IF(AND('3bis. Calcul répartition CM'!AL41=MAX('3bis. Calcul répartition CM'!AL$9:AL$58),'3bis. Calcul répartition CM'!AL41>0,COUNTIF('3bis. Calcul répartition CM'!AL$9:AL$58,'3bis. Calcul répartition CM'!AL41)>1,SUM('3bis. Calcul répartition CM'!AM$9:AM$58)-SUM('3bis. Calcul répartition CM'!AK$9:AK$58)>1),\"erreur\",\"\")","v":""},{"$f":"IF(AL36=\"erreur\",0,IF(OR('3bis. Calcul répartition CM'!AM$5=0,'3bis. Calcul répartition CM'!AL41=0),0,IF('3bis. Calcul répartition CM'!AM41-'3bis. Calcul répartition CM'!AK41>0,1,0)))","v":0},{"$f":"IF(AND('3bis. Calcul répartition CM'!AN41=MAX('3bis. Calcul répartition CM'!AN$9:AN$58),'3bis. Calcul répartition CM'!AN41>0,COUNTIF('3bis. Calcul répartition CM'!AN$9:AN$58,'3bis. Calcul répartition CM'!AN41)>1,SUM('3bis. Calcul répartition CM'!AO$9:AO$58)-SUM('3bis. Calcul répartition CM'!AM$9:AM$58)>1),\"erreur\",\"\")","v":""},{"$f":"IF(AN36=\"erreur\",0,IF(OR('3bis. Calcul répartition CM'!AO$5=0,'3bis. Calcul répartition CM'!AN41=0),0,IF('3bis. Calcul répartition CM'!AO41-'3bis. Calcul répartition CM'!AM41>0,1,0)))","v":0},{"$f":"IF(AND('3bis. Calcul répartition CM'!AP41=MAX('3bis. Calcul répartition CM'!AP$9:AP$58),'3bis. Calcul répartition CM'!AP41>0,COUNTIF('3bis. Calcul répartition CM'!AP$9:AP$58,'3bis. Calcul répartition CM'!AP41)>1,SUM('3bis. Calcul répartition CM'!AQ$9:AQ$58)-SUM('3bis. Calcul répartition CM'!AO$9:AO$58)>1),\"erreur\",\"\")","v":""},{"$f":"IF(AP36=\"erreur\",0,IF(OR('3bis. Calcul répartition CM'!AQ$5=0,'3bis. Calcul répartition CM'!AP41=0),0,IF('3bis. Calcul répartition CM'!AQ41-'3bis. Calcul répartition CM'!AO41>0,1,0)))","v":0},{"$f":"IF(AND('3bis. Calcul répartition CM'!AR41=MAX('3bis. Calcul répartition CM'!AR$9:AR$58),'3bis. Calcul répartition CM'!AR41>0,COUNTIF('3bis. Calcul répartition CM'!AR$9:AR$58,'3bis. Calcul répartition CM'!AR41)>1,SUM('3bis. Calcul répartition CM'!AS$9:AS$58)-SUM('3bis. Calcul répartition CM'!AQ$9:AQ$58)>1),\"erreur\",\"\")","v":""},{"$f":"IF(AR36=\"erreur\",0,IF(OR('3bis. Calcul répartition CM'!AS$5=0,'3bis. Calcul répartition CM'!AR41=0),0,IF('3bis. Calcul répartition CM'!AS41-'3bis. Calcul répartition CM'!AQ41>0,1,0)))","v":0},{"$f":"IF(AND('3bis. Calcul répartition CM'!AT41=MAX('3bis. Calcul répartition CM'!AT$9:AT$58),'3bis. Calcul répartition CM'!AT41>0,COUNTIF('3bis. Calcul répartition CM'!AT$9:AT$58,'3bis. Calcul répartition CM'!AT41)>1,SUM('3bis. Calcul répartition CM'!AU$9:AU$58)-SUM('3bis. Calcul répartition CM'!AS$9:AS$58)>1),\"erreur\",\"\")","v":""},{"$f":"IF(AT36=\"erreur\",0,IF(OR('3bis. Calcul répartition CM'!AU$5=0,'3bis. Calcul répartition CM'!AT41=0),0,IF('3bis. Calcul répartition CM'!AU41-'3bis. Calcul répartition CM'!AS41>0,1,0)))","v":0},{"$f":"IF(AND('3bis. Calcul répartition CM'!AV41=MAX('3bis. Calcul répartition CM'!AV$9:AV$58),'3bis. Calcul répartition CM'!AV41>0,COUNTIF('3bis. Calcul répartition CM'!AV$9:AV$58,'3bis. Calcul répartition CM'!AV41)>1,SUM('3bis. Calcul répartition CM'!AW$9:AW$58)-SUM('3bis. Calcul répartition CM'!AU$9:AU$58)>1),\"erreur\",\"\")","v":""},{"$f":"IF(AV36=\"erreur\",0,IF(OR('3bis. Calcul répartition CM'!AW$5=0,'3bis. Calcul répartition CM'!AV41=0),0,IF('3bis. Calcul répartition CM'!AW41-'3bis. Calcul répartition CM'!AU41>0,1,0)))","v":0},{"$f":"IF(AND('3bis. Calcul répartition CM'!AX41=MAX('3bis. Calcul répartition CM'!AX$9:AX$58),'3bis. Calcul répartition CM'!AX41>0,COUNTIF('3bis. Calcul répartition CM'!AX$9:AX$58,'3bis. Calcul répartition CM'!AX41)>1,SUM('3bis. Calcul répartition CM'!AY$9:AY$58)-SUM('3bis. Calcul répartition CM'!AW$9:AW$58)>1),\"erreur\",\"\")","v":""},{"$f":"IF(AX36=\"erreur\",0,IF(OR('3bis. Calcul répartition CM'!AY$5=0,'3bis. Calcul répartition CM'!AX41=0),0,IF('3bis. Calcul répartition CM'!AY41-'3bis. Calcul répartition CM'!AW41>0,1,0)))","v":0},{"$f":"IF(AND('3bis. Calcul répartition CM'!AZ41=MAX('3bis. Calcul répartition CM'!AZ$9:AZ$58),'3bis. Calcul répartition CM'!AZ41>0,COUNTIF('3bis. Calcul répartition CM'!AZ$9:AZ$58,'3bis. Calcul répartition CM'!AZ41)>1,SUM('3bis. Calcul répartition CM'!BA$9:BA$58)-SUM('3bis. Calcul répartition CM'!AY$9:AY$58)>1),\"erreur\",\"\")","v":""},{"$f":"IF(AZ36=\"erreur\",0,IF(OR('3bis. Calcul répartition CM'!BA$5=0,'3bis. Calcul répartition CM'!AZ41=0),0,IF('3bis. Calcul répartition CM'!BA41-'3bis. Calcul répartition CM'!AY41>0,1,0)))","v":0},{"$f":"IF(AND('3bis. Calcul répartition CM'!BB41=MAX('3bis. Calcul répartition CM'!BB$9:BB$58),'3bis. Calcul répartition CM'!BB41>0,COUNTIF('3bis. Calcul répartition CM'!BB$9:BB$58,'3bis. Calcul répartition CM'!BB41)>1,SUM('3bis. Calcul répartition CM'!BC$9:BC$58)-SUM('3bis. Calcul répartition CM'!BA$9:BA$58)>1),\"erreur\",\"\")","v":""},{"$f":"IF(BB36=\"erreur\",0,IF(OR('3bis. Calcul répartition CM'!BC$5=0,'3bis. Calcul répartition CM'!BB41=0),0,IF('3bis. Calcul répartition CM'!BC41-'3bis. Calcul répartition CM'!BA41>0,1,0)))","v":0},{"$f":"IF(AND('3bis. Calcul répartition CM'!BD41=MAX('3bis. Calcul répartition CM'!BD$9:BD$58),'3bis. Calcul répartition CM'!BD41>0,COUNTIF('3bis. Calcul répartition CM'!BD$9:BD$58,'3bis. Calcul répartition CM'!BD41)>1,SUM('3bis. Calcul répartition CM'!BE$9:BE$58)-SUM('3bis. Calcul répartition CM'!BC$9:BC$58)>1),\"erreur\",\"\")","v":""},{"$f":"IF(BD36=\"erreur\",0,IF(OR('3bis. Calcul répartition CM'!BE$5=0,'3bis. Calcul répartition CM'!BD41=0),0,IF('3bis. Calcul répartition CM'!BE41-'3bis. Calcul répartition CM'!BC41>0,1,0)))","v":0},{"$f":"IF(AND('3bis. Calcul répartition CM'!BF41=MAX('3bis. Calcul répartition CM'!BF$9:BF$58),'3bis. Calcul répartition CM'!BF41>0,COUNTIF('3bis. Calcul répartition CM'!BF$9:BF$58,'3bis. Calcul répartition CM'!BF41)>1,SUM('3bis. Calcul répartition CM'!BG$9:BG$58)-SUM('3bis. Calcul répartition CM'!BE$9:BE$58)>1),\"erreur\",\"\")","v":""},{"$f":"IF(BF36=\"erreur\",0,IF(OR('3bis. Calcul répartition CM'!BG$5=0,'3bis. Calcul répartition CM'!BF41=0),0,IF('3bis. Calcul répartition CM'!BG41-'3bis. Calcul répartition CM'!BE41>0,1,0)))","v":0},{"$f":"IF(AND('3bis. Calcul répartition CM'!BH41=MAX('3bis. Calcul répartition CM'!BH$9:BH$58),'3bis. Calcul répartition CM'!BH41>0,COUNTIF('3bis. Calcul répartition CM'!BH$9:BH$58,'3bis. Calcul répartition CM'!BH41)>1,SUM('3bis. Calcul répartition CM'!BI$9:BI$58)-SUM('3bis. Calcul répartition CM'!BG$9:BG$58)>1),\"erreur\",\"\")","v":""},{"$f":"IF(BH36=\"erreur\",0,IF(OR('3bis. Calcul répartition CM'!BI$5=0,'3bis. Calcul répartition CM'!BH41=0),0,IF('3bis. Calcul répartition CM'!BI41-'3bis. Calcul répartition CM'!BG41>0,1,0)))","v":0},{"$f":"IF(AND('3bis. Calcul répartition CM'!BJ41=MAX('3bis. Calcul répartition CM'!BJ$9:BJ$58),'3bis. Calcul répartition CM'!BJ41>0,COUNTIF('3bis. Calcul répartition CM'!BJ$9:BJ$58,'3bis. Calcul répartition CM'!BJ41)>1,SUM('3bis. Calcul répartition CM'!BK$9:BK$58)-SUM('3bis. Calcul répartition CM'!BI$9:BI$58)>1),\"erreur\",\"\")","v":""},{"$f":"IF(BJ36=\"erreur\",0,IF(OR('3bis. Calcul répartition CM'!BK$5=0,'3bis. Calcul répartition CM'!BJ41=0),0,IF('3bis. Calcul répartition CM'!BK41-'3bis. Calcul répartition CM'!BI41>0,1,0)))","v":0},{"$f":"IF(AND('3bis. Calcul répartition CM'!BL41=MAX('3bis. Calcul répartition CM'!BL$9:BL$58),'3bis. Calcul répartition CM'!BL41>0,COUNTIF('3bis. Calcul répartition CM'!BL$9:BL$58,'3bis. Calcul répartition CM'!BL41)>1,SUM('3bis. Calcul répartition CM'!BM$9:BM$58)-SUM('3bis. Calcul répartition CM'!BK$9:BK$58)>1),\"erreur\",\"\")","v":""},{"$f":"IF(BL36=\"erreur\",0,IF(OR('3bis. Calcul répartition CM'!BM$5=0,'3bis. Calcul répartition CM'!BL41=0),0,IF('3bis. Calcul répartition CM'!BM41-'3bis. Calcul répartition CM'!BK41>0,1,0)))","v":0},{"$f":"IF(AND('3bis. Calcul répartition CM'!BN41=MAX('3bis. Calcul répartition CM'!BN$9:BN$58),'3bis. Calcul répartition CM'!BN41>0,COUNTIF('3bis. Calcul répartition CM'!BN$9:BN$58,'3bis. Calcul répartition CM'!BN41)>1,SUM('3bis. Calcul répartition CM'!BO$9:BO$58)-SUM('3bis. Calcul répartition CM'!BM$9:BM$58)>1),\"erreur\",\"\")","v":""},{"$f":"IF(BN36=\"erreur\",0,IF(OR('3bis. Calcul répartition CM'!BO$5=0,'3bis. Calcul répartition CM'!BN41=0),0,IF('3bis. Calcul répartition CM'!BO41-'3bis. Calcul répartition CM'!BM41>0,1,0)))","v":0},{"$f":"IF(AND('3bis. Calcul répartition CM'!BP41=MAX('3bis. Calcul répartition CM'!BP$9:BP$58),'3bis. Calcul répartition CM'!BP41>0,COUNTIF('3bis. Calcul répartition CM'!BP$9:BP$58,'3bis. Calcul répartition CM'!BP41)>1,SUM('3bis. Calcul répartition CM'!BQ$9:BQ$58)-SUM('3bis. Calcul répartition CM'!BO$9:BO$58)>1),\"erreur\",\"\")","v":""},{"$f":"IF(BP36=\"erreur\",0,IF(OR('3bis. Calcul répartition CM'!BQ$5=0,'3bis. Calcul répartition CM'!BP41=0),0,IF('3bis. Calcul répartition CM'!BQ41-'3bis. Calcul répartition CM'!BO41>0,1,0)))","v":0}]
[null,null,null,null,null,null,null,null,{"$f":"'3bis. Calcul répartition CM'!B42","v":0},{"$f":"IF(AND('3bis. Calcul répartition CM'!J42=MAX('3bis. Calcul répartition CM'!J$9:J$58),'3bis. Calcul répartition CM'!J42>0,COUNTIF('3bis. Calcul répartition CM'!J$9:J$58,'3bis. Calcul répartition CM'!J42)>1,SUM('3bis. Calcul répartition CM'!$K$9:$K$58)-SUM('3bis. Calcul répartition CM'!$D$9:$D$58)>1),\"erreur\",\"\")","v":""},{"$f":"IF(J37=\"erreur\",0,IF(OR('3bis. Calcul répartition CM'!K$5=0,'3bis. Calcul répartition CM'!J42=0),0,IF('3bis. Calcul répartition CM'!K42-'3bis. Calcul répartition CM'!D42>0,1,0)))","v":0},{"$f":"IF(AND('3bis. Calcul répartition CM'!L42=MAX('3bis. Calcul répartition CM'!L$9:L$58),'3bis. Calcul répartition CM'!L42>0,COUNTIF('3bis. Calcul répartition CM'!L$9:L$58,'3bis. Calcul répartition CM'!L42)>1,SUM('3bis. Calcul répartition CM'!M$9:M$58)-SUM('3bis. Calcul répartition CM'!K$9:K$58)>1),\"erreur\",\"\")","v":""},{"$f":"IF(L37=\"erreur\",0,IF(OR('3bis. Calcul répartition CM'!M$5=0,'3bis. Calcul répartition CM'!L42=0),0,IF('3bis. Calcul répartition CM'!M42-'3bis. Calcul répartition CM'!K42>0,1,0)))","v":0},{"$f":"IF(AND('3bis. Calcul répartition CM'!N42=MAX('3bis. Calcul répartition CM'!N$9:N$58),'3bis. Calcul répartition CM'!N42>0,COUNTIF('3bis. Calcul répartition CM'!N$9:N$58,'3bis. Calcul répartition CM'!N42)>1,SUM('3bis. Calcul répartition CM'!O$9:O$58)-SUM('3bis. Calcul répartition CM'!M$9:M$58)>1),\"erreur\",\"\")","v":""},{"$f":"IF(N37=\"erreur\",0,IF(OR('3bis. Calcul répartition CM'!O$5=0,'3bis. Calcul répartition CM'!N42=0),0,IF('3bis. Calcul répartition CM'!O42-'3bis. Calcul répartition CM'!M42>0,1,0)))","v":0},{"$f":"IF(AND('3bis. Calcul répartition CM'!P42=MAX('3bis. Calcul répartition CM'!P$9:P$58),'3bis. Calcul répartition CM'!P42>0,COUNTIF('3bis. Calcul répartition CM'!P$9:P$58,'3bis. Calcul répartition CM'!P42)>1,SUM('3bis. Calcul répartition CM'!Q$9:Q$58)-SUM('3bis. Calcul répartition CM'!O$9:O$58)>1),\"erreur\",\"\")","v":""},{"$f":"IF(P37=\"erreur\",0,IF(OR('3bis. Calcul répartition CM'!Q$5=0,'3bis. Calcul répartition CM'!P42=0),0,IF('3bis. Calcul répartition CM'!Q42-'3bis. Calcul répartition CM'!O42>0,1,0)))","v":0},{"$f":"IF(AND('3bis. Calcul répartition CM'!R42=MAX('3bis. Calcul répartition CM'!R$9:R$58),'3bis. Calcul répartition CM'!R42>0,COUNTIF('3bis. Calcul répartition CM'!R$9:R$58,'3bis. Calcul répartition CM'!R42)>1,SUM('3bis. Calcul répartition CM'!S$9:S$58)-SUM('3bis. Calcul répartition CM'!Q$9:Q$58)>1),\"erreur\",\"\")","v":""},{"$f":"IF(R37=\"erreur\",0,IF(OR('3bis. Calcul répartition CM'!S$5=0,'3bis. Calcul répartition CM'!R42=0),0,IF('3bis. Calcul répartition CM'!S42-'3bis. Calcul répartition CM'!Q42>0,1,0)))","v":0},{"$f":"IF(AND('3bis. Calcul répartition CM'!T42=MAX('3bis. Calcul répartition CM'!T$9:T$58),'3bis. Calcul répartition CM'!T42>0,COUNTIF('3bis. Calcul répartition CM'!T$9:T$58,'3bis. Calcul répartition CM'!T42)>1,SUM('3bis. Calcul répartition CM'!U$9:U$58)-SUM('3bis. Calcul répartition CM'!S$9:S$58)>1),\"erreur\",\"\")","v":""},{"$f":"IF(T37=\"erreur\",0,IF(OR('3bis. Calcul répartition CM'!U$5=0,'3bis. Calcul répartition CM'!T42=0),0,IF('3bis. Calcul répartition CM'!U42-'3bis. Calcul répartition CM'!S42>0,1,0)))","v":0},{"$f":"IF(AND('3bis. Calcul répartition CM'!V42=MAX('3bis. Calcul répartition CM'!V$9:V$58),'3bis. Calcul répartition CM'!V42>0,COUNTIF('3bis. Calcul répartition CM'!V$9:V$58,'3bis. Calcul répartition CM'!V42)>1,SUM('3bis. Calcul répartition CM'!W$9:W$58)-SUM('3bis. Calcul répartition CM'!U$9:U$58)>1),\"erreur\",\"\")","v":""},{"$f":"IF(V37=\"erreur\",0,IF(OR('3bis. Calcul répartition CM'!W$5=0,'3bis. Calcul répartition CM'!V42=0),0,IF('3bis. Calcul répartition CM'!W42-'3bis. Calcul répartition CM'!U42>0,1,0)))","v":0},{"$f":"IF(AND('3bis. Calcul répartition CM'!X42=MAX('3bis. Calcul répartition CM'!X$9:X$58),'3bis. Calcul répartition CM'!X42>0,COUNTIF('3bis. Calcul répartition CM'!X$9:X$58,'3bis. Calcul répartition CM'!X42)>1,SUM('3bis. Calcul répartition CM'!Y$9:Y$58)-SUM('3bis. Calcul répartition CM'!W$9:W$58)>1),\"erreur\",\"\")","v":""},{"$f":"IF(X37=\"erreur\",0,IF(OR('3bis. Calcul répartition CM'!Y$5=0,'3bis. Calcul répartition CM'!X42=0),0,IF('3bis. Calcul répartition CM'!Y42-'3bis. Calcul répartition CM'!W42>0,1,0)))","v":0},{"$f":"IF(AND('3bis. Calcul répartition CM'!Z42=MAX('3bis. Calcul répartition CM'!Z$9:Z$58),'3bis. Calcul répartition CM'!Z42>0,COUNTIF('3bis. Calcul répartition CM'!Z$9:Z$58,'3bis. Calcul répartition CM'!Z42)>1,SUM('3bis. Calcul répartition CM'!AA$9:AA$58)-SUM('3bis. Calcul répartition CM'!Y$9:Y$58)>1),\"erreur\",\"\")","v":""},{"$f":"IF(Z37=\"erreur\",0,IF(OR('3bis. Calcul répartition CM'!AA$5=0,'3bis. Calcul répartition CM'!Z42=0),0,IF('3bis. Calcul répartition CM'!AA42-'3bis. Calcul répartition CM'!Y42>0,1,0)))","v":0},{"$f":"IF(AND('3bis. Calcul répartition CM'!AB42=MAX('3bis. Calcul répartition CM'!AB$9:AB$58),'3bis. Calcul répartition CM'!AB42>0,COUNTIF('3bis. Calcul répartition CM'!AB$9:AB$58,'3bis. Calcul répartition CM'!AB42)>1,SUM('3bis. Calcul répartition CM'!AC$9:AC$58)-SUM('3bis. Calcul répartition CM'!AA$9:AA$58)>1),\"erreur\",\"\")","v":""},{"$f":"IF(AB37=\"erreur\",0,IF(OR('3bis. Calcul répartition CM'!AC$5=0,'3bis. Calcul répartition CM'!AB42=0),0,IF('3bis. Calcul répartition CM'!AC42-'3bis. Calcul répartition CM'!AA42>0,1,0)))","v":0},{"$f":"IF(AND('3bis. Calcul répartition CM'!AD42=MAX('3bis. Calcul répartition CM'!AD$9:AD$58),'3bis. Calcul répartition CM'!AD42>0,COUNTIF('3bis. Calcul répartition CM'!AD$9:AD$58,'3bis. Calcul répartition CM'!AD42)>1,SUM('3bis. Calcul répartition CM'!AE$9:AE$58)-SUM('3bis. Calcul répartition CM'!AC$9:AC$58)>1),\"erreur\",\"\")","v":""},{"$f":"IF(AD37=\"erreur\",0,IF(OR('3bis. Calcul répartition CM'!AE$5=0,'3bis. Calcul répartition CM'!AD42=0),0,IF('3bis. Calcul répartition CM'!AE42-'3bis. Calcul répartition CM'!AC42>0,1,0)))","v":0},{"$f":"IF(AND('3bis. Calcul répartition CM'!AF42=MAX('3bis. Calcul répartition CM'!AF$9:AF$58),'3bis. Calcul répartition CM'!AF42>0,COUNTIF('3bis. Calcul répartition CM'!AF$9:AF$58,'3bis. Calcul répartition CM'!AF42)>1,SUM('3bis. Calcul répartition CM'!AG$9:AG$58)-SUM('3bis. Calcul répartition CM'!AE$9:AE$58)>1),\"erreur\",\"\")","v":""},{"$f":"IF(AF37=\"erreur\",0,IF(OR('3bis. Calcul répartition CM'!AG$5=0,'3bis. Calcul répartition CM'!AF42=0),0,IF('3bis. Calcul répartition CM'!AG42-'3bis. Calcul répartition CM'!AE42>0,1,0)))","v":0},{"$f":"IF(AND('3bis. Calcul répartition CM'!AH42=MAX('3bis. Calcul répartition CM'!AH$9:AH$58),'3bis. Calcul répartition CM'!AH42>0,COUNTIF('3bis. Calcul répartition CM'!AH$9:AH$58,'3bis. Calcul répartition CM'!AH42)>1,SUM('3bis. Calcul répartition CM'!AI$9:AI$58)-SUM('3bis. Calcul répartition CM'!AG$9:AG$58)>1),\"erreur\",\"\")","v":""},{"$f":"IF(AH37=\"erreur\",0,IF(OR('3bis. Calcul répartition CM'!AI$5=0,'3bis. Calcul répartition CM'!AH42=0),0,IF('3bis. Calcul répartition CM'!AI42-'3bis. Calcul répartition CM'!AG42>0,1,0)))","v":0},{"$f":"IF(AND('3bis. Calcul répartition CM'!AJ42=MAX('3bis. Calcul répartition CM'!AJ$9:AJ$58),'3bis. Calcul répartition CM'!AJ42>0,COUNTIF('3bis. Calcul répartition CM'!AJ$9:AJ$58,'3bis. Calcul répartition CM'!AJ42)>1,SUM('3bis. Calcul répartition CM'!AK$9:AK$58)-SUM('3bis. Calcul répartition CM'!AI$9:AI$58)>1),\"erreur\",\"\")","v":""},{"$f":"IF(AJ37=\"erreur\",0,IF(OR('3bis. Calcul répartition CM'!AK$5=0,'3bis. Calcul répartition CM'!AJ42=0),0,IF('3bis. Calcul répartition CM'!AK42-'3bis. Calcul répartition CM'!AI42>0,1,0)))","v":0},{"$f":"IF(AND('3bis. Calcul répartition CM'!AL42=MAX('3bis. Calcul répartition CM'!AL$9:AL$58),'3bis. Calcul répartition CM'!AL42>0,COUNTIF('3bis. Calcul répartition CM'!AL$9:AL$58,'3bis. Calcul répartition CM'!AL42)>1,SUM('3bis. Calcul répartition CM'!AM$9:AM$58)-SUM('3bis. Calcul répartition CM'!AK$9:AK$58)>1),\"erreur\",\"\")","v":""},{"$f":"IF(AL37=\"erreur\",0,IF(OR('3bis. Calcul répartition CM'!AM$5=0,'3bis. Calcul répartition CM'!AL42=0),0,IF('3bis. Calcul répartition CM'!AM42-'3bis. Calcul répartition CM'!AK42>0,1,0)))","v":0},{"$f":"IF(AND('3bis. Calcul répartition CM'!AN42=MAX('3bis. Calcul répartition CM'!AN$9:AN$58),'3bis. Calcul répartition CM'!AN42>0,COUNTIF('3bis. Calcul répartition CM'!AN$9:AN$58,'3bis. Calcul répartition CM'!AN42)>1,SUM('3bis. Calcul répartition CM'!AO$9:AO$58)-SUM('3bis. Calcul répartition CM'!AM$9:AM$58)>1),\"erreur\",\"\")","v":""},{"$f":"IF(AN37=\"erreur\",0,IF(OR('3bis. Calcul répartition CM'!AO$5=0,'3bis. Calcul répartition CM'!AN42=0),0,IF('3bis. Calcul répartition CM'!AO42-'3bis. Calcul répartition CM'!AM42>0,1,0)))","v":0},{"$f":"IF(AND('3bis. Calcul répartition CM'!AP42=MAX('3bis. Calcul répartition CM'!AP$9:AP$58),'3bis. Calcul répartition CM'!AP42>0,COUNTIF('3bis. Calcul répartition CM'!AP$9:AP$58,'3bis. Calcul répartition CM'!AP42)>1,SUM('3bis. Calcul répartition CM'!AQ$9:AQ$58)-SUM('3bis. Calcul répartition CM'!AO$9:AO$58)>1),\"erreur\",\"\")","v":""},{"$f":"IF(AP37=\"erreur\",0,IF(OR('3bis. Calcul répartition CM'!AQ$5=0,'3bis. Calcul répartition CM'!AP42=0),0,IF('3bis. Calcul répartition CM'!AQ42-'3bis. Calcul répartition CM'!AO42>0,1,0)))","v":0},{"$f":"IF(AND('3bis. Calcul répartition CM'!AR42=MAX('3bis. Calcul répartition CM'!AR$9:AR$58),'3bis. Calcul répartition CM'!AR42>0,COUNTIF('3bis. Calcul répartition CM'!AR$9:AR$58,'3bis. Calcul répartition CM'!AR42)>1,SUM('3bis. Calcul répartition CM'!AS$9:AS$58)-SUM('3bis. Calcul répartition CM'!AQ$9:AQ$58)>1),\"erreur\",\"\")","v":""},{"$f":"IF(AR37=\"erreur\",0,IF(OR('3bis. Calcul répartition CM'!AS$5=0,'3bis. Calcul répartition CM'!AR42=0),0,IF('3bis. Calcul répartition CM'!AS42-'3bis. Calcul répartition CM'!AQ42>0,1,0)))","v":0},{"$f":"IF(AND('3bis. Calcul répartition CM'!AT42=MAX('3bis. Calcul répartition CM'!AT$9:AT$58),'3bis. Calcul répartition CM'!AT42>0,COUNTIF('3bis. Calcul répartition CM'!AT$9:AT$58,'3bis. Calcul répartition CM'!AT42)>1,SUM('3bis. Calcul répartition CM'!AU$9:AU$58)-SUM('3bis. Calcul répartition CM'!AS$9:AS$58)>1),\"erreur\",\"\")","v":""},{"$f":"IF(AT37=\"erreur\",0,IF(OR('3bis. Calcul répartition CM'!AU$5=0,'3bis. Calcul répartition CM'!AT42=0),0,IF('3bis. Calcul répartition CM'!AU42-'3bis. Calcul répartition CM'!AS42>0,1,0)))","v":0},{"$f":"IF(AND('3bis. Calcul répartition CM'!AV42=MAX('3bis. Calcul répartition CM'!AV$9:AV$58),'3bis. Calcul répartition CM'!AV42>0,COUNTIF('3bis. Calcul répartition CM'!AV$9:AV$58,'3bis. Calcul répartition CM'!AV42)>1,SUM('3bis. Calcul répartition CM'!AW$9:AW$58)-SUM('3bis. Calcul répartition CM'!AU$9:AU$58)>1),\"erreur\",\"\")","v":""},{"$f":"IF(AV37=\"erreur\",0,IF(OR('3bis. Calcul répartition CM'!AW$5=0,'3bis. Calcul répartition CM'!AV42=0),0,IF('3bis. Calcul répartition CM'!AW42-'3bis. Calcul répartition CM'!AU42>0,1,0)))","v":0},{"$f":"IF(AND('3bis. Calcul répartition CM'!AX42=MAX('3bis. Calcul répartition CM'!AX$9:AX$58),'3bis. Calcul répartition CM'!AX42>0,COUNTIF('3bis. Calcul répartition CM'!AX$9:AX$58,'3bis. Calcul répartition CM'!AX42)>1,SUM('3bis. Calcul répartition CM'!AY$9:AY$58)-SUM('3bis. Calcul répartition CM'!AW$9:AW$58)>1),\"erreur\",\"\")","v":""},{"$f":"IF(AX37=\"erreur\",0,IF(OR('3bis. Calcul répartition CM'!AY$5=0,'3bis. Calcul répartition CM'!AX42=0),0,IF('3bis. Calcul répartition CM'!AY42-'3bis. Calcul répartition CM'!AW42>0,1,0)))","v":0},{"$f":"IF(AND('3bis. Calcul répartition CM'!AZ42=MAX('3bis. Calcul répartition CM'!AZ$9:AZ$58),'3bis. Calcul répartition CM'!AZ42>0,COUNTIF('3bis. Calcul répartition CM'!AZ$9:AZ$58,'3bis. Calcul répartition CM'!AZ42)>1,SUM('3bis. Calcul répartition CM'!BA$9:BA$58)-SUM('3bis. Calcul répartition CM'!AY$9:AY$58)>1),\"erreur\",\"\")","v":""},{"$f":"IF(AZ37=\"erreur\",0,IF(OR('3bis. Calcul répartition CM'!BA$5=0,'3bis. Calcul répartition CM'!AZ42=0),0,IF('3bis. Calcul répartition CM'!BA42-'3bis. Calcul répartition CM'!AY42>0,1,0)))","v":0},{"$f":"IF(AND('3bis. Calcul répartition CM'!BB42=MAX('3bis. Calcul répartition CM'!BB$9:BB$58),'3bis. Calcul répartition CM'!BB42>0,COUNTIF('3bis. Calcul répartition CM'!BB$9:BB$58,'3bis. Calcul répartition CM'!BB42)>1,SUM('3bis. Calcul répartition CM'!BC$9:BC$58)-SUM('3bis. Calcul répartition CM'!BA$9:BA$58)>1),\"erreur\",\"\")","v":""},{"$f":"IF(BB37=\"erreur\",0,IF(OR('3bis. Calcul répartition CM'!BC$5=0,'3bis. Calcul répartition CM'!BB42=0),0,IF('3bis. Calcul répartition CM'!BC42-'3bis. Calcul répartition CM'!BA42>0,1,0)))","v":0},{"$f":"IF(AND('3bis. Calcul répartition CM'!BD42=MAX('3bis. Calcul répartition CM'!BD$9:BD$58),'3bis. Calcul répartition CM'!BD42>0,COUNTIF('3bis. Calcul répartition CM'!BD$9:BD$58,'3bis. Calcul répartition CM'!BD42)>1,SUM('3bis. Calcul répartition CM'!BE$9:BE$58)-SUM('3bis. Calcul répartition CM'!BC$9:BC$58)>1),\"erreur\",\"\")","v":""},{"$f":"IF(BD37=\"erreur\",0,IF(OR('3bis. Calcul répartition CM'!BE$5=0,'3bis. Calcul répartition CM'!BD42=0),0,IF('3bis. Calcul répartition CM'!BE42-'3bis. Calcul répartition CM'!BC42>0,1,0)))","v":0},{"$f":"IF(AND('3bis. Calcul répartition CM'!BF42=MAX('3bis. Calcul répartition CM'!BF$9:BF$58),'3bis. Calcul répartition CM'!BF42>0,COUNTIF('3bis. Calcul répartition CM'!BF$9:BF$58,'3bis. Calcul répartition CM'!BF42)>1,SUM('3bis. Calcul répartition CM'!BG$9:BG$58)-SUM('3bis. Calcul répartition CM'!BE$9:BE$58)>1),\"erreur\",\"\")","v":""},{"$f":"IF(BF37=\"erreur\",0,IF(OR('3bis. Calcul répartition CM'!BG$5=0,'3bis. Calcul répartition CM'!BF42=0),0,IF('3bis. Calcul répartition CM'!BG42-'3bis. Calcul répartition CM'!BE42>0,1,0)))","v":0},{"$f":"IF(AND('3bis. Calcul répartition CM'!BH42=MAX('3bis. Calcul répartition CM'!BH$9:BH$58),'3bis. Calcul répartition CM'!BH42>0,COUNTIF('3bis. Calcul répartition CM'!BH$9:BH$58,'3bis. Calcul répartition CM'!BH42)>1,SUM('3bis. Calcul répartition CM'!BI$9:BI$58)-SUM('3bis. Calcul répartition CM'!BG$9:BG$58)>1),\"erreur\",\"\")","v":""},{"$f":"IF(BH37=\"erreur\",0,IF(OR('3bis. Calcul répartition CM'!BI$5=0,'3bis. Calcul répartition CM'!BH42=0),0,IF('3bis. Calcul répartition CM'!BI42-'3bis. Calcul répartition CM'!BG42>0,1,0)))","v":0},{"$f":"IF(AND('3bis. Calcul répartition CM'!BJ42=MAX('3bis. Calcul répartition CM'!BJ$9:BJ$58),'3bis. Calcul répartition CM'!BJ42>0,COUNTIF('3bis. Calcul répartition CM'!BJ$9:BJ$58,'3bis. Calcul répartition CM'!BJ42)>1,SUM('3bis. Calcul répartition CM'!BK$9:BK$58)-SUM('3bis. Calcul répartition CM'!BI$9:BI$58)>1),\"erreur\",\"\")","v":""},{"$f":"IF(BJ37=\"erreur\",0,IF(OR('3bis. Calcul répartition CM'!BK$5=0,'3bis. Calcul répartition CM'!BJ42=0),0,IF('3bis. Calcul répartition CM'!BK42-'3bis. Calcul répartition CM'!BI42>0,1,0)))","v":0},{"$f":"IF(AND('3bis. Calcul répartition CM'!BL42=MAX('3bis. Calcul répartition CM'!BL$9:BL$58),'3bis. Calcul répartition CM'!BL42>0,COUNTIF('3bis. Calcul répartition CM'!BL$9:BL$58,'3bis. Calcul répartition CM'!BL42)>1,SUM('3bis. Calcul répartition CM'!BM$9:BM$58)-SUM('3bis. Calcul répartition CM'!BK$9:BK$58)>1),\"erreur\",\"\")","v":""},{"$f":"IF(BL37=\"erreur\",0,IF(OR('3bis. Calcul répartition CM'!BM$5=0,'3bis. Calcul répartition CM'!BL42=0),0,IF('3bis. Calcul répartition CM'!BM42-'3bis. Calcul répartition CM'!BK42>0,1,0)))","v":0},{"$f":"IF(AND('3bis. Calcul répartition CM'!BN42=MAX('3bis. Calcul répartition CM'!BN$9:BN$58),'3bis. Calcul répartition CM'!BN42>0,COUNTIF('3bis. Calcul répartition CM'!BN$9:BN$58,'3bis. Calcul répartition CM'!BN42)>1,SUM('3bis. Calcul répartition CM'!BO$9:BO$58)-SUM('3bis. Calcul répartition CM'!BM$9:BM$58)>1),\"erreur\",\"\")","v":""},{"$f":"IF(BN37=\"erreur\",0,IF(OR('3bis. Calcul répartition CM'!BO$5=0,'3bis. Calcul répartition CM'!BN42=0),0,IF('3bis. Calcul répartition CM'!BO42-'3bis. Calcul répartition CM'!BM42>0,1,0)))","v":0},{"$f":"IF(AND('3bis. Calcul répartition CM'!BP42=MAX('3bis. Calcul répartition CM'!BP$9:BP$58),'3bis. Calcul répartition CM'!BP42>0,COUNTIF('3bis. Calcul répartition CM'!BP$9:BP$58,'3bis. Calcul répartition CM'!BP42)>1,SUM('3bis. Calcul répartition CM'!BQ$9:BQ$58)-SUM('3bis. Calcul répartition CM'!BO$9:BO$58)>1),\"erreur\",\"\")","v":""},{"$f":"IF(BP37=\"erreur\",0,IF(OR('3bis. Calcul répartition CM'!BQ$5=0,'3bis. Calcul répartition CM'!BP42=0),0,IF('3bis. Calcul répartition CM'!BQ42-'3bis. Calcul répartition CM'!BO42>0,1,0)))","v":0}]
[null,null,null,null,null,null,null,null,{"$f":"'3bis. Calcul répartition CM'!B43","v":0},{"$f":"IF(AND('3bis. Calcul répartition CM'!J43=MAX('3bis. Calcul répartition CM'!J$9:J$58),'3bis. Calcul répartition CM'!J43>0,COUNTIF('3bis. Calcul répartition CM'!J$9:J$58,'3bis. Calcul répartition CM'!J43)>1,SUM('3bis. Calcul répartition CM'!$K$9:$K$58)-SUM('3bis. Calcul répartition CM'!$D$9:$D$58)>1),\"erreur\",\"\")","v":""},{"$f":"IF(J38=\"erreur\",0,IF(OR('3bis. Calcul répartition CM'!K$5=0,'3bis. Calcul répartition CM'!J43=0),0,IF('3bis. Calcul répartition CM'!K43-'3bis. Calcul répartition CM'!D43>0,1,0)))","v":0},{"$f":"IF(AND('3bis. Calcul répartition CM'!L43=MAX('3bis. Calcul répartition CM'!L$9:L$58),'3bis. Calcul répartition CM'!L43>0,COUNTIF('3bis. Calcul répartition CM'!L$9:L$58,'3bis. Calcul répartition CM'!L43)>1,SUM('3bis. Calcul répartition CM'!M$9:M$58)-SUM('3bis. Calcul répartition CM'!K$9:K$58)>1),\"erreur\",\"\")","v":""},{"$f":"IF(L38=\"erreur\",0,IF(OR('3bis. Calcul répartition CM'!M$5=0,'3bis. Calcul répartition CM'!L43=0),0,IF('3bis. Calcul répartition CM'!M43-'3bis. Calcul répartition CM'!K43>0,1,0)))","v":0},{"$f":"IF(AND('3bis. Calcul répartition CM'!N43=MAX('3bis. Calcul répartition CM'!N$9:N$58),'3bis. Calcul répartition CM'!N43>0,COUNTIF('3bis. Calcul répartition CM'!N$9:N$58,'3bis. Calcul répartition CM'!N43)>1,SUM('3bis. Calcul répartition CM'!O$9:O$58)-SUM('3bis. Calcul répartition CM'!M$9:M$58)>1),\"erreur\",\"\")","v":""},{"$f":"IF(N38=\"erreur\",0,IF(OR('3bis. Calcul répartition CM'!O$5=0,'3bis. Calcul répartition CM'!N43=0),0,IF('3bis. Calcul répartition CM'!O43-'3bis. Calcul répartition CM'!M43>0,1,0)))","v":0},{"$f":"IF(AND('3bis. Calcul répartition CM'!P43=MAX('3bis. Calcul répartition CM'!P$9:P$58),'3bis. Calcul répartition CM'!P43>0,COUNTIF('3bis. Calcul répartition CM'!P$9:P$58,'3bis. Calcul répartition CM'!P43)>1,SUM('3bis. Calcul répartition CM'!Q$9:Q$58)-SUM('3bis. Calcul répartition CM'!O$9:O$58)>1),\"erreur\",\"\")","v":""},{"$f":"IF(P38=\"erreur\",0,IF(OR('3bis. Calcul répartition CM'!Q$5=0,'3bis. Calcul répartition CM'!P43=0),0,IF('3bis. Calcul répartition CM'!Q43-'3bis. Calcul répartition CM'!O43>0,1,0)))","v":0},{"$f":"IF(AND('3bis. Calcul répartition CM'!R43=MAX('3bis. Calcul répartition CM'!R$9:R$58),'3bis. Calcul répartition CM'!R43>0,COUNTIF('3bis. Calcul répartition CM'!R$9:R$58,'3bis. Calcul répartition CM'!R43)>1,SUM('3bis. Calcul répartition CM'!S$9:S$58)-SUM('3bis. Calcul répartition CM'!Q$9:Q$58)>1),\"erreur\",\"\")","v":""},{"$f":"IF(R38=\"erreur\",0,IF(OR('3bis. Calcul répartition CM'!S$5=0,'3bis. Calcul répartition CM'!R43=0),0,IF('3bis. Calcul répartition CM'!S43-'3bis. Calcul répartition CM'!Q43>0,1,0)))","v":0},{"$f":"IF(AND('3bis. Calcul répartition CM'!T43=MAX('3bis. Calcul répartition CM'!T$9:T$58),'3bis. Calcul répartition CM'!T43>0,COUNTIF('3bis. Calcul répartition CM'!T$9:T$58,'3bis. Calcul répartition CM'!T43)>1,SUM('3bis. Calcul répartition CM'!U$9:U$58)-SUM('3bis. Calcul répartition CM'!S$9:S$58)>1),\"erreur\",\"\")","v":""},{"$f":"IF(T38=\"erreur\",0,IF(OR('3bis. Calcul répartition CM'!U$5=0,'3bis. Calcul répartition CM'!T43=0),0,IF('3bis. Calcul répartition CM'!U43-'3bis. Calcul répartition CM'!S43>0,1,0)))","v":0},{"$f":"IF(AND('3bis. Calcul répartition CM'!V43=MAX('3bis. Calcul répartition CM'!V$9:V$58),'3bis. Calcul répartition CM'!V43>0,COUNTIF('3bis. Calcul répartition CM'!V$9:V$58,'3bis. Calcul répartition CM'!V43)>1,SUM('3bis. Calcul répartition CM'!W$9:W$58)-SUM('3bis. Calcul répartition CM'!U$9:U$58)>1),\"erreur\",\"\")","v":""},{"$f":"IF(V38=\"erreur\",0,IF(OR('3bis. Calcul répartition CM'!W$5=0,'3bis. Calcul répartition CM'!V43=0),0,IF('3bis. Calcul répartition CM'!W43-'3bis. Calcul répartition CM'!U43>0,1,0)))","v":0},{"$f":"IF(AND('3bis. Calcul répartition CM'!X43=MAX('3bis. Calcul répartition CM'!X$9:X$58),'3bis. Calcul répartition CM'!X43>0,COUNTIF('3bis. Calcul répartition CM'!X$9:X$58,'3bis. Calcul répartition CM'!X43)>1,SUM('3bis. Calcul répartition CM'!Y$9:Y$58)-SUM('3bis. Calcul répartition CM'!W$9:W$58)>1),\"erreur\",\"\")","v":""},{"$f":"IF(X38=\"erreur\",0,IF(OR('3bis. Calcul répartition CM'!Y$5=0,'3bis. Calcul répartition CM'!X43=0),0,IF('3bis. Calcul répartition CM'!Y43-'3bis. Calcul répartition CM'!W43>0,1,0)))","v":0},{"$f":"IF(AND('3bis. Calcul répartition CM'!Z43=MAX('3bis. Calcul répartition CM'!Z$9:Z$58),'3bis. Calcul répartition CM'!Z43>0,COUNTIF('3bis. Calcul répartition CM'!Z$9:Z$58,'3bis. Calcul répartition CM'!Z43)>1,SUM('3bis. Calcul répartition CM'!AA$9:AA$58)-SUM('3bis. Calcul répartition CM'!Y$9:Y$58)>1),\"erreur\",\"\")","v":""},{"$f":"IF(Z38=\"erreur\",0,IF(OR('3bis. Calcul répartition CM'!AA$5=0,'3bis. Calcul répartition CM'!Z43=0),0,IF('3bis. Calcul répartition CM'!AA43-'3bis. Calcul répartition CM'!Y43>0,1,0)))","v":0},{"$f":"IF(AND('3bis. Calcul répartition CM'!AB43=MAX('3bis. Calcul répartition CM'!AB$9:AB$58),'3bis. Calcul répartition CM'!AB43>0,COUNTIF('3bis. Calcul répartition CM'!AB$9:AB$58,'3bis. Calcul répartition CM'!AB43)>1,SUM('3bis. Calcul répartition CM'!AC$9:AC$58)-SUM('3bis. Calcul répartition CM'!AA$9:AA$58)>1),\"erreur\",\"\")","v":""},{"$f":"IF(AB38=\"erreur\",0,IF(OR('3bis. Calcul répartition CM'!AC$5=0,'3bis. Calcul répartition CM'!AB43=0),0,IF('3bis. Calcul répartition CM'!AC43-'3bis. Calcul répartition CM'!AA43>0,1,0)))","v":0},{"$f":"IF(AND('3bis. Calcul répartition CM'!AD43=MAX('3bis. Calcul répartition CM'!AD$9:AD$58),'3bis. Calcul répartition CM'!AD43>0,COUNTIF('3bis. Calcul répartition CM'!AD$9:AD$58,'3bis. Calcul répartition CM'!AD43)>1,SUM('3bis. Calcul répartition CM'!AE$9:AE$58)-SUM('3bis. Calcul répartition CM'!AC$9:AC$58)>1),\"erreur\",\"\")","v":""},{"$f":"IF(AD38=\"erreur\",0,IF(OR('3bis. Calcul répartition CM'!AE$5=0,'3bis. Calcul répartition CM'!AD43=0),0,IF('3bis. Calcul répartition CM'!AE43-'3bis. Calcul répartition CM'!AC43>0,1,0)))","v":0},{"$f":"IF(AND('3bis. Calcul répartition CM'!AF43=MAX('3bis. Calcul répartition CM'!AF$9:AF$58),'3bis. Calcul répartition CM'!AF43>0,COUNTIF('3bis. Calcul répartition CM'!AF$9:AF$58,'3bis. Calcul répartition CM'!AF43)>1,SUM('3bis. Calcul répartition CM'!AG$9:AG$58)-SUM('3bis. Calcul répartition CM'!AE$9:AE$58)>1),\"erreur\",\"\")","v":""},{"$f":"IF(AF38=\"erreur\",0,IF(OR('3bis. Calcul répartition CM'!AG$5=0,'3bis. Calcul répartition CM'!AF43=0),0,IF('3bis. Calcul répartition CM'!AG43-'3bis. Calcul répartition CM'!AE43>0,1,0)))","v":0},{"$f":"IF(AND('3bis. Calcul répartition CM'!AH43=MAX('3bis. Calcul répartition CM'!AH$9:AH$58),'3bis. Calcul répartition CM'!AH43>0,COUNTIF('3bis. Calcul répartition CM'!AH$9:AH$58,'3bis. Calcul répartition CM'!AH43)>1,SUM('3bis. Calcul répartition CM'!AI$9:AI$58)-SUM('3bis. Calcul répartition CM'!AG$9:AG$58)>1),\"erreur\",\"\")","v":""},{"$f":"IF(AH38=\"erreur\",0,IF(OR('3bis. Calcul répartition CM'!AI$5=0,'3bis. Calcul répartition CM'!AH43=0),0,IF('3bis. Calcul répartition CM'!AI43-'3bis. Calcul répartition CM'!AG43>0,1,0)))","v":0},{"$f":"IF(AND('3bis. Calcul répartition CM'!AJ43=MAX('3bis. Calcul répartition CM'!AJ$9:AJ$58),'3bis. Calcul répartition CM'!AJ43>0,COUNTIF('3bis. Calcul répartition CM'!AJ$9:AJ$58,'3bis. Calcul répartition CM'!AJ43)>1,SUM('3bis. Calcul répartition CM'!AK$9:AK$58)-SUM('3bis. Calcul répartition CM'!AI$9:AI$58)>1),\"erreur\",\"\")","v":""},{"$f":"IF(AJ38=\"erreur\",0,IF(OR('3bis. Calcul répartition CM'!AK$5=0,'3bis. Calcul répartition CM'!AJ43=0),0,IF('3bis. Calcul répartition CM'!AK43-'3bis. Calcul répartition CM'!AI43>0,1,0)))","v":0},{"$f":"IF(AND('3bis. Calcul répartition CM'!AL43=MAX('3bis. Calcul répartition CM'!AL$9:AL$58),'3bis. Calcul répartition CM'!AL43>0,COUNTIF('3bis. Calcul répartition CM'!AL$9:AL$58,'3bis. Calcul répartition CM'!AL43)>1,SUM('3bis. Calcul répartition CM'!AM$9:AM$58)-SUM('3bis. Calcul répartition CM'!AK$9:AK$58)>1),\"erreur\",\"\")","v":""},{"$f":"IF(AL38=\"erreur\",0,IF(OR('3bis. Calcul répartition CM'!AM$5=0,'3bis. Calcul répartition CM'!AL43=0),0,IF('3bis. Calcul répartition CM'!AM43-'3bis. Calcul répartition CM'!AK43>0,1,0)))","v":0},{"$f":"IF(AND('3bis. Calcul répartition CM'!AN43=MAX('3bis. Calcul répartition CM'!AN$9:AN$58),'3bis. Calcul répartition CM'!AN43>0,COUNTIF('3bis. Calcul répartition CM'!AN$9:AN$58,'3bis. Calcul répartition CM'!AN43)>1,SUM('3bis. Calcul répartition CM'!AO$9:AO$58)-SUM('3bis. Calcul répartition CM'!AM$9:AM$58)>1),\"erreur\",\"\")","v":""},{"$f":"IF(AN38=\"erreur\",0,IF(OR('3bis. Calcul répartition CM'!AO$5=0,'3bis. Calcul répartition CM'!AN43=0),0,IF('3bis. Calcul répartition CM'!AO43-'3bis. Calcul répartition CM'!AM43>0,1,0)))","v":0},{"$f":"IF(AND('3bis. Calcul répartition CM'!AP43=MAX('3bis. Calcul répartition CM'!AP$9:AP$58),'3bis. Calcul répartition CM'!AP43>0,COUNTIF('3bis. Calcul répartition CM'!AP$9:AP$58,'3bis. Calcul répartition CM'!AP43)>1,SUM('3bis. Calcul répartition CM'!AQ$9:AQ$58)-SUM('3bis. Calcul répartition CM'!AO$9:AO$58)>1),\"erreur\",\"\")","v":""},{"$f":"IF(AP38=\"erreur\",0,IF(OR('3bis. Calcul répartition CM'!AQ$5=0,'3bis. Calcul répartition CM'!AP43=0),0,IF('3bis. Calcul répartition CM'!AQ43-'3bis. Calcul répartition CM'!AO43>0,1,0)))","v":0},{"$f":"IF(AND('3bis. Calcul répartition CM'!AR43=MAX('3bis. Calcul répartition CM'!AR$9:AR$58),'3bis. Calcul répartition CM'!AR43>0,COUNTIF('3bis. Calcul répartition CM'!AR$9:AR$58,'3bis. Calcul répartition CM'!AR43)>1,SUM('3bis. Calcul répartition CM'!AS$9:AS$58)-SUM('3bis. Calcul répartition CM'!AQ$9:AQ$58)>1),\"erreur\",\"\")","v":""},{"$f":"IF(AR38=\"erreur\",0,IF(OR('3bis. Calcul répartition CM'!AS$5=0,'3bis. Calcul répartition CM'!AR43=0),0,IF('3bis. Calcul répartition CM'!AS43-'3bis. Calcul répartition CM'!AQ43>0,1,0)))","v":0},{"$f":"IF(AND('3bis. Calcul répartition CM'!AT43=MAX('3bis. Calcul répartition CM'!AT$9:AT$58),'3bis. Calcul répartition CM'!AT43>0,COUNTIF('3bis. Calcul répartition CM'!AT$9:AT$58,'3bis. Calcul répartition CM'!AT43)>1,SUM('3bis. Calcul répartition CM'!AU$9:AU$58)-SUM('3bis. Calcul répartition CM'!AS$9:AS$58)>1),\"erreur\",\"\")","v":""},{"$f":"IF(AT38=\"erreur\",0,IF(OR('3bis. Calcul répartition CM'!AU$5=0,'3bis. Calcul répartition CM'!AT43=0),0,IF('3bis. Calcul répartition CM'!AU43-'3bis. Calcul répartition CM'!AS43>0,1,0)))","v":0},{"$f":"IF(AND('3bis. Calcul répartition CM'!AV43=MAX('3bis. Calcul répartition CM'!AV$9:AV$58),'3bis. Calcul répartition CM'!AV43>0,COUNTIF('3bis. Calcul répartition CM'!AV$9:AV$58,'3bis. Calcul répartition CM'!AV43)>1,SUM('3bis. Calcul répartition CM'!AW$9:AW$58)-SUM('3bis. Calcul répartition CM'!AU$9:AU$58)>1),\"erreur\",\"\")","v":""},{"$f":"IF(AV38=\"erreur\",0,IF(OR('3bis. Calcul répartition CM'!AW$5=0,'3bis. Calcul répartition CM'!AV43=0),0,IF('3bis. Calcul répartition CM'!AW43-'3bis. Calcul répartition CM'!AU43>0,1,0)))","v":0},{"$f":"IF(AND('3bis. Calcul répartition CM'!AX43=MAX('3bis. Calcul répartition CM'!AX$9:AX$58),'3bis. Calcul répartition CM'!AX43>0,COUNTIF('3bis. Calcul répartition CM'!AX$9:AX$58,'3bis. Calcul répartition CM'!AX43)>1,SUM('3bis. Calcul répartition CM'!AY$9:AY$58)-SUM('3bis. Calcul répartition CM'!AW$9:AW$58)>1),\"erreur\",\"\")","v":""},{"$f":"IF(AX38=\"erreur\",0,IF(OR('3bis. Calcul répartition CM'!AY$5=0,'3bis. Calcul répartition CM'!AX43=0),0,IF('3bis. Calcul répartition CM'!AY43-'3bis. Calcul répartition CM'!AW43>0,1,0)))","v":0},{"$f":"IF(AND('3bis. Calcul répartition CM'!AZ43=MAX('3bis. Calcul répartition CM'!AZ$9:AZ$58),'3bis. Calcul répartition CM'!AZ43>0,COUNTIF('3bis. Calcul répartition CM'!AZ$9:AZ$58,'3bis. Calcul répartition CM'!AZ43)>1,SUM('3bis. Calcul répartition CM'!BA$9:BA$58)-SUM('3bis. Calcul répartition CM'!AY$9:AY$58)>1),\"erreur\",\"\")","v":""},{"$f":"IF(AZ38=\"erreur\",0,IF(OR('3bis. Calcul répartition CM'!BA$5=0,'3bis. Calcul répartition CM'!AZ43=0),0,IF('3bis. Calcul répartition CM'!BA43-'3bis. Calcul répartition CM'!AY43>0,1,0)))","v":0},{"$f":"IF(AND('3bis. Calcul répartition CM'!BB43=MAX('3bis. Calcul répartition CM'!BB$9:BB$58),'3bis. Calcul répartition CM'!BB43>0,COUNTIF('3bis. Calcul répartition CM'!BB$9:BB$58,'3bis. Calcul répartition CM'!BB43)>1,SUM('3bis. Calcul répartition CM'!BC$9:BC$58)-SUM('3bis. Calcul répartition CM'!BA$9:BA$58)>1),\"erreur\",\"\")","v":""},{"$f":"IF(BB38=\"erreur\",0,IF(OR('3bis. Calcul répartition CM'!BC$5=0,'3bis. Calcul répartition CM'!BB43=0),0,IF('3bis. Calcul répartition CM'!BC43-'3bis. Calcul répartition CM'!BA43>0,1,0)))","v":0},{"$f":"IF(AND('3bis. Calcul répartition CM'!BD43=MAX('3bis. Calcul répartition CM'!BD$9:BD$58),'3bis. Calcul répartition CM'!BD43>0,COUNTIF('3bis. Calcul répartition CM'!BD$9:BD$58,'3bis. Calcul répartition CM'!BD43)>1,SUM('3bis. Calcul répartition CM'!BE$9:BE$58)-SUM('3bis. Calcul répartition CM'!BC$9:BC$58)>1),\"erreur\",\"\")","v":""},{"$f":"IF(BD38=\"erreur\",0,IF(OR('3bis. Calcul répartition CM'!BE$5=0,'3bis. Calcul répartition CM'!BD43=0),0,IF('3bis. Calcul répartition CM'!BE43-'3bis. Calcul répartition CM'!BC43>0,1,0)))","v":0},{"$f":"IF(AND('3bis. Calcul répartition CM'!BF43=MAX('3bis. Calcul répartition CM'!BF$9:BF$58),'3bis. Calcul répartition CM'!BF43>0,COUNTIF('3bis. Calcul répartition CM'!BF$9:BF$58,'3bis. Calcul répartition CM'!BF43)>1,SUM('3bis. Calcul répartition CM'!BG$9:BG$58)-SUM('3bis. Calcul répartition CM'!BE$9:BE$58)>1),\"erreur\",\"\")","v":""},{"$f":"IF(BF38=\"erreur\",0,IF(OR('3bis. Calcul répartition CM'!BG$5=0,'3bis. Calcul répartition CM'!BF43=0),0,IF('3bis. Calcul répartition CM'!BG43-'3bis. Calcul répartition CM'!BE43>0,1,0)))","v":0},{"$f":"IF(AND('3bis. Calcul répartition CM'!BH43=MAX('3bis. Calcul répartition CM'!BH$9:BH$58),'3bis. Calcul répartition CM'!BH43>0,COUNTIF('3bis. Calcul répartition CM'!BH$9:BH$58,'3bis. Calcul répartition CM'!BH43)>1,SUM('3bis. Calcul répartition CM'!BI$9:BI$58)-SUM('3bis. Calcul répartition CM'!BG$9:BG$58)>1),\"erreur\",\"\")","v":""},{"$f":"IF(BH38=\"erreur\",0,IF(OR('3bis. Calcul répartition CM'!BI$5=0,'3bis. Calcul répartition CM'!BH43=0),0,IF('3bis. Calcul répartition CM'!BI43-'3bis. Calcul répartition CM'!BG43>0,1,0)))","v":0},{"$f":"IF(AND('3bis. Calcul répartition CM'!BJ43=MAX('3bis. Calcul répartition CM'!BJ$9:BJ$58),'3bis. Calcul répartition CM'!BJ43>0,COUNTIF('3bis. Calcul répartition CM'!BJ$9:BJ$58,'3bis. Calcul répartition CM'!BJ43)>1,SUM('3bis. Calcul répartition CM'!BK$9:BK$58)-SUM('3bis. Calcul répartition CM'!BI$9:BI$58)>1),\"erreur\",\"\")","v":""},{"$f":"IF(BJ38=\"erreur\",0,IF(OR('3bis. Calcul répartition CM'!BK$5=0,'3bis. Calcul répartition CM'!BJ43=0),0,IF('3bis. Calcul répartition CM'!BK43-'3bis. Calcul répartition CM'!BI43>0,1,0)))","v":0},{"$f":"IF(AND('3bis. Calcul répartition CM'!BL43=MAX('3bis. Calcul répartition CM'!BL$9:BL$58),'3bis. Calcul répartition CM'!BL43>0,COUNTIF('3bis. Calcul répartition CM'!BL$9:BL$58,'3bis. Calcul répartition CM'!BL43)>1,SUM('3bis. Calcul répartition CM'!BM$9:BM$58)-SUM('3bis. Calcul répartition CM'!BK$9:BK$58)>1),\"erreur\",\"\")","v":""},{"$f":"IF(BL38=\"erreur\",0,IF(OR('3bis. Calcul répartition CM'!BM$5=0,'3bis. Calcul répartition CM'!BL43=0),0,IF('3bis. Calcul répartition CM'!BM43-'3bis. Calcul répartition CM'!BK43>0,1,0)))","v":0},{"$f":"IF(AND('3bis. Calcul répartition CM'!BN43=MAX('3bis. Calcul répartition CM'!BN$9:BN$58),'3bis. Calcul répartition CM'!BN43>0,COUNTIF('3bis. Calcul répartition CM'!BN$9:BN$58,'3bis. Calcul répartition CM'!BN43)>1,SUM('3bis. Calcul répartition CM'!BO$9:BO$58)-SUM('3bis. Calcul répartition CM'!BM$9:BM$58)>1),\"erreur\",\"\")","v":""},{"$f":"IF(BN38=\"erreur\",0,IF(OR('3bis. Calcul répartition CM'!BO$5=0,'3bis. Calcul répartition CM'!BN43=0),0,IF('3bis. Calcul répartition CM'!BO43-'3bis. Calcul répartition CM'!BM43>0,1,0)))","v":0},{"$f":"IF(AND('3bis. Calcul répartition CM'!BP43=MAX('3bis. Calcul répartition CM'!BP$9:BP$58),'3bis. Calcul répartition CM'!BP43>0,COUNTIF('3bis. Calcul répartition CM'!BP$9:BP$58,'3bis. Calcul répartition CM'!BP43)>1,SUM('3bis. Calcul répartition CM'!BQ$9:BQ$58)-SUM('3bis. Calcul répartition CM'!BO$9:BO$58)>1),\"erreur\",\"\")","v":""},{"$f":"IF(BP38=\"erreur\",0,IF(OR('3bis. Calcul répartition CM'!BQ$5=0,'3bis. Calcul répartition CM'!BP43=0),0,IF('3bis. Calcul répartition CM'!BQ43-'3bis. Calcul répartition CM'!BO43>0,1,0)))","v":0}]
[null,null,null,null,null,null,null,null,{"$f":"'3bis. Calcul répartition CM'!B44","v":0},{"$f":"IF(AND('3bis. Calcul répartition CM'!J44=MAX('3bis. Calcul répartition CM'!J$9:J$58),'3bis. Calcul répartition CM'!J44>0,COUNTIF('3bis. Calcul répartition CM'!J$9:J$58,'3bis. Calcul répartition CM'!J44)>1,SUM('3bis. Calcul répartition CM'!$K$9:$K$58)-SUM('3bis. Calcul répartition CM'!$D$9:$D$58)>1),\"erreur\",\"\")","v":""},{"$f":"IF(J39=\"erreur\",0,IF(OR('3bis. Calcul répartition CM'!K$5=0,'3bis. Calcul répartition CM'!J44=0),0,IF('3bis. Calcul répartition CM'!K44-'3bis. Calcul répartition CM'!D44>0,1,0)))","v":0},{"$f":"IF(AND('3bis. Calcul répartition CM'!L44=MAX('3bis. Calcul répartition CM'!L$9:L$58),'3bis. Calcul répartition CM'!L44>0,COUNTIF('3bis. Calcul répartition CM'!L$9:L$58,'3bis. Calcul répartition CM'!L44)>1,SUM('3bis. Calcul répartition CM'!M$9:M$58)-SUM('3bis. Calcul répartition CM'!K$9:K$58)>1),\"erreur\",\"\")","v":""},{"$f":"IF(L39=\"erreur\",0,IF(OR('3bis. Calcul répartition CM'!M$5=0,'3bis. Calcul répartition CM'!L44=0),0,IF('3bis. Calcul répartition CM'!M44-'3bis. Calcul répartition CM'!K44>0,1,0)))","v":0},{"$f":"IF(AND('3bis. Calcul répartition CM'!N44=MAX('3bis. Calcul répartition CM'!N$9:N$58),'3bis. Calcul répartition CM'!N44>0,COUNTIF('3bis. Calcul répartition CM'!N$9:N$58,'3bis. Calcul répartition CM'!N44)>1,SUM('3bis. Calcul répartition CM'!O$9:O$58)-SUM('3bis. Calcul répartition CM'!M$9:M$58)>1),\"erreur\",\"\")","v":""},{"$f":"IF(N39=\"erreur\",0,IF(OR('3bis. Calcul répartition CM'!O$5=0,'3bis. Calcul répartition CM'!N44=0),0,IF('3bis. Calcul répartition CM'!O44-'3bis. Calcul répartition CM'!M44>0,1,0)))","v":0},{"$f":"IF(AND('3bis. Calcul répartition CM'!P44=MAX('3bis. Calcul répartition CM'!P$9:P$58),'3bis. Calcul répartition CM'!P44>0,COUNTIF('3bis. Calcul répartition CM'!P$9:P$58,'3bis. Calcul répartition CM'!P44)>1,SUM('3bis. Calcul répartition CM'!Q$9:Q$58)-SUM('3bis. Calcul répartition CM'!O$9:O$58)>1),\"erreur\",\"\")","v":""},{"$f":"IF(P39=\"erreur\",0,IF(OR('3bis. Calcul répartition CM'!Q$5=0,'3bis. Calcul répartition CM'!P44=0),0,IF('3bis. Calcul répartition CM'!Q44-'3bis. Calcul répartition CM'!O44>0,1,0)))","v":0},{"$f":"IF(AND('3bis. Calcul répartition CM'!R44=MAX('3bis. Calcul répartition CM'!R$9:R$58),'3bis. Calcul répartition CM'!R44>0,COUNTIF('3bis. Calcul répartition CM'!R$9:R$58,'3bis. Calcul répartition CM'!R44)>1,SUM('3bis. Calcul répartition CM'!S$9:S$58)-SUM('3bis. Calcul répartition CM'!Q$9:Q$58)>1),\"erreur\",\"\")","v":""},{"$f":"IF(R39=\"erreur\",0,IF(OR('3bis. Calcul répartition CM'!S$5=0,'3bis. Calcul répartition CM'!R44=0),0,IF('3bis. Calcul répartition CM'!S44-'3bis. Calcul répartition CM'!Q44>0,1,0)))","v":0},{"$f":"IF(AND('3bis. Calcul répartition CM'!T44=MAX('3bis. Calcul répartition CM'!T$9:T$58),'3bis. Calcul répartition CM'!T44>0,COUNTIF('3bis. Calcul répartition CM'!T$9:T$58,'3bis. Calcul répartition CM'!T44)>1,SUM('3bis. Calcul répartition CM'!U$9:U$58)-SUM('3bis. Calcul répartition CM'!S$9:S$58)>1),\"erreur\",\"\")","v":""},{"$f":"IF(T39=\"erreur\",0,IF(OR('3bis. Calcul répartition CM'!U$5=0,'3bis. Calcul répartition CM'!T44=0),0,IF('3bis. Calcul répartition CM'!U44-'3bis. Calcul répartition CM'!S44>0,1,0)))","v":0},{"$f":"IF(AND('3bis. Calcul répartition CM'!V44=MAX('3bis. Calcul répartition CM'!V$9:V$58),'3bis. Calcul répartition CM'!V44>0,COUNTIF('3bis. Calcul répartition CM'!V$9:V$58,'3bis. Calcul répartition CM'!V44)>1,SUM('3bis. Calcul répartition CM'!W$9:W$58)-SUM('3bis. Calcul répartition CM'!U$9:U$58)>1),\"erreur\",\"\")","v":""},{"$f":"IF(V39=\"erreur\",0,IF(OR('3bis. Calcul répartition CM'!W$5=0,'3bis. Calcul répartition CM'!V44=0),0,IF('3bis. Calcul répartition CM'!W44-'3bis. Calcul répartition CM'!U44>0,1,0)))","v":0},{"$f":"IF(AND('3bis. Calcul répartition CM'!X44=MAX('3bis. Calcul répartition CM'!X$9:X$58),'3bis. Calcul répartition CM'!X44>0,COUNTIF('3bis. Calcul répartition CM'!X$9:X$58,'3bis. Calcul répartition CM'!X44)>1,SUM('3bis. Calcul répartition CM'!Y$9:Y$58)-SUM('3bis. Calcul répartition CM'!W$9:W$58)>1),\"erreur\",\"\")","v":""},{"$f":"IF(X39=\"erreur\",0,IF(OR('3bis. Calcul répartition CM'!Y$5=0,'3bis. Calcul répartition CM'!X44=0),0,IF('3bis. Calcul répartition CM'!Y44-'3bis. Calcul répartition CM'!W44>0,1,0)))","v":0},{"$f":"IF(AND('3bis. Calcul répartition CM'!Z44=MAX('3bis. Calcul répartition CM'!Z$9:Z$58),'3bis. Calcul répartition CM'!Z44>0,COUNTIF('3bis. Calcul répartition CM'!Z$9:Z$58,'3bis. Calcul répartition CM'!Z44)>1,SUM('3bis. Calcul répartition CM'!AA$9:AA$58)-SUM('3bis. Calcul répartition CM'!Y$9:Y$58)>1),\"erreur\",\"\")","v":""},{"$f":"IF(Z39=\"erreur\",0,IF(OR('3bis. Calcul répartition CM'!AA$5=0,'3bis. Calcul répartition CM'!Z44=0),0,IF('3bis. Calcul répartition CM'!AA44-'3bis. Calcul répartition CM'!Y44>0,1,0)))","v":0},{"$f":"IF(AND('3bis. Calcul répartition CM'!AB44=MAX('3bis. Calcul répartition CM'!AB$9:AB$58),'3bis. Calcul répartition CM'!AB44>0,COUNTIF('3bis. Calcul répartition CM'!AB$9:AB$58,'3bis. Calcul répartition CM'!AB44)>1,SUM('3bis. Calcul répartition CM'!AC$9:AC$58)-SUM('3bis. Calcul répartition CM'!AA$9:AA$58)>1),\"erreur\",\"\")","v":""},{"$f":"IF(AB39=\"erreur\",0,IF(OR('3bis. Calcul répartition CM'!AC$5=0,'3bis. Calcul répartition CM'!AB44=0),0,IF('3bis. Calcul répartition CM'!AC44-'3bis. Calcul répartition CM'!AA44>0,1,0)))","v":0},{"$f":"IF(AND('3bis. Calcul répartition CM'!AD44=MAX('3bis. Calcul répartition CM'!AD$9:AD$58),'3bis. Calcul répartition CM'!AD44>0,COUNTIF('3bis. Calcul répartition CM'!AD$9:AD$58,'3bis. Calcul répartition CM'!AD44)>1,SUM('3bis. Calcul répartition CM'!AE$9:AE$58)-SUM('3bis. Calcul répartition CM'!AC$9:AC$58)>1),\"erreur\",\"\")","v":""},{"$f":"IF(AD39=\"erreur\",0,IF(OR('3bis. Calcul répartition CM'!AE$5=0,'3bis. Calcul répartition CM'!AD44=0),0,IF('3bis. Calcul répartition CM'!AE44-'3bis. Calcul répartition CM'!AC44>0,1,0)))","v":0},{"$f":"IF(AND('3bis. Calcul répartition CM'!AF44=MAX('3bis. Calcul répartition CM'!AF$9:AF$58),'3bis. Calcul répartition CM'!AF44>0,COUNTIF('3bis. Calcul répartition CM'!AF$9:AF$58,'3bis. Calcul répartition CM'!AF44)>1,SUM('3bis. Calcul répartition CM'!AG$9:AG$58)-SUM('3bis. Calcul répartition CM'!AE$9:AE$58)>1),\"erreur\",\"\")","v":""},{"$f":"IF(AF39=\"erreur\",0,IF(OR('3bis. Calcul répartition CM'!AG$5=0,'3bis. Calcul répartition CM'!AF44=0),0,IF('3bis. Calcul répartition CM'!AG44-'3bis. Calcul répartition CM'!AE44>0,1,0)))","v":0},{"$f":"IF(AND('3bis. Calcul répartition CM'!AH44=MAX('3bis. Calcul répartition CM'!AH$9:AH$58),'3bis. Calcul répartition CM'!AH44>0,COUNTIF('3bis. Calcul répartition CM'!AH$9:AH$58,'3bis. Calcul répartition CM'!AH44)>1,SUM('3bis. Calcul répartition CM'!AI$9:AI$58)-SUM('3bis. Calcul répartition CM'!AG$9:AG$58)>1),\"erreur\",\"\")","v":""},{"$f":"IF(AH39=\"erreur\",0,IF(OR('3bis. Calcul répartition CM'!AI$5=0,'3bis. Calcul répartition CM'!AH44=0),0,IF('3bis. Calcul répartition CM'!AI44-'3bis. Calcul répartition CM'!AG44>0,1,0)))","v":0},{"$f":"IF(AND('3bis. Calcul répartition CM'!AJ44=MAX('3bis. Calcul répartition CM'!AJ$9:AJ$58),'3bis. Calcul répartition CM'!AJ44>0,COUNTIF('3bis. Calcul répartition CM'!AJ$9:AJ$58,'3bis. Calcul répartition CM'!AJ44)>1,SUM('3bis. Calcul répartition CM'!AK$9:AK$58)-SUM('3bis. Calcul répartition CM'!AI$9:AI$58)>1),\"erreur\",\"\")","v":""},{"$f":"IF(AJ39=\"erreur\",0,IF(OR('3bis. Calcul répartition CM'!AK$5=0,'3bis. Calcul répartition CM'!AJ44=0),0,IF('3bis. Calcul répartition CM'!AK44-'3bis. Calcul répartition CM'!AI44>0,1,0)))","v":0},{"$f":"IF(AND('3bis. Calcul répartition CM'!AL44=MAX('3bis. Calcul répartition CM'!AL$9:AL$58),'3bis. Calcul répartition CM'!AL44>0,COUNTIF('3bis. Calcul répartition CM'!AL$9:AL$58,'3bis. Calcul répartition CM'!AL44)>1,SUM('3bis. Calcul répartition CM'!AM$9:AM$58)-SUM('3bis. Calcul répartition CM'!AK$9:AK$58)>1),\"erreur\",\"\")","v":""},{"$f":"IF(AL39=\"erreur\",0,IF(OR('3bis. Calcul répartition CM'!AM$5=0,'3bis. Calcul répartition CM'!AL44=0),0,IF('3bis. Calcul répartition CM'!AM44-'3bis. Calcul répartition CM'!AK44>0,1,0)))","v":0},{"$f":"IF(AND('3bis. Calcul répartition CM'!AN44=MAX('3bis. Calcul répartition CM'!AN$9:AN$58),'3bis. Calcul répartition CM'!AN44>0,COUNTIF('3bis. Calcul répartition CM'!AN$9:AN$58,'3bis. Calcul répartition CM'!AN44)>1,SUM('3bis. Calcul répartition CM'!AO$9:AO$58)-SUM('3bis. Calcul répartition CM'!AM$9:AM$58)>1),\"erreur\",\"\")","v":""},{"$f":"IF(AN39=\"erreur\",0,IF(OR('3bis. Calcul répartition CM'!AO$5=0,'3bis. Calcul répartition CM'!AN44=0),0,IF('3bis. Calcul répartition CM'!AO44-'3bis. Calcul répartition CM'!AM44>0,1,0)))","v":0},{"$f":"IF(AND('3bis. Calcul répartition CM'!AP44=MAX('3bis. Calcul répartition CM'!AP$9:AP$58),'3bis. Calcul répartition CM'!AP44>0,COUNTIF('3bis. Calcul répartition CM'!AP$9:AP$58,'3bis. Calcul répartition CM'!AP44)>1,SUM('3bis. Calcul répartition CM'!AQ$9:AQ$58)-SUM('3bis. Calcul répartition CM'!AO$9:AO$58)>1),\"erreur\",\"\")","v":""},{"$f":"IF(AP39=\"erreur\",0,IF(OR('3bis. Calcul répartition CM'!AQ$5=0,'3bis. Calcul répartition CM'!AP44=0),0,IF('3bis. Calcul répartition CM'!AQ44-'3bis. Calcul répartition CM'!AO44>0,1,0)))","v":0},{"$f":"IF(AND('3bis. Calcul répartition CM'!AR44=MAX('3bis. Calcul répartition CM'!AR$9:AR$58),'3bis. Calcul répartition CM'!AR44>0,COUNTIF('3bis. Calcul répartition CM'!AR$9:AR$58,'3bis. Calcul répartition CM'!AR44)>1,SUM('3bis. Calcul répartition CM'!AS$9:AS$58)-SUM('3bis. Calcul répartition CM'!AQ$9:AQ$58)>1),\"erreur\",\"\")","v":""},{"$f":"IF(AR39=\"erreur\",0,IF(OR('3bis. Calcul répartition CM'!AS$5=0,'3bis. Calcul répartition CM'!AR44=0),0,IF('3bis. Calcul répartition CM'!AS44-'3bis. Calcul répartition CM'!AQ44>0,1,0)))","v":0},{"$f":"IF(AND('3bis. Calcul répartition CM'!AT44=MAX('3bis. Calcul répartition CM'!AT$9:AT$58),'3bis. Calcul répartition CM'!AT44>0,COUNTIF('3bis. Calcul répartition CM'!AT$9:AT$58,'3bis. Calcul répartition CM'!AT44)>1,SUM('3bis. Calcul répartition CM'!AU$9:AU$58)-SUM('3bis. Calcul répartition CM'!AS$9:AS$58)>1),\"erreur\",\"\")","v":""},{"$f":"IF(AT39=\"erreur\",0,IF(OR('3bis. Calcul répartition CM'!AU$5=0,'3bis. Calcul répartition CM'!AT44=0),0,IF('3bis. Calcul répartition CM'!AU44-'3bis. Calcul répartition CM'!AS44>0,1,0)))","v":0},{"$f":"IF(AND('3bis. Calcul répartition CM'!AV44=MAX('3bis. Calcul répartition CM'!AV$9:AV$58),'3bis. Calcul répartition CM'!AV44>0,COUNTIF('3bis. Calcul répartition CM'!AV$9:AV$58,'3bis. Calcul répartition CM'!AV44)>1,SUM('3bis. Calcul répartition CM'!AW$9:AW$58)-SUM('3bis. Calcul répartition CM'!AU$9:AU$58)>1),\"erreur\",\"\")","v":""},{"$f":"IF(AV39=\"erreur\",0,IF(OR('3bis. Calcul répartition CM'!AW$5=0,'3bis. Calcul répartition CM'!AV44=0),0,IF('3bis. Calcul répartition CM'!AW44-'3bis. Calcul répartition CM'!AU44>0,1,0)))","v":0},{"$f":"IF(AND('3bis. Calcul répartition CM'!AX44=MAX('3bis. Calcul répartition CM'!AX$9:AX$58),'3bis. Calcul répartition CM'!AX44>0,COUNTIF('3bis. Calcul répartition CM'!AX$9:AX$58,'3bis. Calcul répartition CM'!AX44)>1,SUM('3bis. Calcul répartition CM'!AY$9:AY$58)-SUM('3bis. Calcul répartition CM'!AW$9:AW$58)>1),\"erreur\",\"\")","v":""},{"$f":"IF(AX39=\"erreur\",0,IF(OR('3bis. Calcul répartition CM'!AY$5=0,'3bis. Calcul répartition CM'!AX44=0),0,IF('3bis. Calcul répartition CM'!AY44-'3bis. Calcul répartition CM'!AW44>0,1,0)))","v":0},{"$f":"IF(AND('3bis. Calcul répartition CM'!AZ44=MAX('3bis. Calcul répartition CM'!AZ$9:AZ$58),'3bis. Calcul répartition CM'!AZ44>0,COUNTIF('3bis. Calcul répartition CM'!AZ$9:AZ$58,'3bis. Calcul répartition CM'!AZ44)>1,SUM('3bis. Calcul répartition CM'!BA$9:BA$58)-SUM('3bis. Calcul répartition CM'!AY$9:AY$58)>1),\"erreur\",\"\")","v":""},{"$f":"IF(AZ39=\"erreur\",0,IF(OR('3bis. Calcul répartition CM'!BA$5=0,'3bis. Calcul répartition CM'!AZ44=0),0,IF('3bis. Calcul répartition CM'!BA44-'3bis. Calcul répartition CM'!AY44>0,1,0)))","v":0},{"$f":"IF(AND('3bis. Calcul répartition CM'!BB44=MAX('3bis. Calcul répartition CM'!BB$9:BB$58),'3bis. Calcul répartition CM'!BB44>0,COUNTIF('3bis. Calcul répartition CM'!BB$9:BB$58,'3bis. Calcul répartition CM'!BB44)>1,SUM('3bis. Calcul répartition CM'!BC$9:BC$58)-SUM('3bis. Calcul répartition CM'!BA$9:BA$58)>1),\"erreur\",\"\")","v":""},{"$f":"IF(BB39=\"erreur\",0,IF(OR('3bis. Calcul répartition CM'!BC$5=0,'3bis. Calcul répartition CM'!BB44=0),0,IF('3bis. Calcul répartition CM'!BC44-'3bis. Calcul répartition CM'!BA44>0,1,0)))","v":0},{"$f":"IF(AND('3bis. Calcul répartition CM'!BD44=MAX('3bis. Calcul répartition CM'!BD$9:BD$58),'3bis. Calcul répartition CM'!BD44>0,COUNTIF('3bis. Calcul répartition CM'!BD$9:BD$58,'3bis. Calcul répartition CM'!BD44)>1,SUM('3bis. Calcul répartition CM'!BE$9:BE$58)-SUM('3bis. Calcul répartition CM'!BC$9:BC$58)>1),\"erreur\",\"\")","v":""},{"$f":"IF(BD39=\"erreur\",0,IF(OR('3bis. Calcul répartition CM'!BE$5=0,'3bis. Calcul répartition CM'!BD44=0),0,IF('3bis. Calcul répartition CM'!BE44-'3bis. Calcul répartition CM'!BC44>0,1,0)))","v":0},{"$f":"IF(AND('3bis. Calcul répartition CM'!BF44=MAX('3bis. Calcul répartition CM'!BF$9:BF$58),'3bis. Calcul répartition CM'!BF44>0,COUNTIF('3bis. Calcul répartition CM'!BF$9:BF$58,'3bis. Calcul répartition CM'!BF44)>1,SUM('3bis. Calcul répartition CM'!BG$9:BG$58)-SUM('3bis. Calcul répartition CM'!BE$9:BE$58)>1),\"erreur\",\"\")","v":""},{"$f":"IF(BF39=\"erreur\",0,IF(OR('3bis. Calcul répartition CM'!BG$5=0,'3bis. Calcul répartition CM'!BF44=0),0,IF('3bis. Calcul répartition CM'!BG44-'3bis. Calcul répartition CM'!BE44>0,1,0)))","v":0},{"$f":"IF(AND('3bis. Calcul répartition CM'!BH44=MAX('3bis. Calcul répartition CM'!BH$9:BH$58),'3bis. Calcul répartition CM'!BH44>0,COUNTIF('3bis. Calcul répartition CM'!BH$9:BH$58,'3bis. Calcul répartition CM'!BH44)>1,SUM('3bis. Calcul répartition CM'!BI$9:BI$58)-SUM('3bis. Calcul répartition CM'!BG$9:BG$58)>1),\"erreur\",\"\")","v":""},{"$f":"IF(BH39=\"erreur\",0,IF(OR('3bis. Calcul répartition CM'!BI$5=0,'3bis. Calcul répartition CM'!BH44=0),0,IF('3bis. Calcul répartition CM'!BI44-'3bis. Calcul répartition CM'!BG44>0,1,0)))","v":0},{"$f":"IF(AND('3bis. Calcul répartition CM'!BJ44=MAX('3bis. Calcul répartition CM'!BJ$9:BJ$58),'3bis. Calcul répartition CM'!BJ44>0,COUNTIF('3bis. Calcul répartition CM'!BJ$9:BJ$58,'3bis. Calcul répartition CM'!BJ44)>1,SUM('3bis. Calcul répartition CM'!BK$9:BK$58)-SUM('3bis. Calcul répartition CM'!BI$9:BI$58)>1),\"erreur\",\"\")","v":""},{"$f":"IF(BJ39=\"erreur\",0,IF(OR('3bis. Calcul répartition CM'!BK$5=0,'3bis. Calcul répartition CM'!BJ44=0),0,IF('3bis. Calcul répartition CM'!BK44-'3bis. Calcul répartition CM'!BI44>0,1,0)))","v":0},{"$f":"IF(AND('3bis. Calcul répartition CM'!BL44=MAX('3bis. Calcul répartition CM'!BL$9:BL$58),'3bis. Calcul répartition CM'!BL44>0,COUNTIF('3bis. Calcul répartition CM'!BL$9:BL$58,'3bis. Calcul répartition CM'!BL44)>1,SUM('3bis. Calcul répartition CM'!BM$9:BM$58)-SUM('3bis. Calcul répartition CM'!BK$9:BK$58)>1),\"erreur\",\"\")","v":""},{"$f":"IF(BL39=\"erreur\",0,IF(OR('3bis. Calcul répartition CM'!BM$5=0,'3bis. Calcul répartition CM'!BL44=0),0,IF('3bis. Calcul répartition CM'!BM44-'3bis. Calcul répartition CM'!BK44>0,1,0)))","v":0},{"$f":"IF(AND('3bis. Calcul répartition CM'!BN44=MAX('3bis. Calcul répartition CM'!BN$9:BN$58),'3bis. Calcul répartition CM'!BN44>0,COUNTIF('3bis. Calcul répartition CM'!BN$9:BN$58,'3bis. Calcul répartition CM'!BN44)>1,SUM('3bis. Calcul répartition CM'!BO$9:BO$58)-SUM('3bis. Calcul répartition CM'!BM$9:BM$58)>1),\"erreur\",\"\")","v":""},{"$f":"IF(BN39=\"erreur\",0,IF(OR('3bis. Calcul répartition CM'!BO$5=0,'3bis. Calcul répartition CM'!BN44=0),0,IF('3bis. Calcul répartition CM'!BO44-'3bis. Calcul répartition CM'!BM44>0,1,0)))","v":0},{"$f":"IF(AND('3bis. Calcul répartition CM'!BP44=MAX('3bis. Calcul répartition CM'!BP$9:BP$58),'3bis. Calcul répartition CM'!BP44>0,COUNTIF('3bis. Calcul répartition CM'!BP$9:BP$58,'3bis. Calcul répartition CM'!BP44)>1,SUM('3bis. Calcul répartition CM'!BQ$9:BQ$58)-SUM('3bis. Calcul répartition CM'!BO$9:BO$58)>1),\"erreur\",\"\")","v":""},{"$f":"IF(BP39=\"erreur\",0,IF(OR('3bis. Calcul répartition CM'!BQ$5=0,'3bis. Calcul répartition CM'!BP44=0),0,IF('3bis. Calcul répartition CM'!BQ44-'3bis. Calcul répartition CM'!BO44>0,1,0)))","v":0}]
[null,null,null,null,null,null,null,null,{"$f":"'3bis. Calcul répartition CM'!B45","v":0},{"$f":"IF(AND('3bis. Calcul répartition CM'!J45=MAX('3bis. Calcul répartition CM'!J$9:J$58),'3bis. Calcul répartition CM'!J45>0,COUNTIF('3bis. Calcul répartition CM'!J$9:J$58,'3bis. Calcul répartition CM'!J45)>1,SUM('3bis. Calcul répartition CM'!$K$9:$K$58)-SUM('3bis. Calcul répartition CM'!$D$9:$D$58)>1),\"erreur\",\"\")","v":""},{"$f":"IF(J40=\"erreur\",0,IF(OR('3bis. Calcul répartition CM'!K$5=0,'3bis. Calcul répartition CM'!J45=0),0,IF('3bis. Calcul répartition CM'!K45-'3bis. Calcul répartition CM'!D45>0,1,0)))","v":0},{"$f":"IF(AND('3bis. Calcul répartition CM'!L45=MAX('3bis. Calcul répartition CM'!L$9:L$58),'3bis. Calcul répartition CM'!L45>0,COUNTIF('3bis. Calcul répartition CM'!L$9:L$58,'3bis. Calcul répartition CM'!L45)>1,SUM('3bis. Calcul répartition CM'!M$9:M$58)-SUM('3bis. Calcul répartition CM'!K$9:K$58)>1),\"erreur\",\"\")","v":""},{"$f":"IF(L40=\"erreur\",0,IF(OR('3bis. Calcul répartition CM'!M$5=0,'3bis. Calcul répartition CM'!L45=0),0,IF('3bis. Calcul répartition CM'!M45-'3bis. Calcul répartition CM'!K45>0,1,0)))","v":0},{"$f":"IF(AND('3bis. Calcul répartition CM'!N45=MAX('3bis. Calcul répartition CM'!N$9:N$58),'3bis. Calcul répartition CM'!N45>0,COUNTIF('3bis. Calcul répartition CM'!N$9:N$58,'3bis. Calcul répartition CM'!N45)>1,SUM('3bis. Calcul répartition CM'!O$9:O$58)-SUM('3bis. Calcul répartition CM'!M$9:M$58)>1),\"erreur\",\"\")","v":""},{"$f":"IF(N40=\"erreur\",0,IF(OR('3bis. Calcul répartition CM'!O$5=0,'3bis. Calcul répartition CM'!N45=0),0,IF('3bis. Calcul répartition CM'!O45-'3bis. Calcul répartition CM'!M45>0,1,0)))","v":0},{"$f":"IF(AND('3bis. Calcul répartition CM'!P45=MAX('3bis. Calcul répartition CM'!P$9:P$58),'3bis. Calcul répartition CM'!P45>0,COUNTIF('3bis. Calcul répartition CM'!P$9:P$58,'3bis. Calcul répartition CM'!P45)>1,SUM('3bis. Calcul répartition CM'!Q$9:Q$58)-SUM('3bis. Calcul répartition CM'!O$9:O$58)>1),\"erreur\",\"\")","v":""},{"$f":"IF(P40=\"erreur\",0,IF(OR('3bis. Calcul répartition CM'!Q$5=0,'3bis. Calcul répartition CM'!P45=0),0,IF('3bis. Calcul répartition CM'!Q45-'3bis. Calcul répartition CM'!O45>0,1,0)))","v":0},{"$f":"IF(AND('3bis. Calcul répartition CM'!R45=MAX('3bis. Calcul répartition CM'!R$9:R$58),'3bis. Calcul répartition CM'!R45>0,COUNTIF('3bis. Calcul répartition CM'!R$9:R$58,'3bis. Calcul répartition CM'!R45)>1,SUM('3bis. Calcul répartition CM'!S$9:S$58)-SUM('3bis. Calcul répartition CM'!Q$9:Q$58)>1),\"erreur\",\"\")","v":""},{"$f":"IF(R40=\"erreur\",0,IF(OR('3bis. Calcul répartition CM'!S$5=0,'3bis. Calcul répartition CM'!R45=0),0,IF('3bis. Calcul répartition CM'!S45-'3bis. Calcul répartition CM'!Q45>0,1,0)))","v":0},{"$f":"IF(AND('3bis. Calcul répartition CM'!T45=MAX('3bis. Calcul répartition CM'!T$9:T$58),'3bis. Calcul répartition CM'!T45>0,COUNTIF('3bis. Calcul répartition CM'!T$9:T$58,'3bis. Calcul répartition CM'!T45)>1,SUM('3bis. Calcul répartition CM'!U$9:U$58)-SUM('3bis. Calcul répartition CM'!S$9:S$58)>1),\"erreur\",\"\")","v":""},{"$f":"IF(T40=\"erreur\",0,IF(OR('3bis. Calcul répartition CM'!U$5=0,'3bis. Calcul répartition CM'!T45=0),0,IF('3bis. Calcul répartition CM'!U45-'3bis. Calcul répartition CM'!S45>0,1,0)))","v":0},{"$f":"IF(AND('3bis. Calcul répartition CM'!V45=MAX('3bis. Calcul répartition CM'!V$9:V$58),'3bis. Calcul répartition CM'!V45>0,COUNTIF('3bis. Calcul répartition CM'!V$9:V$58,'3bis. Calcul répartition CM'!V45)>1,SUM('3bis. Calcul répartition CM'!W$9:W$58)-SUM('3bis. Calcul répartition CM'!U$9:U$58)>1),\"erreur\",\"\")","v":""},{"$f":"IF(V40=\"erreur\",0,IF(OR('3bis. Calcul répartition CM'!W$5=0,'3bis. Calcul répartition CM'!V45=0),0,IF('3bis. Calcul répartition CM'!W45-'3bis. Calcul répartition CM'!U45>0,1,0)))","v":0},{"$f":"IF(AND('3bis. Calcul répartition CM'!X45=MAX('3bis. Calcul répartition CM'!X$9:X$58),'3bis. Calcul répartition CM'!X45>0,COUNTIF('3bis. Calcul répartition CM'!X$9:X$58,'3bis. Calcul répartition CM'!X45)>1,SUM('3bis. Calcul répartition CM'!Y$9:Y$58)-SUM('3bis. Calcul répartition CM'!W$9:W$58)>1),\"erreur\",\"\")","v":""},{"$f":"IF(X40=\"erreur\",0,IF(OR('3bis. Calcul répartition CM'!Y$5=0,'3bis. Calcul répartition CM'!X45=0),0,IF('3bis. Calcul répartition CM'!Y45-'3bis. Calcul répartition CM'!W45>0,1,0)))","v":0},{"$f":"IF(AND('3bis. Calcul répartition CM'!Z45=MAX('3bis. Calcul répartition CM'!Z$9:Z$58),'3bis. Calcul répartition CM'!Z45>0,COUNTIF('3bis. Calcul répartition CM'!Z$9:Z$58,'3bis. Calcul répartition CM'!Z45)>1,SUM('3bis. Calcul répartition CM'!AA$9:AA$58)-SUM('3bis. Calcul répartition CM'!Y$9:Y$58)>1),\"erreur\",\"\")","v":""},{"$f":"IF(Z40=\"erreur\",0,IF(OR('3bis. Calcul répartition CM'!AA$5=0,'3bis. Calcul répartition CM'!Z45=0),0,IF('3bis. Calcul répartition CM'!AA45-'3bis. Calcul répartition CM'!Y45>0,1,0)))","v":0},{"$f":"IF(AND('3bis. Calcul répartition CM'!AB45=MAX('3bis. Calcul répartition CM'!AB$9:AB$58),'3bis. Calcul répartition CM'!AB45>0,COUNTIF('3bis. Calcul répartition CM'!AB$9:AB$58,'3bis. Calcul répartition CM'!AB45)>1,SUM('3bis. Calcul répartition CM'!AC$9:AC$58)-SUM('3bis. Calcul répartition CM'!AA$9:AA$58)>1),\"erreur\",\"\")","v":""},{"$f":"IF(AB40=\"erreur\",0,IF(OR('3bis. Calcul répartition CM'!AC$5=0,'3bis. Calcul répartition CM'!AB45=0),0,IF('3bis. Calcul répartition CM'!AC45-'3bis. Calcul répartition CM'!AA45>0,1,0)))","v":0},{"$f":"IF(AND('3bis. Calcul répartition CM'!AD45=MAX('3bis. Calcul répartition CM'!AD$9:AD$58),'3bis. Calcul répartition CM'!AD45>0,COUNTIF('3bis. Calcul répartition CM'!AD$9:AD$58,'3bis. Calcul répartition CM'!AD45)>1,SUM('3bis. Calcul répartition CM'!AE$9:AE$58)-SUM('3bis. Calcul répartition CM'!AC$9:AC$58)>1),\"erreur\",\"\")","v":""},{"$f":"IF(AD40=\"erreur\",0,IF(OR('3bis. Calcul répartition CM'!AE$5=0,'3bis. Calcul répartition CM'!AD45=0),0,IF('3bis. Calcul répartition CM'!AE45-'3bis. Calcul répartition CM'!AC45>0,1,0)))","v":0},{"$f":"IF(AND('3bis. Calcul répartition CM'!AF45=MAX('3bis. Calcul répartition CM'!AF$9:AF$58),'3bis. Calcul répartition CM'!AF45>0,COUNTIF('3bis. Calcul répartition CM'!AF$9:AF$58,'3bis. Calcul répartition CM'!AF45)>1,SUM('3bis. Calcul répartition CM'!AG$9:AG$58)-SUM('3bis. Calcul répartition CM'!AE$9:AE$58)>1),\"erreur\",\"\")","v":""},{"$f":"IF(AF40=\"erreur\",0,IF(OR('3bis. Calcul répartition CM'!AG$5=0,'3bis. Calcul répartition CM'!AF45=0),0,IF('3bis. Calcul répartition CM'!AG45-'3bis. Calcul répartition CM'!AE45>0,1,0)))","v":0},{"$f":"IF(AND('3bis. Calcul répartition CM'!AH45=MAX('3bis. Calcul répartition CM'!AH$9:AH$58),'3bis. Calcul répartition CM'!AH45>0,COUNTIF('3bis. Calcul répartition CM'!AH$9:AH$58,'3bis. Calcul répartition CM'!AH45)>1,SUM('3bis. Calcul répartition CM'!AI$9:AI$58)-SUM('3bis. Calcul répartition CM'!AG$9:AG$58)>1),\"erreur\",\"\")","v":""},{"$f":"IF(AH40=\"erreur\",0,IF(OR('3bis. Calcul répartition CM'!AI$5=0,'3bis. Calcul répartition CM'!AH45=0),0,IF('3bis. Calcul répartition CM'!AI45-'3bis. Calcul répartition CM'!AG45>0,1,0)))","v":0},{"$f":"IF(AND('3bis. Calcul répartition CM'!AJ45=MAX('3bis. Calcul répartition CM'!AJ$9:AJ$58),'3bis. Calcul répartition CM'!AJ45>0,COUNTIF('3bis. Calcul répartition CM'!AJ$9:AJ$58,'3bis. Calcul répartition CM'!AJ45)>1,SUM('3bis. Calcul répartition CM'!AK$9:AK$58)-SUM('3bis. Calcul répartition CM'!AI$9:AI$58)>1),\"erreur\",\"\")","v":""},{"$f":"IF(AJ40=\"erreur\",0,IF(OR('3bis. Calcul répartition CM'!AK$5=0,'3bis. Calcul répartition CM'!AJ45=0),0,IF('3bis. Calcul répartition CM'!AK45-'3bis. Calcul répartition CM'!AI45>0,1,0)))","v":0},{"$f":"IF(AND('3bis. Calcul répartition CM'!AL45=MAX('3bis. Calcul répartition CM'!AL$9:AL$58),'3bis. Calcul répartition CM'!AL45>0,COUNTIF('3bis. Calcul répartition CM'!AL$9:AL$58,'3bis. Calcul répartition CM'!AL45)>1,SUM('3bis. Calcul répartition CM'!AM$9:AM$58)-SUM('3bis. Calcul répartition CM'!AK$9:AK$58)>1),\"erreur\",\"\")","v":""},{"$f":"IF(AL40=\"erreur\",0,IF(OR('3bis. Calcul répartition CM'!AM$5=0,'3bis. Calcul répartition CM'!AL45=0),0,IF('3bis. Calcul répartition CM'!AM45-'3bis. Calcul répartition CM'!AK45>0,1,0)))","v":0},{"$f":"IF(AND('3bis. Calcul répartition CM'!AN45=MAX('3bis. Calcul répartition CM'!AN$9:AN$58),'3bis. Calcul répartition CM'!AN45>0,COUNTIF('3bis. Calcul répartition CM'!AN$9:AN$58,'3bis. Calcul répartition CM'!AN45)>1,SUM('3bis. Calcul répartition CM'!AO$9:AO$58)-SUM('3bis. Calcul répartition CM'!AM$9:AM$58)>1),\"erreur\",\"\")","v":""},{"$f":"IF(AN40=\"erreur\",0,IF(OR('3bis. Calcul répartition CM'!AO$5=0,'3bis. Calcul répartition CM'!AN45=0),0,IF('3bis. Calcul répartition CM'!AO45-'3bis. Calcul répartition CM'!AM45>0,1,0)))","v":0},{"$f":"IF(AND('3bis. Calcul répartition CM'!AP45=MAX('3bis. Calcul répartition CM'!AP$9:AP$58),'3bis. Calcul répartition CM'!AP45>0,COUNTIF('3bis. Calcul répartition CM'!AP$9:AP$58,'3bis. Calcul répartition CM'!AP45)>1,SUM('3bis. Calcul répartition CM'!AQ$9:AQ$58)-SUM('3bis. Calcul répartition CM'!AO$9:AO$58)>1),\"erreur\",\"\")","v":""},{"$f":"IF(AP40=\"erreur\",0,IF(OR('3bis. Calcul répartition CM'!AQ$5=0,'3bis. Calcul répartition CM'!AP45=0),0,IF('3bis. Calcul répartition CM'!AQ45-'3bis. Calcul répartition CM'!AO45>0,1,0)))","v":0},{"$f":"IF(AND('3bis. Calcul répartition CM'!AR45=MAX('3bis. Calcul répartition CM'!AR$9:AR$58),'3bis. Calcul répartition CM'!AR45>0,COUNTIF('3bis. Calcul répartition CM'!AR$9:AR$58,'3bis. Calcul répartition CM'!AR45)>1,SUM('3bis. Calcul répartition CM'!AS$9:AS$58)-SUM('3bis. Calcul répartition CM'!AQ$9:AQ$58)>1),\"erreur\",\"\")","v":""},{"$f":"IF(AR40=\"erreur\",0,IF(OR('3bis. Calcul répartition CM'!AS$5=0,'3bis. Calcul répartition CM'!AR45=0),0,IF('3bis. Calcul répartition CM'!AS45-'3bis. Calcul répartition CM'!AQ45>0,1,0)))","v":0},{"$f":"IF(AND('3bis. Calcul répartition CM'!AT45=MAX('3bis. Calcul répartition CM'!AT$9:AT$58),'3bis. Calcul répartition CM'!AT45>0,COUNTIF('3bis. Calcul répartition CM'!AT$9:AT$58,'3bis. Calcul répartition CM'!AT45)>1,SUM('3bis. Calcul répartition CM'!AU$9:AU$58)-SUM('3bis. Calcul répartition CM'!AS$9:AS$58)>1),\"erreur\",\"\")","v":""},{"$f":"IF(AT40=\"erreur\",0,IF(OR('3bis. Calcul répartition CM'!AU$5=0,'3bis. Calcul répartition CM'!AT45=0),0,IF('3bis. Calcul répartition CM'!AU45-'3bis. Calcul répartition CM'!AS45>0,1,0)))","v":0},{"$f":"IF(AND('3bis. Calcul répartition CM'!AV45=MAX('3bis. Calcul répartition CM'!AV$9:AV$58),'3bis. Calcul répartition CM'!AV45>0,COUNTIF('3bis. Calcul répartition CM'!AV$9:AV$58,'3bis. Calcul répartition CM'!AV45)>1,SUM('3bis. Calcul répartition CM'!AW$9:AW$58)-SUM('3bis. Calcul répartition CM'!AU$9:AU$58)>1),\"erreur\",\"\")","v":""},{"$f":"IF(AV40=\"erreur\",0,IF(OR('3bis. Calcul répartition CM'!AW$5=0,'3bis. Calcul répartition CM'!AV45=0),0,IF('3bis. Calcul répartition CM'!AW45-'3bis. Calcul répartition CM'!AU45>0,1,0)))","v":0},{"$f":"IF(AND('3bis. Calcul répartition CM'!AX45=MAX('3bis. Calcul répartition CM'!AX$9:AX$58),'3bis. Calcul répartition CM'!AX45>0,COUNTIF('3bis. Calcul répartition CM'!AX$9:AX$58,'3bis. Calcul répartition CM'!AX45)>1,SUM('3bis. Calcul répartition CM'!AY$9:AY$58)-SUM('3bis. Calcul répartition CM'!AW$9:AW$58)>1),\"erreur\",\"\")","v":""},{"$f":"IF(AX40=\"erreur\",0,IF(OR('3bis. Calcul répartition CM'!AY$5=0,'3bis. Calcul répartition CM'!AX45=0),0,IF('3bis. Calcul répartition CM'!AY45-'3bis. Calcul répartition CM'!AW45>0,1,0)))","v":0},{"$f":"IF(AND('3bis. Calcul répartition CM'!AZ45=MAX('3bis. Calcul répartition CM'!AZ$9:AZ$58),'3bis. Calcul répartition CM'!AZ45>0,COUNTIF('3bis. Calcul répartition CM'!AZ$9:AZ$58,'3bis. Calcul répartition CM'!AZ45)>1,SUM('3bis. Calcul répartition CM'!BA$9:BA$58)-SUM('3bis. Calcul répartition CM'!AY$9:AY$58)>1),\"erreur\",\"\")","v":""},{"$f":"IF(AZ40=\"erreur\",0,IF(OR('3bis. Calcul répartition CM'!BA$5=0,'3bis. Calcul répartition CM'!AZ45=0),0,IF('3bis. Calcul répartition CM'!BA45-'3bis. Calcul répartition CM'!AY45>0,1,0)))","v":0},{"$f":"IF(AND('3bis. Calcul répartition CM'!BB45=MAX('3bis. Calcul répartition CM'!BB$9:BB$58),'3bis. Calcul répartition CM'!BB45>0,COUNTIF('3bis. Calcul répartition CM'!BB$9:BB$58,'3bis. Calcul répartition CM'!BB45)>1,SUM('3bis. Calcul répartition CM'!BC$9:BC$58)-SUM('3bis. Calcul répartition CM'!BA$9:BA$58)>1),\"erreur\",\"\")","v":""},{"$f":"IF(BB40=\"erreur\",0,IF(OR('3bis. Calcul répartition CM'!BC$5=0,'3bis. Calcul répartition CM'!BB45=0),0,IF('3bis. Calcul répartition CM'!BC45-'3bis. Calcul répartition CM'!BA45>0,1,0)))","v":0},{"$f":"IF(AND('3bis. Calcul répartition CM'!BD45=MAX('3bis. Calcul répartition CM'!BD$9:BD$58),'3bis. Calcul répartition CM'!BD45>0,COUNTIF('3bis. Calcul répartition CM'!BD$9:BD$58,'3bis. Calcul répartition CM'!BD45)>1,SUM('3bis. Calcul répartition CM'!BE$9:BE$58)-SUM('3bis. Calcul répartition CM'!BC$9:BC$58)>1),\"erreur\",\"\")","v":""},{"$f":"IF(BD40=\"erreur\",0,IF(OR('3bis. Calcul répartition CM'!BE$5=0,'3bis. Calcul répartition CM'!BD45=0),0,IF('3bis. Calcul répartition CM'!BE45-'3bis. Calcul répartition CM'!BC45>0,1,0)))","v":0},{"$f":"IF(AND('3bis. Calcul répartition CM'!BF45=MAX('3bis. Calcul répartition CM'!BF$9:BF$58),'3bis. Calcul répartition CM'!BF45>0,COUNTIF('3bis. Calcul répartition CM'!BF$9:BF$58,'3bis. Calcul répartition CM'!BF45)>1,SUM('3bis. Calcul répartition CM'!BG$9:BG$58)-SUM('3bis. Calcul répartition CM'!BE$9:BE$58)>1),\"erreur\",\"\")","v":""},{"$f":"IF(BF40=\"erreur\",0,IF(OR('3bis. Calcul répartition CM'!BG$5=0,'3bis. Calcul répartition CM'!BF45=0),0,IF('3bis. Calcul répartition CM'!BG45-'3bis. Calcul répartition CM'!BE45>0,1,0)))","v":0},{"$f":"IF(AND('3bis. Calcul répartition CM'!BH45=MAX('3bis. Calcul répartition CM'!BH$9:BH$58),'3bis. Calcul répartition CM'!BH45>0,COUNTIF('3bis. Calcul répartition CM'!BH$9:BH$58,'3bis. Calcul répartition CM'!BH45)>1,SUM('3bis. Calcul répartition CM'!BI$9:BI$58)-SUM('3bis. Calcul répartition CM'!BG$9:BG$58)>1),\"erreur\",\"\")","v":""},{"$f":"IF(BH40=\"erreur\",0,IF(OR('3bis. Calcul répartition CM'!BI$5=0,'3bis. Calcul répartition CM'!BH45=0),0,IF('3bis. Calcul répartition CM'!BI45-'3bis. Calcul répartition CM'!BG45>0,1,0)))","v":0},{"$f":"IF(AND('3bis. Calcul répartition CM'!BJ45=MAX('3bis. Calcul répartition CM'!BJ$9:BJ$58),'3bis. Calcul répartition CM'!BJ45>0,COUNTIF('3bis. Calcul répartition CM'!BJ$9:BJ$58,'3bis. Calcul répartition CM'!BJ45)>1,SUM('3bis. Calcul répartition CM'!BK$9:BK$58)-SUM('3bis. Calcul répartition CM'!BI$9:BI$58)>1),\"erreur\",\"\")","v":""},{"$f":"IF(BJ40=\"erreur\",0,IF(OR('3bis. Calcul répartition CM'!BK$5=0,'3bis. Calcul répartition CM'!BJ45=0),0,IF('3bis. Calcul répartition CM'!BK45-'3bis. Calcul répartition CM'!BI45>0,1,0)))","v":0},{"$f":"IF(AND('3bis. Calcul répartition CM'!BL45=MAX('3bis. Calcul répartition CM'!BL$9:BL$58),'3bis. Calcul répartition CM'!BL45>0,COUNTIF('3bis. Calcul répartition CM'!BL$9:BL$58,'3bis. Calcul répartition CM'!BL45)>1,SUM('3bis. Calcul répartition CM'!BM$9:BM$58)-SUM('3bis. Calcul répartition CM'!BK$9:BK$58)>1),\"erreur\",\"\")","v":""},{"$f":"IF(BL40=\"erreur\",0,IF(OR('3bis. Calcul répartition CM'!BM$5=0,'3bis. Calcul répartition CM'!BL45=0),0,IF('3bis. Calcul répartition CM'!BM45-'3bis. Calcul répartition CM'!BK45>0,1,0)))","v":0},{"$f":"IF(AND('3bis. Calcul répartition CM'!BN45=MAX('3bis. Calcul répartition CM'!BN$9:BN$58),'3bis. Calcul répartition CM'!BN45>0,COUNTIF('3bis. Calcul répartition CM'!BN$9:BN$58,'3bis. Calcul répartition CM'!BN45)>1,SUM('3bis. Calcul répartition CM'!BO$9:BO$58)-SUM('3bis. Calcul répartition CM'!BM$9:BM$58)>1),\"erreur\",\"\")","v":""},{"$f":"IF(BN40=\"erreur\",0,IF(OR('3bis. Calcul répartition CM'!BO$5=0,'3bis. Calcul répartition CM'!BN45=0),0,IF('3bis. Calcul répartition CM'!BO45-'3bis. Calcul répartition CM'!BM45>0,1,0)))","v":0},{"$f":"IF(AND('3bis. Calcul répartition CM'!BP45=MAX('3bis. Calcul répartition CM'!BP$9:BP$58),'3bis. Calcul répartition CM'!BP45>0,COUNTIF('3bis. Calcul répartition CM'!BP$9:BP$58,'3bis. Calcul répartition CM'!BP45)>1,SUM('3bis. Calcul répartition CM'!BQ$9:BQ$58)-SUM('3bis. Calcul répartition CM'!BO$9:BO$58)>1),\"erreur\",\"\")","v":""},{"$f":"IF(BP40=\"erreur\",0,IF(OR('3bis. Calcul répartition CM'!BQ$5=0,'3bis. Calcul répartition CM'!BP45=0),0,IF('3bis. Calcul répartition CM'!BQ45-'3bis. Calcul répartition CM'!BO45>0,1,0)))","v":0}]
[null,null,null,null,null,null,null,null,{"$f":"'3bis. Calcul répartition CM'!B46","v":0},{"$f":"IF(AND('3bis. Calcul répartition CM'!J46=MAX('3bis. Calcul répartition CM'!J$9:J$58),'3bis. Calcul répartition CM'!J46>0,COUNTIF('3bis. Calcul répartition CM'!J$9:J$58,'3bis. Calcul répartition CM'!J46)>1,SUM('3bis. Calcul répartition CM'!$K$9:$K$58)-SUM('3bis. Calcul répartition CM'!$D$9:$D$58)>1),\"erreur\",\"\")","v":""},{"$f":"IF(J41=\"erreur\",0,IF(OR('3bis. Calcul répartition CM'!K$5=0,'3bis. Calcul répartition CM'!J46=0),0,IF('3bis. Calcul répartition CM'!K46-'3bis. Calcul répartition CM'!D46>0,1,0)))","v":0},{"$f":"IF(AND('3bis. Calcul répartition CM'!L46=MAX('3bis. Calcul répartition CM'!L$9:L$58),'3bis. Calcul répartition CM'!L46>0,COUNTIF('3bis. Calcul répartition CM'!L$9:L$58,'3bis. Calcul répartition CM'!L46)>1,SUM('3bis. Calcul répartition CM'!M$9:M$58)-SUM('3bis. Calcul répartition CM'!K$9:K$58)>1),\"erreur\",\"\")","v":""},{"$f":"IF(L41=\"erreur\",0,IF(OR('3bis. Calcul répartition CM'!M$5=0,'3bis. Calcul répartition CM'!L46=0),0,IF('3bis. Calcul répartition CM'!M46-'3bis. Calcul répartition CM'!K46>0,1,0)))","v":0},{"$f":"IF(AND('3bis. Calcul répartition CM'!N46=MAX('3bis. Calcul répartition CM'!N$9:N$58),'3bis. Calcul répartition CM'!N46>0,COUNTIF('3bis. Calcul répartition CM'!N$9:N$58,'3bis. Calcul répartition CM'!N46)>1,SUM('3bis. Calcul répartition CM'!O$9:O$58)-SUM('3bis. Calcul répartition CM'!M$9:M$58)>1),\"erreur\",\"\")","v":""},{"$f":"IF(N41=\"erreur\",0,IF(OR('3bis. Calcul répartition CM'!O$5=0,'3bis. Calcul répartition CM'!N46=0),0,IF('3bis. Calcul répartition CM'!O46-'3bis. Calcul répartition CM'!M46>0,1,0)))","v":0},{"$f":"IF(AND('3bis. Calcul répartition CM'!P46=MAX('3bis. Calcul répartition CM'!P$9:P$58),'3bis. Calcul répartition CM'!P46>0,COUNTIF('3bis. Calcul répartition CM'!P$9:P$58,'3bis. Calcul répartition CM'!P46)>1,SUM('3bis. Calcul répartition CM'!Q$9:Q$58)-SUM('3bis. Calcul répartition CM'!O$9:O$58)>1),\"erreur\",\"\")","v":""},{"$f":"IF(P41=\"erreur\",0,IF(OR('3bis. Calcul répartition CM'!Q$5=0,'3bis. Calcul répartition CM'!P46=0),0,IF('3bis. Calcul répartition CM'!Q46-'3bis. Calcul répartition CM'!O46>0,1,0)))","v":0},{"$f":"IF(AND('3bis. Calcul répartition CM'!R46=MAX('3bis. Calcul répartition CM'!R$9:R$58),'3bis. Calcul répartition CM'!R46>0,COUNTIF('3bis. Calcul répartition CM'!R$9:R$58,'3bis. Calcul répartition CM'!R46)>1,SUM('3bis. Calcul répartition CM'!S$9:S$58)-SUM('3bis. Calcul répartition CM'!Q$9:Q$58)>1),\"erreur\",\"\")","v":""},{"$f":"IF(R41=\"erreur\",0,IF(OR('3bis. Calcul répartition CM'!S$5=0,'3bis. Calcul répartition CM'!R46=0),0,IF('3bis. Calcul répartition CM'!S46-'3bis. Calcul répartition CM'!Q46>0,1,0)))","v":0},{"$f":"IF(AND('3bis. Calcul répartition CM'!T46=MAX('3bis. Calcul répartition CM'!T$9:T$58),'3bis. Calcul répartition CM'!T46>0,COUNTIF('3bis. Calcul répartition CM'!T$9:T$58,'3bis. Calcul répartition CM'!T46)>1,SUM('3bis. Calcul répartition CM'!U$9:U$58)-SUM('3bis. Calcul répartition CM'!S$9:S$58)>1),\"erreur\",\"\")","v":""},{"$f":"IF(T41=\"erreur\",0,IF(OR('3bis. Calcul répartition CM'!U$5=0,'3bis. Calcul répartition CM'!T46=0),0,IF('3bis. Calcul répartition CM'!U46-'3bis. Calcul répartition CM'!S46>0,1,0)))","v":0},{"$f":"IF(AND('3bis. Calcul répartition CM'!V46=MAX('3bis. Calcul répartition CM'!V$9:V$58),'3bis. Calcul répartition CM'!V46>0,COUNTIF('3bis. Calcul répartition CM'!V$9:V$58,'3bis. Calcul répartition CM'!V46)>1,SUM('3bis. Calcul répartition CM'!W$9:W$58)-SUM('3bis. Calcul répartition CM'!U$9:U$58)>1),\"erreur\",\"\")","v":""},{"$f":"IF(V41=\"erreur\",0,IF(OR('3bis. Calcul répartition CM'!W$5=0,'3bis. Calcul répartition CM'!V46=0),0,IF('3bis. Calcul répartition CM'!W46-'3bis. Calcul répartition CM'!U46>0,1,0)))","v":0},{"$f":"IF(AND('3bis. Calcul répartition CM'!X46=MAX('3bis. Calcul répartition CM'!X$9:X$58),'3bis. Calcul répartition CM'!X46>0,COUNTIF('3bis. Calcul répartition CM'!X$9:X$58,'3bis. Calcul répartition CM'!X46)>1,SUM('3bis. Calcul répartition CM'!Y$9:Y$58)-SUM('3bis. Calcul répartition CM'!W$9:W$58)>1),\"erreur\",\"\")","v":""},{"$f":"IF(X41=\"erreur\",0,IF(OR('3bis. Calcul répartition CM'!Y$5=0,'3bis. Calcul répartition CM'!X46=0),0,IF('3bis. Calcul répartition CM'!Y46-'3bis. Calcul répartition CM'!W46>0,1,0)))","v":0},{"$f":"IF(AND('3bis. Calcul répartition CM'!Z46=MAX('3bis. Calcul répartition CM'!Z$9:Z$58),'3bis. Calcul répartition CM'!Z46>0,COUNTIF('3bis. Calcul répartition CM'!Z$9:Z$58,'3bis. Calcul répartition CM'!Z46)>1,SUM('3bis. Calcul répartition CM'!AA$9:AA$58)-SUM('3bis. Calcul répartition CM'!Y$9:Y$58)>1),\"erreur\",\"\")","v":""},{"$f":"IF(Z41=\"erreur\",0,IF(OR('3bis. Calcul répartition CM'!AA$5=0,'3bis. Calcul répartition CM'!Z46=0),0,IF('3bis. Calcul répartition CM'!AA46-'3bis. Calcul répartition CM'!Y46>0,1,0)))","v":0},{"$f":"IF(AND('3bis. Calcul répartition CM'!AB46=MAX('3bis. Calcul répartition CM'!AB$9:AB$58),'3bis. Calcul répartition CM'!AB46>0,COUNTIF('3bis. Calcul répartition CM'!AB$9:AB$58,'3bis. Calcul répartition CM'!AB46)>1,SUM('3bis. Calcul répartition CM'!AC$9:AC$58)-SUM('3bis. Calcul répartition CM'!AA$9:AA$58)>1),\"erreur\",\"\")","v":""},{"$f":"IF(AB41=\"erreur\",0,IF(OR('3bis. Calcul répartition CM'!AC$5=0,'3bis. Calcul répartition CM'!AB46=0),0,IF('3bis. Calcul répartition CM'!AC46-'3bis. Calcul répartition CM'!AA46>0,1,0)))","v":0},{"$f":"IF(AND('3bis. Calcul répartition CM'!AD46=MAX('3bis. Calcul répartition CM'!AD$9:AD$58),'3bis. Calcul répartition CM'!AD46>0,COUNTIF('3bis. Calcul répartition CM'!AD$9:AD$58,'3bis. Calcul répartition CM'!AD46)>1,SUM('3bis. Calcul répartition CM'!AE$9:AE$58)-SUM('3bis. Calcul répartition CM'!AC$9:AC$58)>1),\"erreur\",\"\")","v":""},{"$f":"IF(AD41=\"erreur\",0,IF(OR('3bis. Calcul répartition CM'!AE$5=0,'3bis. Calcul répartition CM'!AD46=0),0,IF('3bis. Calcul répartition CM'!AE46-'3bis. Calcul répartition CM'!AC46>0,1,0)))","v":0},{"$f":"IF(AND('3bis. Calcul répartition CM'!AF46=MAX('3bis. Calcul répartition CM'!AF$9:AF$58),'3bis. Calcul répartition CM'!AF46>0,COUNTIF('3bis. Calcul répartition CM'!AF$9:AF$58,'3bis. Calcul répartition CM'!AF46)>1,SUM('3bis. Calcul répartition CM'!AG$9:AG$58)-SUM('3bis. Calcul répartition CM'!AE$9:AE$58)>1),\"erreur\",\"\")","v":""},{"$f":"IF(AF41=\"erreur\",0,IF(OR('3bis. Calcul répartition CM'!AG$5=0,'3bis. Calcul répartition CM'!AF46=0),0,IF('3bis. Calcul répartition CM'!AG46-'3bis. Calcul répartition CM'!AE46>0,1,0)))","v":0},{"$f":"IF(AND('3bis. Calcul répartition CM'!AH46=MAX('3bis. Calcul répartition CM'!AH$9:AH$58),'3bis. Calcul répartition CM'!AH46>0,COUNTIF('3bis. Calcul répartition CM'!AH$9:AH$58,'3bis. Calcul répartition CM'!AH46)>1,SUM('3bis. Calcul répartition CM'!AI$9:AI$58)-SUM('3bis. Calcul répartition CM'!AG$9:AG$58)>1),\"erreur\",\"\")","v":""},{"$f":"IF(AH41=\"erreur\",0,IF(OR('3bis. Calcul répartition CM'!AI$5=0,'3bis. Calcul répartition CM'!AH46=0),0,IF('3bis. Calcul répartition CM'!AI46-'3bis. Calcul répartition CM'!AG46>0,1,0)))","v":0},{"$f":"IF(AND('3bis. Calcul répartition CM'!AJ46=MAX('3bis. Calcul répartition CM'!AJ$9:AJ$58),'3bis. Calcul répartition CM'!AJ46>0,COUNTIF('3bis. Calcul répartition CM'!AJ$9:AJ$58,'3bis. Calcul répartition CM'!AJ46)>1,SUM('3bis. Calcul répartition CM'!AK$9:AK$58)-SUM('3bis. Calcul répartition CM'!AI$9:AI$58)>1),\"erreur\",\"\")","v":""},{"$f":"IF(AJ41=\"erreur\",0,IF(OR('3bis. Calcul répartition CM'!AK$5=0,'3bis. Calcul répartition CM'!AJ46=0),0,IF('3bis. Calcul répartition CM'!AK46-'3bis. Calcul répartition CM'!AI46>0,1,0)))","v":0},{"$f":"IF(AND('3bis. Calcul répartition CM'!AL46=MAX('3bis. Calcul répartition CM'!AL$9:AL$58),'3bis. Calcul répartition CM'!AL46>0,COUNTIF('3bis. Calcul répartition CM'!AL$9:AL$58,'3bis. Calcul répartition CM'!AL46)>1,SUM('3bis. Calcul répartition CM'!AM$9:AM$58)-SUM('3bis. Calcul répartition CM'!AK$9:AK$58)>1),\"erreur\",\"\")","v":""},{"$f":"IF(AL41=\"erreur\",0,IF(OR('3bis. Calcul répartition CM'!AM$5=0,'3bis. Calcul répartition CM'!AL46=0),0,IF('3bis. Calcul répartition CM'!AM46-'3bis. Calcul répartition CM'!AK46>0,1,0)))","v":0},{"$f":"IF(AND('3bis. Calcul répartition CM'!AN46=MAX('3bis. Calcul répartition CM'!AN$9:AN$58),'3bis. Calcul répartition CM'!AN46>0,COUNTIF('3bis. Calcul répartition CM'!AN$9:AN$58,'3bis. Calcul répartition CM'!AN46)>1,SUM('3bis. Calcul répartition CM'!AO$9:AO$58)-SUM('3bis. Calcul répartition CM'!AM$9:AM$58)>1),\"erreur\",\"\")","v":""},{"$f":"IF(AN41=\"erreur\",0,IF(OR('3bis. Calcul répartition CM'!AO$5=0,'3bis. Calcul répartition CM'!AN46=0),0,IF('3bis. Calcul répartition CM'!AO46-'3bis. Calcul répartition CM'!AM46>0,1,0)))","v":0},{"$f":"IF(AND('3bis. Calcul répartition CM'!AP46=MAX('3bis. Calcul répartition CM'!AP$9:AP$58),'3bis. Calcul répartition CM'!AP46>0,COUNTIF('3bis. Calcul répartition CM'!AP$9:AP$58,'3bis. Calcul répartition CM'!AP46)>1,SUM('3bis. Calcul répartition CM'!AQ$9:AQ$58)-SUM('3bis. Calcul répartition CM'!AO$9:AO$58)>1),\"erreur\",\"\")","v":""},{"$f":"IF(AP41=\"erreur\",0,IF(OR('3bis. Calcul répartition CM'!AQ$5=0,'3bis. Calcul répartition CM'!AP46=0),0,IF('3bis. Calcul répartition CM'!AQ46-'3bis. Calcul répartition CM'!AO46>0,1,0)))","v":0},{"$f":"IF(AND('3bis. Calcul répartition CM'!AR46=MAX('3bis. Calcul répartition CM'!AR$9:AR$58),'3bis. Calcul répartition CM'!AR46>0,COUNTIF('3bis. Calcul répartition CM'!AR$9:AR$58,'3bis. Calcul répartition CM'!AR46)>1,SUM('3bis. Calcul répartition CM'!AS$9:AS$58)-SUM('3bis. Calcul répartition CM'!AQ$9:AQ$58)>1),\"erreur\",\"\")","v":""},{"$f":"IF(AR41=\"erreur\",0,IF(OR('3bis. Calcul répartition CM'!AS$5=0,'3bis. Calcul répartition CM'!AR46=0),0,IF('3bis. Calcul répartition CM'!AS46-'3bis. Calcul répartition CM'!AQ46>0,1,0)))","v":0},{"$f":"IF(AND('3bis. Calcul répartition CM'!AT46=MAX('3bis. Calcul répartition CM'!AT$9:AT$58),'3bis. Calcul répartition CM'!AT46>0,COUNTIF('3bis. Calcul répartition CM'!AT$9:AT$58,'3bis. Calcul répartition CM'!AT46)>1,SUM('3bis. Calcul répartition CM'!AU$9:AU$58)-SUM('3bis. Calcul répartition CM'!AS$9:AS$58)>1),\"erreur\",\"\")","v":""},{"$f":"IF(AT41=\"erreur\",0,IF(OR('3bis. Calcul répartition CM'!AU$5=0,'3bis. Calcul répartition CM'!AT46=0),0,IF('3bis. Calcul répartition CM'!AU46-'3bis. Calcul répartition CM'!AS46>0,1,0)))","v":0},{"$f":"IF(AND('3bis. Calcul répartition CM'!AV46=MAX('3bis. Calcul répartition CM'!AV$9:AV$58),'3bis. Calcul répartition CM'!AV46>0,COUNTIF('3bis. Calcul répartition CM'!AV$9:AV$58,'3bis. Calcul répartition CM'!AV46)>1,SUM('3bis. Calcul répartition CM'!AW$9:AW$58)-SUM('3bis. Calcul répartition CM'!AU$9:AU$58)>1),\"erreur\",\"\")","v":""},{"$f":"IF(AV41=\"erreur\",0,IF(OR('3bis. Calcul répartition CM'!AW$5=0,'3bis. Calcul répartition CM'!AV46=0),0,IF('3bis. Calcul répartition CM'!AW46-'3bis. Calcul répartition CM'!AU46>0,1,0)))","v":0},{"$f":"IF(AND('3bis. Calcul répartition CM'!AX46=MAX('3bis. Calcul répartition CM'!AX$9:AX$58),'3bis. Calcul répartition CM'!AX46>0,COUNTIF('3bis. Calcul répartition CM'!AX$9:AX$58,'3bis. Calcul répartition CM'!AX46)>1,SUM('3bis. Calcul répartition CM'!AY$9:AY$58)-SUM('3bis. Calcul répartition CM'!AW$9:AW$58)>1),\"erreur\",\"\")","v":""},{"$f":"IF(AX41=\"erreur\",0,IF(OR('3bis. Calcul répartition CM'!AY$5=0,'3bis. Calcul répartition CM'!AX46=0),0,IF('3bis. Calcul répartition CM'!AY46-'3bis. Calcul répartition CM'!AW46>0,1,0)))","v":0},{"$f":"IF(AND('3bis. Calcul répartition CM'!AZ46=MAX('3bis. Calcul répartition CM'!AZ$9:AZ$58),'3bis. Calcul répartition CM'!AZ46>0,COUNTIF('3bis. Calcul répartition CM'!AZ$9:AZ$58,'3bis. Calcul répartition CM'!AZ46)>1,SUM('3bis. Calcul répartition CM'!BA$9:BA$58)-SUM('3bis. Calcul répartition CM'!AY$9:AY$58)>1),\"erreur\",\"\")","v":""},{"$f":"IF(AZ41=\"erreur\",0,IF(OR('3bis. Calcul répartition CM'!BA$5=0,'3bis. Calcul répartition CM'!AZ46=0),0,IF('3bis. Calcul répartition CM'!BA46-'3bis. Calcul répartition CM'!AY46>0,1,0)))","v":0},{"$f":"IF(AND('3bis. Calcul répartition CM'!BB46=MAX('3bis. Calcul répartition CM'!BB$9:BB$58),'3bis. Calcul répartition CM'!BB46>0,COUNTIF('3bis. Calcul répartition CM'!BB$9:BB$58,'3bis. Calcul répartition CM'!BB46)>1,SUM('3bis. Calcul répartition CM'!BC$9:BC$58)-SUM('3bis. Calcul répartition CM'!BA$9:BA$58)>1),\"erreur\",\"\")","v":""},{"$f":"IF(BB41=\"erreur\",0,IF(OR('3bis. Calcul répartition CM'!BC$5=0,'3bis. Calcul répartition CM'!BB46=0),0,IF('3bis. Calcul répartition CM'!BC46-'3bis. Calcul répartition CM'!BA46>0,1,0)))","v":0},{"$f":"IF(AND('3bis. Calcul répartition CM'!BD46=MAX('3bis. Calcul répartition CM'!BD$9:BD$58),'3bis. Calcul répartition CM'!BD46>0,COUNTIF('3bis. Calcul répartition CM'!BD$9:BD$58,'3bis. Calcul répartition CM'!BD46)>1,SUM('3bis. Calcul répartition CM'!BE$9:BE$58)-SUM('3bis. Calcul répartition CM'!BC$9:BC$58)>1),\"erreur\",\"\")","v":""},{"$f":"IF(BD41=\"erreur\",0,IF(OR('3bis. Calcul répartition CM'!BE$5=0,'3bis. Calcul répartition CM'!BD46=0),0,IF('3bis. Calcul répartition CM'!BE46-'3bis. Calcul répartition CM'!BC46>0,1,0)))","v":0},{"$f":"IF(AND('3bis. Calcul répartition CM'!BF46=MAX('3bis. Calcul répartition CM'!BF$9:BF$58),'3bis. Calcul répartition CM'!BF46>0,COUNTIF('3bis. Calcul répartition CM'!BF$9:BF$58,'3bis. Calcul répartition CM'!BF46)>1,SUM('3bis. Calcul répartition CM'!BG$9:BG$58)-SUM('3bis. Calcul répartition CM'!BE$9:BE$58)>1),\"erreur\",\"\")","v":""},{"$f":"IF(BF41=\"erreur\",0,IF(OR('3bis. Calcul répartition CM'!BG$5=0,'3bis. Calcul répartition CM'!BF46=0),0,IF('3bis. Calcul répartition CM'!BG46-'3bis. Calcul répartition CM'!BE46>0,1,0)))","v":0},{"$f":"IF(AND('3bis. Calcul répartition CM'!BH46=MAX('3bis. Calcul répartition CM'!BH$9:BH$58),'3bis. Calcul répartition CM'!BH46>0,COUNTIF('3bis. Calcul répartition CM'!BH$9:BH$58,'3bis. Calcul répartition CM'!BH46)>1,SUM('3bis. Calcul répartition CM'!BI$9:BI$58)-SUM('3bis. Calcul répartition CM'!BG$9:BG$58)>1),\"erreur\",\"\")","v":""},{"$f":"IF(BH41=\"erreur\",0,IF(OR('3bis. Calcul répartition CM'!BI$5=0,'3bis. Calcul répartition CM'!BH46=0),0,IF('3bis. Calcul répartition CM'!BI46-'3bis. Calcul répartition CM'!BG46>0,1,0)))","v":0},{"$f":"IF(AND('3bis. Calcul répartition CM'!BJ46=MAX('3bis. Calcul répartition CM'!BJ$9:BJ$58),'3bis. Calcul répartition CM'!BJ46>0,COUNTIF('3bis. Calcul répartition CM'!BJ$9:BJ$58,'3bis. Calcul répartition CM'!BJ46)>1,SUM('3bis. Calcul répartition CM'!BK$9:BK$58)-SUM('3bis. Calcul répartition CM'!BI$9:BI$58)>1),\"erreur\",\"\")","v":""},{"$f":"IF(BJ41=\"erreur\",0,IF(OR('3bis. Calcul répartition CM'!BK$5=0,'3bis. Calcul répartition CM'!BJ46=0),0,IF('3bis. Calcul répartition CM'!BK46-'3bis. Calcul répartition CM'!BI46>0,1,0)))","v":0},{"$f":"IF(AND('3bis. Calcul répartition CM'!BL46=MAX('3bis. Calcul répartition CM'!BL$9:BL$58),'3bis. Calcul répartition CM'!BL46>0,COUNTIF('3bis. Calcul répartition CM'!BL$9:BL$58,'3bis. Calcul répartition CM'!BL46)>1,SUM('3bis. Calcul répartition CM'!BM$9:BM$58)-SUM('3bis. Calcul répartition CM'!BK$9:BK$58)>1),\"erreur\",\"\")","v":""},{"$f":"IF(BL41=\"erreur\",0,IF(OR('3bis. Calcul répartition CM'!BM$5=0,'3bis. Calcul répartition CM'!BL46=0),0,IF('3bis. Calcul répartition CM'!BM46-'3bis. Calcul répartition CM'!BK46>0,1,0)))","v":0},{"$f":"IF(AND('3bis. Calcul répartition CM'!BN46=MAX('3bis. Calcul répartition CM'!BN$9:BN$58),'3bis. Calcul répartition CM'!BN46>0,COUNTIF('3bis. Calcul répartition CM'!BN$9:BN$58,'3bis. Calcul répartition CM'!BN46)>1,SUM('3bis. Calcul répartition CM'!BO$9:BO$58)-SUM('3bis. Calcul répartition CM'!BM$9:BM$58)>1),\"erreur\",\"\")","v":""},{"$f":"IF(BN41=\"erreur\",0,IF(OR('3bis. Calcul répartition CM'!BO$5=0,'3bis. Calcul répartition CM'!BN46=0),0,IF('3bis. Calcul répartition CM'!BO46-'3bis. Calcul répartition CM'!BM46>0,1,0)))","v":0},{"$f":"IF(AND('3bis. Calcul répartition CM'!BP46=MAX('3bis. Calcul répartition CM'!BP$9:BP$58),'3bis. Calcul répartition CM'!BP46>0,COUNTIF('3bis. Calcul répartition CM'!BP$9:BP$58,'3bis. Calcul répartition CM'!BP46)>1,SUM('3bis. Calcul répartition CM'!BQ$9:BQ$58)-SUM('3bis. Calcul répartition CM'!BO$9:BO$58)>1),\"erreur\",\"\")","v":""},{"$f":"IF(BP41=\"erreur\",0,IF(OR('3bis. Calcul répartition CM'!BQ$5=0,'3bis. Calcul répartition CM'!BP46=0),0,IF('3bis. Calcul répartition CM'!BQ46-'3bis. Calcul répartition CM'!BO46>0,1,0)))","v":0}]
[null,null,null,null,null,null,null,null,{"$f":"'3bis. Calcul répartition CM'!B47","v":0},{"$f":"IF(AND('3bis. Calcul répartition CM'!J47=MAX('3bis. Calcul répartition CM'!J$9:J$58),'3bis. Calcul répartition CM'!J47>0,COUNTIF('3bis. Calcul répartition CM'!J$9:J$58,'3bis. Calcul répartition CM'!J47)>1,SUM('3bis. Calcul répartition CM'!$K$9:$K$58)-SUM('3bis. Calcul répartition CM'!$D$9:$D$58)>1),\"erreur\",\"\")","v":""},{"$f":"IF(J42=\"erreur\",0,IF(OR('3bis. Calcul répartition CM'!K$5=0,'3bis. Calcul répartition CM'!J47=0),0,IF('3bis. Calcul répartition CM'!K47-'3bis. Calcul répartition CM'!D47>0,1,0)))","v":0},{"$f":"IF(AND('3bis. Calcul répartition CM'!L47=MAX('3bis. Calcul répartition CM'!L$9:L$58),'3bis. Calcul répartition CM'!L47>0,COUNTIF('3bis. Calcul répartition CM'!L$9:L$58,'3bis. Calcul répartition CM'!L47)>1,SUM('3bis. Calcul répartition CM'!M$9:M$58)-SUM('3bis. Calcul répartition CM'!K$9:K$58)>1),\"erreur\",\"\")","v":""},{"$f":"IF(L42=\"erreur\",0,IF(OR('3bis. Calcul répartition CM'!M$5=0,'3bis. Calcul répartition CM'!L47=0),0,IF('3bis. Calcul répartition CM'!M47-'3bis. Calcul répartition CM'!K47>0,1,0)))","v":0},{"$f":"IF(AND('3bis. Calcul répartition CM'!N47=MAX('3bis. Calcul répartition CM'!N$9:N$58),'3bis. Calcul répartition CM'!N47>0,COUNTIF('3bis. Calcul répartition CM'!N$9:N$58,'3bis. Calcul répartition CM'!N47)>1,SUM('3bis. Calcul répartition CM'!O$9:O$58)-SUM('3bis. Calcul répartition CM'!M$9:M$58)>1),\"erreur\",\"\")","v":""},{"$f":"IF(N42=\"erreur\",0,IF(OR('3bis. Calcul répartition CM'!O$5=0,'3bis. Calcul répartition CM'!N47=0),0,IF('3bis. Calcul répartition CM'!O47-'3bis. Calcul répartition CM'!M47>0,1,0)))","v":0},{"$f":"IF(AND('3bis. Calcul répartition CM'!P47=MAX('3bis. Calcul répartition CM'!P$9:P$58),'3bis. Calcul répartition CM'!P47>0,COUNTIF('3bis. Calcul répartition CM'!P$9:P$58,'3bis. Calcul répartition CM'!P47)>1,SUM('3bis. Calcul répartition CM'!Q$9:Q$58)-SUM('3bis. Calcul répartition CM'!O$9:O$58)>1),\"erreur\",\"\")","v":""},{"$f":"IF(P42=\"erreur\",0,IF(OR('3bis. Calcul répartition CM'!Q$5=0,'3bis. Calcul répartition CM'!P47=0),0,IF('3bis. Calcul répartition CM'!Q47-'3bis. Calcul répartition CM'!O47>0,1,0)))","v":0},{"$f":"IF(AND('3bis. Calcul répartition CM'!R47=MAX('3bis. Calcul répartition CM'!R$9:R$58),'3bis. Calcul répartition CM'!R47>0,COUNTIF('3bis. Calcul répartition CM'!R$9:R$58,'3bis. Calcul répartition CM'!R47)>1,SUM('3bis. Calcul répartition CM'!S$9:S$58)-SUM('3bis. Calcul répartition CM'!Q$9:Q$58)>1),\"erreur\",\"\")","v":""},{"$f":"IF(R42=\"erreur\",0,IF(OR('3bis. Calcul répartition CM'!S$5=0,'3bis. Calcul répartition CM'!R47=0),0,IF('3bis. Calcul répartition CM'!S47-'3bis. Calcul répartition CM'!Q47>0,1,0)))","v":0},{"$f":"IF(AND('3bis. Calcul répartition CM'!T47=MAX('3bis. Calcul répartition CM'!T$9:T$58),'3bis. Calcul répartition CM'!T47>0,COUNTIF('3bis. Calcul répartition CM'!T$9:T$58,'3bis. Calcul répartition CM'!T47)>1,SUM('3bis. Calcul répartition CM'!U$9:U$58)-SUM('3bis. Calcul répartition CM'!S$9:S$58)>1),\"erreur\",\"\")","v":""},{"$f":"IF(T42=\"erreur\",0,IF(OR('3bis. Calcul répartition CM'!U$5=0,'3bis. Calcul répartition CM'!T47=0),0,IF('3bis. Calcul répartition CM'!U47-'3bis. Calcul répartition CM'!S47>0,1,0)))","v":0},{"$f":"IF(AND('3bis. Calcul répartition CM'!V47=MAX('3bis. Calcul répartition CM'!V$9:V$58),'3bis. Calcul répartition CM'!V47>0,COUNTIF('3bis. Calcul répartition CM'!V$9:V$58,'3bis. Calcul répartition CM'!V47)>1,SUM('3bis. Calcul répartition CM'!W$9:W$58)-SUM('3bis. Calcul répartition CM'!U$9:U$58)>1),\"erreur\",\"\")","v":""},{"$f":"IF(V42=\"erreur\",0,IF(OR('3bis. Calcul répartition CM'!W$5=0,'3bis. Calcul répartition CM'!V47=0),0,IF('3bis. Calcul répartition CM'!W47-'3bis. Calcul répartition CM'!U47>0,1,0)))","v":0},{"$f":"IF(AND('3bis. Calcul répartition CM'!X47=MAX('3bis. Calcul répartition CM'!X$9:X$58),'3bis. Calcul répartition CM'!X47>0,COUNTIF('3bis. Calcul répartition CM'!X$9:X$58,'3bis. Calcul répartition CM'!X47)>1,SUM('3bis. Calcul répartition CM'!Y$9:Y$58)-SUM('3bis. Calcul répartition CM'!W$9:W$58)>1),\"erreur\",\"\")","v":""},{"$f":"IF(X42=\"erreur\",0,IF(OR('3bis. Calcul répartition CM'!Y$5=0,'3bis. Calcul répartition CM'!X47=0),0,IF('3bis. Calcul répartition CM'!Y47-'3bis. Calcul répartition CM'!W47>0,1,0)))","v":0},{"$f":"IF(AND('3bis. Calcul répartition CM'!Z47=MAX('3bis. Calcul répartition CM'!Z$9:Z$58),'3bis. Calcul répartition CM'!Z47>0,COUNTIF('3bis. Calcul répartition CM'!Z$9:Z$58,'3bis. Calcul répartition CM'!Z47)>1,SUM('3bis. Calcul répartition CM'!AA$9:AA$58)-SUM('3bis. Calcul répartition CM'!Y$9:Y$58)>1),\"erreur\",\"\")","v":""},{"$f":"IF(Z42=\"erreur\",0,IF(OR('3bis. Calcul répartition CM'!AA$5=0,'3bis. Calcul répartition CM'!Z47=0),0,IF('3bis. Calcul répartition CM'!AA47-'3bis. Calcul répartition CM'!Y47>0,1,0)))","v":0},{"$f":"IF(AND('3bis. Calcul répartition CM'!AB47=MAX('3bis. Calcul répartition CM'!AB$9:AB$58),'3bis. Calcul répartition CM'!AB47>0,COUNTIF('3bis. Calcul répartition CM'!AB$9:AB$58,'3bis. Calcul répartition CM'!AB47)>1,SUM('3bis. Calcul répartition CM'!AC$9:AC$58)-SUM('3bis. Calcul répartition CM'!AA$9:AA$58)>1),\"erreur\",\"\")","v":""},{"$f":"IF(AB42=\"erreur\",0,IF(OR('3bis. Calcul répartition CM'!AC$5=0,'3bis. Calcul répartition CM'!AB47=0),0,IF('3bis. Calcul répartition CM'!AC47-'3bis. Calcul répartition CM'!AA47>0,1,0)))","v":0},{"$f":"IF(AND('3bis. Calcul répartition CM'!AD47=MAX('3bis. Calcul répartition CM'!AD$9:AD$58),'3bis. Calcul répartition CM'!AD47>0,COUNTIF('3bis. Calcul répartition CM'!AD$9:AD$58,'3bis. Calcul répartition CM'!AD47)>1,SUM('3bis. Calcul répartition CM'!AE$9:AE$58)-SUM('3bis. Calcul répartition CM'!AC$9:AC$58)>1),\"erreur\",\"\")","v":""},{"$f":"IF(AD42=\"erreur\",0,IF(OR('3bis. Calcul répartition CM'!AE$5=0,'3bis. Calcul répartition CM'!AD47=0),0,IF('3bis. Calcul répartition CM'!AE47-'3bis. Calcul répartition CM'!AC47>0,1,0)))","v":0},{"$f":"IF(AND('3bis. Calcul répartition CM'!AF47=MAX('3bis. Calcul répartition CM'!AF$9:AF$58),'3bis. Calcul répartition CM'!AF47>0,COUNTIF('3bis. Calcul répartition CM'!AF$9:AF$58,'3bis. Calcul répartition CM'!AF47)>1,SUM('3bis. Calcul répartition CM'!AG$9:AG$58)-SUM('3bis. Calcul répartition CM'!AE$9:AE$58)>1),\"erreur\",\"\")","v":""},{"$f":"IF(AF42=\"erreur\",0,IF(OR('3bis. Calcul répartition CM'!AG$5=0,'3bis. Calcul répartition CM'!AF47=0),0,IF('3bis. Calcul répartition CM'!AG47-'3bis. Calcul répartition CM'!AE47>0,1,0)))","v":0},{"$f":"IF(AND('3bis. Calcul répartition CM'!AH47=MAX('3bis. Calcul répartition CM'!AH$9:AH$58),'3bis. Calcul répartition CM'!AH47>0,COUNTIF('3bis. Calcul répartition CM'!AH$9:AH$58,'3bis. Calcul répartition CM'!AH47)>1,SUM('3bis. Calcul répartition CM'!AI$9:AI$58)-SUM('3bis. Calcul répartition CM'!AG$9:AG$58)>1),\"erreur\",\"\")","v":""},{"$f":"IF(AH42=\"erreur\",0,IF(OR('3bis. Calcul répartition CM'!AI$5=0,'3bis. Calcul répartition CM'!AH47=0),0,IF('3bis. Calcul répartition CM'!AI47-'3bis. Calcul répartition CM'!AG47>0,1,0)))","v":0},{"$f":"IF(AND('3bis. Calcul répartition CM'!AJ47=MAX('3bis. Calcul répartition CM'!AJ$9:AJ$58),'3bis. Calcul répartition CM'!AJ47>0,COUNTIF('3bis. Calcul répartition CM'!AJ$9:AJ$58,'3bis. Calcul répartition CM'!AJ47)>1,SUM('3bis. Calcul répartition CM'!AK$9:AK$58)-SUM('3bis. Calcul répartition CM'!AI$9:AI$58)>1),\"erreur\",\"\")","v":""},{"$f":"IF(AJ42=\"erreur\",0,IF(OR('3bis. Calcul répartition CM'!AK$5=0,'3bis. Calcul répartition CM'!AJ47=0),0,IF('3bis. Calcul répartition CM'!AK47-'3bis. Calcul répartition CM'!AI47>0,1,0)))","v":0},{"$f":"IF(AND('3bis. Calcul répartition CM'!AL47=MAX('3bis. Calcul répartition CM'!AL$9:AL$58),'3bis. Calcul répartition CM'!AL47>0,COUNTIF('3bis. Calcul répartition CM'!AL$9:AL$58,'3bis. Calcul répartition CM'!AL47)>1,SUM('3bis. Calcul répartition CM'!AM$9:AM$58)-SUM('3bis. Calcul répartition CM'!AK$9:AK$58)>1),\"erreur\",\"\")","v":""},{"$f":"IF(AL42=\"erreur\",0,IF(OR('3bis. Calcul répartition CM'!AM$5=0,'3bis. Calcul répartition CM'!AL47=0),0,IF('3bis. Calcul répartition CM'!AM47-'3bis. Calcul répartition CM'!AK47>0,1,0)))","v":0},{"$f":"IF(AND('3bis. Calcul répartition CM'!AN47=MAX('3bis. Calcul répartition CM'!AN$9:AN$58),'3bis. Calcul répartition CM'!AN47>0,COUNTIF('3bis. Calcul répartition CM'!AN$9:AN$58,'3bis. Calcul répartition CM'!AN47)>1,SUM('3bis. Calcul répartition CM'!AO$9:AO$58)-SUM('3bis. Calcul répartition CM'!AM$9:AM$58)>1),\"erreur\",\"\")","v":""},{"$f":"IF(AN42=\"erreur\",0,IF(OR('3bis. Calcul répartition CM'!AO$5=0,'3bis. Calcul répartition CM'!AN47=0),0,IF('3bis. Calcul répartition CM'!AO47-'3bis. Calcul répartition CM'!AM47>0,1,0)))","v":0},{"$f":"IF(AND('3bis. Calcul répartition CM'!AP47=MAX('3bis. Calcul répartition CM'!AP$9:AP$58),'3bis. Calcul répartition CM'!AP47>0,COUNTIF('3bis. Calcul répartition CM'!AP$9:AP$58,'3bis. Calcul répartition CM'!AP47)>1,SUM('3bis. Calcul répartition CM'!AQ$9:AQ$58)-SUM('3bis. Calcul répartition CM'!AO$9:AO$58)>1),\"erreur\",\"\")","v":""},{"$f":"IF(AP42=\"erreur\",0,IF(OR('3bis. Calcul répartition CM'!AQ$5=0,'3bis. Calcul répartition CM'!AP47=0),0,IF('3bis. Calcul répartition CM'!AQ47-'3bis. Calcul répartition CM'!AO47>0,1,0)))","v":0},{"$f":"IF(AND('3bis. Calcul répartition CM'!AR47=MAX('3bis. Calcul répartition CM'!AR$9:AR$58),'3bis. Calcul répartition CM'!AR47>0,COUNTIF('3bis. Calcul répartition CM'!AR$9:AR$58,'3bis. Calcul répartition CM'!AR47)>1,SUM('3bis. Calcul répartition CM'!AS$9:AS$58)-SUM('3bis. Calcul répartition CM'!AQ$9:AQ$58)>1),\"erreur\",\"\")","v":""},{"$f":"IF(AR42=\"erreur\",0,IF(OR('3bis. Calcul répartition CM'!AS$5=0,'3bis. Calcul répartition CM'!AR47=0),0,IF('3bis. Calcul répartition CM'!AS47-'3bis. Calcul répartition CM'!AQ47>0,1,0)))","v":0},{"$f":"IF(AND('3bis. Calcul répartition CM'!AT47=MAX('3bis. Calcul répartition CM'!AT$9:AT$58),'3bis. Calcul répartition CM'!AT47>0,COUNTIF('3bis. Calcul répartition CM'!AT$9:AT$58,'3bis. Calcul répartition CM'!AT47)>1,SUM('3bis. Calcul répartition CM'!AU$9:AU$58)-SUM('3bis. Calcul répartition CM'!AS$9:AS$58)>1),\"erreur\",\"\")","v":""},{"$f":"IF(AT42=\"erreur\",0,IF(OR('3bis. Calcul répartition CM'!AU$5=0,'3bis. Calcul répartition CM'!AT47=0),0,IF('3bis. Calcul répartition CM'!AU47-'3bis. Calcul répartition CM'!AS47>0,1,0)))","v":0},{"$f":"IF(AND('3bis. Calcul répartition CM'!AV47=MAX('3bis. Calcul répartition CM'!AV$9:AV$58),'3bis. Calcul répartition CM'!AV47>0,COUNTIF('3bis. Calcul répartition CM'!AV$9:AV$58,'3bis. Calcul répartition CM'!AV47)>1,SUM('3bis. Calcul répartition CM'!AW$9:AW$58)-SUM('3bis. Calcul répartition CM'!AU$9:AU$58)>1),\"erreur\",\"\")","v":""},{"$f":"IF(AV42=\"erreur\",0,IF(OR('3bis. Calcul répartition CM'!AW$5=0,'3bis. Calcul répartition CM'!AV47=0),0,IF('3bis. Calcul répartition CM'!AW47-'3bis. Calcul répartition CM'!AU47>0,1,0)))","v":0},{"$f":"IF(AND('3bis. Calcul répartition CM'!AX47=MAX('3bis. Calcul répartition CM'!AX$9:AX$58),'3bis. Calcul répartition CM'!AX47>0,COUNTIF('3bis. Calcul répartition CM'!AX$9:AX$58,'3bis. Calcul répartition CM'!AX47)>1,SUM('3bis. Calcul répartition CM'!AY$9:AY$58)-SUM('3bis. Calcul répartition CM'!AW$9:AW$58)>1),\"erreur\",\"\")","v":""},{"$f":"IF(AX42=\"erreur\",0,IF(OR('3bis. Calcul répartition CM'!AY$5=0,'3bis. Calcul répartition CM'!AX47=0),0,IF('3bis. Calcul répartition CM'!AY47-'3bis. Calcul répartition CM'!AW47>0,1,0)))","v":0},{"$f":"IF(AND('3bis. Calcul répartition CM'!AZ47=MAX('3bis. Calcul répartition CM'!AZ$9:AZ$58),'3bis. Calcul répartition CM'!AZ47>0,COUNTIF('3bis. Calcul répartition CM'!AZ$9:AZ$58,'3bis. Calcul répartition CM'!AZ47)>1,SUM('3bis. Calcul répartition CM'!BA$9:BA$58)-SUM('3bis. Calcul répartition CM'!AY$9:AY$58)>1),\"erreur\",\"\")","v":""},{"$f":"IF(AZ42=\"erreur\",0,IF(OR('3bis. Calcul répartition CM'!BA$5=0,'3bis. Calcul répartition CM'!AZ47=0),0,IF('3bis. Calcul répartition CM'!BA47-'3bis. Calcul répartition CM'!AY47>0,1,0)))","v":0},{"$f":"IF(AND('3bis. Calcul répartition CM'!BB47=MAX('3bis. Calcul répartition CM'!BB$9:BB$58),'3bis. Calcul répartition CM'!BB47>0,COUNTIF('3bis. Calcul répartition CM'!BB$9:BB$58,'3bis. Calcul répartition CM'!BB47)>1,SUM('3bis. Calcul répartition CM'!BC$9:BC$58)-SUM('3bis. Calcul répartition CM'!BA$9:BA$58)>1),\"erreur\",\"\")","v":""},{"$f":"IF(BB42=\"erreur\",0,IF(OR('3bis. Calcul répartition CM'!BC$5=0,'3bis. Calcul répartition CM'!BB47=0),0,IF('3bis. Calcul répartition CM'!BC47-'3bis. Calcul répartition CM'!BA47>0,1,0)))","v":0},{"$f":"IF(AND('3bis. Calcul répartition CM'!BD47=MAX('3bis. Calcul répartition CM'!BD$9:BD$58),'3bis. Calcul répartition CM'!BD47>0,COUNTIF('3bis. Calcul répartition CM'!BD$9:BD$58,'3bis. Calcul répartition CM'!BD47)>1,SUM('3bis. Calcul répartition CM'!BE$9:BE$58)-SUM('3bis. Calcul répartition CM'!BC$9:BC$58)>1),\"erreur\",\"\")","v":""},{"$f":"IF(BD42=\"erreur\",0,IF(OR('3bis. Calcul répartition CM'!BE$5=0,'3bis. Calcul répartition CM'!BD47=0),0,IF('3bis. Calcul répartition CM'!BE47-'3bis. Calcul répartition CM'!BC47>0,1,0)))","v":0},{"$f":"IF(AND('3bis. Calcul répartition CM'!BF47=MAX('3bis. Calcul répartition CM'!BF$9:BF$58),'3bis. Calcul répartition CM'!BF47>0,COUNTIF('3bis. Calcul répartition CM'!BF$9:BF$58,'3bis. Calcul répartition CM'!BF47)>1,SUM('3bis. Calcul répartition CM'!BG$9:BG$58)-SUM('3bis. Calcul répartition CM'!BE$9:BE$58)>1),\"erreur\",\"\")","v":""},{"$f":"IF(BF42=\"erreur\",0,IF(OR('3bis. Calcul répartition CM'!BG$5=0,'3bis. Calcul répartition CM'!BF47=0),0,IF('3bis. Calcul répartition CM'!BG47-'3bis. Calcul répartition CM'!BE47>0,1,0)))","v":0},{"$f":"IF(AND('3bis. Calcul répartition CM'!BH47=MAX('3bis. Calcul répartition CM'!BH$9:BH$58),'3bis. Calcul répartition CM'!BH47>0,COUNTIF('3bis. Calcul répartition CM'!BH$9:BH$58,'3bis. Calcul répartition CM'!BH47)>1,SUM('3bis. Calcul répartition CM'!BI$9:BI$58)-SUM('3bis. Calcul répartition CM'!BG$9:BG$58)>1),\"erreur\",\"\")","v":""},{"$f":"IF(BH42=\"erreur\",0,IF(OR('3bis. Calcul répartition CM'!BI$5=0,'3bis. Calcul répartition CM'!BH47=0),0,IF('3bis. Calcul répartition CM'!BI47-'3bis. Calcul répartition CM'!BG47>0,1,0)))","v":0},{"$f":"IF(AND('3bis. Calcul répartition CM'!BJ47=MAX('3bis. Calcul répartition CM'!BJ$9:BJ$58),'3bis. Calcul répartition CM'!BJ47>0,COUNTIF('3bis. Calcul répartition CM'!BJ$9:BJ$58,'3bis. Calcul répartition CM'!BJ47)>1,SUM('3bis. Calcul répartition CM'!BK$9:BK$58)-SUM('3bis. Calcul répartition CM'!BI$9:BI$58)>1),\"erreur\",\"\")","v":""},{"$f":"IF(BJ42=\"erreur\",0,IF(OR('3bis. Calcul répartition CM'!BK$5=0,'3bis. Calcul répartition CM'!BJ47=0),0,IF('3bis. Calcul répartition CM'!BK47-'3bis. Calcul répartition CM'!BI47>0,1,0)))","v":0},{"$f":"IF(AND('3bis. Calcul répartition CM'!BL47=MAX('3bis. Calcul répartition CM'!BL$9:BL$58),'3bis. Calcul répartition CM'!BL47>0,COUNTIF('3bis. Calcul répartition CM'!BL$9:BL$58,'3bis. Calcul répartition CM'!BL47)>1,SUM('3bis. Calcul répartition CM'!BM$9:BM$58)-SUM('3bis. Calcul répartition CM'!BK$9:BK$58)>1),\"erreur\",\"\")","v":""},{"$f":"IF(BL42=\"erreur\",0,IF(OR('3bis. Calcul répartition CM'!BM$5=0,'3bis. Calcul répartition CM'!BL47=0),0,IF('3bis. Calcul répartition CM'!BM47-'3bis. Calcul répartition CM'!BK47>0,1,0)))","v":0},{"$f":"IF(AND('3bis. Calcul répartition CM'!BN47=MAX('3bis. Calcul répartition CM'!BN$9:BN$58),'3bis. Calcul répartition CM'!BN47>0,COUNTIF('3bis. Calcul répartition CM'!BN$9:BN$58,'3bis. Calcul répartition CM'!BN47)>1,SUM('3bis. Calcul répartition CM'!BO$9:BO$58)-SUM('3bis. Calcul répartition CM'!BM$9:BM$58)>1),\"erreur\",\"\")","v":""},{"$f":"IF(BN42=\"erreur\",0,IF(OR('3bis. Calcul répartition CM'!BO$5=0,'3bis. Calcul répartition CM'!BN47=0),0,IF('3bis. Calcul répartition CM'!BO47-'3bis. Calcul répartition CM'!BM47>0,1,0)))","v":0},{"$f":"IF(AND('3bis. Calcul répartition CM'!BP47=MAX('3bis. Calcul répartition CM'!BP$9:BP$58),'3bis. Calcul répartition CM'!BP47>0,COUNTIF('3bis. Calcul répartition CM'!BP$9:BP$58,'3bis. Calcul répartition CM'!BP47)>1,SUM('3bis. Calcul répartition CM'!BQ$9:BQ$58)-SUM('3bis. Calcul répartition CM'!BO$9:BO$58)>1),\"erreur\",\"\")","v":""},{"$f":"IF(BP42=\"erreur\",0,IF(OR('3bis. Calcul répartition CM'!BQ$5=0,'3bis. Calcul répartition CM'!BP47=0),0,IF('3bis. Calcul répartition CM'!BQ47-'3bis. Calcul répartition CM'!BO47>0,1,0)))","v":0}]
[null,null,null,null,null,null,null,null,{"$f":"'3bis. Calcul répartition CM'!B48","v":0},{"$f":"IF(AND('3bis. Calcul répartition CM'!J48=MAX('3bis. Calcul répartition CM'!J$9:J$58),'3bis. Calcul répartition CM'!J48>0,COUNTIF('3bis. Calcul répartition CM'!J$9:J$58,'3bis. Calcul répartition CM'!J48)>1,SUM('3bis. Calcul répartition CM'!$K$9:$K$58)-SUM('3bis. Calcul répartition CM'!$D$9:$D$58)>1),\"erreur\",\"\")","v":""},{"$f":"IF(J43=\"erreur\",0,IF(OR('3bis. Calcul répartition CM'!K$5=0,'3bis. Calcul répartition CM'!J48=0),0,IF('3bis. Calcul répartition CM'!K48-'3bis. Calcul répartition CM'!D48>0,1,0)))","v":0},{"$f":"IF(AND('3bis. Calcul répartition CM'!L48=MAX('3bis. Calcul répartition CM'!L$9:L$58),'3bis. Calcul répartition CM'!L48>0,COUNTIF('3bis. Calcul répartition CM'!L$9:L$58,'3bis. Calcul répartition CM'!L48)>1,SUM('3bis. Calcul répartition CM'!M$9:M$58)-SUM('3bis. Calcul répartition CM'!K$9:K$58)>1),\"erreur\",\"\")","v":""},{"$f":"IF(L43=\"erreur\",0,IF(OR('3bis. Calcul répartition CM'!M$5=0,'3bis. Calcul répartition CM'!L48=0),0,IF('3bis. Calcul répartition CM'!M48-'3bis. Calcul répartition CM'!K48>0,1,0)))","v":0},{"$f":"IF(AND('3bis. Calcul répartition CM'!N48=MAX('3bis. Calcul répartition CM'!N$9:N$58),'3bis. Calcul répartition CM'!N48>0,COUNTIF('3bis. Calcul répartition CM'!N$9:N$58,'3bis. Calcul répartition CM'!N48)>1,SUM('3bis. Calcul répartition CM'!O$9:O$58)-SUM('3bis. Calcul répartition CM'!M$9:M$58)>1),\"erreur\",\"\")","v":""},{"$f":"IF(N43=\"erreur\",0,IF(OR('3bis. Calcul répartition CM'!O$5=0,'3bis. Calcul répartition CM'!N48=0),0,IF('3bis. Calcul répartition CM'!O48-'3bis. Calcul répartition CM'!M48>0,1,0)))","v":0},{"$f":"IF(AND('3bis. Calcul répartition CM'!P48=MAX('3bis. Calcul répartition CM'!P$9:P$58),'3bis. Calcul répartition CM'!P48>0,COUNTIF('3bis. Calcul répartition CM'!P$9:P$58,'3bis. Calcul répartition CM'!P48)>1,SUM('3bis. Calcul répartition CM'!Q$9:Q$58)-SUM('3bis. Calcul répartition CM'!O$9:O$58)>1),\"erreur\",\"\")","v":""},{"$f":"IF(P43=\"erreur\",0,IF(OR('3bis. Calcul répartition CM'!Q$5=0,'3bis. Calcul répartition CM'!P48=0),0,IF('3bis. Calcul répartition CM'!Q48-'3bis. Calcul répartition CM'!O48>0,1,0)))","v":0},{"$f":"IF(AND('3bis. Calcul répartition CM'!R48=MAX('3bis. Calcul répartition CM'!R$9:R$58),'3bis. Calcul répartition CM'!R48>0,COUNTIF('3bis. Calcul répartition CM'!R$9:R$58,'3bis. Calcul répartition CM'!R48)>1,SUM('3bis. Calcul répartition CM'!S$9:S$58)-SUM('3bis. Calcul répartition CM'!Q$9:Q$58)>1),\"erreur\",\"\")","v":""},{"$f":"IF(R43=\"erreur\",0,IF(OR('3bis. Calcul répartition CM'!S$5=0,'3bis. Calcul répartition CM'!R48=0),0,IF('3bis. Calcul répartition CM'!S48-'3bis. Calcul répartition CM'!Q48>0,1,0)))","v":0},{"$f":"IF(AND('3bis. Calcul répartition CM'!T48=MAX('3bis. Calcul répartition CM'!T$9:T$58),'3bis. Calcul répartition CM'!T48>0,COUNTIF('3bis. Calcul répartition CM'!T$9:T$58,'3bis. Calcul répartition CM'!T48)>1,SUM('3bis. Calcul répartition CM'!U$9:U$58)-SUM('3bis. Calcul répartition CM'!S$9:S$58)>1),\"erreur\",\"\")","v":""},{"$f":"IF(T43=\"erreur\",0,IF(OR('3bis. Calcul répartition CM'!U$5=0,'3bis. Calcul répartition CM'!T48=0),0,IF('3bis. Calcul répartition CM'!U48-'3bis. Calcul répartition CM'!S48>0,1,0)))","v":0},{"$f":"IF(AND('3bis. Calcul répartition CM'!V48=MAX('3bis. Calcul répartition CM'!V$9:V$58),'3bis. Calcul répartition CM'!V48>0,COUNTIF('3bis. Calcul répartition CM'!V$9:V$58,'3bis. Calcul répartition CM'!V48)>1,SUM('3bis. Calcul répartition CM'!W$9:W$58)-SUM('3bis. Calcul répartition CM'!U$9:U$58)>1),\"erreur\",\"\")","v":""},{"$f":"IF(V43=\"erreur\",0,IF(OR('3bis. Calcul répartition CM'!W$5=0,'3bis. Calcul répartition CM'!V48=0),0,IF('3bis. Calcul répartition CM'!W48-'3bis. Calcul répartition CM'!U48>0,1,0)))","v":0},{"$f":"IF(AND('3bis. Calcul répartition CM'!X48=MAX('3bis. Calcul répartition CM'!X$9:X$58),'3bis. Calcul répartition CM'!X48>0,COUNTIF('3bis. Calcul répartition CM'!X$9:X$58,'3bis. Calcul répartition CM'!X48)>1,SUM('3bis. Calcul répartition CM'!Y$9:Y$58)-SUM('3bis. Calcul répartition CM'!W$9:W$58)>1),\"erreur\",\"\")","v":""},{"$f":"IF(X43=\"erreur\",0,IF(OR('3bis. Calcul répartition CM'!Y$5=0,'3bis. Calcul répartition CM'!X48=0),0,IF('3bis. Calcul répartition CM'!Y48-'3bis. Calcul répartition CM'!W48>0,1,0)))","v":0},{"$f":"IF(AND('3bis. Calcul répartition CM'!Z48=MAX('3bis. Calcul répartition CM'!Z$9:Z$58),'3bis. Calcul répartition CM'!Z48>0,COUNTIF('3bis. Calcul répartition CM'!Z$9:Z$58,'3bis. Calcul répartition CM'!Z48)>1,SUM('3bis. Calcul répartition CM'!AA$9:AA$58)-SUM('3bis. Calcul répartition CM'!Y$9:Y$58)>1),\"erreur\",\"\")","v":""},{"$f":"IF(Z43=\"erreur\",0,IF(OR('3bis. Calcul répartition CM'!AA$5=0,'3bis. Calcul répartition CM'!Z48=0),0,IF('3bis. Calcul répartition CM'!AA48-'3bis. Calcul répartition CM'!Y48>0,1,0)))","v":0},{"$f":"IF(AND('3bis. Calcul répartition CM'!AB48=MAX('3bis. Calcul répartition CM'!AB$9:AB$58),'3bis. Calcul répartition CM'!AB48>0,COUNTIF('3bis. Calcul répartition CM'!AB$9:AB$58,'3bis. Calcul répartition CM'!AB48)>1,SUM('3bis. Calcul répartition CM'!AC$9:AC$58)-SUM('3bis. Calcul répartition CM'!AA$9:AA$58)>1),\"erreur\",\"\")","v":""},{"$f":"IF(AB43=\"erreur\",0,IF(OR('3bis. Calcul répartition CM'!AC$5=0,'3bis. Calcul répartition CM'!AB48=0),0,IF('3bis. Calcul répartition CM'!AC48-'3bis. Calcul répartition CM'!AA48>0,1,0)))","v":0},{"$f":"IF(AND('3bis. Calcul répartition CM'!AD48=MAX('3bis. Calcul répartition CM'!AD$9:AD$58),'3bis. Calcul répartition CM'!AD48>0,COUNTIF('3bis. Calcul répartition CM'!AD$9:AD$58,'3bis. Calcul répartition CM'!AD48)>1,SUM('3bis. Calcul répartition CM'!AE$9:AE$58)-SUM('3bis. Calcul répartition CM'!AC$9:AC$58)>1),\"erreur\",\"\")","v":""},{"$f":"IF(AD43=\"erreur\",0,IF(OR('3bis. Calcul répartition CM'!AE$5=0,'3bis. Calcul répartition CM'!AD48=0),0,IF('3bis. Calcul répartition CM'!AE48-'3bis. Calcul répartition CM'!AC48>0,1,0)))","v":0},{"$f":"IF(AND('3bis. Calcul répartition CM'!AF48=MAX('3bis. Calcul répartition CM'!AF$9:AF$58),'3bis. Calcul répartition CM'!AF48>0,COUNTIF('3bis. Calcul répartition CM'!AF$9:AF$58,'3bis. Calcul répartition CM'!AF48)>1,SUM('3bis. Calcul répartition CM'!AG$9:AG$58)-SUM('3bis. Calcul répartition CM'!AE$9:AE$58)>1),\"erreur\",\"\")","v":""},{"$f":"IF(AF43=\"erreur\",0,IF(OR('3bis. Calcul répartition CM'!AG$5=0,'3bis. Calcul répartition CM'!AF48=0),0,IF('3bis. Calcul répartition CM'!AG48-'3bis. Calcul répartition CM'!AE48>0,1,0)))","v":0},{"$f":"IF(AND('3bis. Calcul répartition CM'!AH48=MAX('3bis. Calcul répartition CM'!AH$9:AH$58),'3bis. Calcul répartition CM'!AH48>0,COUNTIF('3bis. Calcul répartition CM'!AH$9:AH$58,'3bis. Calcul répartition CM'!AH48)>1,SUM('3bis. Calcul répartition CM'!AI$9:AI$58)-SUM('3bis. Calcul répartition CM'!AG$9:AG$58)>1),\"erreur\",\"\")","v":""},{"$f":"IF(AH43=\"erreur\",0,IF(OR('3bis. Calcul répartition CM'!AI$5=0,'3bis. Calcul répartition CM'!AH48=0),0,IF('3bis. Calcul répartition CM'!AI48-'3bis. Calcul répartition CM'!AG48>0,1,0)))","v":0},{"$f":"IF(AND('3bis. Calcul répartition CM'!AJ48=MAX('3bis. Calcul répartition CM'!AJ$9:AJ$58),'3bis. Calcul répartition CM'!AJ48>0,COUNTIF('3bis. Calcul répartition CM'!AJ$9:AJ$58,'3bis. Calcul répartition CM'!AJ48)>1,SUM('3bis. Calcul répartition CM'!AK$9:AK$58)-SUM('3bis. Calcul répartition CM'!AI$9:AI$58)>1),\"erreur\",\"\")","v":""},{"$f":"IF(AJ43=\"erreur\",0,IF(OR('3bis. Calcul répartition CM'!AK$5=0,'3bis. Calcul répartition CM'!AJ48=0),0,IF('3bis. Calcul répartition CM'!AK48-'3bis. Calcul répartition CM'!AI48>0,1,0)))","v":0},{"$f":"IF(AND('3bis. Calcul répartition CM'!AL48=MAX('3bis. Calcul répartition CM'!AL$9:AL$58),'3bis. Calcul répartition CM'!AL48>0,COUNTIF('3bis. Calcul répartition CM'!AL$9:AL$58,'3bis. Calcul répartition CM'!AL48)>1,SUM('3bis. Calcul répartition CM'!AM$9:AM$58)-SUM('3bis. Calcul répartition CM'!AK$9:AK$58)>1),\"erreur\",\"\")","v":""},{"$f":"IF(AL43=\"erreur\",0,IF(OR('3bis. Calcul répartition CM'!AM$5=0,'3bis. Calcul répartition CM'!AL48=0),0,IF('3bis. Calcul répartition CM'!AM48-'3bis. Calcul répartition CM'!AK48>0,1,0)))","v":0},{"$f":"IF(AND('3bis. Calcul répartition CM'!AN48=MAX('3bis. Calcul répartition CM'!AN$9:AN$58),'3bis. Calcul répartition CM'!AN48>0,COUNTIF('3bis. Calcul répartition CM'!AN$9:AN$58,'3bis. Calcul répartition CM'!AN48)>1,SUM('3bis. Calcul répartition CM'!AO$9:AO$58)-SUM('3bis. Calcul répartition CM'!AM$9:AM$58)>1),\"erreur\",\"\")","v":""},{"$f":"IF(AN43=\"erreur\",0,IF(OR('3bis. Calcul répartition CM'!AO$5=0,'3bis. Calcul répartition CM'!AN48=0),0,IF('3bis. Calcul répartition CM'!AO48-'3bis. Calcul répartition CM'!AM48>0,1,0)))","v":0},{"$f":"IF(AND('3bis. Calcul répartition CM'!AP48=MAX('3bis. Calcul répartition CM'!AP$9:AP$58),'3bis. Calcul répartition CM'!AP48>0,COUNTIF('3bis. Calcul répartition CM'!AP$9:AP$58,'3bis. Calcul répartition CM'!AP48)>1,SUM('3bis. Calcul répartition CM'!AQ$9:AQ$58)-SUM('3bis. Calcul répartition CM'!AO$9:AO$58)>1),\"erreur\",\"\")","v":""},{"$f":"IF(AP43=\"erreur\",0,IF(OR('3bis. Calcul répartition CM'!AQ$5=0,'3bis. Calcul répartition CM'!AP48=0),0,IF('3bis. Calcul répartition CM'!AQ48-'3bis. Calcul répartition CM'!AO48>0,1,0)))","v":0},{"$f":"IF(AND('3bis. Calcul répartition CM'!AR48=MAX('3bis. Calcul répartition CM'!AR$9:AR$58),'3bis. Calcul répartition CM'!AR48>0,COUNTIF('3bis. Calcul répartition CM'!AR$9:AR$58,'3bis. Calcul répartition CM'!AR48)>1,SUM('3bis. Calcul répartition CM'!AS$9:AS$58)-SUM('3bis. Calcul répartition CM'!AQ$9:AQ$58)>1),\"erreur\",\"\")","v":""},{"$f":"IF(AR43=\"erreur\",0,IF(OR('3bis. Calcul répartition CM'!AS$5=0,'3bis. Calcul répartition CM'!AR48=0),0,IF('3bis. Calcul répartition CM'!AS48-'3bis. Calcul répartition CM'!AQ48>0,1,0)))","v":0},{"$f":"IF(AND('3bis. Calcul répartition CM'!AT48=MAX('3bis. Calcul répartition CM'!AT$9:AT$58),'3bis. Calcul répartition CM'!AT48>0,COUNTIF('3bis. Calcul répartition CM'!AT$9:AT$58,'3bis. Calcul répartition CM'!AT48)>1,SUM('3bis. Calcul répartition CM'!AU$9:AU$58)-SUM('3bis. Calcul répartition CM'!AS$9:AS$58)>1),\"erreur\",\"\")","v":""},{"$f":"IF(AT43=\"erreur\",0,IF(OR('3bis. Calcul répartition CM'!AU$5=0,'3bis. Calcul répartition CM'!AT48=0),0,IF('3bis. Calcul répartition CM'!AU48-'3bis. Calcul répartition CM'!AS48>0,1,0)))","v":0},{"$f":"IF(AND('3bis. Calcul répartition CM'!AV48=MAX('3bis. Calcul répartition CM'!AV$9:AV$58),'3bis. Calcul répartition CM'!AV48>0,COUNTIF('3bis. Calcul répartition CM'!AV$9:AV$58,'3bis. Calcul répartition CM'!AV48)>1,SUM('3bis. Calcul répartition CM'!AW$9:AW$58)-SUM('3bis. Calcul répartition CM'!AU$9:AU$58)>1),\"erreur\",\"\")","v":""},{"$f":"IF(AV43=\"erreur\",0,IF(OR('3bis. Calcul répartition CM'!AW$5=0,'3bis. Calcul répartition CM'!AV48=0),0,IF('3bis. Calcul répartition CM'!AW48-'3bis. Calcul répartition CM'!AU48>0,1,0)))","v":0},{"$f":"IF(AND('3bis. Calcul répartition CM'!AX48=MAX('3bis. Calcul répartition CM'!AX$9:AX$58),'3bis. Calcul répartition CM'!AX48>0,COUNTIF('3bis. Calcul répartition CM'!AX$9:AX$58,'3bis. Calcul répartition CM'!AX48)>1,SUM('3bis. Calcul répartition CM'!AY$9:AY$58)-SUM('3bis. Calcul répartition CM'!AW$9:AW$58)>1),\"erreur\",\"\")","v":""},{"$f":"IF(AX43=\"erreur\",0,IF(OR('3bis. Calcul répartition CM'!AY$5=0,'3bis. Calcul répartition CM'!AX48=0),0,IF('3bis. Calcul répartition CM'!AY48-'3bis. Calcul répartition CM'!AW48>0,1,0)))","v":0},{"$f":"IF(AND('3bis. Calcul répartition CM'!AZ48=MAX('3bis. Calcul répartition CM'!AZ$9:AZ$58),'3bis. Calcul répartition CM'!AZ48>0,COUNTIF('3bis. Calcul répartition CM'!AZ$9:AZ$58,'3bis. Calcul répartition CM'!AZ48)>1,SUM('3bis. Calcul répartition CM'!BA$9:BA$58)-SUM('3bis. Calcul répartition CM'!AY$9:AY$58)>1),\"erreur\",\"\")","v":""},{"$f":"IF(AZ43=\"erreur\",0,IF(OR('3bis. Calcul répartition CM'!BA$5=0,'3bis. Calcul répartition CM'!AZ48=0),0,IF('3bis. Calcul répartition CM'!BA48-'3bis. Calcul répartition CM'!AY48>0,1,0)))","v":0},{"$f":"IF(AND('3bis. Calcul répartition CM'!BB48=MAX('3bis. Calcul répartition CM'!BB$9:BB$58),'3bis. Calcul répartition CM'!BB48>0,COUNTIF('3bis. Calcul répartition CM'!BB$9:BB$58,'3bis. Calcul répartition CM'!BB48)>1,SUM('3bis. Calcul répartition CM'!BC$9:BC$58)-SUM('3bis. Calcul répartition CM'!BA$9:BA$58)>1),\"erreur\",\"\")","v":""},{"$f":"IF(BB43=\"erreur\",0,IF(OR('3bis. Calcul répartition CM'!BC$5=0,'3bis. Calcul répartition CM'!BB48=0),0,IF('3bis. Calcul répartition CM'!BC48-'3bis. Calcul répartition CM'!BA48>0,1,0)))","v":0},{"$f":"IF(AND('3bis. Calcul répartition CM'!BD48=MAX('3bis. Calcul répartition CM'!BD$9:BD$58),'3bis. Calcul répartition CM'!BD48>0,COUNTIF('3bis. Calcul répartition CM'!BD$9:BD$58,'3bis. Calcul répartition CM'!BD48)>1,SUM('3bis. Calcul répartition CM'!BE$9:BE$58)-SUM('3bis. Calcul répartition CM'!BC$9:BC$58)>1),\"erreur\",\"\")","v":""},{"$f":"IF(BD43=\"erreur\",0,IF(OR('3bis. Calcul répartition CM'!BE$5=0,'3bis. Calcul répartition CM'!BD48=0),0,IF('3bis. Calcul répartition CM'!BE48-'3bis. Calcul répartition CM'!BC48>0,1,0)))","v":0},{"$f":"IF(AND('3bis. Calcul répartition CM'!BF48=MAX('3bis. Calcul répartition CM'!BF$9:BF$58),'3bis. Calcul répartition CM'!BF48>0,COUNTIF('3bis. Calcul répartition CM'!BF$9:BF$58,'3bis. Calcul répartition CM'!BF48)>1,SUM('3bis. Calcul répartition CM'!BG$9:BG$58)-SUM('3bis. Calcul répartition CM'!BE$9:BE$58)>1),\"erreur\",\"\")","v":""},{"$f":"IF(BF43=\"erreur\",0,IF(OR('3bis. Calcul répartition CM'!BG$5=0,'3bis. Calcul répartition CM'!BF48=0),0,IF('3bis. Calcul répartition CM'!BG48-'3bis. Calcul répartition CM'!BE48>0,1,0)))","v":0},{"$f":"IF(AND('3bis. Calcul répartition CM'!BH48=MAX('3bis. Calcul répartition CM'!BH$9:BH$58),'3bis. Calcul répartition CM'!BH48>0,COUNTIF('3bis. Calcul répartition CM'!BH$9:BH$58,'3bis. Calcul répartition CM'!BH48)>1,SUM('3bis. Calcul répartition CM'!BI$9:BI$58)-SUM('3bis. Calcul répartition CM'!BG$9:BG$58)>1),\"erreur\",\"\")","v":""},{"$f":"IF(BH43=\"erreur\",0,IF(OR('3bis. Calcul répartition CM'!BI$5=0,'3bis. Calcul répartition CM'!BH48=0),0,IF('3bis. Calcul répartition CM'!BI48-'3bis. Calcul répartition CM'!BG48>0,1,0)))","v":0},{"$f":"IF(AND('3bis. Calcul répartition CM'!BJ48=MAX('3bis. Calcul répartition CM'!BJ$9:BJ$58),'3bis. Calcul répartition CM'!BJ48>0,COUNTIF('3bis. Calcul répartition CM'!BJ$9:BJ$58,'3bis. Calcul répartition CM'!BJ48)>1,SUM('3bis. Calcul répartition CM'!BK$9:BK$58)-SUM('3bis. Calcul répartition CM'!BI$9:BI$58)>1),\"erreur\",\"\")","v":""},{"$f":"IF(BJ43=\"erreur\",0,IF(OR('3bis. Calcul répartition CM'!BK$5=0,'3bis. Calcul répartition CM'!BJ48=0),0,IF('3bis. Calcul répartition CM'!BK48-'3bis. Calcul répartition CM'!BI48>0,1,0)))","v":0},{"$f":"IF(AND('3bis. Calcul répartition CM'!BL48=MAX('3bis. Calcul répartition CM'!BL$9:BL$58),'3bis. Calcul répartition CM'!BL48>0,COUNTIF('3bis. Calcul répartition CM'!BL$9:BL$58,'3bis. Calcul répartition CM'!BL48)>1,SUM('3bis. Calcul répartition CM'!BM$9:BM$58)-SUM('3bis. Calcul répartition CM'!BK$9:BK$58)>1),\"erreur\",\"\")","v":""},{"$f":"IF(BL43=\"erreur\",0,IF(OR('3bis. Calcul répartition CM'!BM$5=0,'3bis. Calcul répartition CM'!BL48=0),0,IF('3bis. Calcul répartition CM'!BM48-'3bis. Calcul répartition CM'!BK48>0,1,0)))","v":0},{"$f":"IF(AND('3bis. Calcul répartition CM'!BN48=MAX('3bis. Calcul répartition CM'!BN$9:BN$58),'3bis. Calcul répartition CM'!BN48>0,COUNTIF('3bis. Calcul répartition CM'!BN$9:BN$58,'3bis. Calcul répartition CM'!BN48)>1,SUM('3bis. Calcul répartition CM'!BO$9:BO$58)-SUM('3bis. Calcul répartition CM'!BM$9:BM$58)>1),\"erreur\",\"\")","v":""},{"$f":"IF(BN43=\"erreur\",0,IF(OR('3bis. Calcul répartition CM'!BO$5=0,'3bis. Calcul répartition CM'!BN48=0),0,IF('3bis. Calcul répartition CM'!BO48-'3bis. Calcul répartition CM'!BM48>0,1,0)))","v":0},{"$f":"IF(AND('3bis. Calcul répartition CM'!BP48=MAX('3bis. Calcul répartition CM'!BP$9:BP$58),'3bis. Calcul répartition CM'!BP48>0,COUNTIF('3bis. Calcul répartition CM'!BP$9:BP$58,'3bis. Calcul répartition CM'!BP48)>1,SUM('3bis. Calcul répartition CM'!BQ$9:BQ$58)-SUM('3bis. Calcul répartition CM'!BO$9:BO$58)>1),\"erreur\",\"\")","v":""},{"$f":"IF(BP43=\"erreur\",0,IF(OR('3bis. Calcul répartition CM'!BQ$5=0,'3bis. Calcul répartition CM'!BP48=0),0,IF('3bis. Calcul répartition CM'!BQ48-'3bis. Calcul répartition CM'!BO48>0,1,0)))","v":0}]
[null,null,null,null,null,null,null,null,{"$f":"'3bis. Calcul répartition CM'!B49","v":0},{"$f":"IF(AND('3bis. Calcul répartition CM'!J49=MAX('3bis. Calcul répartition CM'!J$9:J$58),'3bis. Calcul répartition CM'!J49>0,COUNTIF('3bis. Calcul répartition CM'!J$9:J$58,'3bis. Calcul répartition CM'!J49)>1,SUM('3bis. Calcul répartition CM'!$K$9:$K$58)-SUM('3bis. Calcul répartition CM'!$D$9:$D$58)>1),\"erreur\",\"\")","v":""},{"$f":"IF(J44=\"erreur\",0,IF(OR('3bis. Calcul répartition CM'!K$5=0,'3bis. Calcul répartition CM'!J49=0),0,IF('3bis. Calcul répartition CM'!K49-'3bis. Calcul répartition CM'!D49>0,1,0)))","v":0},{"$f":"IF(AND('3bis. Calcul répartition CM'!L49=MAX('3bis. Calcul répartition CM'!L$9:L$58),'3bis. Calcul répartition CM'!L49>0,COUNTIF('3bis. Calcul répartition CM'!L$9:L$58,'3bis. Calcul répartition CM'!L49)>1,SUM('3bis. Calcul répartition CM'!M$9:M$58)-SUM('3bis. Calcul répartition CM'!K$9:K$58)>1),\"erreur\",\"\")","v":""},{"$f":"IF(L44=\"erreur\",0,IF(OR('3bis. Calcul répartition CM'!M$5=0,'3bis. Calcul répartition CM'!L49=0),0,IF('3bis. Calcul répartition CM'!M49-'3bis. Calcul répartition CM'!K49>0,1,0)))","v":0},{"$f":"IF(AND('3bis. Calcul répartition CM'!N49=MAX('3bis. Calcul répartition CM'!N$9:N$58),'3bis. Calcul répartition CM'!N49>0,COUNTIF('3bis. Calcul répartition CM'!N$9:N$58,'3bis. Calcul répartition CM'!N49)>1,SUM('3bis. Calcul répartition CM'!O$9:O$58)-SUM('3bis. Calcul répartition CM'!M$9:M$58)>1),\"erreur\",\"\")","v":""},{"$f":"IF(N44=\"erreur\",0,IF(OR('3bis. Calcul répartition CM'!O$5=0,'3bis. Calcul répartition CM'!N49=0),0,IF('3bis. Calcul répartition CM'!O49-'3bis. Calcul répartition CM'!M49>0,1,0)))","v":0},{"$f":"IF(AND('3bis. Calcul répartition CM'!P49=MAX('3bis. Calcul répartition CM'!P$9:P$58),'3bis. Calcul répartition CM'!P49>0,COUNTIF('3bis. Calcul répartition CM'!P$9:P$58,'3bis. Calcul répartition CM'!P49)>1,SUM('3bis. Calcul répartition CM'!Q$9:Q$58)-SUM('3bis. Calcul répartition CM'!O$9:O$58)>1),\"erreur\",\"\")","v":""},{"$f":"IF(P44=\"erreur\",0,IF(OR('3bis. Calcul répartition CM'!Q$5=0,'3bis. Calcul répartition CM'!P49=0),0,IF('3bis. Calcul répartition CM'!Q49-'3bis. Calcul répartition CM'!O49>0,1,0)))","v":0},{"$f":"IF(AND('3bis. Calcul répartition CM'!R49=MAX('3bis. Calcul répartition CM'!R$9:R$58),'3bis. Calcul répartition CM'!R49>0,COUNTIF('3bis. Calcul répartition CM'!R$9:R$58,'3bis. Calcul répartition CM'!R49)>1,SUM('3bis. Calcul répartition CM'!S$9:S$58)-SUM('3bis. Calcul répartition CM'!Q$9:Q$58)>1),\"erreur\",\"\")","v":""},{"$f":"IF(R44=\"erreur\",0,IF(OR('3bis. Calcul répartition CM'!S$5=0,'3bis. Calcul répartition CM'!R49=0),0,IF('3bis. Calcul répartition CM'!S49-'3bis. Calcul répartition CM'!Q49>0,1,0)))","v":0},{"$f":"IF(AND('3bis. Calcul répartition CM'!T49=MAX('3bis. Calcul répartition CM'!T$9:T$58),'3bis. Calcul répartition CM'!T49>0,COUNTIF('3bis. Calcul répartition CM'!T$9:T$58,'3bis. Calcul répartition CM'!T49)>1,SUM('3bis. Calcul répartition CM'!U$9:U$58)-SUM('3bis. Calcul répartition CM'!S$9:S$58)>1),\"erreur\",\"\")","v":""},{"$f":"IF(T44=\"erreur\",0,IF(OR('3bis. Calcul répartition CM'!U$5=0,'3bis. Calcul répartition CM'!T49=0),0,IF('3bis. Calcul répartition CM'!U49-'3bis. Calcul répartition CM'!S49>0,1,0)))","v":0},{"$f":"IF(AND('3bis. Calcul répartition CM'!V49=MAX('3bis. Calcul répartition CM'!V$9:V$58),'3bis. Calcul répartition CM'!V49>0,COUNTIF('3bis. Calcul répartition CM'!V$9:V$58,'3bis. Calcul répartition CM'!V49)>1,SUM('3bis. Calcul répartition CM'!W$9:W$58)-SUM('3bis. Calcul répartition CM'!U$9:U$58)>1),\"erreur\",\"\")","v":""},{"$f":"IF(V44=\"erreur\",0,IF(OR('3bis. Calcul répartition CM'!W$5=0,'3bis. Calcul répartition CM'!V49=0),0,IF('3bis. Calcul répartition CM'!W49-'3bis. Calcul répartition CM'!U49>0,1,0)))","v":0},{"$f":"IF(AND('3bis. Calcul répartition CM'!X49=MAX('3bis. Calcul répartition CM'!X$9:X$58),'3bis. Calcul répartition CM'!X49>0,COUNTIF('3bis. Calcul répartition CM'!X$9:X$58,'3bis. Calcul répartition CM'!X49)>1,SUM('3bis. Calcul répartition CM'!Y$9:Y$58)-SUM('3bis. Calcul répartition CM'!W$9:W$58)>1),\"erreur\",\"\")","v":""},{"$f":"IF(X44=\"erreur\",0,IF(OR('3bis. Calcul répartition CM'!Y$5=0,'3bis. Calcul répartition CM'!X49=0),0,IF('3bis. Calcul répartition CM'!Y49-'3bis. Calcul répartition CM'!W49>0,1,0)))","v":0},{"$f":"IF(AND('3bis. Calcul répartition CM'!Z49=MAX('3bis. Calcul répartition CM'!Z$9:Z$58),'3bis. Calcul répartition CM'!Z49>0,COUNTIF('3bis. Calcul répartition CM'!Z$9:Z$58,'3bis. Calcul répartition CM'!Z49)>1,SUM('3bis. Calcul répartition CM'!AA$9:AA$58)-SUM('3bis. Calcul répartition CM'!Y$9:Y$58)>1),\"erreur\",\"\")","v":""},{"$f":"IF(Z44=\"erreur\",0,IF(OR('3bis. Calcul répartition CM'!AA$5=0,'3bis. Calcul répartition CM'!Z49=0),0,IF('3bis. Calcul répartition CM'!AA49-'3bis. Calcul répartition CM'!Y49>0,1,0)))","v":0},{"$f":"IF(AND('3bis. Calcul répartition CM'!AB49=MAX('3bis. Calcul répartition CM'!AB$9:AB$58),'3bis. Calcul répartition CM'!AB49>0,COUNTIF('3bis. Calcul répartition CM'!AB$9:AB$58,'3bis. Calcul répartition CM'!AB49)>1,SUM('3bis. Calcul répartition CM'!AC$9:AC$58)-SUM('3bis. Calcul répartition CM'!AA$9:AA$58)>1),\"erreur\",\"\")","v":""},{"$f":"IF(AB44=\"erreur\",0,IF(OR('3bis. Calcul répartition CM'!AC$5=0,'3bis. Calcul répartition CM'!AB49=0),0,IF('3bis. Calcul répartition CM'!AC49-'3bis. Calcul répartition CM'!AA49>0,1,0)))","v":0},{"$f":"IF(AND('3bis. Calcul répartition CM'!AD49=MAX('3bis. Calcul répartition CM'!AD$9:AD$58),'3bis. Calcul répartition CM'!AD49>0,COUNTIF('3bis. Calcul répartition CM'!AD$9:AD$58,'3bis. Calcul répartition CM'!AD49)>1,SUM('3bis. Calcul répartition CM'!AE$9:AE$58)-SUM('3bis. Calcul répartition CM'!AC$9:AC$58)>1),\"erreur\",\"\")","v":""},{"$f":"IF(AD44=\"erreur\",0,IF(OR('3bis. Calcul répartition CM'!AE$5=0,'3bis. Calcul répartition CM'!AD49=0),0,IF('3bis. Calcul répartition CM'!AE49-'3bis. Calcul répartition CM'!AC49>0,1,0)))","v":0},{"$f":"IF(AND('3bis. Calcul répartition CM'!AF49=MAX('3bis. Calcul répartition CM'!AF$9:AF$58),'3bis. Calcul répartition CM'!AF49>0,COUNTIF('3bis. Calcul répartition CM'!AF$9:AF$58,'3bis. Calcul répartition CM'!AF49)>1,SUM('3bis. Calcul répartition CM'!AG$9:AG$58)-SUM('3bis. Calcul répartition CM'!AE$9:AE$58)>1),\"erreur\",\"\")","v":""},{"$f":"IF(AF44=\"erreur\",0,IF(OR('3bis. Calcul répartition CM'!AG$5=0,'3bis. Calcul répartition CM'!AF49=0),0,IF('3bis. Calcul répartition CM'!AG49-'3bis. Calcul répartition CM'!AE49>0,1,0)))","v":0},{"$f":"IF(AND('3bis. Calcul répartition CM'!AH49=MAX('3bis. Calcul répartition CM'!AH$9:AH$58),'3bis. Calcul répartition CM'!AH49>0,COUNTIF('3bis. Calcul répartition CM'!AH$9:AH$58,'3bis. Calcul répartition CM'!AH49)>1,SUM('3bis. Calcul répartition CM'!AI$9:AI$58)-SUM('3bis. Calcul répartition CM'!AG$9:AG$58)>1),\"erreur\",\"\")","v":""},{"$f":"IF(AH44=\"erreur\",0,IF(OR('3bis. Calcul répartition CM'!AI$5=0,'3bis. Calcul répartition CM'!AH49=0),0,IF('3bis. Calcul répartition CM'!AI49-'3bis. Calcul répartition CM'!AG49>0,1,0)))","v":0},{"$f":"IF(AND('3bis. Calcul répartition CM'!AJ49=MAX('3bis. Calcul répartition CM'!AJ$9:AJ$58),'3bis. Calcul répartition CM'!AJ49>0,COUNTIF('3bis. Calcul répartition CM'!AJ$9:AJ$58,'3bis. Calcul répartition CM'!AJ49)>1,SUM('3bis. Calcul répartition CM'!AK$9:AK$58)-SUM('3bis. Calcul répartition CM'!AI$9:AI$58)>1),\"erreur\",\"\")","v":""},{"$f":"IF(AJ44=\"erreur\",0,IF(OR('3bis. Calcul répartition CM'!AK$5=0,'3bis. Calcul répartition CM'!AJ49=0),0,IF('3bis. Calcul répartition CM'!AK49-'3bis. Calcul répartition CM'!AI49>0,1,0)))","v":0},{"$f":"IF(AND('3bis. Calcul répartition CM'!AL49=MAX('3bis. Calcul répartition CM'!AL$9:AL$58),'3bis. Calcul répartition CM'!AL49>0,COUNTIF('3bis. Calcul répartition CM'!AL$9:AL$58,'3bis. Calcul répartition CM'!AL49)>1,SUM('3bis. Calcul répartition CM'!AM$9:AM$58)-SUM('3bis. Calcul répartition CM'!AK$9:AK$58)>1),\"erreur\",\"\")","v":""},{"$f":"IF(AL44=\"erreur\",0,IF(OR('3bis. Calcul répartition CM'!AM$5=0,'3bis. Calcul répartition CM'!AL49=0),0,IF('3bis. Calcul répartition CM'!AM49-'3bis. Calcul répartition CM'!AK49>0,1,0)))","v":0},{"$f":"IF(AND('3bis. Calcul répartition CM'!AN49=MAX('3bis. Calcul répartition CM'!AN$9:AN$58),'3bis. Calcul répartition CM'!AN49>0,COUNTIF('3bis. Calcul répartition CM'!AN$9:AN$58,'3bis. Calcul répartition CM'!AN49)>1,SUM('3bis. Calcul répartition CM'!AO$9:AO$58)-SUM('3bis. Calcul répartition CM'!AM$9:AM$58)>1),\"erreur\",\"\")","v":""},{"$f":"IF(AN44=\"erreur\",0,IF(OR('3bis. Calcul répartition CM'!AO$5=0,'3bis. Calcul répartition CM'!AN49=0),0,IF('3bis. Calcul répartition CM'!AO49-'3bis. Calcul répartition CM'!AM49>0,1,0)))","v":0},{"$f":"IF(AND('3bis. Calcul répartition CM'!AP49=MAX('3bis. Calcul répartition CM'!AP$9:AP$58),'3bis. Calcul répartition CM'!AP49>0,COUNTIF('3bis. Calcul répartition CM'!AP$9:AP$58,'3bis. Calcul répartition CM'!AP49)>1,SUM('3bis. Calcul répartition CM'!AQ$9:AQ$58)-SUM('3bis. Calcul répartition CM'!AO$9:AO$58)>1),\"erreur\",\"\")","v":""},{"$f":"IF(AP44=\"erreur\",0,IF(OR('3bis. Calcul répartition CM'!AQ$5=0,'3bis. Calcul répartition CM'!AP49=0),0,IF('3bis. Calcul répartition CM'!AQ49-'3bis. Calcul répartition CM'!AO49>0,1,0)))","v":0},{"$f":"IF(AND('3bis. Calcul répartition CM'!AR49=MAX('3bis. Calcul répartition CM'!AR$9:AR$58),'3bis. Calcul répartition CM'!AR49>0,COUNTIF('3bis. Calcul répartition CM'!AR$9:AR$58,'3bis. Calcul répartition CM'!AR49)>1,SUM('3bis. Calcul répartition CM'!AS$9:AS$58)-SUM('3bis. Calcul répartition CM'!AQ$9:AQ$58)>1),\"erreur\",\"\")","v":""},{"$f":"IF(AR44=\"erreur\",0,IF(OR('3bis. Calcul répartition CM'!AS$5=0,'3bis. Calcul répartition CM'!AR49=0),0,IF('3bis. Calcul répartition CM'!AS49-'3bis. Calcul répartition CM'!AQ49>0,1,0)))","v":0},{"$f":"IF(AND('3bis. Calcul répartition CM'!AT49=MAX('3bis. Calcul répartition CM'!AT$9:AT$58),'3bis. Calcul répartition CM'!AT49>0,COUNTIF('3bis. Calcul répartition CM'!AT$9:AT$58,'3bis. Calcul répartition CM'!AT49)>1,SUM('3bis. Calcul répartition CM'!AU$9:AU$58)-SUM('3bis. Calcul répartition CM'!AS$9:AS$58)>1),\"erreur\",\"\")","v":""},{"$f":"IF(AT44=\"erreur\",0,IF(OR('3bis. Calcul répartition CM'!AU$5=0,'3bis. Calcul répartition CM'!AT49=0),0,IF('3bis. Calcul répartition CM'!AU49-'3bis. Calcul répartition CM'!AS49>0,1,0)))","v":0},{"$f":"IF(AND('3bis. Calcul répartition CM'!AV49=MAX('3bis. Calcul répartition CM'!AV$9:AV$58),'3bis. Calcul répartition CM'!AV49>0,COUNTIF('3bis. Calcul répartition CM'!AV$9:AV$58,'3bis. Calcul répartition CM'!AV49)>1,SUM('3bis. Calcul répartition CM'!AW$9:AW$58)-SUM('3bis. Calcul répartition CM'!AU$9:AU$58)>1),\"erreur\",\"\")","v":""},{"$f":"IF(AV44=\"erreur\",0,IF(OR('3bis. Calcul répartition CM'!AW$5=0,'3bis. Calcul répartition CM'!AV49=0),0,IF('3bis. Calcul répartition CM'!AW49-'3bis. Calcul répartition CM'!AU49>0,1,0)))","v":0},{"$f":"IF(AND('3bis. Calcul répartition CM'!AX49=MAX('3bis. Calcul répartition CM'!AX$9:AX$58),'3bis. Calcul répartition CM'!AX49>0,COUNTIF('3bis. Calcul répartition CM'!AX$9:AX$58,'3bis. Calcul répartition CM'!AX49)>1,SUM('3bis. Calcul répartition CM'!AY$9:AY$58)-SUM('3bis. Calcul répartition CM'!AW$9:AW$58)>1),\"erreur\",\"\")","v":""},{"$f":"IF(AX44=\"erreur\",0,IF(OR('3bis. Calcul répartition CM'!AY$5=0,'3bis. Calcul répartition CM'!AX49=0),0,IF('3bis. Calcul répartition CM'!AY49-'3bis. Calcul répartition CM'!AW49>0,1,0)))","v":0},{"$f":"IF(AND('3bis. Calcul répartition CM'!AZ49=MAX('3bis. Calcul répartition CM'!AZ$9:AZ$58),'3bis. Calcul répartition CM'!AZ49>0,COUNTIF('3bis. Calcul répartition CM'!AZ$9:AZ$58,'3bis. Calcul répartition CM'!AZ49)>1,SUM('3bis. Calcul répartition CM'!BA$9:BA$58)-SUM('3bis. Calcul répartition CM'!AY$9:AY$58)>1),\"erreur\",\"\")","v":""},{"$f":"IF(AZ44=\"erreur\",0,IF(OR('3bis. Calcul répartition CM'!BA$5=0,'3bis. Calcul répartition CM'!AZ49=0),0,IF('3bis. Calcul répartition CM'!BA49-'3bis. Calcul répartition CM'!AY49>0,1,0)))","v":0},{"$f":"IF(AND('3bis. Calcul répartition CM'!BB49=MAX('3bis. Calcul répartition CM'!BB$9:BB$58),'3bis. Calcul répartition CM'!BB49>0,COUNTIF('3bis. Calcul répartition CM'!BB$9:BB$58,'3bis. Calcul répartition CM'!BB49)>1,SUM('3bis. Calcul répartition CM'!BC$9:BC$58)-SUM('3bis. Calcul répartition CM'!BA$9:BA$58)>1),\"erreur\",\"\")","v":""},{"$f":"IF(BB44=\"erreur\",0,IF(OR('3bis. Calcul répartition CM'!BC$5=0,'3bis. Calcul répartition CM'!BB49=0),0,IF('3bis. Calcul répartition CM'!BC49-'3bis. Calcul répartition CM'!BA49>0,1,0)))","v":0},{"$f":"IF(AND('3bis. Calcul répartition CM'!BD49=MAX('3bis. Calcul répartition CM'!BD$9:BD$58),'3bis. Calcul répartition CM'!BD49>0,COUNTIF('3bis. Calcul répartition CM'!BD$9:BD$58,'3bis. Calcul répartition CM'!BD49)>1,SUM('3bis. Calcul répartition CM'!BE$9:BE$58)-SUM('3bis. Calcul répartition CM'!BC$9:BC$58)>1),\"erreur\",\"\")","v":""},{"$f":"IF(BD44=\"erreur\",0,IF(OR('3bis. Calcul répartition CM'!BE$5=0,'3bis. Calcul répartition CM'!BD49=0),0,IF('3bis. Calcul répartition CM'!BE49-'3bis. Calcul répartition CM'!BC49>0,1,0)))","v":0},{"$f":"IF(AND('3bis. Calcul répartition CM'!BF49=MAX('3bis. Calcul répartition CM'!BF$9:BF$58),'3bis. Calcul répartition CM'!BF49>0,COUNTIF('3bis. Calcul répartition CM'!BF$9:BF$58,'3bis. Calcul répartition CM'!BF49)>1,SUM('3bis. Calcul répartition CM'!BG$9:BG$58)-SUM('3bis. Calcul répartition CM'!BE$9:BE$58)>1),\"erreur\",\"\")","v":""},{"$f":"IF(BF44=\"erreur\",0,IF(OR('3bis. Calcul répartition CM'!BG$5=0,'3bis. Calcul répartition CM'!BF49=0),0,IF('3bis. Calcul répartition CM'!BG49-'3bis. Calcul répartition CM'!BE49>0,1,0)))","v":0},{"$f":"IF(AND('3bis. Calcul répartition CM'!BH49=MAX('3bis. Calcul répartition CM'!BH$9:BH$58),'3bis. Calcul répartition CM'!BH49>0,COUNTIF('3bis. Calcul répartition CM'!BH$9:BH$58,'3bis. Calcul répartition CM'!BH49)>1,SUM('3bis. Calcul répartition CM'!BI$9:BI$58)-SUM('3bis. Calcul répartition CM'!BG$9:BG$58)>1),\"erreur\",\"\")","v":""},{"$f":"IF(BH44=\"erreur\",0,IF(OR('3bis. Calcul répartition CM'!BI$5=0,'3bis. Calcul répartition CM'!BH49=0),0,IF('3bis. Calcul répartition CM'!BI49-'3bis. Calcul répartition CM'!BG49>0,1,0)))","v":0},{"$f":"IF(AND('3bis. Calcul répartition CM'!BJ49=MAX('3bis. Calcul répartition CM'!BJ$9:BJ$58),'3bis. Calcul répartition CM'!BJ49>0,COUNTIF('3bis. Calcul répartition CM'!BJ$9:BJ$58,'3bis. Calcul répartition CM'!BJ49)>1,SUM('3bis. Calcul répartition CM'!BK$9:BK$58)-SUM('3bis. Calcul répartition CM'!BI$9:BI$58)>1),\"erreur\",\"\")","v":""},{"$f":"IF(BJ44=\"erreur\",0,IF(OR('3bis. Calcul répartition CM'!BK$5=0,'3bis. Calcul répartition CM'!BJ49=0),0,IF('3bis. Calcul répartition CM'!BK49-'3bis. Calcul répartition CM'!BI49>0,1,0)))","v":0},{"$f":"IF(AND('3bis. Calcul répartition CM'!BL49=MAX('3bis. Calcul répartition CM'!BL$9:BL$58),'3bis. Calcul répartition CM'!BL49>0,COUNTIF('3bis. Calcul répartition CM'!BL$9:BL$58,'3bis. Calcul répartition CM'!BL49)>1,SUM('3bis. Calcul répartition CM'!BM$9:BM$58)-SUM('3bis. Calcul répartition CM'!BK$9:BK$58)>1),\"erreur\",\"\")","v":""},{"$f":"IF(BL44=\"erreur\",0,IF(OR('3bis. Calcul répartition CM'!BM$5=0,'3bis. Calcul répartition CM'!BL49=0),0,IF('3bis. Calcul répartition CM'!BM49-'3bis. Calcul répartition CM'!BK49>0,1,0)))","v":0},{"$f":"IF(AND('3bis. Calcul répartition CM'!BN49=MAX('3bis. Calcul répartition CM'!BN$9:BN$58),'3bis. Calcul répartition CM'!BN49>0,COUNTIF('3bis. Calcul répartition CM'!BN$9:BN$58,'3bis. Calcul répartition CM'!BN49)>1,SUM('3bis. Calcul répartition CM'!BO$9:BO$58)-SUM('3bis. Calcul répartition CM'!BM$9:BM$58)>1),\"erreur\",\"\")","v":""},{"$f":"IF(BN44=\"erreur\",0,IF(OR('3bis. Calcul répartition CM'!BO$5=0,'3bis. Calcul répartition CM'!BN49=0),0,IF('3bis. Calcul répartition CM'!BO49-'3bis. Calcul répartition CM'!BM49>0,1,0)))","v":0},{"$f":"IF(AND('3bis. Calcul répartition CM'!BP49=MAX('3bis. Calcul répartition CM'!BP$9:BP$58),'3bis. Calcul répartition CM'!BP49>0,COUNTIF('3bis. Calcul répartition CM'!BP$9:BP$58,'3bis. Calcul répartition CM'!BP49)>1,SUM('3bis. Calcul répartition CM'!BQ$9:BQ$58)-SUM('3bis. Calcul répartition CM'!BO$9:BO$58)>1),\"erreur\",\"\")","v":""},{"$f":"IF(BP44=\"erreur\",0,IF(OR('3bis. Calcul répartition CM'!BQ$5=0,'3bis. Calcul répartition CM'!BP49=0),0,IF('3bis. Calcul répartition CM'!BQ49-'3bis. Calcul répartition CM'!BO49>0,1,0)))","v":0}]
[null,null,null,null,null,null,null,null,{"$f":"'3bis. Calcul répartition CM'!B50","v":0},{"$f":"IF(AND('3bis. Calcul répartition CM'!J50=MAX('3bis. Calcul répartition CM'!J$9:J$58),'3bis. Calcul répartition CM'!J50>0,COUNTIF('3bis. Calcul répartition CM'!J$9:J$58,'3bis. Calcul répartition CM'!J50)>1,SUM('3bis. Calcul répartition CM'!$K$9:$K$58)-SUM('3bis. Calcul répartition CM'!$D$9:$D$58)>1),\"erreur\",\"\")","v":""},{"$f":"IF(J45=\"erreur\",0,IF(OR('3bis. Calcul répartition CM'!K$5=0,'3bis. Calcul répartition CM'!J50=0),0,IF('3bis. Calcul répartition CM'!K50-'3bis. Calcul répartition CM'!D50>0,1,0)))","v":0},{"$f":"IF(AND('3bis. Calcul répartition CM'!L50=MAX('3bis. Calcul répartition CM'!L$9:L$58),'3bis. Calcul répartition CM'!L50>0,COUNTIF('3bis. Calcul répartition CM'!L$9:L$58,'3bis. Calcul répartition CM'!L50)>1,SUM('3bis. Calcul répartition CM'!M$9:M$58)-SUM('3bis. Calcul répartition CM'!K$9:K$58)>1),\"erreur\",\"\")","v":""},{"$f":"IF(L45=\"erreur\",0,IF(OR('3bis. Calcul répartition CM'!M$5=0,'3bis. Calcul répartition CM'!L50=0),0,IF('3bis. Calcul répartition CM'!M50-'3bis. Calcul répartition CM'!K50>0,1,0)))","v":0},{"$f":"IF(AND('3bis. Calcul répartition CM'!N50=MAX('3bis. Calcul répartition CM'!N$9:N$58),'3bis. Calcul répartition CM'!N50>0,COUNTIF('3bis. Calcul répartition CM'!N$9:N$58,'3bis. Calcul répartition CM'!N50)>1,SUM('3bis. Calcul répartition CM'!O$9:O$58)-SUM('3bis. Calcul répartition CM'!M$9:M$58)>1),\"erreur\",\"\")","v":""},{"$f":"IF(N45=\"erreur\",0,IF(OR('3bis. Calcul répartition CM'!O$5=0,'3bis. Calcul répartition CM'!N50=0),0,IF('3bis. Calcul répartition CM'!O50-'3bis. Calcul répartition CM'!M50>0,1,0)))","v":0},{"$f":"IF(AND('3bis. Calcul répartition CM'!P50=MAX('3bis. Calcul répartition CM'!P$9:P$58),'3bis. Calcul répartition CM'!P50>0,COUNTIF('3bis. Calcul répartition CM'!P$9:P$58,'3bis. Calcul répartition CM'!P50)>1,SUM('3bis. Calcul répartition CM'!Q$9:Q$58)-SUM('3bis. Calcul répartition CM'!O$9:O$58)>1),\"erreur\",\"\")","v":""},{"$f":"IF(P45=\"erreur\",0,IF(OR('3bis. Calcul répartition CM'!Q$5=0,'3bis. Calcul répartition CM'!P50=0),0,IF('3bis. Calcul répartition CM'!Q50-'3bis. Calcul répartition CM'!O50>0,1,0)))","v":0},{"$f":"IF(AND('3bis. Calcul répartition CM'!R50=MAX('3bis. Calcul répartition CM'!R$9:R$58),'3bis. Calcul répartition CM'!R50>0,COUNTIF('3bis. Calcul répartition CM'!R$9:R$58,'3bis. Calcul répartition CM'!R50)>1,SUM('3bis. Calcul répartition CM'!S$9:S$58)-SUM('3bis. Calcul répartition CM'!Q$9:Q$58)>1),\"erreur\",\"\")","v":""},{"$f":"IF(R45=\"erreur\",0,IF(OR('3bis. Calcul répartition CM'!S$5=0,'3bis. Calcul répartition CM'!R50=0),0,IF('3bis. Calcul répartition CM'!S50-'3bis. Calcul répartition CM'!Q50>0,1,0)))","v":0},{"$f":"IF(AND('3bis. Calcul répartition CM'!T50=MAX('3bis. Calcul répartition CM'!T$9:T$58),'3bis. Calcul répartition CM'!T50>0,COUNTIF('3bis. Calcul répartition CM'!T$9:T$58,'3bis. Calcul répartition CM'!T50)>1,SUM('3bis. Calcul répartition CM'!U$9:U$58)-SUM('3bis. Calcul répartition CM'!S$9:S$58)>1),\"erreur\",\"\")","v":""},{"$f":"IF(T45=\"erreur\",0,IF(OR('3bis. Calcul répartition CM'!U$5=0,'3bis. Calcul répartition CM'!T50=0),0,IF('3bis. Calcul répartition CM'!U50-'3bis. Calcul répartition CM'!S50>0,1,0)))","v":0},{"$f":"IF(AND('3bis. Calcul répartition CM'!V50=MAX('3bis. Calcul répartition CM'!V$9:V$58),'3bis. Calcul répartition CM'!V50>0,COUNTIF('3bis. Calcul répartition CM'!V$9:V$58,'3bis. Calcul répartition CM'!V50)>1,SUM('3bis. Calcul répartition CM'!W$9:W$58)-SUM('3bis. Calcul répartition CM'!U$9:U$58)>1),\"erreur\",\"\")","v":""},{"$f":"IF(V45=\"erreur\",0,IF(OR('3bis. Calcul répartition CM'!W$5=0,'3bis. Calcul répartition CM'!V50=0),0,IF('3bis. Calcul répartition CM'!W50-'3bis. Calcul répartition CM'!U50>0,1,0)))","v":0},{"$f":"IF(AND('3bis. Calcul répartition CM'!X50=MAX('3bis. Calcul répartition CM'!X$9:X$58),'3bis. Calcul répartition CM'!X50>0,COUNTIF('3bis. Calcul répartition CM'!X$9:X$58,'3bis. Calcul répartition CM'!X50)>1,SUM('3bis. Calcul répartition CM'!Y$9:Y$58)-SUM('3bis. Calcul répartition CM'!W$9:W$58)>1),\"erreur\",\"\")","v":""},{"$f":"IF(X45=\"erreur\",0,IF(OR('3bis. Calcul répartition CM'!Y$5=0,'3bis. Calcul répartition CM'!X50=0),0,IF('3bis. Calcul répartition CM'!Y50-'3bis. Calcul répartition CM'!W50>0,1,0)))","v":0},{"$f":"IF(AND('3bis. Calcul répartition CM'!Z50=MAX('3bis. Calcul répartition CM'!Z$9:Z$58),'3bis. Calcul répartition CM'!Z50>0,COUNTIF('3bis. Calcul répartition CM'!Z$9:Z$58,'3bis. Calcul répartition CM'!Z50)>1,SUM('3bis. Calcul répartition CM'!AA$9:AA$58)-SUM('3bis. Calcul répartition CM'!Y$9:Y$58)>1),\"erreur\",\"\")","v":""},{"$f":"IF(Z45=\"erreur\",0,IF(OR('3bis. Calcul répartition CM'!AA$5=0,'3bis. Calcul répartition CM'!Z50=0),0,IF('3bis. Calcul répartition CM'!AA50-'3bis. Calcul répartition CM'!Y50>0,1,0)))","v":0},{"$f":"IF(AND('3bis. Calcul répartition CM'!AB50=MAX('3bis. Calcul répartition CM'!AB$9:AB$58),'3bis. Calcul répartition CM'!AB50>0,COUNTIF('3bis. Calcul répartition CM'!AB$9:AB$58,'3bis. Calcul répartition CM'!AB50)>1,SUM('3bis. Calcul répartition CM'!AC$9:AC$58)-SUM('3bis. Calcul répartition CM'!AA$9:AA$58)>1),\"erreur\",\"\")","v":""},{"$f":"IF(AB45=\"erreur\",0,IF(OR('3bis. Calcul répartition CM'!AC$5=0,'3bis. Calcul répartition CM'!AB50=0),0,IF('3bis. Calcul répartition CM'!AC50-'3bis. Calcul répartition CM'!AA50>0,1,0)))","v":0},{"$f":"IF(AND('3bis. Calcul répartition CM'!AD50=MAX('3bis. Calcul répartition CM'!AD$9:AD$58),'3bis. Calcul répartition CM'!AD50>0,COUNTIF('3bis. Calcul répartition CM'!AD$9:AD$58,'3bis. Calcul répartition CM'!AD50)>1,SUM('3bis. Calcul répartition CM'!AE$9:AE$58)-SUM('3bis. Calcul répartition CM'!AC$9:AC$58)>1),\"erreur\",\"\")","v":""},{"$f":"IF(AD45=\"erreur\",0,IF(OR('3bis. Calcul répartition CM'!AE$5=0,'3bis. Calcul répartition CM'!AD50=0),0,IF('3bis. Calcul répartition CM'!AE50-'3bis. Calcul répartition CM'!AC50>0,1,0)))","v":0},{"$f":"IF(AND('3bis. Calcul répartition CM'!AF50=MAX('3bis. Calcul répartition CM'!AF$9:AF$58),'3bis. Calcul répartition CM'!AF50>0,COUNTIF('3bis. Calcul répartition CM'!AF$9:AF$58,'3bis. Calcul répartition CM'!AF50)>1,SUM('3bis. Calcul répartition CM'!AG$9:AG$58)-SUM('3bis. Calcul répartition CM'!AE$9:AE$58)>1),\"erreur\",\"\")","v":""},{"$f":"IF(AF45=\"erreur\",0,IF(OR('3bis. Calcul répartition CM'!AG$5=0,'3bis. Calcul répartition CM'!AF50=0),0,IF('3bis. Calcul répartition CM'!AG50-'3bis. Calcul répartition CM'!AE50>0,1,0)))","v":0},{"$f":"IF(AND('3bis. Calcul répartition CM'!AH50=MAX('3bis. Calcul répartition CM'!AH$9:AH$58),'3bis. Calcul répartition CM'!AH50>0,COUNTIF('3bis. Calcul répartition CM'!AH$9:AH$58,'3bis. Calcul répartition CM'!AH50)>1,SUM('3bis. Calcul répartition CM'!AI$9:AI$58)-SUM('3bis. Calcul répartition CM'!AG$9:AG$58)>1),\"erreur\",\"\")","v":""},{"$f":"IF(AH45=\"erreur\",0,IF(OR('3bis. Calcul répartition CM'!AI$5=0,'3bis. Calcul répartition CM'!AH50=0),0,IF('3bis. Calcul répartition CM'!AI50-'3bis. Calcul répartition CM'!AG50>0,1,0)))","v":0},{"$f":"IF(AND('3bis. Calcul répartition CM'!AJ50=MAX('3bis. Calcul répartition CM'!AJ$9:AJ$58),'3bis. Calcul répartition CM'!AJ50>0,COUNTIF('3bis. Calcul répartition CM'!AJ$9:AJ$58,'3bis. Calcul répartition CM'!AJ50)>1,SUM('3bis. Calcul répartition CM'!AK$9:AK$58)-SUM('3bis. Calcul répartition CM'!AI$9:AI$58)>1),\"erreur\",\"\")","v":""},{"$f":"IF(AJ45=\"erreur\",0,IF(OR('3bis. Calcul répartition CM'!AK$5=0,'3bis. Calcul répartition CM'!AJ50=0),0,IF('3bis. Calcul répartition CM'!AK50-'3bis. Calcul répartition CM'!AI50>0,1,0)))","v":0},{"$f":"IF(AND('3bis. Calcul répartition CM'!AL50=MAX('3bis. Calcul répartition CM'!AL$9:AL$58),'3bis. Calcul répartition CM'!AL50>0,COUNTIF('3bis. Calcul répartition CM'!AL$9:AL$58,'3bis. Calcul répartition CM'!AL50)>1,SUM('3bis. Calcul répartition CM'!AM$9:AM$58)-SUM('3bis. Calcul répartition CM'!AK$9:AK$58)>1),\"erreur\",\"\")","v":""},{"$f":"IF(AL45=\"erreur\",0,IF(OR('3bis. Calcul répartition CM'!AM$5=0,'3bis. Calcul répartition CM'!AL50=0),0,IF('3bis. Calcul répartition CM'!AM50-'3bis. Calcul répartition CM'!AK50>0,1,0)))","v":0},{"$f":"IF(AND('3bis. Calcul répartition CM'!AN50=MAX('3bis. Calcul répartition CM'!AN$9:AN$58),'3bis. Calcul répartition CM'!AN50>0,COUNTIF('3bis. Calcul répartition CM'!AN$9:AN$58,'3bis. Calcul répartition CM'!AN50)>1,SUM('3bis. Calcul répartition CM'!AO$9:AO$58)-SUM('3bis. Calcul répartition CM'!AM$9:AM$58)>1),\"erreur\",\"\")","v":""},{"$f":"IF(AN45=\"erreur\",0,IF(OR('3bis. Calcul répartition CM'!AO$5=0,'3bis. Calcul répartition CM'!AN50=0),0,IF('3bis. Calcul répartition CM'!AO50-'3bis. Calcul répartition CM'!AM50>0,1,0)))","v":0},{"$f":"IF(AND('3bis. Calcul répartition CM'!AP50=MAX('3bis. Calcul répartition CM'!AP$9:AP$58),'3bis. Calcul répartition CM'!AP50>0,COUNTIF('3bis. Calcul répartition CM'!AP$9:AP$58,'3bis. Calcul répartition CM'!AP50)>1,SUM('3bis. Calcul répartition CM'!AQ$9:AQ$58)-SUM('3bis. Calcul répartition CM'!AO$9:AO$58)>1),\"erreur\",\"\")","v":""},{"$f":"IF(AP45=\"erreur\",0,IF(OR('3bis. Calcul répartition CM'!AQ$5=0,'3bis. Calcul répartition CM'!AP50=0),0,IF('3bis. Calcul répartition CM'!AQ50-'3bis. Calcul répartition CM'!AO50>0,1,0)))","v":0},{"$f":"IF(AND('3bis. Calcul répartition CM'!AR50=MAX('3bis. Calcul répartition CM'!AR$9:AR$58),'3bis. Calcul répartition CM'!AR50>0,COUNTIF('3bis. Calcul répartition CM'!AR$9:AR$58,'3bis. Calcul répartition CM'!AR50)>1,SUM('3bis. Calcul répartition CM'!AS$9:AS$58)-SUM('3bis. Calcul répartition CM'!AQ$9:AQ$58)>1),\"erreur\",\"\")","v":""},{"$f":"IF(AR45=\"erreur\",0,IF(OR('3bis. Calcul répartition CM'!AS$5=0,'3bis. Calcul répartition CM'!AR50=0),0,IF('3bis. Calcul répartition CM'!AS50-'3bis. Calcul répartition CM'!AQ50>0,1,0)))","v":0},{"$f":"IF(AND('3bis. Calcul répartition CM'!AT50=MAX('3bis. Calcul répartition CM'!AT$9:AT$58),'3bis. Calcul répartition CM'!AT50>0,COUNTIF('3bis. Calcul répartition CM'!AT$9:AT$58,'3bis. Calcul répartition CM'!AT50)>1,SUM('3bis. Calcul répartition CM'!AU$9:AU$58)-SUM('3bis. Calcul répartition CM'!AS$9:AS$58)>1),\"erreur\",\"\")","v":""},{"$f":"IF(AT45=\"erreur\",0,IF(OR('3bis. Calcul répartition CM'!AU$5=0,'3bis. Calcul répartition CM'!AT50=0),0,IF('3bis. Calcul répartition CM'!AU50-'3bis. Calcul répartition CM'!AS50>0,1,0)))","v":0},{"$f":"IF(AND('3bis. Calcul répartition CM'!AV50=MAX('3bis. Calcul répartition CM'!AV$9:AV$58),'3bis. Calcul répartition CM'!AV50>0,COUNTIF('3bis. Calcul répartition CM'!AV$9:AV$58,'3bis. Calcul répartition CM'!AV50)>1,SUM('3bis. Calcul répartition CM'!AW$9:AW$58)-SUM('3bis. Calcul répartition CM'!AU$9:AU$58)>1),\"erreur\",\"\")","v":""},{"$f":"IF(AV45=\"erreur\",0,IF(OR('3bis. Calcul répartition CM'!AW$5=0,'3bis. Calcul répartition CM'!AV50=0),0,IF('3bis. Calcul répartition CM'!AW50-'3bis. Calcul répartition CM'!AU50>0,1,0)))","v":0},{"$f":"IF(AND('3bis. Calcul répartition CM'!AX50=MAX('3bis. Calcul répartition CM'!AX$9:AX$58),'3bis. Calcul répartition CM'!AX50>0,COUNTIF('3bis. Calcul répartition CM'!AX$9:AX$58,'3bis. Calcul répartition CM'!AX50)>1,SUM('3bis. Calcul répartition CM'!AY$9:AY$58)-SUM('3bis. Calcul répartition CM'!AW$9:AW$58)>1),\"erreur\",\"\")","v":""},{"$f":"IF(AX45=\"erreur\",0,IF(OR('3bis. Calcul répartition CM'!AY$5=0,'3bis. Calcul répartition CM'!AX50=0),0,IF('3bis. Calcul répartition CM'!AY50-'3bis. Calcul répartition CM'!AW50>0,1,0)))","v":0},{"$f":"IF(AND('3bis. Calcul répartition CM'!AZ50=MAX('3bis. Calcul répartition CM'!AZ$9:AZ$58),'3bis. Calcul répartition CM'!AZ50>0,COUNTIF('3bis. Calcul répartition CM'!AZ$9:AZ$58,'3bis. Calcul répartition CM'!AZ50)>1,SUM('3bis. Calcul répartition CM'!BA$9:BA$58)-SUM('3bis. Calcul répartition CM'!AY$9:AY$58)>1),\"erreur\",\"\")","v":""},{"$f":"IF(AZ45=\"erreur\",0,IF(OR('3bis. Calcul répartition CM'!BA$5=0,'3bis. Calcul répartition CM'!AZ50=0),0,IF('3bis. Calcul répartition CM'!BA50-'3bis. Calcul répartition CM'!AY50>0,1,0)))","v":0},{"$f":"IF(AND('3bis. Calcul répartition CM'!BB50=MAX('3bis. Calcul répartition CM'!BB$9:BB$58),'3bis. Calcul répartition CM'!BB50>0,COUNTIF('3bis. Calcul répartition CM'!BB$9:BB$58,'3bis. Calcul répartition CM'!BB50)>1,SUM('3bis. Calcul répartition CM'!BC$9:BC$58)-SUM('3bis. Calcul répartition CM'!BA$9:BA$58)>1),\"erreur\",\"\")","v":""},{"$f":"IF(BB45=\"erreur\",0,IF(OR('3bis. Calcul répartition CM'!BC$5=0,'3bis. Calcul répartition CM'!BB50=0),0,IF('3bis. Calcul répartition CM'!BC50-'3bis. Calcul répartition CM'!BA50>0,1,0)))","v":0},{"$f":"IF(AND('3bis. Calcul répartition CM'!BD50=MAX('3bis. Calcul répartition CM'!BD$9:BD$58),'3bis. Calcul répartition CM'!BD50>0,COUNTIF('3bis. Calcul répartition CM'!BD$9:BD$58,'3bis. Calcul répartition CM'!BD50)>1,SUM('3bis. Calcul répartition CM'!BE$9:BE$58)-SUM('3bis. Calcul répartition CM'!BC$9:BC$58)>1),\"erreur\",\"\")","v":""},{"$f":"IF(BD45=\"erreur\",0,IF(OR('3bis. Calcul répartition CM'!BE$5=0,'3bis. Calcul répartition CM'!BD50=0),0,IF('3bis. Calcul répartition CM'!BE50-'3bis. Calcul répartition CM'!BC50>0,1,0)))","v":0},{"$f":"IF(AND('3bis. Calcul répartition CM'!BF50=MAX('3bis. Calcul répartition CM'!BF$9:BF$58),'3bis. Calcul répartition CM'!BF50>0,COUNTIF('3bis. Calcul répartition CM'!BF$9:BF$58,'3bis. Calcul répartition CM'!BF50)>1,SUM('3bis. Calcul répartition CM'!BG$9:BG$58)-SUM('3bis. Calcul répartition CM'!BE$9:BE$58)>1),\"erreur\",\"\")","v":""},{"$f":"IF(BF45=\"erreur\",0,IF(OR('3bis. Calcul répartition CM'!BG$5=0,'3bis. Calcul répartition CM'!BF50=0),0,IF('3bis. Calcul répartition CM'!BG50-'3bis. Calcul répartition CM'!BE50>0,1,0)))","v":0},{"$f":"IF(AND('3bis. Calcul répartition CM'!BH50=MAX('3bis. Calcul répartition CM'!BH$9:BH$58),'3bis. Calcul répartition CM'!BH50>0,COUNTIF('3bis. Calcul répartition CM'!BH$9:BH$58,'3bis. Calcul répartition CM'!BH50)>1,SUM('3bis. Calcul répartition CM'!BI$9:BI$58)-SUM('3bis. Calcul répartition CM'!BG$9:BG$58)>1),\"erreur\",\"\")","v":""},{"$f":"IF(BH45=\"erreur\",0,IF(OR('3bis. Calcul répartition CM'!BI$5=0,'3bis. Calcul répartition CM'!BH50=0),0,IF('3bis. Calcul répartition CM'!BI50-'3bis. Calcul répartition CM'!BG50>0,1,0)))","v":0},{"$f":"IF(AND('3bis. Calcul répartition CM'!BJ50=MAX('3bis. Calcul répartition CM'!BJ$9:BJ$58),'3bis. Calcul répartition CM'!BJ50>0,COUNTIF('3bis. Calcul répartition CM'!BJ$9:BJ$58,'3bis. Calcul répartition CM'!BJ50)>1,SUM('3bis. Calcul répartition CM'!BK$9:BK$58)-SUM('3bis. Calcul répartition CM'!BI$9:BI$58)>1),\"erreur\",\"\")","v":""},{"$f":"IF(BJ45=\"erreur\",0,IF(OR('3bis. Calcul répartition CM'!BK$5=0,'3bis. Calcul répartition CM'!BJ50=0),0,IF('3bis. Calcul répartition CM'!BK50-'3bis. Calcul répartition CM'!BI50>0,1,0)))","v":0},{"$f":"IF(AND('3bis. Calcul répartition CM'!BL50=MAX('3bis. Calcul répartition CM'!BL$9:BL$58),'3bis. Calcul répartition CM'!BL50>0,COUNTIF('3bis. Calcul répartition CM'!BL$9:BL$58,'3bis. Calcul répartition CM'!BL50)>1,SUM('3bis. Calcul répartition CM'!BM$9:BM$58)-SUM('3bis. Calcul répartition CM'!BK$9:BK$58)>1),\"erreur\",\"\")","v":""},{"$f":"IF(BL45=\"erreur\",0,IF(OR('3bis. Calcul répartition CM'!BM$5=0,'3bis. Calcul répartition CM'!BL50=0),0,IF('3bis. Calcul répartition CM'!BM50-'3bis. Calcul répartition CM'!BK50>0,1,0)))","v":0},{"$f":"IF(AND('3bis. Calcul répartition CM'!BN50=MAX('3bis. Calcul répartition CM'!BN$9:BN$58),'3bis. Calcul répartition CM'!BN50>0,COUNTIF('3bis. Calcul répartition CM'!BN$9:BN$58,'3bis. Calcul répartition CM'!BN50)>1,SUM('3bis. Calcul répartition CM'!BO$9:BO$58)-SUM('3bis. Calcul répartition CM'!BM$9:BM$58)>1),\"erreur\",\"\")","v":""},{"$f":"IF(BN45=\"erreur\",0,IF(OR('3bis. Calcul répartition CM'!BO$5=0,'3bis. Calcul répartition CM'!BN50=0),0,IF('3bis. Calcul répartition CM'!BO50-'3bis. Calcul répartition CM'!BM50>0,1,0)))","v":0},{"$f":"IF(AND('3bis. Calcul répartition CM'!BP50=MAX('3bis. Calcul répartition CM'!BP$9:BP$58),'3bis. Calcul répartition CM'!BP50>0,COUNTIF('3bis. Calcul répartition CM'!BP$9:BP$58,'3bis. Calcul répartition CM'!BP50)>1,SUM('3bis. Calcul répartition CM'!BQ$9:BQ$58)-SUM('3bis. Calcul répartition CM'!BO$9:BO$58)>1),\"erreur\",\"\")","v":""},{"$f":"IF(BP45=\"erreur\",0,IF(OR('3bis. Calcul répartition CM'!BQ$5=0,'3bis. Calcul répartition CM'!BP50=0),0,IF('3bis. Calcul répartition CM'!BQ50-'3bis. Calcul répartition CM'!BO50>0,1,0)))","v":0}]
[null,null,null,null,null,null,null,null,{"$f":"'3bis. Calcul répartition CM'!B51","v":0},{"$f":"IF(AND('3bis. Calcul répartition CM'!J51=MAX('3bis. Calcul répartition CM'!J$9:J$58),'3bis. Calcul répartition CM'!J51>0,COUNTIF('3bis. Calcul répartition CM'!J$9:J$58,'3bis. Calcul répartition CM'!J51)>1,SUM('3bis. Calcul répartition CM'!$K$9:$K$58)-SUM('3bis. Calcul répartition CM'!$D$9:$D$58)>1),\"erreur\",\"\")","v":""},{"$f":"IF(J46=\"erreur\",0,IF(OR('3bis. Calcul répartition CM'!K$5=0,'3bis. Calcul répartition CM'!J51=0),0,IF('3bis. Calcul répartition CM'!K51-'3bis. Calcul répartition CM'!D51>0,1,0)))","v":0},{"$f":"IF(AND('3bis. Calcul répartition CM'!L51=MAX('3bis. Calcul répartition CM'!L$9:L$58),'3bis. Calcul répartition CM'!L51>0,COUNTIF('3bis. Calcul répartition CM'!L$9:L$58,'3bis. Calcul répartition CM'!L51)>1,SUM('3bis. Calcul répartition CM'!M$9:M$58)-SUM('3bis. Calcul répartition CM'!K$9:K$58)>1),\"erreur\",\"\")","v":""},{"$f":"IF(L46=\"erreur\",0,IF(OR('3bis. Calcul répartition CM'!M$5=0,'3bis. Calcul répartition CM'!L51=0),0,IF('3bis. Calcul répartition CM'!M51-'3bis. Calcul répartition CM'!K51>0,1,0)))","v":0},{"$f":"IF(AND('3bis. Calcul répartition CM'!N51=MAX('3bis. Calcul répartition CM'!N$9:N$58),'3bis. Calcul répartition CM'!N51>0,COUNTIF('3bis. Calcul répartition CM'!N$9:N$58,'3bis. Calcul répartition CM'!N51)>1,SUM('3bis. Calcul répartition CM'!O$9:O$58)-SUM('3bis. Calcul répartition CM'!M$9:M$58)>1),\"erreur\",\"\")","v":""},{"$f":"IF(N46=\"erreur\",0,IF(OR('3bis. Calcul répartition CM'!O$5=0,'3bis. Calcul répartition CM'!N51=0),0,IF('3bis. Calcul répartition CM'!O51-'3bis. Calcul répartition CM'!M51>0,1,0)))","v":0},{"$f":"IF(AND('3bis. Calcul répartition CM'!P51=MAX('3bis. Calcul répartition CM'!P$9:P$58),'3bis. Calcul répartition CM'!P51>0,COUNTIF('3bis. Calcul répartition CM'!P$9:P$58,'3bis. Calcul répartition CM'!P51)>1,SUM('3bis. Calcul répartition CM'!Q$9:Q$58)-SUM('3bis. Calcul répartition CM'!O$9:O$58)>1),\"erreur\",\"\")","v":""},{"$f":"IF(P46=\"erreur\",0,IF(OR('3bis. Calcul répartition CM'!Q$5=0,'3bis. Calcul répartition CM'!P51=0),0,IF('3bis. Calcul répartition CM'!Q51-'3bis. Calcul répartition CM'!O51>0,1,0)))","v":0},{"$f":"IF(AND('3bis. Calcul répartition CM'!R51=MAX('3bis. Calcul répartition CM'!R$9:R$58),'3bis. Calcul répartition CM'!R51>0,COUNTIF('3bis. Calcul répartition CM'!R$9:R$58,'3bis. Calcul répartition CM'!R51)>1,SUM('3bis. Calcul répartition CM'!S$9:S$58)-SUM('3bis. Calcul répartition CM'!Q$9:Q$58)>1),\"erreur\",\"\")","v":""},{"$f":"IF(R46=\"erreur\",0,IF(OR('3bis. Calcul répartition CM'!S$5=0,'3bis. Calcul répartition CM'!R51=0),0,IF('3bis. Calcul répartition CM'!S51-'3bis. Calcul répartition CM'!Q51>0,1,0)))","v":0},{"$f":"IF(AND('3bis. Calcul répartition CM'!T51=MAX('3bis. Calcul répartition CM'!T$9:T$58),'3bis. Calcul répartition CM'!T51>0,COUNTIF('3bis. Calcul répartition CM'!T$9:T$58,'3bis. Calcul répartition CM'!T51)>1,SUM('3bis. Calcul répartition CM'!U$9:U$58)-SUM('3bis. Calcul répartition CM'!S$9:S$58)>1),\"erreur\",\"\")","v":""},{"$f":"IF(T46=\"erreur\",0,IF(OR('3bis. Calcul répartition CM'!U$5=0,'3bis. Calcul répartition CM'!T51=0),0,IF('3bis. Calcul répartition CM'!U51-'3bis. Calcul répartition CM'!S51>0,1,0)))","v":0},{"$f":"IF(AND('3bis. Calcul répartition CM'!V51=MAX('3bis. Calcul répartition CM'!V$9:V$58),'3bis. Calcul répartition CM'!V51>0,COUNTIF('3bis. Calcul répartition CM'!V$9:V$58,'3bis. Calcul répartition CM'!V51)>1,SUM('3bis. Calcul répartition CM'!W$9:W$58)-SUM('3bis. Calcul répartition CM'!U$9:U$58)>1),\"erreur\",\"\")","v":""},{"$f":"IF(V46=\"erreur\",0,IF(OR('3bis. Calcul répartition CM'!W$5=0,'3bis. Calcul répartition CM'!V51=0),0,IF('3bis. Calcul répartition CM'!W51-'3bis. Calcul répartition CM'!U51>0,1,0)))","v":0},{"$f":"IF(AND('3bis. Calcul répartition CM'!X51=MAX('3bis. Calcul répartition CM'!X$9:X$58),'3bis. Calcul répartition CM'!X51>0,COUNTIF('3bis. Calcul répartition CM'!X$9:X$58,'3bis. Calcul répartition CM'!X51)>1,SUM('3bis. Calcul répartition CM'!Y$9:Y$58)-SUM('3bis. Calcul répartition CM'!W$9:W$58)>1),\"erreur\",\"\")","v":""},{"$f":"IF(X46=\"erreur\",0,IF(OR('3bis. Calcul répartition CM'!Y$5=0,'3bis. Calcul répartition CM'!X51=0),0,IF('3bis. Calcul répartition CM'!Y51-'3bis. Calcul répartition CM'!W51>0,1,0)))","v":0},{"$f":"IF(AND('3bis. Calcul répartition CM'!Z51=MAX('3bis. Calcul répartition CM'!Z$9:Z$58),'3bis. Calcul répartition CM'!Z51>0,COUNTIF('3bis. Calcul répartition CM'!Z$9:Z$58,'3bis. Calcul répartition CM'!Z51)>1,SUM('3bis. Calcul répartition CM'!AA$9:AA$58)-SUM('3bis. Calcul répartition CM'!Y$9:Y$58)>1),\"erreur\",\"\")","v":""},{"$f":"IF(Z46=\"erreur\",0,IF(OR('3bis. Calcul répartition CM'!AA$5=0,'3bis. Calcul répartition CM'!Z51=0),0,IF('3bis. Calcul répartition CM'!AA51-'3bis. Calcul répartition CM'!Y51>0,1,0)))","v":0},{"$f":"IF(AND('3bis. Calcul répartition CM'!AB51=MAX('3bis. Calcul répartition CM'!AB$9:AB$58),'3bis. Calcul répartition CM'!AB51>0,COUNTIF('3bis. Calcul répartition CM'!AB$9:AB$58,'3bis. Calcul répartition CM'!AB51)>1,SUM('3bis. Calcul répartition CM'!AC$9:AC$58)-SUM('3bis. Calcul répartition CM'!AA$9:AA$58)>1),\"erreur\",\"\")","v":""},{"$f":"IF(AB46=\"erreur\",0,IF(OR('3bis. Calcul répartition CM'!AC$5=0,'3bis. Calcul répartition CM'!AB51=0),0,IF('3bis. Calcul répartition CM'!AC51-'3bis. Calcul répartition CM'!AA51>0,1,0)))","v":0},{"$f":"IF(AND('3bis. Calcul répartition CM'!AD51=MAX('3bis. Calcul répartition CM'!AD$9:AD$58),'3bis. Calcul répartition CM'!AD51>0,COUNTIF('3bis. Calcul répartition CM'!AD$9:AD$58,'3bis. Calcul répartition CM'!AD51)>1,SUM('3bis. Calcul répartition CM'!AE$9:AE$58)-SUM('3bis. Calcul répartition CM'!AC$9:AC$58)>1),\"erreur\",\"\")","v":""},{"$f":"IF(AD46=\"erreur\",0,IF(OR('3bis. Calcul répartition CM'!AE$5=0,'3bis. Calcul répartition CM'!AD51=0),0,IF('3bis. Calcul répartition CM'!AE51-'3bis. Calcul répartition CM'!AC51>0,1,0)))","v":0},{"$f":"IF(AND('3bis. Calcul répartition CM'!AF51=MAX('3bis. Calcul répartition CM'!AF$9:AF$58),'3bis. Calcul répartition CM'!AF51>0,COUNTIF('3bis. Calcul répartition CM'!AF$9:AF$58,'3bis. Calcul répartition CM'!AF51)>1,SUM('3bis. Calcul répartition CM'!AG$9:AG$58)-SUM('3bis. Calcul répartition CM'!AE$9:AE$58)>1),\"erreur\",\"\")","v":""},{"$f":"IF(AF46=\"erreur\",0,IF(OR('3bis. Calcul répartition CM'!AG$5=0,'3bis. Calcul répartition CM'!AF51=0),0,IF('3bis. Calcul répartition CM'!AG51-'3bis. Calcul répartition CM'!AE51>0,1,0)))","v":0},{"$f":"IF(AND('3bis. Calcul répartition CM'!AH51=MAX('3bis. Calcul répartition CM'!AH$9:AH$58),'3bis. Calcul répartition CM'!AH51>0,COUNTIF('3bis. Calcul répartition CM'!AH$9:AH$58,'3bis. Calcul répartition CM'!AH51)>1,SUM('3bis. Calcul répartition CM'!AI$9:AI$58)-SUM('3bis. Calcul répartition CM'!AG$9:AG$58)>1),\"erreur\",\"\")","v":""},{"$f":"IF(AH46=\"erreur\",0,IF(OR('3bis. Calcul répartition CM'!AI$5=0,'3bis. Calcul répartition CM'!AH51=0),0,IF('3bis. Calcul répartition CM'!AI51-'3bis. Calcul répartition CM'!AG51>0,1,0)))","v":0},{"$f":"IF(AND('3bis. Calcul répartition CM'!AJ51=MAX('3bis. Calcul répartition CM'!AJ$9:AJ$58),'3bis. Calcul répartition CM'!AJ51>0,COUNTIF('3bis. Calcul répartition CM'!AJ$9:AJ$58,'3bis. Calcul répartition CM'!AJ51)>1,SUM('3bis. Calcul répartition CM'!AK$9:AK$58)-SUM('3bis. Calcul répartition CM'!AI$9:AI$58)>1),\"erreur\",\"\")","v":""},{"$f":"IF(AJ46=\"erreur\",0,IF(OR('3bis. Calcul répartition CM'!AK$5=0,'3bis. Calcul répartition CM'!AJ51=0),0,IF('3bis. Calcul répartition CM'!AK51-'3bis. Calcul répartition CM'!AI51>0,1,0)))","v":0},{"$f":"IF(AND('3bis. Calcul répartition CM'!AL51=MAX('3bis. Calcul répartition CM'!AL$9:AL$58),'3bis. Calcul répartition CM'!AL51>0,COUNTIF('3bis. Calcul répartition CM'!AL$9:AL$58,'3bis. Calcul répartition CM'!AL51)>1,SUM('3bis. Calcul répartition CM'!AM$9:AM$58)-SUM('3bis. Calcul répartition CM'!AK$9:AK$58)>1),\"erreur\",\"\")","v":""},{"$f":"IF(AL46=\"erreur\",0,IF(OR('3bis. Calcul répartition CM'!AM$5=0,'3bis. Calcul répartition CM'!AL51=0),0,IF('3bis. Calcul répartition CM'!AM51-'3bis. Calcul répartition CM'!AK51>0,1,0)))","v":0},{"$f":"IF(AND('3bis. Calcul répartition CM'!AN51=MAX('3bis. Calcul répartition CM'!AN$9:AN$58),'3bis. Calcul répartition CM'!AN51>0,COUNTIF('3bis. Calcul répartition CM'!AN$9:AN$58,'3bis. Calcul répartition CM'!AN51)>1,SUM('3bis. Calcul répartition CM'!AO$9:AO$58)-SUM('3bis. Calcul répartition CM'!AM$9:AM$58)>1),\"erreur\",\"\")","v":""},{"$f":"IF(AN46=\"erreur\",0,IF(OR('3bis. Calcul répartition CM'!AO$5=0,'3bis. Calcul répartition CM'!AN51=0),0,IF('3bis. Calcul répartition CM'!AO51-'3bis. Calcul répartition CM'!AM51>0,1,0)))","v":0},{"$f":"IF(AND('3bis. Calcul répartition CM'!AP51=MAX('3bis. Calcul répartition CM'!AP$9:AP$58),'3bis. Calcul répartition CM'!AP51>0,COUNTIF('3bis. Calcul répartition CM'!AP$9:AP$58,'3bis. Calcul répartition CM'!AP51)>1,SUM('3bis. Calcul répartition CM'!AQ$9:AQ$58)-SUM('3bis. Calcul répartition CM'!AO$9:AO$58)>1),\"erreur\",\"\")","v":""},{"$f":"IF(AP46=\"erreur\",0,IF(OR('3bis. Calcul répartition CM'!AQ$5=0,'3bis. Calcul répartition CM'!AP51=0),0,IF('3bis. Calcul répartition CM'!AQ51-'3bis. Calcul répartition CM'!AO51>0,1,0)))","v":0},{"$f":"IF(AND('3bis. Calcul répartition CM'!AR51=MAX('3bis. Calcul répartition CM'!AR$9:AR$58),'3bis. Calcul répartition CM'!AR51>0,COUNTIF('3bis. Calcul répartition CM'!AR$9:AR$58,'3bis. Calcul répartition CM'!AR51)>1,SUM('3bis. Calcul répartition CM'!AS$9:AS$58)-SUM('3bis. Calcul répartition CM'!AQ$9:AQ$58)>1),\"erreur\",\"\")","v":""},{"$f":"IF(AR46=\"erreur\",0,IF(OR('3bis. Calcul répartition CM'!AS$5=0,'3bis. Calcul répartition CM'!AR51=0),0,IF('3bis. Calcul répartition CM'!AS51-'3bis. Calcul répartition CM'!AQ51>0,1,0)))","v":0},{"$f":"IF(AND('3bis. Calcul répartition CM'!AT51=MAX('3bis. Calcul répartition CM'!AT$9:AT$58),'3bis. Calcul répartition CM'!AT51>0,COUNTIF('3bis. Calcul répartition CM'!AT$9:AT$58,'3bis. Calcul répartition CM'!AT51)>1,SUM('3bis. Calcul répartition CM'!AU$9:AU$58)-SUM('3bis. Calcul répartition CM'!AS$9:AS$58)>1),\"erreur\",\"\")","v":""},{"$f":"IF(AT46=\"erreur\",0,IF(OR('3bis. Calcul répartition CM'!AU$5=0,'3bis. Calcul répartition CM'!AT51=0),0,IF('3bis. Calcul répartition CM'!AU51-'3bis. Calcul répartition CM'!AS51>0,1,0)))","v":0},{"$f":"IF(AND('3bis. Calcul répartition CM'!AV51=MAX('3bis. Calcul répartition CM'!AV$9:AV$58),'3bis. Calcul répartition CM'!AV51>0,COUNTIF('3bis. Calcul répartition CM'!AV$9:AV$58,'3bis. Calcul répartition CM'!AV51)>1,SUM('3bis. Calcul répartition CM'!AW$9:AW$58)-SUM('3bis. Calcul répartition CM'!AU$9:AU$58)>1),\"erreur\",\"\")","v":""},{"$f":"IF(AV46=\"erreur\",0,IF(OR('3bis. Calcul répartition CM'!AW$5=0,'3bis. Calcul répartition CM'!AV51=0),0,IF('3bis. Calcul répartition CM'!AW51-'3bis. Calcul répartition CM'!AU51>0,1,0)))","v":0},{"$f":"IF(AND('3bis. Calcul répartition CM'!AX51=MAX('3bis. Calcul répartition CM'!AX$9:AX$58),'3bis. Calcul répartition CM'!AX51>0,COUNTIF('3bis. Calcul répartition CM'!AX$9:AX$58,'3bis. Calcul répartition CM'!AX51)>1,SUM('3bis. Calcul répartition CM'!AY$9:AY$58)-SUM('3bis. Calcul répartition CM'!AW$9:AW$58)>1),\"erreur\",\"\")","v":""},{"$f":"IF(AX46=\"erreur\",0,IF(OR('3bis. Calcul répartition CM'!AY$5=0,'3bis. Calcul répartition CM'!AX51=0),0,IF('3bis. Calcul répartition CM'!AY51-'3bis. Calcul répartition CM'!AW51>0,1,0)))","v":0},{"$f":"IF(AND('3bis. Calcul répartition CM'!AZ51=MAX('3bis. Calcul répartition CM'!AZ$9:AZ$58),'3bis. Calcul répartition CM'!AZ51>0,COUNTIF('3bis. Calcul répartition CM'!AZ$9:AZ$58,'3bis. Calcul répartition CM'!AZ51)>1,SUM('3bis. Calcul répartition CM'!BA$9:BA$58)-SUM('3bis. Calcul répartition CM'!AY$9:AY$58)>1),\"erreur\",\"\")","v":""},{"$f":"IF(AZ46=\"erreur\",0,IF(OR('3bis. Calcul répartition CM'!BA$5=0,'3bis. Calcul répartition CM'!AZ51=0),0,IF('3bis. Calcul répartition CM'!BA51-'3bis. Calcul répartition CM'!AY51>0,1,0)))","v":0},{"$f":"IF(AND('3bis. Calcul répartition CM'!BB51=MAX('3bis. Calcul répartition CM'!BB$9:BB$58),'3bis. Calcul répartition CM'!BB51>0,COUNTIF('3bis. Calcul répartition CM'!BB$9:BB$58,'3bis. Calcul répartition CM'!BB51)>1,SUM('3bis. Calcul répartition CM'!BC$9:BC$58)-SUM('3bis. Calcul répartition CM'!BA$9:BA$58)>1),\"erreur\",\"\")","v":""},{"$f":"IF(BB46=\"erreur\",0,IF(OR('3bis. Calcul répartition CM'!BC$5=0,'3bis. Calcul répartition CM'!BB51=0),0,IF('3bis. Calcul répartition CM'!BC51-'3bis. Calcul répartition CM'!BA51>0,1,0)))","v":0},{"$f":"IF(AND('3bis. Calcul répartition CM'!BD51=MAX('3bis. Calcul répartition CM'!BD$9:BD$58),'3bis. Calcul répartition CM'!BD51>0,COUNTIF('3bis. Calcul répartition CM'!BD$9:BD$58,'3bis. Calcul répartition CM'!BD51)>1,SUM('3bis. Calcul répartition CM'!BE$9:BE$58)-SUM('3bis. Calcul répartition CM'!BC$9:BC$58)>1),\"erreur\",\"\")","v":""},{"$f":"IF(BD46=\"erreur\",0,IF(OR('3bis. Calcul répartition CM'!BE$5=0,'3bis. Calcul répartition CM'!BD51=0),0,IF('3bis. Calcul répartition CM'!BE51-'3bis. Calcul répartition CM'!BC51>0,1,0)))","v":0},{"$f":"IF(AND('3bis. Calcul répartition CM'!BF51=MAX('3bis. Calcul répartition CM'!BF$9:BF$58),'3bis. Calcul répartition CM'!BF51>0,COUNTIF('3bis. Calcul répartition CM'!BF$9:BF$58,'3bis. Calcul répartition CM'!BF51)>1,SUM('3bis. Calcul répartition CM'!BG$9:BG$58)-SUM('3bis. Calcul répartition CM'!BE$9:BE$58)>1),\"erreur\",\"\")","v":""},{"$f":"IF(BF46=\"erreur\",0,IF(OR('3bis. Calcul répartition CM'!BG$5=0,'3bis. Calcul répartition CM'!BF51=0),0,IF('3bis. Calcul répartition CM'!BG51-'3bis. Calcul répartition CM'!BE51>0,1,0)))","v":0},{"$f":"IF(AND('3bis. Calcul répartition CM'!BH51=MAX('3bis. Calcul répartition CM'!BH$9:BH$58),'3bis. Calcul répartition CM'!BH51>0,COUNTIF('3bis. Calcul répartition CM'!BH$9:BH$58,'3bis. Calcul répartition CM'!BH51)>1,SUM('3bis. Calcul répartition CM'!BI$9:BI$58)-SUM('3bis. Calcul répartition CM'!BG$9:BG$58)>1),\"erreur\",\"\")","v":""},{"$f":"IF(BH46=\"erreur\",0,IF(OR('3bis. Calcul répartition CM'!BI$5=0,'3bis. Calcul répartition CM'!BH51=0),0,IF('3bis. Calcul répartition CM'!BI51-'3bis. Calcul répartition CM'!BG51>0,1,0)))","v":0},{"$f":"IF(AND('3bis. Calcul répartition CM'!BJ51=MAX('3bis. Calcul répartition CM'!BJ$9:BJ$58),'3bis. Calcul répartition CM'!BJ51>0,COUNTIF('3bis. Calcul répartition CM'!BJ$9:BJ$58,'3bis. Calcul répartition CM'!BJ51)>1,SUM('3bis. Calcul répartition CM'!BK$9:BK$58)-SUM('3bis. Calcul répartition CM'!BI$9:BI$58)>1),\"erreur\",\"\")","v":""},{"$f":"IF(BJ46=\"erreur\",0,IF(OR('3bis. Calcul répartition CM'!BK$5=0,'3bis. Calcul répartition CM'!BJ51=0),0,IF('3bis. Calcul répartition CM'!BK51-'3bis. Calcul répartition CM'!BI51>0,1,0)))","v":0},{"$f":"IF(AND('3bis. Calcul répartition CM'!BL51=MAX('3bis. Calcul répartition CM'!BL$9:BL$58),'3bis. Calcul répartition CM'!BL51>0,COUNTIF('3bis. Calcul répartition CM'!BL$9:BL$58,'3bis. Calcul répartition CM'!BL51)>1,SUM('3bis. Calcul répartition CM'!BM$9:BM$58)-SUM('3bis. Calcul répartition CM'!BK$9:BK$58)>1),\"erreur\",\"\")","v":""},{"$f":"IF(BL46=\"erreur\",0,IF(OR('3bis. Calcul répartition CM'!BM$5=0,'3bis. Calcul répartition CM'!BL51=0),0,IF('3bis. Calcul répartition CM'!BM51-'3bis. Calcul répartition CM'!BK51>0,1,0)))","v":0},{"$f":"IF(AND('3bis. Calcul répartition CM'!BN51=MAX('3bis. Calcul répartition CM'!BN$9:BN$58),'3bis. Calcul répartition CM'!BN51>0,COUNTIF('3bis. Calcul répartition CM'!BN$9:BN$58,'3bis. Calcul répartition CM'!BN51)>1,SUM('3bis. Calcul répartition CM'!BO$9:BO$58)-SUM('3bis. Calcul répartition CM'!BM$9:BM$58)>1),\"erreur\",\"\")","v":""},{"$f":"IF(BN46=\"erreur\",0,IF(OR('3bis. Calcul répartition CM'!BO$5=0,'3bis. Calcul répartition CM'!BN51=0),0,IF('3bis. Calcul répartition CM'!BO51-'3bis. Calcul répartition CM'!BM51>0,1,0)))","v":0},{"$f":"IF(AND('3bis. Calcul répartition CM'!BP51=MAX('3bis. Calcul répartition CM'!BP$9:BP$58),'3bis. Calcul répartition CM'!BP51>0,COUNTIF('3bis. Calcul répartition CM'!BP$9:BP$58,'3bis. Calcul répartition CM'!BP51)>1,SUM('3bis. Calcul répartition CM'!BQ$9:BQ$58)-SUM('3bis. Calcul répartition CM'!BO$9:BO$58)>1),\"erreur\",\"\")","v":""},{"$f":"IF(BP46=\"erreur\",0,IF(OR('3bis. Calcul répartition CM'!BQ$5=0,'3bis. Calcul répartition CM'!BP51=0),0,IF('3bis. Calcul répartition CM'!BQ51-'3bis. Calcul répartition CM'!BO51>0,1,0)))","v":0}]
[null,null,null,null,null,null,null,null,{"$f":"'3bis. Calcul répartition CM'!B52","v":0},{"$f":"IF(AND('3bis. Calcul répartition CM'!J52=MAX('3bis. Calcul répartition CM'!J$9:J$58),'3bis. Calcul répartition CM'!J52>0,COUNTIF('3bis. Calcul répartition CM'!J$9:J$58,'3bis. Calcul répartition CM'!J52)>1,SUM('3bis. Calcul répartition CM'!$K$9:$K$58)-SUM('3bis. Calcul répartition CM'!$D$9:$D$58)>1),\"erreur\",\"\")","v":""},{"$f":"IF(J47=\"erreur\",0,IF(OR('3bis. Calcul répartition CM'!K$5=0,'3bis. Calcul répartition CM'!J52=0),0,IF('3bis. Calcul répartition CM'!K52-'3bis. Calcul répartition CM'!D52>0,1,0)))","v":0},{"$f":"IF(AND('3bis. Calcul répartition CM'!L52=MAX('3bis. Calcul répartition CM'!L$9:L$58),'3bis. Calcul répartition CM'!L52>0,COUNTIF('3bis. Calcul répartition CM'!L$9:L$58,'3bis. Calcul répartition CM'!L52)>1,SUM('3bis. Calcul répartition CM'!M$9:M$58)-SUM('3bis. Calcul répartition CM'!K$9:K$58)>1),\"erreur\",\"\")","v":""},{"$f":"IF(L47=\"erreur\",0,IF(OR('3bis. Calcul répartition CM'!M$5=0,'3bis. Calcul répartition CM'!L52=0),0,IF('3bis. Calcul répartition CM'!M52-'3bis. Calcul répartition CM'!K52>0,1,0)))","v":0},{"$f":"IF(AND('3bis. Calcul répartition CM'!N52=MAX('3bis. Calcul répartition CM'!N$9:N$58),'3bis. Calcul répartition CM'!N52>0,COUNTIF('3bis. Calcul répartition CM'!N$9:N$58,'3bis. Calcul répartition CM'!N52)>1,SUM('3bis. Calcul répartition CM'!O$9:O$58)-SUM('3bis. Calcul répartition CM'!M$9:M$58)>1),\"erreur\",\"\")","v":""},{"$f":"IF(N47=\"erreur\",0,IF(OR('3bis. Calcul répartition CM'!O$5=0,'3bis. Calcul répartition CM'!N52=0),0,IF('3bis. Calcul répartition CM'!O52-'3bis. Calcul répartition CM'!M52>0,1,0)))","v":0},{"$f":"IF(AND('3bis. Calcul répartition CM'!P52=MAX('3bis. Calcul répartition CM'!P$9:P$58),'3bis. Calcul répartition CM'!P52>0,COUNTIF('3bis. Calcul répartition CM'!P$9:P$58,'3bis. Calcul répartition CM'!P52)>1,SUM('3bis. Calcul répartition CM'!Q$9:Q$58)-SUM('3bis. Calcul répartition CM'!O$9:O$58)>1),\"erreur\",\"\")","v":""},{"$f":"IF(P47=\"erreur\",0,IF(OR('3bis. Calcul répartition CM'!Q$5=0,'3bis. Calcul répartition CM'!P52=0),0,IF('3bis. Calcul répartition CM'!Q52-'3bis. Calcul répartition CM'!O52>0,1,0)))","v":0},{"$f":"IF(AND('3bis. Calcul répartition CM'!R52=MAX('3bis. Calcul répartition CM'!R$9:R$58),'3bis. Calcul répartition CM'!R52>0,COUNTIF('3bis. Calcul répartition CM'!R$9:R$58,'3bis. Calcul répartition CM'!R52)>1,SUM('3bis. Calcul répartition CM'!S$9:S$58)-SUM('3bis. Calcul répartition CM'!Q$9:Q$58)>1),\"erreur\",\"\")","v":""},{"$f":"IF(R47=\"erreur\",0,IF(OR('3bis. Calcul répartition CM'!S$5=0,'3bis. Calcul répartition CM'!R52=0),0,IF('3bis. Calcul répartition CM'!S52-'3bis. Calcul répartition CM'!Q52>0,1,0)))","v":0},{"$f":"IF(AND('3bis. Calcul répartition CM'!T52=MAX('3bis. Calcul répartition CM'!T$9:T$58),'3bis. Calcul répartition CM'!T52>0,COUNTIF('3bis. Calcul répartition CM'!T$9:T$58,'3bis. Calcul répartition CM'!T52)>1,SUM('3bis. Calcul répartition CM'!U$9:U$58)-SUM('3bis. Calcul répartition CM'!S$9:S$58)>1),\"erreur\",\"\")","v":""},{"$f":"IF(T47=\"erreur\",0,IF(OR('3bis. Calcul répartition CM'!U$5=0,'3bis. Calcul répartition CM'!T52=0),0,IF('3bis. Calcul répartition CM'!U52-'3bis. Calcul répartition CM'!S52>0,1,0)))","v":0},{"$f":"IF(AND('3bis. Calcul répartition CM'!V52=MAX('3bis. Calcul répartition CM'!V$9:V$58),'3bis. Calcul répartition CM'!V52>0,COUNTIF('3bis. Calcul répartition CM'!V$9:V$58,'3bis. Calcul répartition CM'!V52)>1,SUM('3bis. Calcul répartition CM'!W$9:W$58)-SUM('3bis. Calcul répartition CM'!U$9:U$58)>1),\"erreur\",\"\")","v":""},{"$f":"IF(V47=\"erreur\",0,IF(OR('3bis. Calcul répartition CM'!W$5=0,'3bis. Calcul répartition CM'!V52=0),0,IF('3bis. Calcul répartition CM'!W52-'3bis. Calcul répartition CM'!U52>0,1,0)))","v":0},{"$f":"IF(AND('3bis. Calcul répartition CM'!X52=MAX('3bis. Calcul répartition CM'!X$9:X$58),'3bis. Calcul répartition CM'!X52>0,COUNTIF('3bis. Calcul répartition CM'!X$9:X$58,'3bis. Calcul répartition CM'!X52)>1,SUM('3bis. Calcul répartition CM'!Y$9:Y$58)-SUM('3bis. Calcul répartition CM'!W$9:W$58)>1),\"erreur\",\"\")","v":""},{"$f":"IF(X47=\"erreur\",0,IF(OR('3bis. Calcul répartition CM'!Y$5=0,'3bis. Calcul répartition CM'!X52=0),0,IF('3bis. Calcul répartition CM'!Y52-'3bis. Calcul répartition CM'!W52>0,1,0)))","v":0},{"$f":"IF(AND('3bis. Calcul répartition CM'!Z52=MAX('3bis. Calcul répartition CM'!Z$9:Z$58),'3bis. Calcul répartition CM'!Z52>0,COUNTIF('3bis. Calcul répartition CM'!Z$9:Z$58,'3bis. Calcul répartition CM'!Z52)>1,SUM('3bis. Calcul répartition CM'!AA$9:AA$58)-SUM('3bis. Calcul répartition CM'!Y$9:Y$58)>1),\"erreur\",\"\")","v":""},{"$f":"IF(Z47=\"erreur\",0,IF(OR('3bis. Calcul répartition CM'!AA$5=0,'3bis. Calcul répartition CM'!Z52=0),0,IF('3bis. Calcul répartition CM'!AA52-'3bis. Calcul répartition CM'!Y52>0,1,0)))","v":0},{"$f":"IF(AND('3bis. Calcul répartition CM'!AB52=MAX('3bis. Calcul répartition CM'!AB$9:AB$58),'3bis. Calcul répartition CM'!AB52>0,COUNTIF('3bis. Calcul répartition CM'!AB$9:AB$58,'3bis. Calcul répartition CM'!AB52)>1,SUM('3bis. Calcul répartition CM'!AC$9:AC$58)-SUM('3bis. Calcul répartition CM'!AA$9:AA$58)>1),\"erreur\",\"\")","v":""},{"$f":"IF(AB47=\"erreur\",0,IF(OR('3bis. Calcul répartition CM'!AC$5=0,'3bis. Calcul répartition CM'!AB52=0),0,IF('3bis. Calcul répartition CM'!AC52-'3bis. Calcul répartition CM'!AA52>0,1,0)))","v":0},{"$f":"IF(AND('3bis. Calcul répartition CM'!AD52=MAX('3bis. Calcul répartition CM'!AD$9:AD$58),'3bis. Calcul répartition CM'!AD52>0,COUNTIF('3bis. Calcul répartition CM'!AD$9:AD$58,'3bis. Calcul répartition CM'!AD52)>1,SUM('3bis. Calcul répartition CM'!AE$9:AE$58)-SUM('3bis. Calcul répartition CM'!AC$9:AC$58)>1),\"erreur\",\"\")","v":""},{"$f":"IF(AD47=\"erreur\",0,IF(OR('3bis. Calcul répartition CM'!AE$5=0,'3bis. Calcul répartition CM'!AD52=0),0,IF('3bis. Calcul répartition CM'!AE52-'3bis. Calcul répartition CM'!AC52>0,1,0)))","v":0},{"$f":"IF(AND('3bis. Calcul répartition CM'!AF52=MAX('3bis. Calcul répartition CM'!AF$9:AF$58),'3bis. Calcul répartition CM'!AF52>0,COUNTIF('3bis. Calcul répartition CM'!AF$9:AF$58,'3bis. Calcul répartition CM'!AF52)>1,SUM('3bis. Calcul répartition CM'!AG$9:AG$58)-SUM('3bis. Calcul répartition CM'!AE$9:AE$58)>1),\"erreur\",\"\")","v":""},{"$f":"IF(AF47=\"erreur\",0,IF(OR('3bis. Calcul répartition CM'!AG$5=0,'3bis. Calcul répartition CM'!AF52=0),0,IF('3bis. Calcul répartition CM'!AG52-'3bis. Calcul répartition CM'!AE52>0,1,0)))","v":0},{"$f":"IF(AND('3bis. Calcul répartition CM'!AH52=MAX('3bis. Calcul répartition CM'!AH$9:AH$58),'3bis. Calcul répartition CM'!AH52>0,COUNTIF('3bis. Calcul répartition CM'!AH$9:AH$58,'3bis. Calcul répartition CM'!AH52)>1,SUM('3bis. Calcul répartition CM'!AI$9:AI$58)-SUM('3bis. Calcul répartition CM'!AG$9:AG$58)>1),\"erreur\",\"\")","v":""},{"$f":"IF(AH47=\"erreur\",0,IF(OR('3bis. Calcul répartition CM'!AI$5=0,'3bis. Calcul répartition CM'!AH52=0),0,IF('3bis. Calcul répartition CM'!AI52-'3bis. Calcul répartition CM'!AG52>0,1,0)))","v":0},{"$f":"IF(AND('3bis. Calcul répartition CM'!AJ52=MAX('3bis. Calcul répartition CM'!AJ$9:AJ$58),'3bis. Calcul répartition CM'!AJ52>0,COUNTIF('3bis. Calcul répartition CM'!AJ$9:AJ$58,'3bis. Calcul répartition CM'!AJ52)>1,SUM('3bis. Calcul répartition CM'!AK$9:AK$58)-SUM('3bis. Calcul répartition CM'!AI$9:AI$58)>1),\"erreur\",\"\")","v":""},{"$f":"IF(AJ47=\"erreur\",0,IF(OR('3bis. Calcul répartition CM'!AK$5=0,'3bis. Calcul répartition CM'!AJ52=0),0,IF('3bis. Calcul répartition CM'!AK52-'3bis. Calcul répartition CM'!AI52>0,1,0)))","v":0},{"$f":"IF(AND('3bis. Calcul répartition CM'!AL52=MAX('3bis. Calcul répartition CM'!AL$9:AL$58),'3bis. Calcul répartition CM'!AL52>0,COUNTIF('3bis. Calcul répartition CM'!AL$9:AL$58,'3bis. Calcul répartition CM'!AL52)>1,SUM('3bis. Calcul répartition CM'!AM$9:AM$58)-SUM('3bis. Calcul répartition CM'!AK$9:AK$58)>1),\"erreur\",\"\")","v":""},{"$f":"IF(AL47=\"erreur\",0,IF(OR('3bis. Calcul répartition CM'!AM$5=0,'3bis. Calcul répartition CM'!AL52=0),0,IF('3bis. Calcul répartition CM'!AM52-'3bis. Calcul répartition CM'!AK52>0,1,0)))","v":0},{"$f":"IF(AND('3bis. Calcul répartition CM'!AN52=MAX('3bis. Calcul répartition CM'!AN$9:AN$58),'3bis. Calcul répartition CM'!AN52>0,COUNTIF('3bis. Calcul répartition CM'!AN$9:AN$58,'3bis. Calcul répartition CM'!AN52)>1,SUM('3bis. Calcul répartition CM'!AO$9:AO$58)-SUM('3bis. Calcul répartition CM'!AM$9:AM$58)>1),\"erreur\",\"\")","v":""},{"$f":"IF(AN47=\"erreur\",0,IF(OR('3bis. Calcul répartition CM'!AO$5=0,'3bis. Calcul répartition CM'!AN52=0),0,IF('3bis. Calcul répartition CM'!AO52-'3bis. Calcul répartition CM'!AM52>0,1,0)))","v":0},{"$f":"IF(AND('3bis. Calcul répartition CM'!AP52=MAX('3bis. Calcul répartition CM'!AP$9:AP$58),'3bis. Calcul répartition CM'!AP52>0,COUNTIF('3bis. Calcul répartition CM'!AP$9:AP$58,'3bis. Calcul répartition CM'!AP52)>1,SUM('3bis. Calcul répartition CM'!AQ$9:AQ$58)-SUM('3bis. Calcul répartition CM'!AO$9:AO$58)>1),\"erreur\",\"\")","v":""},{"$f":"IF(AP47=\"erreur\",0,IF(OR('3bis. Calcul répartition CM'!AQ$5=0,'3bis. Calcul répartition CM'!AP52=0),0,IF('3bis. Calcul répartition CM'!AQ52-'3bis. Calcul répartition CM'!AO52>0,1,0)))","v":0},{"$f":"IF(AND('3bis. Calcul répartition CM'!AR52=MAX('3bis. Calcul répartition CM'!AR$9:AR$58),'3bis. Calcul répartition CM'!AR52>0,COUNTIF('3bis. Calcul répartition CM'!AR$9:AR$58,'3bis. Calcul répartition CM'!AR52)>1,SUM('3bis. Calcul répartition CM'!AS$9:AS$58)-SUM('3bis. Calcul répartition CM'!AQ$9:AQ$58)>1),\"erreur\",\"\")","v":""},{"$f":"IF(AR47=\"erreur\",0,IF(OR('3bis. Calcul répartition CM'!AS$5=0,'3bis. Calcul répartition CM'!AR52=0),0,IF('3bis. Calcul répartition CM'!AS52-'3bis. Calcul répartition CM'!AQ52>0,1,0)))","v":0},{"$f":"IF(AND('3bis. Calcul répartition CM'!AT52=MAX('3bis. Calcul répartition CM'!AT$9:AT$58),'3bis. Calcul répartition CM'!AT52>0,COUNTIF('3bis. Calcul répartition CM'!AT$9:AT$58,'3bis. Calcul répartition CM'!AT52)>1,SUM('3bis. Calcul répartition CM'!AU$9:AU$58)-SUM('3bis. Calcul répartition CM'!AS$9:AS$58)>1),\"erreur\",\"\")","v":""},{"$f":"IF(AT47=\"erreur\",0,IF(OR('3bis. Calcul répartition CM'!AU$5=0,'3bis. Calcul répartition CM'!AT52=0),0,IF('3bis. Calcul répartition CM'!AU52-'3bis. Calcul répartition CM'!AS52>0,1,0)))","v":0},{"$f":"IF(AND('3bis. Calcul répartition CM'!AV52=MAX('3bis. Calcul répartition CM'!AV$9:AV$58),'3bis. Calcul répartition CM'!AV52>0,COUNTIF('3bis. Calcul répartition CM'!AV$9:AV$58,'3bis. Calcul répartition CM'!AV52)>1,SUM('3bis. Calcul répartition CM'!AW$9:AW$58)-SUM('3bis. Calcul répartition CM'!AU$9:AU$58)>1),\"erreur\",\"\")","v":""},{"$f":"IF(AV47=\"erreur\",0,IF(OR('3bis. Calcul répartition CM'!AW$5=0,'3bis. Calcul répartition CM'!AV52=0),0,IF('3bis. Calcul répartition CM'!AW52-'3bis. Calcul répartition CM'!AU52>0,1,0)))","v":0},{"$f":"IF(AND('3bis. Calcul répartition CM'!AX52=MAX('3bis. Calcul répartition CM'!AX$9:AX$58),'3bis. Calcul répartition CM'!AX52>0,COUNTIF('3bis. Calcul répartition CM'!AX$9:AX$58,'3bis. Calcul répartition CM'!AX52)>1,SUM('3bis. Calcul répartition CM'!AY$9:AY$58)-SUM('3bis. Calcul répartition CM'!AW$9:AW$58)>1),\"erreur\",\"\")","v":""},{"$f":"IF(AX47=\"erreur\",0,IF(OR('3bis. Calcul répartition CM'!AY$5=0,'3bis. Calcul répartition CM'!AX52=0),0,IF('3bis. Calcul répartition CM'!AY52-'3bis. Calcul répartition CM'!AW52>0,1,0)))","v":0},{"$f":"IF(AND('3bis. Calcul répartition CM'!AZ52=MAX('3bis. Calcul répartition CM'!AZ$9:AZ$58),'3bis. Calcul répartition CM'!AZ52>0,COUNTIF('3bis. Calcul répartition CM'!AZ$9:AZ$58,'3bis. Calcul répartition CM'!AZ52)>1,SUM('3bis. Calcul répartition CM'!BA$9:BA$58)-SUM('3bis. Calcul répartition CM'!AY$9:AY$58)>1),\"erreur\",\"\")","v":""},{"$f":"IF(AZ47=\"erreur\",0,IF(OR('3bis. Calcul répartition CM'!BA$5=0,'3bis. Calcul répartition CM'!AZ52=0),0,IF('3bis. Calcul répartition CM'!BA52-'3bis. Calcul répartition CM'!AY52>0,1,0)))","v":0},{"$f":"IF(AND('3bis. Calcul répartition CM'!BB52=MAX('3bis. Calcul répartition CM'!BB$9:BB$58),'3bis. Calcul répartition CM'!BB52>0,COUNTIF('3bis. Calcul répartition CM'!BB$9:BB$58,'3bis. Calcul répartition CM'!BB52)>1,SUM('3bis. Calcul répartition CM'!BC$9:BC$58)-SUM('3bis. Calcul répartition CM'!BA$9:BA$58)>1),\"erreur\",\"\")","v":""},{"$f":"IF(BB47=\"erreur\",0,IF(OR('3bis. Calcul répartition CM'!BC$5=0,'3bis. Calcul répartition CM'!BB52=0),0,IF('3bis. Calcul répartition CM'!BC52-'3bis. Calcul répartition CM'!BA52>0,1,0)))","v":0},{"$f":"IF(AND('3bis. Calcul répartition CM'!BD52=MAX('3bis. Calcul répartition CM'!BD$9:BD$58),'3bis. Calcul répartition CM'!BD52>0,COUNTIF('3bis. Calcul répartition CM'!BD$9:BD$58,'3bis. Calcul répartition CM'!BD52)>1,SUM('3bis. Calcul répartition CM'!BE$9:BE$58)-SUM('3bis. Calcul répartition CM'!BC$9:BC$58)>1),\"erreur\",\"\")","v":""},{"$f":"IF(BD47=\"erreur\",0,IF(OR('3bis. Calcul répartition CM'!BE$5=0,'3bis. Calcul répartition CM'!BD52=0),0,IF('3bis. Calcul répartition CM'!BE52-'3bis. Calcul répartition CM'!BC52>0,1,0)))","v":0},{"$f":"IF(AND('3bis. Calcul répartition CM'!BF52=MAX('3bis. Calcul répartition CM'!BF$9:BF$58),'3bis. Calcul répartition CM'!BF52>0,COUNTIF('3bis. Calcul répartition CM'!BF$9:BF$58,'3bis. Calcul répartition CM'!BF52)>1,SUM('3bis. Calcul répartition CM'!BG$9:BG$58)-SUM('3bis. Calcul répartition CM'!BE$9:BE$58)>1),\"erreur\",\"\")","v":""},{"$f":"IF(BF47=\"erreur\",0,IF(OR('3bis. Calcul répartition CM'!BG$5=0,'3bis. Calcul répartition CM'!BF52=0),0,IF('3bis. Calcul répartition CM'!BG52-'3bis. Calcul répartition CM'!BE52>0,1,0)))","v":0},{"$f":"IF(AND('3bis. Calcul répartition CM'!BH52=MAX('3bis. Calcul répartition CM'!BH$9:BH$58),'3bis. Calcul répartition CM'!BH52>0,COUNTIF('3bis. Calcul répartition CM'!BH$9:BH$58,'3bis. Calcul répartition CM'!BH52)>1,SUM('3bis. Calcul répartition CM'!BI$9:BI$58)-SUM('3bis. Calcul répartition CM'!BG$9:BG$58)>1),\"erreur\",\"\")","v":""},{"$f":"IF(BH47=\"erreur\",0,IF(OR('3bis. Calcul répartition CM'!BI$5=0,'3bis. Calcul répartition CM'!BH52=0),0,IF('3bis. Calcul répartition CM'!BI52-'3bis. Calcul répartition CM'!BG52>0,1,0)))","v":0},{"$f":"IF(AND('3bis. Calcul répartition CM'!BJ52=MAX('3bis. Calcul répartition CM'!BJ$9:BJ$58),'3bis. Calcul répartition CM'!BJ52>0,COUNTIF('3bis. Calcul répartition CM'!BJ$9:BJ$58,'3bis. Calcul répartition CM'!BJ52)>1,SUM('3bis. Calcul répartition CM'!BK$9:BK$58)-SUM('3bis. Calcul répartition CM'!BI$9:BI$58)>1),\"erreur\",\"\")","v":""},{"$f":"IF(BJ47=\"erreur\",0,IF(OR('3bis. Calcul répartition CM'!BK$5=0,'3bis. Calcul répartition CM'!BJ52=0),0,IF('3bis. Calcul répartition CM'!BK52-'3bis. Calcul répartition CM'!BI52>0,1,0)))","v":0},{"$f":"IF(AND('3bis. Calcul répartition CM'!BL52=MAX('3bis. Calcul répartition CM'!BL$9:BL$58),'3bis. Calcul répartition CM'!BL52>0,COUNTIF('3bis. Calcul répartition CM'!BL$9:BL$58,'3bis. Calcul répartition CM'!BL52)>1,SUM('3bis. Calcul répartition CM'!BM$9:BM$58)-SUM('3bis. Calcul répartition CM'!BK$9:BK$58)>1),\"erreur\",\"\")","v":""},{"$f":"IF(BL47=\"erreur\",0,IF(OR('3bis. Calcul répartition CM'!BM$5=0,'3bis. Calcul répartition CM'!BL52=0),0,IF('3bis. Calcul répartition CM'!BM52-'3bis. Calcul répartition CM'!BK52>0,1,0)))","v":0},{"$f":"IF(AND('3bis. Calcul répartition CM'!BN52=MAX('3bis. Calcul répartition CM'!BN$9:BN$58),'3bis. Calcul répartition CM'!BN52>0,COUNTIF('3bis. Calcul répartition CM'!BN$9:BN$58,'3bis. Calcul répartition CM'!BN52)>1,SUM('3bis. Calcul répartition CM'!BO$9:BO$58)-SUM('3bis. Calcul répartition CM'!BM$9:BM$58)>1),\"erreur\",\"\")","v":""},{"$f":"IF(BN47=\"erreur\",0,IF(OR('3bis. Calcul répartition CM'!BO$5=0,'3bis. Calcul répartition CM'!BN52=0),0,IF('3bis. Calcul répartition CM'!BO52-'3bis. Calcul répartition CM'!BM52>0,1,0)))","v":0},{"$f":"IF(AND('3bis. Calcul répartition CM'!BP52=MAX('3bis. Calcul répartition CM'!BP$9:BP$58),'3bis. Calcul répartition CM'!BP52>0,COUNTIF('3bis. Calcul répartition CM'!BP$9:BP$58,'3bis. Calcul répartition CM'!BP52)>1,SUM('3bis. Calcul répartition CM'!BQ$9:BQ$58)-SUM('3bis. Calcul répartition CM'!BO$9:BO$58)>1),\"erreur\",\"\")","v":""},{"$f":"IF(BP47=\"erreur\",0,IF(OR('3bis. Calcul répartition CM'!BQ$5=0,'3bis. Calcul répartition CM'!BP52=0),0,IF('3bis. Calcul répartition CM'!BQ52-'3bis. Calcul répartition CM'!BO52>0,1,0)))","v":0}]
[null,null,null,null,null,null,null,null,{"$f":"'3bis. Calcul répartition CM'!B53","v":0},{"$f":"IF(AND('3bis. Calcul répartition CM'!J53=MAX('3bis. Calcul répartition CM'!J$9:J$58),'3bis. Calcul répartition CM'!J53>0,COUNTIF('3bis. Calcul répartition CM'!J$9:J$58,'3bis. Calcul répartition CM'!J53)>1,SUM('3bis. Calcul répartition CM'!$K$9:$K$58)-SUM('3bis. Calcul répartition CM'!$D$9:$D$58)>1),\"erreur\",\"\")","v":""},{"$f":"IF(J48=\"erreur\",0,IF(OR('3bis. Calcul répartition CM'!K$5=0,'3bis. Calcul répartition CM'!J53=0),0,IF('3bis. Calcul répartition CM'!K53-'3bis. Calcul répartition CM'!D53>0,1,0)))","v":0},{"$f":"IF(AND('3bis. Calcul répartition CM'!L53=MAX('3bis. Calcul répartition CM'!L$9:L$58),'3bis. Calcul répartition CM'!L53>0,COUNTIF('3bis. Calcul répartition CM'!L$9:L$58,'3bis. Calcul répartition CM'!L53)>1,SUM('3bis. Calcul répartition CM'!M$9:M$58)-SUM('3bis. Calcul répartition CM'!K$9:K$58)>1),\"erreur\",\"\")","v":""},{"$f":"IF(L48=\"erreur\",0,IF(OR('3bis. Calcul répartition CM'!M$5=0,'3bis. Calcul répartition CM'!L53=0),0,IF('3bis. Calcul répartition CM'!M53-'3bis. Calcul répartition CM'!K53>0,1,0)))","v":0},{"$f":"IF(AND('3bis. Calcul répartition CM'!N53=MAX('3bis. Calcul répartition CM'!N$9:N$58),'3bis. Calcul répartition CM'!N53>0,COUNTIF('3bis. Calcul répartition CM'!N$9:N$58,'3bis. Calcul répartition CM'!N53)>1,SUM('3bis. Calcul répartition CM'!O$9:O$58)-SUM('3bis. Calcul répartition CM'!M$9:M$58)>1),\"erreur\",\"\")","v":""},{"$f":"IF(N48=\"erreur\",0,IF(OR('3bis. Calcul répartition CM'!O$5=0,'3bis. Calcul répartition CM'!N53=0),0,IF('3bis. Calcul répartition CM'!O53-'3bis. Calcul répartition CM'!M53>0,1,0)))","v":0},{"$f":"IF(AND('3bis. Calcul répartition CM'!P53=MAX('3bis. Calcul répartition CM'!P$9:P$58),'3bis. Calcul répartition CM'!P53>0,COUNTIF('3bis. Calcul répartition CM'!P$9:P$58,'3bis. Calcul répartition CM'!P53)>1,SUM('3bis. Calcul répartition CM'!Q$9:Q$58)-SUM('3bis. Calcul répartition CM'!O$9:O$58)>1),\"erreur\",\"\")","v":""},{"$f":"IF(P48=\"erreur\",0,IF(OR('3bis. Calcul répartition CM'!Q$5=0,'3bis. Calcul répartition CM'!P53=0),0,IF('3bis. Calcul répartition CM'!Q53-'3bis. Calcul répartition CM'!O53>0,1,0)))","v":0},{"$f":"IF(AND('3bis. Calcul répartition CM'!R53=MAX('3bis. Calcul répartition CM'!R$9:R$58),'3bis. Calcul répartition CM'!R53>0,COUNTIF('3bis. Calcul répartition CM'!R$9:R$58,'3bis. Calcul répartition CM'!R53)>1,SUM('3bis. Calcul répartition CM'!S$9:S$58)-SUM('3bis. Calcul répartition CM'!Q$9:Q$58)>1),\"erreur\",\"\")","v":""},{"$f":"IF(R48=\"erreur\",0,IF(OR('3bis. Calcul répartition CM'!S$5=0,'3bis. Calcul répartition CM'!R53=0),0,IF('3bis. Calcul répartition CM'!S53-'3bis. Calcul répartition CM'!Q53>0,1,0)))","v":0},{"$f":"IF(AND('3bis. Calcul répartition CM'!T53=MAX('3bis. Calcul répartition CM'!T$9:T$58),'3bis. Calcul répartition CM'!T53>0,COUNTIF('3bis. Calcul répartition CM'!T$9:T$58,'3bis. Calcul répartition CM'!T53)>1,SUM('3bis. Calcul répartition CM'!U$9:U$58)-SUM('3bis. Calcul répartition CM'!S$9:S$58)>1),\"erreur\",\"\")","v":""},{"$f":"IF(T48=\"erreur\",0,IF(OR('3bis. Calcul répartition CM'!U$5=0,'3bis. Calcul répartition CM'!T53=0),0,IF('3bis. Calcul répartition CM'!U53-'3bis. Calcul répartition CM'!S53>0,1,0)))","v":0},{"$f":"IF(AND('3bis. Calcul répartition CM'!V53=MAX('3bis. Calcul répartition CM'!V$9:V$58),'3bis. Calcul répartition CM'!V53>0,COUNTIF('3bis. Calcul répartition CM'!V$9:V$58,'3bis. Calcul répartition CM'!V53)>1,SUM('3bis. Calcul répartition CM'!W$9:W$58)-SUM('3bis. Calcul répartition CM'!U$9:U$58)>1),\"erreur\",\"\")","v":""},{"$f":"IF(V48=\"erreur\",0,IF(OR('3bis. Calcul répartition CM'!W$5=0,'3bis. Calcul répartition CM'!V53=0),0,IF('3bis. Calcul répartition CM'!W53-'3bis. Calcul répartition CM'!U53>0,1,0)))","v":0},{"$f":"IF(AND('3bis. Calcul répartition CM'!X53=MAX('3bis. Calcul répartition CM'!X$9:X$58),'3bis. Calcul répartition CM'!X53>0,COUNTIF('3bis. Calcul répartition CM'!X$9:X$58,'3bis. Calcul répartition CM'!X53)>1,SUM('3bis. Calcul répartition CM'!Y$9:Y$58)-SUM('3bis. Calcul répartition CM'!W$9:W$58)>1),\"erreur\",\"\")","v":""},{"$f":"IF(X48=\"erreur\",0,IF(OR('3bis. Calcul répartition CM'!Y$5=0,'3bis. Calcul répartition CM'!X53=0),0,IF('3bis. Calcul répartition CM'!Y53-'3bis. Calcul répartition CM'!W53>0,1,0)))","v":0},{"$f":"IF(AND('3bis. Calcul répartition CM'!Z53=MAX('3bis. Calcul répartition CM'!Z$9:Z$58),'3bis. Calcul répartition CM'!Z53>0,COUNTIF('3bis. Calcul répartition CM'!Z$9:Z$58,'3bis. Calcul répartition CM'!Z53)>1,SUM('3bis. Calcul répartition CM'!AA$9:AA$58)-SUM('3bis. Calcul répartition CM'!Y$9:Y$58)>1),\"erreur\",\"\")","v":""},{"$f":"IF(Z48=\"erreur\",0,IF(OR('3bis. Calcul répartition CM'!AA$5=0,'3bis. Calcul répartition CM'!Z53=0),0,IF('3bis. Calcul répartition CM'!AA53-'3bis. Calcul répartition CM'!Y53>0,1,0)))","v":0},{"$f":"IF(AND('3bis. Calcul répartition CM'!AB53=MAX('3bis. Calcul répartition CM'!AB$9:AB$58),'3bis. Calcul répartition CM'!AB53>0,COUNTIF('3bis. Calcul répartition CM'!AB$9:AB$58,'3bis. Calcul répartition CM'!AB53)>1,SUM('3bis. Calcul répartition CM'!AC$9:AC$58)-SUM('3bis. Calcul répartition CM'!AA$9:AA$58)>1),\"erreur\",\"\")","v":""},{"$f":"IF(AB48=\"erreur\",0,IF(OR('3bis. Calcul répartition CM'!AC$5=0,'3bis. Calcul répartition CM'!AB53=0),0,IF('3bis. Calcul répartition CM'!AC53-'3bis. Calcul répartition CM'!AA53>0,1,0)))","v":0},{"$f":"IF(AND('3bis. Calcul répartition CM'!AD53=MAX('3bis. Calcul répartition CM'!AD$9:AD$58),'3bis. Calcul répartition CM'!AD53>0,COUNTIF('3bis. Calcul répartition CM'!AD$9:AD$58,'3bis. Calcul répartition CM'!AD53)>1,SUM('3bis. Calcul répartition CM'!AE$9:AE$58)-SUM('3bis. Calcul répartition CM'!AC$9:AC$58)>1),\"erreur\",\"\")","v":""},{"$f":"IF(AD48=\"erreur\",0,IF(OR('3bis. Calcul répartition CM'!AE$5=0,'3bis. Calcul répartition CM'!AD53=0),0,IF('3bis. Calcul répartition CM'!AE53-'3bis. Calcul répartition CM'!AC53>0,1,0)))","v":0},{"$f":"IF(AND('3bis. Calcul répartition CM'!AF53=MAX('3bis. Calcul répartition CM'!AF$9:AF$58),'3bis. Calcul répartition CM'!AF53>0,COUNTIF('3bis. Calcul répartition CM'!AF$9:AF$58,'3bis. Calcul répartition CM'!AF53)>1,SUM('3bis. Calcul répartition CM'!AG$9:AG$58)-SUM('3bis. Calcul répartition CM'!AE$9:AE$58)>1),\"erreur\",\"\")","v":""},{"$f":"IF(AF48=\"erreur\",0,IF(OR('3bis. Calcul répartition CM'!AG$5=0,'3bis. Calcul répartition CM'!AF53=0),0,IF('3bis. Calcul répartition CM'!AG53-'3bis. Calcul répartition CM'!AE53>0,1,0)))","v":0},{"$f":"IF(AND('3bis. Calcul répartition CM'!AH53=MAX('3bis. Calcul répartition CM'!AH$9:AH$58),'3bis. Calcul répartition CM'!AH53>0,COUNTIF('3bis. Calcul répartition CM'!AH$9:AH$58,'3bis. Calcul répartition CM'!AH53)>1,SUM('3bis. Calcul répartition CM'!AI$9:AI$58)-SUM('3bis. Calcul répartition CM'!AG$9:AG$58)>1),\"erreur\",\"\")","v":""},{"$f":"IF(AH48=\"erreur\",0,IF(OR('3bis. Calcul répartition CM'!AI$5=0,'3bis. Calcul répartition CM'!AH53=0),0,IF('3bis. Calcul répartition CM'!AI53-'3bis. Calcul répartition CM'!AG53>0,1,0)))","v":0},{"$f":"IF(AND('3bis. Calcul répartition CM'!AJ53=MAX('3bis. Calcul répartition CM'!AJ$9:AJ$58),'3bis. Calcul répartition CM'!AJ53>0,COUNTIF('3bis. Calcul répartition CM'!AJ$9:AJ$58,'3bis. Calcul répartition CM'!AJ53)>1,SUM('3bis. Calcul répartition CM'!AK$9:AK$58)-SUM('3bis. Calcul répartition CM'!AI$9:AI$58)>1),\"erreur\",\"\")","v":""},{"$f":"IF(AJ48=\"erreur\",0,IF(OR('3bis. Calcul répartition CM'!AK$5=0,'3bis. Calcul répartition CM'!AJ53=0),0,IF('3bis. Calcul répartition CM'!AK53-'3bis. Calcul répartition CM'!AI53>0,1,0)))","v":0},{"$f":"IF(AND('3bis. Calcul répartition CM'!AL53=MAX('3bis. Calcul répartition CM'!AL$9:AL$58),'3bis. Calcul répartition CM'!AL53>0,COUNTIF('3bis. Calcul répartition CM'!AL$9:AL$58,'3bis. Calcul répartition CM'!AL53)>1,SUM('3bis. Calcul répartition CM'!AM$9:AM$58)-SUM('3bis. Calcul répartition CM'!AK$9:AK$58)>1),\"erreur\",\"\")","v":""},{"$f":"IF(AL48=\"erreur\",0,IF(OR('3bis. Calcul répartition CM'!AM$5=0,'3bis. Calcul répartition CM'!AL53=0),0,IF('3bis. Calcul répartition CM'!AM53-'3bis. Calcul répartition CM'!AK53>0,1,0)))","v":0},{"$f":"IF(AND('3bis. Calcul répartition CM'!AN53=MAX('3bis. Calcul répartition CM'!AN$9:AN$58),'3bis. Calcul répartition CM'!AN53>0,COUNTIF('3bis. Calcul répartition CM'!AN$9:AN$58,'3bis. Calcul répartition CM'!AN53)>1,SUM('3bis. Calcul répartition CM'!AO$9:AO$58)-SUM('3bis. Calcul répartition CM'!AM$9:AM$58)>1),\"erreur\",\"\")","v":""},{"$f":"IF(AN48=\"erreur\",0,IF(OR('3bis. Calcul répartition CM'!AO$5=0,'3bis. Calcul répartition CM'!AN53=0),0,IF('3bis. Calcul répartition CM'!AO53-'3bis. Calcul répartition CM'!AM53>0,1,0)))","v":0},{"$f":"IF(AND('3bis. Calcul répartition CM'!AP53=MAX('3bis. Calcul répartition CM'!AP$9:AP$58),'3bis. Calcul répartition CM'!AP53>0,COUNTIF('3bis. Calcul répartition CM'!AP$9:AP$58,'3bis. Calcul répartition CM'!AP53)>1,SUM('3bis. Calcul répartition CM'!AQ$9:AQ$58)-SUM('3bis. Calcul répartition CM'!AO$9:AO$58)>1),\"erreur\",\"\")","v":""},{"$f":"IF(AP48=\"erreur\",0,IF(OR('3bis. Calcul répartition CM'!AQ$5=0,'3bis. Calcul répartition CM'!AP53=0),0,IF('3bis. Calcul répartition CM'!AQ53-'3bis. Calcul répartition CM'!AO53>0,1,0)))","v":0},{"$f":"IF(AND('3bis. Calcul répartition CM'!AR53=MAX('3bis. Calcul répartition CM'!AR$9:AR$58),'3bis. Calcul répartition CM'!AR53>0,COUNTIF('3bis. Calcul répartition CM'!AR$9:AR$58,'3bis. Calcul répartition CM'!AR53)>1,SUM('3bis. Calcul répartition CM'!AS$9:AS$58)-SUM('3bis. Calcul répartition CM'!AQ$9:AQ$58)>1),\"erreur\",\"\")","v":""},{"$f":"IF(AR48=\"erreur\",0,IF(OR('3bis. Calcul répartition CM'!AS$5=0,'3bis. Calcul répartition CM'!AR53=0),0,IF('3bis. Calcul répartition CM'!AS53-'3bis. Calcul répartition CM'!AQ53>0,1,0)))","v":0},{"$f":"IF(AND('3bis. Calcul répartition CM'!AT53=MAX('3bis. Calcul répartition CM'!AT$9:AT$58),'3bis. Calcul répartition CM'!AT53>0,COUNTIF('3bis. Calcul répartition CM'!AT$9:AT$58,'3bis. Calcul répartition CM'!AT53)>1,SUM('3bis. Calcul répartition CM'!AU$9:AU$58)-SUM('3bis. Calcul répartition CM'!AS$9:AS$58)>1),\"erreur\",\"\")","v":""},{"$f":"IF(AT48=\"erreur\",0,IF(OR('3bis. Calcul répartition CM'!AU$5=0,'3bis. Calcul répartition CM'!AT53=0),0,IF('3bis. Calcul répartition CM'!AU53-'3bis. Calcul répartition CM'!AS53>0,1,0)))","v":0},{"$f":"IF(AND('3bis. Calcul répartition CM'!AV53=MAX('3bis. Calcul répartition CM'!AV$9:AV$58),'3bis. Calcul répartition CM'!AV53>0,COUNTIF('3bis. Calcul répartition CM'!AV$9:AV$58,'3bis. Calcul répartition CM'!AV53)>1,SUM('3bis. Calcul répartition CM'!AW$9:AW$58)-SUM('3bis. Calcul répartition CM'!AU$9:AU$58)>1),\"erreur\",\"\")","v":""},{"$f":"IF(AV48=\"erreur\",0,IF(OR('3bis. Calcul répartition CM'!AW$5=0,'3bis. Calcul répartition CM'!AV53=0),0,IF('3bis. Calcul répartition CM'!AW53-'3bis. Calcul répartition CM'!AU53>0,1,0)))","v":0},{"$f":"IF(AND('3bis. Calcul répartition CM'!AX53=MAX('3bis. Calcul répartition CM'!AX$9:AX$58),'3bis. Calcul répartition CM'!AX53>0,COUNTIF('3bis. Calcul répartition CM'!AX$9:AX$58,'3bis. Calcul répartition CM'!AX53)>1,SUM('3bis. Calcul répartition CM'!AY$9:AY$58)-SUM('3bis. Calcul répartition CM'!AW$9:AW$58)>1),\"erreur\",\"\")","v":""},{"$f":"IF(AX48=\"erreur\",0,IF(OR('3bis. Calcul répartition CM'!AY$5=0,'3bis. Calcul répartition CM'!AX53=0),0,IF('3bis. Calcul répartition CM'!AY53-'3bis. Calcul répartition CM'!AW53>0,1,0)))","v":0},{"$f":"IF(AND('3bis. Calcul répartition CM'!AZ53=MAX('3bis. Calcul répartition CM'!AZ$9:AZ$58),'3bis. Calcul répartition CM'!AZ53>0,COUNTIF('3bis. Calcul répartition CM'!AZ$9:AZ$58,'3bis. Calcul répartition CM'!AZ53)>1,SUM('3bis. Calcul répartition CM'!BA$9:BA$58)-SUM('3bis. Calcul répartition CM'!AY$9:AY$58)>1),\"erreur\",\"\")","v":""},{"$f":"IF(AZ48=\"erreur\",0,IF(OR('3bis. Calcul répartition CM'!BA$5=0,'3bis. Calcul répartition CM'!AZ53=0),0,IF('3bis. Calcul répartition CM'!BA53-'3bis. Calcul répartition CM'!AY53>0,1,0)))","v":0},{"$f":"IF(AND('3bis. Calcul répartition CM'!BB53=MAX('3bis. Calcul répartition CM'!BB$9:BB$58),'3bis. Calcul répartition CM'!BB53>0,COUNTIF('3bis. Calcul répartition CM'!BB$9:BB$58,'3bis. Calcul répartition CM'!BB53)>1,SUM('3bis. Calcul répartition CM'!BC$9:BC$58)-SUM('3bis. Calcul répartition CM'!BA$9:BA$58)>1),\"erreur\",\"\")","v":""},{"$f":"IF(BB48=\"erreur\",0,IF(OR('3bis. Calcul répartition CM'!BC$5=0,'3bis. Calcul répartition CM'!BB53=0),0,IF('3bis. Calcul répartition CM'!BC53-'3bis. Calcul répartition CM'!BA53>0,1,0)))","v":0},{"$f":"IF(AND('3bis. Calcul répartition CM'!BD53=MAX('3bis. Calcul répartition CM'!BD$9:BD$58),'3bis. Calcul répartition CM'!BD53>0,COUNTIF('3bis. Calcul répartition CM'!BD$9:BD$58,'3bis. Calcul répartition CM'!BD53)>1,SUM('3bis. Calcul répartition CM'!BE$9:BE$58)-SUM('3bis. Calcul répartition CM'!BC$9:BC$58)>1),\"erreur\",\"\")","v":""},{"$f":"IF(BD48=\"erreur\",0,IF(OR('3bis. Calcul répartition CM'!BE$5=0,'3bis. Calcul répartition CM'!BD53=0),0,IF('3bis. Calcul répartition CM'!BE53-'3bis. Calcul répartition CM'!BC53>0,1,0)))","v":0},{"$f":"IF(AND('3bis. Calcul répartition CM'!BF53=MAX('3bis. Calcul répartition CM'!BF$9:BF$58),'3bis. Calcul répartition CM'!BF53>0,COUNTIF('3bis. Calcul répartition CM'!BF$9:BF$58,'3bis. Calcul répartition CM'!BF53)>1,SUM('3bis. Calcul répartition CM'!BG$9:BG$58)-SUM('3bis. Calcul répartition CM'!BE$9:BE$58)>1),\"erreur\",\"\")","v":""},{"$f":"IF(BF48=\"erreur\",0,IF(OR('3bis. Calcul répartition CM'!BG$5=0,'3bis. Calcul répartition CM'!BF53=0),0,IF('3bis. Calcul répartition CM'!BG53-'3bis. Calcul répartition CM'!BE53>0,1,0)))","v":0},{"$f":"IF(AND('3bis. Calcul répartition CM'!BH53=MAX('3bis. Calcul répartition CM'!BH$9:BH$58),'3bis. Calcul répartition CM'!BH53>0,COUNTIF('3bis. Calcul répartition CM'!BH$9:BH$58,'3bis. Calcul répartition CM'!BH53)>1,SUM('3bis. Calcul répartition CM'!BI$9:BI$58)-SUM('3bis. Calcul répartition CM'!BG$9:BG$58)>1),\"erreur\",\"\")","v":""},{"$f":"IF(BH48=\"erreur\",0,IF(OR('3bis. Calcul répartition CM'!BI$5=0,'3bis. Calcul répartition CM'!BH53=0),0,IF('3bis. Calcul répartition CM'!BI53-'3bis. Calcul répartition CM'!BG53>0,1,0)))","v":0},{"$f":"IF(AND('3bis. Calcul répartition CM'!BJ53=MAX('3bis. Calcul répartition CM'!BJ$9:BJ$58),'3bis. Calcul répartition CM'!BJ53>0,COUNTIF('3bis. Calcul répartition CM'!BJ$9:BJ$58,'3bis. Calcul répartition CM'!BJ53)>1,SUM('3bis. Calcul répartition CM'!BK$9:BK$58)-SUM('3bis. Calcul répartition CM'!BI$9:BI$58)>1),\"erreur\",\"\")","v":""},{"$f":"IF(BJ48=\"erreur\",0,IF(OR('3bis. Calcul répartition CM'!BK$5=0,'3bis. Calcul répartition CM'!BJ53=0),0,IF('3bis. Calcul répartition CM'!BK53-'3bis. Calcul répartition CM'!BI53>0,1,0)))","v":0},{"$f":"IF(AND('3bis. Calcul répartition CM'!BL53=MAX('3bis. Calcul répartition CM'!BL$9:BL$58),'3bis. Calcul répartition CM'!BL53>0,COUNTIF('3bis. Calcul répartition CM'!BL$9:BL$58,'3bis. Calcul répartition CM'!BL53)>1,SUM('3bis. Calcul répartition CM'!BM$9:BM$58)-SUM('3bis. Calcul répartition CM'!BK$9:BK$58)>1),\"erreur\",\"\")","v":""},{"$f":"IF(BL48=\"erreur\",0,IF(OR('3bis. Calcul répartition CM'!BM$5=0,'3bis. Calcul répartition CM'!BL53=0),0,IF('3bis. Calcul répartition CM'!BM53-'3bis. Calcul répartition CM'!BK53>0,1,0)))","v":0},{"$f":"IF(AND('3bis. Calcul répartition CM'!BN53=MAX('3bis. Calcul répartition CM'!BN$9:BN$58),'3bis. Calcul répartition CM'!BN53>0,COUNTIF('3bis. Calcul répartition CM'!BN$9:BN$58,'3bis. Calcul répartition CM'!BN53)>1,SUM('3bis. Calcul répartition CM'!BO$9:BO$58)-SUM('3bis. Calcul répartition CM'!BM$9:BM$58)>1),\"erreur\",\"\")","v":""},{"$f":"IF(BN48=\"erreur\",0,IF(OR('3bis. Calcul répartition CM'!BO$5=0,'3bis. Calcul répartition CM'!BN53=0),0,IF('3bis. Calcul répartition CM'!BO53-'3bis. Calcul répartition CM'!BM53>0,1,0)))","v":0},{"$f":"IF(AND('3bis. Calcul répartition CM'!BP53=MAX('3bis. Calcul répartition CM'!BP$9:BP$58),'3bis. Calcul répartition CM'!BP53>0,COUNTIF('3bis. Calcul répartition CM'!BP$9:BP$58,'3bis. Calcul répartition CM'!BP53)>1,SUM('3bis. Calcul répartition CM'!BQ$9:BQ$58)-SUM('3bis. Calcul répartition CM'!BO$9:BO$58)>1),\"erreur\",\"\")","v":""},{"$f":"IF(BP48=\"erreur\",0,IF(OR('3bis. Calcul répartition CM'!BQ$5=0,'3bis. Calcul répartition CM'!BP53=0),0,IF('3bis. Calcul répartition CM'!BQ53-'3bis. Calcul répartition CM'!BO53>0,1,0)))","v":0}]
[null,null,null,null,null,null,null,null,{"$f":"'3bis. Calcul répartition CM'!B54","v":0},{"$f":"IF(AND('3bis. Calcul répartition CM'!J54=MAX('3bis. Calcul répartition CM'!J$9:J$58),'3bis. Calcul répartition CM'!J54>0,COUNTIF('3bis. Calcul répartition CM'!J$9:J$58,'3bis. Calcul répartition CM'!J54)>1,SUM('3bis. Calcul répartition CM'!$K$9:$K$58)-SUM('3bis. Calcul répartition CM'!$D$9:$D$58)>1),\"erreur\",\"\")","v":""},{"$f":"IF(J49=\"erreur\",0,IF(OR('3bis. Calcul répartition CM'!K$5=0,'3bis. Calcul répartition CM'!J54=0),0,IF('3bis. Calcul répartition CM'!K54-'3bis. Calcul répartition CM'!D54>0,1,0)))","v":0},{"$f":"IF(AND('3bis. Calcul répartition CM'!L54=MAX('3bis. Calcul répartition CM'!L$9:L$58),'3bis. Calcul répartition CM'!L54>0,COUNTIF('3bis. Calcul répartition CM'!L$9:L$58,'3bis. Calcul répartition CM'!L54)>1,SUM('3bis. Calcul répartition CM'!M$9:M$58)-SUM('3bis. Calcul répartition CM'!K$9:K$58)>1),\"erreur\",\"\")","v":""},{"$f":"IF(L49=\"erreur\",0,IF(OR('3bis. Calcul répartition CM'!M$5=0,'3bis. Calcul répartition CM'!L54=0),0,IF('3bis. Calcul répartition CM'!M54-'3bis. Calcul répartition CM'!K54>0,1,0)))","v":0},{"$f":"IF(AND('3bis. Calcul répartition CM'!N54=MAX('3bis. Calcul répartition CM'!N$9:N$58),'3bis. Calcul répartition CM'!N54>0,COUNTIF('3bis. Calcul répartition CM'!N$9:N$58,'3bis. Calcul répartition CM'!N54)>1,SUM('3bis. Calcul répartition CM'!O$9:O$58)-SUM('3bis. Calcul répartition CM'!M$9:M$58)>1),\"erreur\",\"\")","v":""},{"$f":"IF(N49=\"erreur\",0,IF(OR('3bis. Calcul répartition CM'!O$5=0,'3bis. Calcul répartition CM'!N54=0),0,IF('3bis. Calcul répartition CM'!O54-'3bis. Calcul répartition CM'!M54>0,1,0)))","v":0},{"$f":"IF(AND('3bis. Calcul répartition CM'!P54=MAX('3bis. Calcul répartition CM'!P$9:P$58),'3bis. Calcul répartition CM'!P54>0,COUNTIF('3bis. Calcul répartition CM'!P$9:P$58,'3bis. Calcul répartition CM'!P54)>1,SUM('3bis. Calcul répartition CM'!Q$9:Q$58)-SUM('3bis. Calcul répartition CM'!O$9:O$58)>1),\"erreur\",\"\")","v":""},{"$f":"IF(P49=\"erreur\",0,IF(OR('3bis. Calcul répartition CM'!Q$5=0,'3bis. Calcul répartition CM'!P54=0),0,IF('3bis. Calcul répartition CM'!Q54-'3bis. Calcul répartition CM'!O54>0,1,0)))","v":0},{"$f":"IF(AND('3bis. Calcul répartition CM'!R54=MAX('3bis. Calcul répartition CM'!R$9:R$58),'3bis. Calcul répartition CM'!R54>0,COUNTIF('3bis. Calcul répartition CM'!R$9:R$58,'3bis. Calcul répartition CM'!R54)>1,SUM('3bis. Calcul répartition CM'!S$9:S$58)-SUM('3bis. Calcul répartition CM'!Q$9:Q$58)>1),\"erreur\",\"\")","v":""},{"$f":"IF(R49=\"erreur\",0,IF(OR('3bis. Calcul répartition CM'!S$5=0,'3bis. Calcul répartition CM'!R54=0),0,IF('3bis. Calcul répartition CM'!S54-'3bis. Calcul répartition CM'!Q54>0,1,0)))","v":0},{"$f":"IF(AND('3bis. Calcul répartition CM'!T54=MAX('3bis. Calcul répartition CM'!T$9:T$58),'3bis. Calcul répartition CM'!T54>0,COUNTIF('3bis. Calcul répartition CM'!T$9:T$58,'3bis. Calcul répartition CM'!T54)>1,SUM('3bis. Calcul répartition CM'!U$9:U$58)-SUM('3bis. Calcul répartition CM'!S$9:S$58)>1),\"erreur\",\"\")","v":""},{"$f":"IF(T49=\"erreur\",0,IF(OR('3bis. Calcul répartition CM'!U$5=0,'3bis. Calcul répartition CM'!T54=0),0,IF('3bis. Calcul répartition CM'!U54-'3bis. Calcul répartition CM'!S54>0,1,0)))","v":0},{"$f":"IF(AND('3bis. Calcul répartition CM'!V54=MAX('3bis. Calcul répartition CM'!V$9:V$58),'3bis. Calcul répartition CM'!V54>0,COUNTIF('3bis. Calcul répartition CM'!V$9:V$58,'3bis. Calcul répartition CM'!V54)>1,SUM('3bis. Calcul répartition CM'!W$9:W$58)-SUM('3bis. Calcul répartition CM'!U$9:U$58)>1),\"erreur\",\"\")","v":""},{"$f":"IF(V49=\"erreur\",0,IF(OR('3bis. Calcul répartition CM'!W$5=0,'3bis. Calcul répartition CM'!V54=0),0,IF('3bis. Calcul répartition CM'!W54-'3bis. Calcul répartition CM'!U54>0,1,0)))","v":0},{"$f":"IF(AND('3bis. Calcul répartition CM'!X54=MAX('3bis. Calcul répartition CM'!X$9:X$58),'3bis. Calcul répartition CM'!X54>0,COUNTIF('3bis. Calcul répartition CM'!X$9:X$58,'3bis. Calcul répartition CM'!X54)>1,SUM('3bis. Calcul répartition CM'!Y$9:Y$58)-SUM('3bis. Calcul répartition CM'!W$9:W$58)>1),\"erreur\",\"\")","v":""},{"$f":"IF(X49=\"erreur\",0,IF(OR('3bis. Calcul répartition CM'!Y$5=0,'3bis. Calcul répartition CM'!X54=0),0,IF('3bis. Calcul répartition CM'!Y54-'3bis. Calcul répartition CM'!W54>0,1,0)))","v":0},{"$f":"IF(AND('3bis. Calcul répartition CM'!Z54=MAX('3bis. Calcul répartition CM'!Z$9:Z$58),'3bis. Calcul répartition CM'!Z54>0,COUNTIF('3bis. Calcul répartition CM'!Z$9:Z$58,'3bis. Calcul répartition CM'!Z54)>1,SUM('3bis. Calcul répartition CM'!AA$9:AA$58)-SUM('3bis. Calcul répartition CM'!Y$9:Y$58)>1),\"erreur\",\"\")","v":""},{"$f":"IF(Z49=\"erreur\",0,IF(OR('3bis. Calcul répartition CM'!AA$5=0,'3bis. Calcul répartition CM'!Z54=0),0,IF('3bis. Calcul répartition CM'!AA54-'3bis. Calcul répartition CM'!Y54>0,1,0)))","v":0},{"$f":"IF(AND('3bis. Calcul répartition CM'!AB54=MAX('3bis. Calcul répartition CM'!AB$9:AB$58),'3bis. Calcul répartition CM'!AB54>0,COUNTIF('3bis. Calcul répartition CM'!AB$9:AB$58,'3bis. Calcul répartition CM'!AB54)>1,SUM('3bis. Calcul répartition CM'!AC$9:AC$58)-SUM('3bis. Calcul répartition CM'!AA$9:AA$58)>1),\"erreur\",\"\")","v":""},{"$f":"IF(AB49=\"erreur\",0,IF(OR('3bis. Calcul répartition CM'!AC$5=0,'3bis. Calcul répartition CM'!AB54=0),0,IF('3bis. Calcul répartition CM'!AC54-'3bis. Calcul répartition CM'!AA54>0,1,0)))","v":0},{"$f":"IF(AND('3bis. Calcul répartition CM'!AD54=MAX('3bis. Calcul répartition CM'!AD$9:AD$58),'3bis. Calcul répartition CM'!AD54>0,COUNTIF('3bis. Calcul répartition CM'!AD$9:AD$58,'3bis. Calcul répartition CM'!AD54)>1,SUM('3bis. Calcul répartition CM'!AE$9:AE$58)-SUM('3bis. Calcul répartition CM'!AC$9:AC$58)>1),\"erreur\",\"\")","v":""},{"$f":"IF(AD49=\"erreur\",0,IF(OR('3bis. Calcul répartition CM'!AE$5=0,'3bis. Calcul répartition CM'!AD54=0),0,IF('3bis. Calcul répartition CM'!AE54-'3bis. Calcul répartition CM'!AC54>0,1,0)))","v":0},{"$f":"IF(AND('3bis. Calcul répartition CM'!AF54=MAX('3bis. Calcul répartition CM'!AF$9:AF$58),'3bis. Calcul répartition CM'!AF54>0,COUNTIF('3bis. Calcul répartition CM'!AF$9:AF$58,'3bis. Calcul répartition CM'!AF54)>1,SUM('3bis. Calcul répartition CM'!AG$9:AG$58)-SUM('3bis. Calcul répartition CM'!AE$9:AE$58)>1),\"erreur\",\"\")","v":""},{"$f":"IF(AF49=\"erreur\",0,IF(OR('3bis. Calcul répartition CM'!AG$5=0,'3bis. Calcul répartition CM'!AF54=0),0,IF('3bis. Calcul répartition CM'!AG54-'3bis. Calcul répartition CM'!AE54>0,1,0)))","v":0},{"$f":"IF(AND('3bis. Calcul répartition CM'!AH54=MAX('3bis. Calcul répartition CM'!AH$9:AH$58),'3bis. Calcul répartition CM'!AH54>0,COUNTIF('3bis. Calcul répartition CM'!AH$9:AH$58,'3bis. Calcul répartition CM'!AH54)>1,SUM('3bis. Calcul répartition CM'!AI$9:AI$58)-SUM('3bis. Calcul répartition CM'!AG$9:AG$58)>1),\"erreur\",\"\")","v":""},{"$f":"IF(AH49=\"erreur\",0,IF(OR('3bis. Calcul répartition CM'!AI$5=0,'3bis. Calcul répartition CM'!AH54=0),0,IF('3bis. Calcul répartition CM'!AI54-'3bis. Calcul répartition CM'!AG54>0,1,0)))","v":0},{"$f":"IF(AND('3bis. Calcul répartition CM'!AJ54=MAX('3bis. Calcul répartition CM'!AJ$9:AJ$58),'3bis. Calcul répartition CM'!AJ54>0,COUNTIF('3bis. Calcul répartition CM'!AJ$9:AJ$58,'3bis. Calcul répartition CM'!AJ54)>1,SUM('3bis. Calcul répartition CM'!AK$9:AK$58)-SUM('3bis. Calcul répartition CM'!AI$9:AI$58)>1),\"erreur\",\"\")","v":""},{"$f":"IF(AJ49=\"erreur\",0,IF(OR('3bis. Calcul répartition CM'!AK$5=0,'3bis. Calcul répartition CM'!AJ54=0),0,IF('3bis. Calcul répartition CM'!AK54-'3bis. Calcul répartition CM'!AI54>0,1,0)))","v":0},{"$f":"IF(AND('3bis. Calcul répartition CM'!AL54=MAX('3bis. Calcul répartition CM'!AL$9:AL$58),'3bis. Calcul répartition CM'!AL54>0,COUNTIF('3bis. Calcul répartition CM'!AL$9:AL$58,'3bis. Calcul répartition CM'!AL54)>1,SUM('3bis. Calcul répartition CM'!AM$9:AM$58)-SUM('3bis. Calcul répartition CM'!AK$9:AK$58)>1),\"erreur\",\"\")","v":""},{"$f":"IF(AL49=\"erreur\",0,IF(OR('3bis. Calcul répartition CM'!AM$5=0,'3bis. Calcul répartition CM'!AL54=0),0,IF('3bis. Calcul répartition CM'!AM54-'3bis. Calcul répartition CM'!AK54>0,1,0)))","v":0},{"$f":"IF(AND('3bis. Calcul répartition CM'!AN54=MAX('3bis. Calcul répartition CM'!AN$9:AN$58),'3bis. Calcul répartition CM'!AN54>0,COUNTIF('3bis. Calcul répartition CM'!AN$9:AN$58,'3bis. Calcul répartition CM'!AN54)>1,SUM('3bis. Calcul répartition CM'!AO$9:AO$58)-SUM('3bis. Calcul répartition CM'!AM$9:AM$58)>1),\"erreur\",\"\")","v":""},{"$f":"IF(AN49=\"erreur\",0,IF(OR('3bis. Calcul répartition CM'!AO$5=0,'3bis. Calcul répartition CM'!AN54=0),0,IF('3bis. Calcul répartition CM'!AO54-'3bis. Calcul répartition CM'!AM54>0,1,0)))","v":0},{"$f":"IF(AND('3bis. Calcul répartition CM'!AP54=MAX('3bis. Calcul répartition CM'!AP$9:AP$58),'3bis. Calcul répartition CM'!AP54>0,COUNTIF('3bis. Calcul répartition CM'!AP$9:AP$58,'3bis. Calcul répartition CM'!AP54)>1,SUM('3bis. Calcul répartition CM'!AQ$9:AQ$58)-SUM('3bis. Calcul répartition CM'!AO$9:AO$58)>1),\"erreur\",\"\")","v":""},{"$f":"IF(AP49=\"erreur\",0,IF(OR('3bis. Calcul répartition CM'!AQ$5=0,'3bis. Calcul répartition CM'!AP54=0),0,IF('3bis. Calcul répartition CM'!AQ54-'3bis. Calcul répartition CM'!AO54>0,1,0)))","v":0},{"$f":"IF(AND('3bis. Calcul répartition CM'!AR54=MAX('3bis. Calcul répartition CM'!AR$9:AR$58),'3bis. Calcul répartition CM'!AR54>0,COUNTIF('3bis. Calcul répartition CM'!AR$9:AR$58,'3bis. Calcul répartition CM'!AR54)>1,SUM('3bis. Calcul répartition CM'!AS$9:AS$58)-SUM('3bis. Calcul répartition CM'!AQ$9:AQ$58)>1),\"erreur\",\"\")","v":""},{"$f":"IF(AR49=\"erreur\",0,IF(OR('3bis. Calcul répartition CM'!AS$5=0,'3bis. Calcul répartition CM'!AR54=0),0,IF('3bis. Calcul répartition CM'!AS54-'3bis. Calcul répartition CM'!AQ54>0,1,0)))","v":0},{"$f":"IF(AND('3bis. Calcul répartition CM'!AT54=MAX('3bis. Calcul répartition CM'!AT$9:AT$58),'3bis. Calcul répartition CM'!AT54>0,COUNTIF('3bis. Calcul répartition CM'!AT$9:AT$58,'3bis. Calcul répartition CM'!AT54)>1,SUM('3bis. Calcul répartition CM'!AU$9:AU$58)-SUM('3bis. Calcul répartition CM'!AS$9:AS$58)>1),\"erreur\",\"\")","v":""},{"$f":"IF(AT49=\"erreur\",0,IF(OR('3bis. Calcul répartition CM'!AU$5=0,'3bis. Calcul répartition CM'!AT54=0),0,IF('3bis. Calcul répartition CM'!AU54-'3bis. Calcul répartition CM'!AS54>0,1,0)))","v":0},{"$f":"IF(AND('3bis. Calcul répartition CM'!AV54=MAX('3bis. Calcul répartition CM'!AV$9:AV$58),'3bis. Calcul répartition CM'!AV54>0,COUNTIF('3bis. Calcul répartition CM'!AV$9:AV$58,'3bis. Calcul répartition CM'!AV54)>1,SUM('3bis. Calcul répartition CM'!AW$9:AW$58)-SUM('3bis. Calcul répartition CM'!AU$9:AU$58)>1),\"erreur\",\"\")","v":""},{"$f":"IF(AV49=\"erreur\",0,IF(OR('3bis. Calcul répartition CM'!AW$5=0,'3bis. Calcul répartition CM'!AV54=0),0,IF('3bis. Calcul répartition CM'!AW54-'3bis. Calcul répartition CM'!AU54>0,1,0)))","v":0},{"$f":"IF(AND('3bis. Calcul répartition CM'!AX54=MAX('3bis. Calcul répartition CM'!AX$9:AX$58),'3bis. Calcul répartition CM'!AX54>0,COUNTIF('3bis. Calcul répartition CM'!AX$9:AX$58,'3bis. Calcul répartition CM'!AX54)>1,SUM('3bis. Calcul répartition CM'!AY$9:AY$58)-SUM('3bis. Calcul répartition CM'!AW$9:AW$58)>1),\"erreur\",\"\")","v":""},{"$f":"IF(AX49=\"erreur\",0,IF(OR('3bis. Calcul répartition CM'!AY$5=0,'3bis. Calcul répartition CM'!AX54=0),0,IF('3bis. Calcul répartition CM'!AY54-'3bis. Calcul répartition CM'!AW54>0,1,0)))","v":0},{"$f":"IF(AND('3bis. Calcul répartition CM'!AZ54=MAX('3bis. Calcul répartition CM'!AZ$9:AZ$58),'3bis. Calcul répartition CM'!AZ54>0,COUNTIF('3bis. Calcul répartition CM'!AZ$9:AZ$58,'3bis. Calcul répartition CM'!AZ54)>1,SUM('3bis. Calcul répartition CM'!BA$9:BA$58)-SUM('3bis. Calcul répartition CM'!AY$9:AY$58)>1),\"erreur\",\"\")","v":""},{"$f":"IF(AZ49=\"erreur\",0,IF(OR('3bis. Calcul répartition CM'!BA$5=0,'3bis. Calcul répartition CM'!AZ54=0),0,IF('3bis. Calcul répartition CM'!BA54-'3bis. Calcul répartition CM'!AY54>0,1,0)))","v":0},{"$f":"IF(AND('3bis. Calcul répartition CM'!BB54=MAX('3bis. Calcul répartition CM'!BB$9:BB$58),'3bis. Calcul répartition CM'!BB54>0,COUNTIF('3bis. Calcul répartition CM'!BB$9:BB$58,'3bis. Calcul répartition CM'!BB54)>1,SUM('3bis. Calcul répartition CM'!BC$9:BC$58)-SUM('3bis. Calcul répartition CM'!BA$9:BA$58)>1),\"erreur\",\"\")","v":""},{"$f":"IF(BB49=\"erreur\",0,IF(OR('3bis. Calcul répartition CM'!BC$5=0,'3bis. Calcul répartition CM'!BB54=0),0,IF('3bis. Calcul répartition CM'!BC54-'3bis. Calcul répartition CM'!BA54>0,1,0)))","v":0},{"$f":"IF(AND('3bis. Calcul répartition CM'!BD54=MAX('3bis. Calcul répartition CM'!BD$9:BD$58),'3bis. Calcul répartition CM'!BD54>0,COUNTIF('3bis. Calcul répartition CM'!BD$9:BD$58,'3bis. Calcul répartition CM'!BD54)>1,SUM('3bis. Calcul répartition CM'!BE$9:BE$58)-SUM('3bis. Calcul répartition CM'!BC$9:BC$58)>1),\"erreur\",\"\")","v":""},{"$f":"IF(BD49=\"erreur\",0,IF(OR('3bis. Calcul répartition CM'!BE$5=0,'3bis. Calcul répartition CM'!BD54=0),0,IF('3bis. Calcul répartition CM'!BE54-'3bis. Calcul répartition CM'!BC54>0,1,0)))","v":0},{"$f":"IF(AND('3bis. Calcul répartition CM'!BF54=MAX('3bis. Calcul répartition CM'!BF$9:BF$58),'3bis. Calcul répartition CM'!BF54>0,COUNTIF('3bis. Calcul répartition CM'!BF$9:BF$58,'3bis. Calcul répartition CM'!BF54)>1,SUM('3bis. Calcul répartition CM'!BG$9:BG$58)-SUM('3bis. Calcul répartition CM'!BE$9:BE$58)>1),\"erreur\",\"\")","v":""},{"$f":"IF(BF49=\"erreur\",0,IF(OR('3bis. Calcul répartition CM'!BG$5=0,'3bis. Calcul répartition CM'!BF54=0),0,IF('3bis. Calcul répartition CM'!BG54-'3bis. Calcul répartition CM'!BE54>0,1,0)))","v":0},{"$f":"IF(AND('3bis. Calcul répartition CM'!BH54=MAX('3bis. Calcul répartition CM'!BH$9:BH$58),'3bis. Calcul répartition CM'!BH54>0,COUNTIF('3bis. Calcul répartition CM'!BH$9:BH$58,'3bis. Calcul répartition CM'!BH54)>1,SUM('3bis. Calcul répartition CM'!BI$9:BI$58)-SUM('3bis. Calcul répartition CM'!BG$9:BG$58)>1),\"erreur\",\"\")","v":""},{"$f":"IF(BH49=\"erreur\",0,IF(OR('3bis. Calcul répartition CM'!BI$5=0,'3bis. Calcul répartition CM'!BH54=0),0,IF('3bis. Calcul répartition CM'!BI54-'3bis. Calcul répartition CM'!BG54>0,1,0)))","v":0},{"$f":"IF(AND('3bis. Calcul répartition CM'!BJ54=MAX('3bis. Calcul répartition CM'!BJ$9:BJ$58),'3bis. Calcul répartition CM'!BJ54>0,COUNTIF('3bis. Calcul répartition CM'!BJ$9:BJ$58,'3bis. Calcul répartition CM'!BJ54)>1,SUM('3bis. Calcul répartition CM'!BK$9:BK$58)-SUM('3bis. Calcul répartition CM'!BI$9:BI$58)>1),\"erreur\",\"\")","v":""},{"$f":"IF(BJ49=\"erreur\",0,IF(OR('3bis. Calcul répartition CM'!BK$5=0,'3bis. Calcul répartition CM'!BJ54=0),0,IF('3bis. Calcul répartition CM'!BK54-'3bis. Calcul répartition CM'!BI54>0,1,0)))","v":0},{"$f":"IF(AND('3bis. Calcul répartition CM'!BL54=MAX('3bis. Calcul répartition CM'!BL$9:BL$58),'3bis. Calcul répartition CM'!BL54>0,COUNTIF('3bis. Calcul répartition CM'!BL$9:BL$58,'3bis. Calcul répartition CM'!BL54)>1,SUM('3bis. Calcul répartition CM'!BM$9:BM$58)-SUM('3bis. Calcul répartition CM'!BK$9:BK$58)>1),\"erreur\",\"\")","v":""},{"$f":"IF(BL49=\"erreur\",0,IF(OR('3bis. Calcul répartition CM'!BM$5=0,'3bis. Calcul répartition CM'!BL54=0),0,IF('3bis. Calcul répartition CM'!BM54-'3bis. Calcul répartition CM'!BK54>0,1,0)))","v":0},{"$f":"IF(AND('3bis. Calcul répartition CM'!BN54=MAX('3bis. Calcul répartition CM'!BN$9:BN$58),'3bis. Calcul répartition CM'!BN54>0,COUNTIF('3bis. Calcul répartition CM'!BN$9:BN$58,'3bis. Calcul répartition CM'!BN54)>1,SUM('3bis. Calcul répartition CM'!BO$9:BO$58)-SUM('3bis. Calcul répartition CM'!BM$9:BM$58)>1),\"erreur\",\"\")","v":""},{"$f":"IF(BN49=\"erreur\",0,IF(OR('3bis. Calcul répartition CM'!BO$5=0,'3bis. Calcul répartition CM'!BN54=0),0,IF('3bis. Calcul répartition CM'!BO54-'3bis. Calcul répartition CM'!BM54>0,1,0)))","v":0},{"$f":"IF(AND('3bis. Calcul répartition CM'!BP54=MAX('3bis. Calcul répartition CM'!BP$9:BP$58),'3bis. Calcul répartition CM'!BP54>0,COUNTIF('3bis. Calcul répartition CM'!BP$9:BP$58,'3bis. Calcul répartition CM'!BP54)>1,SUM('3bis. Calcul répartition CM'!BQ$9:BQ$58)-SUM('3bis. Calcul répartition CM'!BO$9:BO$58)>1),\"erreur\",\"\")","v":""},{"$f":"IF(BP49=\"erreur\",0,IF(OR('3bis. Calcul répartition CM'!BQ$5=0,'3bis. Calcul répartition CM'!BP54=0),0,IF('3bis. Calcul répartition CM'!BQ54-'3bis. Calcul répartition CM'!BO54>0,1,0)))","v":0}]
[null,null,null,null,null,null,null,null,{"$f":"'3bis. Calcul répartition CM'!B55","v":0},{"$f":"IF(AND('3bis. Calcul répartition CM'!J55=MAX('3bis. Calcul répartition CM'!J$9:J$58),'3bis. Calcul répartition CM'!J55>0,COUNTIF('3bis. Calcul répartition CM'!J$9:J$58,'3bis. Calcul répartition CM'!J55)>1,SUM('3bis. Calcul répartition CM'!$K$9:$K$58)-SUM('3bis. Calcul répartition CM'!$D$9:$D$58)>1),\"erreur\",\"\")","v":""},{"$f":"IF(J50=\"erreur\",0,IF(OR('3bis. Calcul répartition CM'!K$5=0,'3bis. Calcul répartition CM'!J55=0),0,IF('3bis. Calcul répartition CM'!K55-'3bis. Calcul répartition CM'!D55>0,1,0)))","v":0},{"$f":"IF(AND('3bis. Calcul répartition CM'!L55=MAX('3bis. Calcul répartition CM'!L$9:L$58),'3bis. Calcul répartition CM'!L55>0,COUNTIF('3bis. Calcul répartition CM'!L$9:L$58,'3bis. Calcul répartition CM'!L55)>1,SUM('3bis. Calcul répartition CM'!M$9:M$58)-SUM('3bis. Calcul répartition CM'!K$9:K$58)>1),\"erreur\",\"\")","v":""},{"$f":"IF(L50=\"erreur\",0,IF(OR('3bis. Calcul répartition CM'!M$5=0,'3bis. Calcul répartition CM'!L55=0),0,IF('3bis. Calcul répartition CM'!M55-'3bis. Calcul répartition CM'!K55>0,1,0)))","v":0},{"$f":"IF(AND('3bis. Calcul répartition CM'!N55=MAX('3bis. Calcul répartition CM'!N$9:N$58),'3bis. Calcul répartition CM'!N55>0,COUNTIF('3bis. Calcul répartition CM'!N$9:N$58,'3bis. Calcul répartition CM'!N55)>1,SUM('3bis. Calcul répartition CM'!O$9:O$58)-SUM('3bis. Calcul répartition CM'!M$9:M$58)>1),\"erreur\",\"\")","v":""},{"$f":"IF(N50=\"erreur\",0,IF(OR('3bis. Calcul répartition CM'!O$5=0,'3bis. Calcul répartition CM'!N55=0),0,IF('3bis. Calcul répartition CM'!O55-'3bis. Calcul répartition CM'!M55>0,1,0)))","v":0},{"$f":"IF(AND('3bis. Calcul répartition CM'!P55=MAX('3bis. Calcul répartition CM'!P$9:P$58),'3bis. Calcul répartition CM'!P55>0,COUNTIF('3bis. Calcul répartition CM'!P$9:P$58,'3bis. Calcul répartition CM'!P55)>1,SUM('3bis. Calcul répartition CM'!Q$9:Q$58)-SUM('3bis. Calcul répartition CM'!O$9:O$58)>1),\"erreur\",\"\")","v":""},{"$f":"IF(P50=\"erreur\",0,IF(OR('3bis. Calcul répartition CM'!Q$5=0,'3bis. Calcul répartition CM'!P55=0),0,IF('3bis. Calcul répartition CM'!Q55-'3bis. Calcul répartition CM'!O55>0,1,0)))","v":0},{"$f":"IF(AND('3bis. Calcul répartition CM'!R55=MAX('3bis. Calcul répartition CM'!R$9:R$58),'3bis. Calcul répartition CM'!R55>0,COUNTIF('3bis. Calcul répartition CM'!R$9:R$58,'3bis. Calcul répartition CM'!R55)>1,SUM('3bis. Calcul répartition CM'!S$9:S$58)-SUM('3bis. Calcul répartition CM'!Q$9:Q$58)>1),\"erreur\",\"\")","v":""},{"$f":"IF(R50=\"erreur\",0,IF(OR('3bis. Calcul répartition CM'!S$5=0,'3bis. Calcul répartition CM'!R55=0),0,IF('3bis. Calcul répartition CM'!S55-'3bis. Calcul répartition CM'!Q55>0,1,0)))","v":0},{"$f":"IF(AND('3bis. Calcul répartition CM'!T55=MAX('3bis. Calcul répartition CM'!T$9:T$58),'3bis. Calcul répartition CM'!T55>0,COUNTIF('3bis. Calcul répartition CM'!T$9:T$58,'3bis. Calcul répartition CM'!T55)>1,SUM('3bis. Calcul répartition CM'!U$9:U$58)-SUM('3bis. Calcul répartition CM'!S$9:S$58)>1),\"erreur\",\"\")","v":""},{"$f":"IF(T50=\"erreur\",0,IF(OR('3bis. Calcul répartition CM'!U$5=0,'3bis. Calcul répartition CM'!T55=0),0,IF('3bis. Calcul répartition CM'!U55-'3bis. Calcul répartition CM'!S55>0,1,0)))","v":0},{"$f":"IF(AND('3bis. Calcul répartition CM'!V55=MAX('3bis. Calcul répartition CM'!V$9:V$58),'3bis. Calcul répartition CM'!V55>0,COUNTIF('3bis. Calcul répartition CM'!V$9:V$58,'3bis. Calcul répartition CM'!V55)>1,SUM('3bis. Calcul répartition CM'!W$9:W$58)-SUM('3bis. Calcul répartition CM'!U$9:U$58)>1),\"erreur\",\"\")","v":""},{"$f":"IF(V50=\"erreur\",0,IF(OR('3bis. Calcul répartition CM'!W$5=0,'3bis. Calcul répartition CM'!V55=0),0,IF('3bis. Calcul répartition CM'!W55-'3bis. Calcul répartition CM'!U55>0,1,0)))","v":0},{"$f":"IF(AND('3bis. Calcul répartition CM'!X55=MAX('3bis. Calcul répartition CM'!X$9:X$58),'3bis. Calcul répartition CM'!X55>0,COUNTIF('3bis. Calcul répartition CM'!X$9:X$58,'3bis. Calcul répartition CM'!X55)>1,SUM('3bis. Calcul répartition CM'!Y$9:Y$58)-SUM('3bis. Calcul répartition CM'!W$9:W$58)>1),\"erreur\",\"\")","v":""},{"$f":"IF(X50=\"erreur\",0,IF(OR('3bis. Calcul répartition CM'!Y$5=0,'3bis. Calcul répartition CM'!X55=0),0,IF('3bis. Calcul répartition CM'!Y55-'3bis. Calcul répartition CM'!W55>0,1,0)))","v":0},{"$f":"IF(AND('3bis. Calcul répartition CM'!Z55=MAX('3bis. Calcul répartition CM'!Z$9:Z$58),'3bis. Calcul répartition CM'!Z55>0,COUNTIF('3bis. Calcul répartition CM'!Z$9:Z$58,'3bis. Calcul répartition CM'!Z55)>1,SUM('3bis. Calcul répartition CM'!AA$9:AA$58)-SUM('3bis. Calcul répartition CM'!Y$9:Y$58)>1),\"erreur\",\"\")","v":""},{"$f":"IF(Z50=\"erreur\",0,IF(OR('3bis. Calcul répartition CM'!AA$5=0,'3bis. Calcul répartition CM'!Z55=0),0,IF('3bis. Calcul répartition CM'!AA55-'3bis. Calcul répartition CM'!Y55>0,1,0)))","v":0},{"$f":"IF(AND('3bis. Calcul répartition CM'!AB55=MAX('3bis. Calcul répartition CM'!AB$9:AB$58),'3bis. Calcul répartition CM'!AB55>0,COUNTIF('3bis. Calcul répartition CM'!AB$9:AB$58,'3bis. Calcul répartition CM'!AB55)>1,SUM('3bis. Calcul répartition CM'!AC$9:AC$58)-SUM('3bis. Calcul répartition CM'!AA$9:AA$58)>1),\"erreur\",\"\")","v":""},{"$f":"IF(AB50=\"erreur\",0,IF(OR('3bis. Calcul répartition CM'!AC$5=0,'3bis. Calcul répartition CM'!AB55=0),0,IF('3bis. Calcul répartition CM'!AC55-'3bis. Calcul répartition CM'!AA55>0,1,0)))","v":0},{"$f":"IF(AND('3bis. Calcul répartition CM'!AD55=MAX('3bis. Calcul répartition CM'!AD$9:AD$58),'3bis. Calcul répartition CM'!AD55>0,COUNTIF('3bis. Calcul répartition CM'!AD$9:AD$58,'3bis. Calcul répartition CM'!AD55)>1,SUM('3bis. Calcul répartition CM'!AE$9:AE$58)-SUM('3bis. Calcul répartition CM'!AC$9:AC$58)>1),\"erreur\",\"\")","v":""},{"$f":"IF(AD50=\"erreur\",0,IF(OR('3bis. Calcul répartition CM'!AE$5=0,'3bis. Calcul répartition CM'!AD55=0),0,IF('3bis. Calcul répartition CM'!AE55-'3bis. Calcul répartition CM'!AC55>0,1,0)))","v":0},{"$f":"IF(AND('3bis. Calcul répartition CM'!AF55=MAX('3bis. Calcul répartition CM'!AF$9:AF$58),'3bis. Calcul répartition CM'!AF55>0,COUNTIF('3bis. Calcul répartition CM'!AF$9:AF$58,'3bis. Calcul répartition CM'!AF55)>1,SUM('3bis. Calcul répartition CM'!AG$9:AG$58)-SUM('3bis. Calcul répartition CM'!AE$9:AE$58)>1),\"erreur\",\"\")","v":""},{"$f":"IF(AF50=\"erreur\",0,IF(OR('3bis. Calcul répartition CM'!AG$5=0,'3bis. Calcul répartition CM'!AF55=0),0,IF('3bis. Calcul répartition CM'!AG55-'3bis. Calcul répartition CM'!AE55>0,1,0)))","v":0},{"$f":"IF(AND('3bis. Calcul répartition CM'!AH55=MAX('3bis. Calcul répartition CM'!AH$9:AH$58),'3bis. Calcul répartition CM'!AH55>0,COUNTIF('3bis. Calcul répartition CM'!AH$9:AH$58,'3bis. Calcul répartition CM'!AH55)>1,SUM('3bis. Calcul répartition CM'!AI$9:AI$58)-SUM('3bis. Calcul répartition CM'!AG$9:AG$58)>1),\"erreur\",\"\")","v":""},{"$f":"IF(AH50=\"erreur\",0,IF(OR('3bis. Calcul répartition CM'!AI$5=0,'3bis. Calcul répartition CM'!AH55=0),0,IF('3bis. Calcul répartition CM'!AI55-'3bis. Calcul répartition CM'!AG55>0,1,0)))","v":0},{"$f":"IF(AND('3bis. Calcul répartition CM'!AJ55=MAX('3bis. Calcul répartition CM'!AJ$9:AJ$58),'3bis. Calcul répartition CM'!AJ55>0,COUNTIF('3bis. Calcul répartition CM'!AJ$9:AJ$58,'3bis. Calcul répartition CM'!AJ55)>1,SUM('3bis. Calcul répartition CM'!AK$9:AK$58)-SUM('3bis. Calcul répartition CM'!AI$9:AI$58)>1),\"erreur\",\"\")","v":""},{"$f":"IF(AJ50=\"erreur\",0,IF(OR('3bis. Calcul répartition CM'!AK$5=0,'3bis. Calcul répartition CM'!AJ55=0),0,IF('3bis. Calcul répartition CM'!AK55-'3bis. Calcul répartition CM'!AI55>0,1,0)))","v":0},{"$f":"IF(AND('3bis. Calcul répartition CM'!AL55=MAX('3bis. Calcul répartition CM'!AL$9:AL$58),'3bis. Calcul répartition CM'!AL55>0,COUNTIF('3bis. Calcul répartition CM'!AL$9:AL$58,'3bis. Calcul répartition CM'!AL55)>1,SUM('3bis. Calcul répartition CM'!AM$9:AM$58)-SUM('3bis. Calcul répartition CM'!AK$9:AK$58)>1),\"erreur\",\"\")","v":""},{"$f":"IF(AL50=\"erreur\",0,IF(OR('3bis. Calcul répartition CM'!AM$5=0,'3bis. Calcul répartition CM'!AL55=0),0,IF('3bis. Calcul répartition CM'!AM55-'3bis. Calcul répartition CM'!AK55>0,1,0)))","v":0},{"$f":"IF(AND('3bis. Calcul répartition CM'!AN55=MAX('3bis. Calcul répartition CM'!AN$9:AN$58),'3bis. Calcul répartition CM'!AN55>0,COUNTIF('3bis. Calcul répartition CM'!AN$9:AN$58,'3bis. Calcul répartition CM'!AN55)>1,SUM('3bis. Calcul répartition CM'!AO$9:AO$58)-SUM('3bis. Calcul répartition CM'!AM$9:AM$58)>1),\"erreur\",\"\")","v":""},{"$f":"IF(AN50=\"erreur\",0,IF(OR('3bis. Calcul répartition CM'!AO$5=0,'3bis. Calcul répartition CM'!AN55=0),0,IF('3bis. Calcul répartition CM'!AO55-'3bis. Calcul répartition CM'!AM55>0,1,0)))","v":0},{"$f":"IF(AND('3bis. Calcul répartition CM'!AP55=MAX('3bis. Calcul répartition CM'!AP$9:AP$58),'3bis. Calcul répartition CM'!AP55>0,COUNTIF('3bis. Calcul répartition CM'!AP$9:AP$58,'3bis. Calcul répartition CM'!AP55)>1,SUM('3bis. Calcul répartition CM'!AQ$9:AQ$58)-SUM('3bis. Calcul répartition CM'!AO$9:AO$58)>1),\"erreur\",\"\")","v":""},{"$f":"IF(AP50=\"erreur\",0,IF(OR('3bis. Calcul répartition CM'!AQ$5=0,'3bis. Calcul répartition CM'!AP55=0),0,IF('3bis. Calcul répartition CM'!AQ55-'3bis. Calcul répartition CM'!AO55>0,1,0)))","v":0},{"$f":"IF(AND('3bis. Calcul répartition CM'!AR55=MAX('3bis. Calcul répartition CM'!AR$9:AR$58),'3bis. Calcul répartition CM'!AR55>0,COUNTIF('3bis. Calcul répartition CM'!AR$9:AR$58,'3bis. Calcul répartition CM'!AR55)>1,SUM('3bis. Calcul répartition CM'!AS$9:AS$58)-SUM('3bis. Calcul répartition CM'!AQ$9:AQ$58)>1),\"erreur\",\"\")","v":""},{"$f":"IF(AR50=\"erreur\",0,IF(OR('3bis. Calcul répartition CM'!AS$5=0,'3bis. Calcul répartition CM'!AR55=0),0,IF('3bis. Calcul répartition CM'!AS55-'3bis. Calcul répartition CM'!AQ55>0,1,0)))","v":0},{"$f":"IF(AND('3bis. Calcul répartition CM'!AT55=MAX('3bis. Calcul répartition CM'!AT$9:AT$58),'3bis. Calcul répartition CM'!AT55>0,COUNTIF('3bis. Calcul répartition CM'!AT$9:AT$58,'3bis. Calcul répartition CM'!AT55)>1,SUM('3bis. Calcul répartition CM'!AU$9:AU$58)-SUM('3bis. Calcul répartition CM'!AS$9:AS$58)>1),\"erreur\",\"\")","v":""},{"$f":"IF(AT50=\"erreur\",0,IF(OR('3bis. Calcul répartition CM'!AU$5=0,'3bis. Calcul répartition CM'!AT55=0),0,IF('3bis. Calcul répartition CM'!AU55-'3bis. Calcul répartition CM'!AS55>0,1,0)))","v":0},{"$f":"IF(AND('3bis. Calcul répartition CM'!AV55=MAX('3bis. Calcul répartition CM'!AV$9:AV$58),'3bis. Calcul répartition CM'!AV55>0,COUNTIF('3bis. Calcul répartition CM'!AV$9:AV$58,'3bis. Calcul répartition CM'!AV55)>1,SUM('3bis. Calcul répartition CM'!AW$9:AW$58)-SUM('3bis. Calcul répartition CM'!AU$9:AU$58)>1),\"erreur\",\"\")","v":""},{"$f":"IF(AV50=\"erreur\",0,IF(OR('3bis. Calcul répartition CM'!AW$5=0,'3bis. Calcul répartition CM'!AV55=0),0,IF('3bis. Calcul répartition CM'!AW55-'3bis. Calcul répartition CM'!AU55>0,1,0)))","v":0},{"$f":"IF(AND('3bis. Calcul répartition CM'!AX55=MAX('3bis. Calcul répartition CM'!AX$9:AX$58),'3bis. Calcul répartition CM'!AX55>0,COUNTIF('3bis. Calcul répartition CM'!AX$9:AX$58,'3bis. Calcul répartition CM'!AX55)>1,SUM('3bis. Calcul répartition CM'!AY$9:AY$58)-SUM('3bis. Calcul répartition CM'!AW$9:AW$58)>1),\"erreur\",\"\")","v":""},{"$f":"IF(AX50=\"erreur\",0,IF(OR('3bis. Calcul répartition CM'!AY$5=0,'3bis. Calcul répartition CM'!AX55=0),0,IF('3bis. Calcul répartition CM'!AY55-'3bis. Calcul répartition CM'!AW55>0,1,0)))","v":0},{"$f":"IF(AND('3bis. Calcul répartition CM'!AZ55=MAX('3bis. Calcul répartition CM'!AZ$9:AZ$58),'3bis. Calcul répartition CM'!AZ55>0,COUNTIF('3bis. Calcul répartition CM'!AZ$9:AZ$58,'3bis. Calcul répartition CM'!AZ55)>1,SUM('3bis. Calcul répartition CM'!BA$9:BA$58)-SUM('3bis. Calcul répartition CM'!AY$9:AY$58)>1),\"erreur\",\"\")","v":""},{"$f":"IF(AZ50=\"erreur\",0,IF(OR('3bis. Calcul répartition CM'!BA$5=0,'3bis. Calcul répartition CM'!AZ55=0),0,IF('3bis. Calcul répartition CM'!BA55-'3bis. Calcul répartition CM'!AY55>0,1,0)))","v":0},{"$f":"IF(AND('3bis. Calcul répartition CM'!BB55=MAX('3bis. Calcul répartition CM'!BB$9:BB$58),'3bis. Calcul répartition CM'!BB55>0,COUNTIF('3bis. Calcul répartition CM'!BB$9:BB$58,'3bis. Calcul répartition CM'!BB55)>1,SUM('3bis. Calcul répartition CM'!BC$9:BC$58)-SUM('3bis. Calcul répartition CM'!BA$9:BA$58)>1),\"erreur\",\"\")","v":""},{"$f":"IF(BB50=\"erreur\",0,IF(OR('3bis. Calcul répartition CM'!BC$5=0,'3bis. Calcul répartition CM'!BB55=0),0,IF('3bis. Calcul répartition CM'!BC55-'3bis. Calcul répartition CM'!BA55>0,1,0)))","v":0},{"$f":"IF(AND('3bis. Calcul répartition CM'!BD55=MAX('3bis. Calcul répartition CM'!BD$9:BD$58),'3bis. Calcul répartition CM'!BD55>0,COUNTIF('3bis. Calcul répartition CM'!BD$9:BD$58,'3bis. Calcul répartition CM'!BD55)>1,SUM('3bis. Calcul répartition CM'!BE$9:BE$58)-SUM('3bis. Calcul répartition CM'!BC$9:BC$58)>1),\"erreur\",\"\")","v":""},{"$f":"IF(BD50=\"erreur\",0,IF(OR('3bis. Calcul répartition CM'!BE$5=0,'3bis. Calcul répartition CM'!BD55=0),0,IF('3bis. Calcul répartition CM'!BE55-'3bis. Calcul répartition CM'!BC55>0,1,0)))","v":0},{"$f":"IF(AND('3bis. Calcul répartition CM'!BF55=MAX('3bis. Calcul répartition CM'!BF$9:BF$58),'3bis. Calcul répartition CM'!BF55>0,COUNTIF('3bis. Calcul répartition CM'!BF$9:BF$58,'3bis. Calcul répartition CM'!BF55)>1,SUM('3bis. Calcul répartition CM'!BG$9:BG$58)-SUM('3bis. Calcul répartition CM'!BE$9:BE$58)>1),\"erreur\",\"\")","v":""},{"$f":"IF(BF50=\"erreur\",0,IF(OR('3bis. Calcul répartition CM'!BG$5=0,'3bis. Calcul répartition CM'!BF55=0),0,IF('3bis. Calcul répartition CM'!BG55-'3bis. Calcul répartition CM'!BE55>0,1,0)))","v":0},{"$f":"IF(AND('3bis. Calcul répartition CM'!BH55=MAX('3bis. Calcul répartition CM'!BH$9:BH$58),'3bis. Calcul répartition CM'!BH55>0,COUNTIF('3bis. Calcul répartition CM'!BH$9:BH$58,'3bis. Calcul répartition CM'!BH55)>1,SUM('3bis. Calcul répartition CM'!BI$9:BI$58)-SUM('3bis. Calcul répartition CM'!BG$9:BG$58)>1),\"erreur\",\"\")","v":""},{"$f":"IF(BH50=\"erreur\",0,IF(OR('3bis. Calcul répartition CM'!BI$5=0,'3bis. Calcul répartition CM'!BH55=0),0,IF('3bis. Calcul répartition CM'!BI55-'3bis. Calcul répartition CM'!BG55>0,1,0)))","v":0},{"$f":"IF(AND('3bis. Calcul répartition CM'!BJ55=MAX('3bis. Calcul répartition CM'!BJ$9:BJ$58),'3bis. Calcul répartition CM'!BJ55>0,COUNTIF('3bis. Calcul répartition CM'!BJ$9:BJ$58,'3bis. Calcul répartition CM'!BJ55)>1,SUM('3bis. Calcul répartition CM'!BK$9:BK$58)-SUM('3bis. Calcul répartition CM'!BI$9:BI$58)>1),\"erreur\",\"\")","v":""},{"$f":"IF(BJ50=\"erreur\",0,IF(OR('3bis. Calcul répartition CM'!BK$5=0,'3bis. Calcul répartition CM'!BJ55=0),0,IF('3bis. Calcul répartition CM'!BK55-'3bis. Calcul répartition CM'!BI55>0,1,0)))","v":0},{"$f":"IF(AND('3bis. Calcul répartition CM'!BL55=MAX('3bis. Calcul répartition CM'!BL$9:BL$58),'3bis. Calcul répartition CM'!BL55>0,COUNTIF('3bis. Calcul répartition CM'!BL$9:BL$58,'3bis. Calcul répartition CM'!BL55)>1,SUM('3bis. Calcul répartition CM'!BM$9:BM$58)-SUM('3bis. Calcul répartition CM'!BK$9:BK$58)>1),\"erreur\",\"\")","v":""},{"$f":"IF(BL50=\"erreur\",0,IF(OR('3bis. Calcul répartition CM'!BM$5=0,'3bis. Calcul répartition CM'!BL55=0),0,IF('3bis. Calcul répartition CM'!BM55-'3bis. Calcul répartition CM'!BK55>0,1,0)))","v":0},{"$f":"IF(AND('3bis. Calcul répartition CM'!BN55=MAX('3bis. Calcul répartition CM'!BN$9:BN$58),'3bis. Calcul répartition CM'!BN55>0,COUNTIF('3bis. Calcul répartition CM'!BN$9:BN$58,'3bis. Calcul répartition CM'!BN55)>1,SUM('3bis. Calcul répartition CM'!BO$9:BO$58)-SUM('3bis. Calcul répartition CM'!BM$9:BM$58)>1),\"erreur\",\"\")","v":""},{"$f":"IF(BN50=\"erreur\",0,IF(OR('3bis. Calcul répartition CM'!BO$5=0,'3bis. Calcul répartition CM'!BN55=0),0,IF('3bis. Calcul répartition CM'!BO55-'3bis. Calcul répartition CM'!BM55>0,1,0)))","v":0},{"$f":"IF(AND('3bis. Calcul répartition CM'!BP55=MAX('3bis. Calcul répartition CM'!BP$9:BP$58),'3bis. Calcul répartition CM'!BP55>0,COUNTIF('3bis. Calcul répartition CM'!BP$9:BP$58,'3bis. Calcul répartition CM'!BP55)>1,SUM('3bis. Calcul répartition CM'!BQ$9:BQ$58)-SUM('3bis. Calcul répartition CM'!BO$9:BO$58)>1),\"erreur\",\"\")","v":""},{"$f":"IF(BP50=\"erreur\",0,IF(OR('3bis. Calcul répartition CM'!BQ$5=0,'3bis. Calcul répartition CM'!BP55=0),0,IF('3bis. Calcul répartition CM'!BQ55-'3bis. Calcul répartition CM'!BO55>0,1,0)))","v":0}]
[null,null,null,null,null,null,null,null,{"$f":"'3bis. Calcul répartition CM'!B56","v":0},{"$f":"IF(AND('3bis. Calcul répartition CM'!J56=MAX('3bis. Calcul répartition CM'!J$9:J$58),'3bis. Calcul répartition CM'!J56>0,COUNTIF('3bis. Calcul répartition CM'!J$9:J$58,'3bis. Calcul répartition CM'!J56)>1,SUM('3bis. Calcul répartition CM'!$K$9:$K$58)-SUM('3bis. Calcul répartition CM'!$D$9:$D$58)>1),\"erreur\",\"\")","v":""},{"$f":"IF(J51=\"erreur\",0,IF(OR('3bis. Calcul répartition CM'!K$5=0,'3bis. Calcul répartition CM'!J56=0),0,IF('3bis. Calcul répartition CM'!K56-'3bis. Calcul répartition CM'!D56>0,1,0)))","v":0},{"$f":"IF(AND('3bis. Calcul répartition CM'!L56=MAX('3bis. Calcul répartition CM'!L$9:L$58),'3bis. Calcul répartition CM'!L56>0,COUNTIF('3bis. Calcul répartition CM'!L$9:L$58,'3bis. Calcul répartition CM'!L56)>1,SUM('3bis. Calcul répartition CM'!M$9:M$58)-SUM('3bis. Calcul répartition CM'!K$9:K$58)>1),\"erreur\",\"\")","v":""},{"$f":"IF(L51=\"erreur\",0,IF(OR('3bis. Calcul répartition CM'!M$5=0,'3bis. Calcul répartition CM'!L56=0),0,IF('3bis. Calcul répartition CM'!M56-'3bis. Calcul répartition CM'!K56>0,1,0)))","v":0},{"$f":"IF(AND('3bis. Calcul répartition CM'!N56=MAX('3bis. Calcul répartition CM'!N$9:N$58),'3bis. Calcul répartition CM'!N56>0,COUNTIF('3bis. Calcul répartition CM'!N$9:N$58,'3bis. Calcul répartition CM'!N56)>1,SUM('3bis. Calcul répartition CM'!O$9:O$58)-SUM('3bis. Calcul répartition CM'!M$9:M$58)>1),\"erreur\",\"\")","v":""},{"$f":"IF(N51=\"erreur\",0,IF(OR('3bis. Calcul répartition CM'!O$5=0,'3bis. Calcul répartition CM'!N56=0),0,IF('3bis. Calcul répartition CM'!O56-'3bis. Calcul répartition CM'!M56>0,1,0)))","v":0},{"$f":"IF(AND('3bis. Calcul répartition CM'!P56=MAX('3bis. Calcul répartition CM'!P$9:P$58),'3bis. Calcul répartition CM'!P56>0,COUNTIF('3bis. Calcul répartition CM'!P$9:P$58,'3bis. Calcul répartition CM'!P56)>1,SUM('3bis. Calcul répartition CM'!Q$9:Q$58)-SUM('3bis. Calcul répartition CM'!O$9:O$58)>1),\"erreur\",\"\")","v":""},{"$f":"IF(P51=\"erreur\",0,IF(OR('3bis. Calcul répartition CM'!Q$5=0,'3bis. Calcul répartition CM'!P56=0),0,IF('3bis. Calcul répartition CM'!Q56-'3bis. Calcul répartition CM'!O56>0,1,0)))","v":0},{"$f":"IF(AND('3bis. Calcul répartition CM'!R56=MAX('3bis. Calcul répartition CM'!R$9:R$58),'3bis. Calcul répartition CM'!R56>0,COUNTIF('3bis. Calcul répartition CM'!R$9:R$58,'3bis. Calcul répartition CM'!R56)>1,SUM('3bis. Calcul répartition CM'!S$9:S$58)-SUM('3bis. Calcul répartition CM'!Q$9:Q$58)>1),\"erreur\",\"\")","v":""},{"$f":"IF(R51=\"erreur\",0,IF(OR('3bis. Calcul répartition CM'!S$5=0,'3bis. Calcul répartition CM'!R56=0),0,IF('3bis. Calcul répartition CM'!S56-'3bis. Calcul répartition CM'!Q56>0,1,0)))","v":0},{"$f":"IF(AND('3bis. Calcul répartition CM'!T56=MAX('3bis. Calcul répartition CM'!T$9:T$58),'3bis. Calcul répartition CM'!T56>0,COUNTIF('3bis. Calcul répartition CM'!T$9:T$58,'3bis. Calcul répartition CM'!T56)>1,SUM('3bis. Calcul répartition CM'!U$9:U$58)-SUM('3bis. Calcul répartition CM'!S$9:S$58)>1),\"erreur\",\"\")","v":""},{"$f":"IF(T51=\"erreur\",0,IF(OR('3bis. Calcul répartition CM'!U$5=0,'3bis. Calcul répartition CM'!T56=0),0,IF('3bis. Calcul répartition CM'!U56-'3bis. Calcul répartition CM'!S56>0,1,0)))","v":0},{"$f":"IF(AND('3bis. Calcul répartition CM'!V56=MAX('3bis. Calcul répartition CM'!V$9:V$58),'3bis. Calcul répartition CM'!V56>0,COUNTIF('3bis. Calcul répartition CM'!V$9:V$58,'3bis. Calcul répartition CM'!V56)>1,SUM('3bis. Calcul répartition CM'!W$9:W$58)-SUM('3bis. Calcul répartition CM'!U$9:U$58)>1),\"erreur\",\"\")","v":""},{"$f":"IF(V51=\"erreur\",0,IF(OR('3bis. Calcul répartition CM'!W$5=0,'3bis. Calcul répartition CM'!V56=0),0,IF('3bis. Calcul répartition CM'!W56-'3bis. Calcul répartition CM'!U56>0,1,0)))","v":0},{"$f":"IF(AND('3bis. Calcul répartition CM'!X56=MAX('3bis. Calcul répartition CM'!X$9:X$58),'3bis. Calcul répartition CM'!X56>0,COUNTIF('3bis. Calcul répartition CM'!X$9:X$58,'3bis. Calcul répartition CM'!X56)>1,SUM('3bis. Calcul répartition CM'!Y$9:Y$58)-SUM('3bis. Calcul répartition CM'!W$9:W$58)>1),\"erreur\",\"\")","v":""},{"$f":"IF(X51=\"erreur\",0,IF(OR('3bis. Calcul répartition CM'!Y$5=0,'3bis. Calcul répartition CM'!X56=0),0,IF('3bis. Calcul répartition CM'!Y56-'3bis. Calcul répartition CM'!W56>0,1,0)))","v":0},{"$f":"IF(AND('3bis. Calcul répartition CM'!Z56=MAX('3bis. Calcul répartition CM'!Z$9:Z$58),'3bis. Calcul répartition CM'!Z56>0,COUNTIF('3bis. Calcul répartition CM'!Z$9:Z$58,'3bis. Calcul répartition CM'!Z56)>1,SUM('3bis. Calcul répartition CM'!AA$9:AA$58)-SUM('3bis. Calcul répartition CM'!Y$9:Y$58)>1),\"erreur\",\"\")","v":""},{"$f":"IF(Z51=\"erreur\",0,IF(OR('3bis. Calcul répartition CM'!AA$5=0,'3bis. Calcul répartition CM'!Z56=0),0,IF('3bis. Calcul répartition CM'!AA56-'3bis. Calcul répartition CM'!Y56>0,1,0)))","v":0},{"$f":"IF(AND('3bis. Calcul répartition CM'!AB56=MAX('3bis. Calcul répartition CM'!AB$9:AB$58),'3bis. Calcul répartition CM'!AB56>0,COUNTIF('3bis. Calcul répartition CM'!AB$9:AB$58,'3bis. Calcul répartition CM'!AB56)>1,SUM('3bis. Calcul répartition CM'!AC$9:AC$58)-SUM('3bis. Calcul répartition CM'!AA$9:AA$58)>1),\"erreur\",\"\")","v":""},{"$f":"IF(AB51=\"erreur\",0,IF(OR('3bis. Calcul répartition CM'!AC$5=0,'3bis. Calcul répartition CM'!AB56=0),0,IF('3bis. Calcul répartition CM'!AC56-'3bis. Calcul répartition CM'!AA56>0,1,0)))","v":0},{"$f":"IF(AND('3bis. Calcul répartition CM'!AD56=MAX('3bis. Calcul répartition CM'!AD$9:AD$58),'3bis. Calcul répartition CM'!AD56>0,COUNTIF('3bis. Calcul répartition CM'!AD$9:AD$58,'3bis. Calcul répartition CM'!AD56)>1,SUM('3bis. Calcul répartition CM'!AE$9:AE$58)-SUM('3bis. Calcul répartition CM'!AC$9:AC$58)>1),\"erreur\",\"\")","v":""},{"$f":"IF(AD51=\"erreur\",0,IF(OR('3bis. Calcul répartition CM'!AE$5=0,'3bis. Calcul répartition CM'!AD56=0),0,IF('3bis. Calcul répartition CM'!AE56-'3bis. Calcul répartition CM'!AC56>0,1,0)))","v":0},{"$f":"IF(AND('3bis. Calcul répartition CM'!AF56=MAX('3bis. Calcul répartition CM'!AF$9:AF$58),'3bis. Calcul répartition CM'!AF56>0,COUNTIF('3bis. Calcul répartition CM'!AF$9:AF$58,'3bis. Calcul répartition CM'!AF56)>1,SUM('3bis. Calcul répartition CM'!AG$9:AG$58)-SUM('3bis. Calcul répartition CM'!AE$9:AE$58)>1),\"erreur\",\"\")","v":""},{"$f":"IF(AF51=\"erreur\",0,IF(OR('3bis. Calcul répartition CM'!AG$5=0,'3bis. Calcul répartition CM'!AF56=0),0,IF('3bis. Calcul répartition CM'!AG56-'3bis. Calcul répartition CM'!AE56>0,1,0)))","v":0},{"$f":"IF(AND('3bis. Calcul répartition CM'!AH56=MAX('3bis. Calcul répartition CM'!AH$9:AH$58),'3bis. Calcul répartition CM'!AH56>0,COUNTIF('3bis. Calcul répartition CM'!AH$9:AH$58,'3bis. Calcul répartition CM'!AH56)>1,SUM('3bis. Calcul répartition CM'!AI$9:AI$58)-SUM('3bis. Calcul répartition CM'!AG$9:AG$58)>1),\"erreur\",\"\")","v":""},{"$f":"IF(AH51=\"erreur\",0,IF(OR('3bis. Calcul répartition CM'!AI$5=0,'3bis. Calcul répartition CM'!AH56=0),0,IF('3bis. Calcul répartition CM'!AI56-'3bis. Calcul répartition CM'!AG56>0,1,0)))","v":0},{"$f":"IF(AND('3bis. Calcul répartition CM'!AJ56=MAX('3bis. Calcul répartition CM'!AJ$9:AJ$58),'3bis. Calcul répartition CM'!AJ56>0,COUNTIF('3bis. Calcul répartition CM'!AJ$9:AJ$58,'3bis. Calcul répartition CM'!AJ56)>1,SUM('3bis. Calcul répartition CM'!AK$9:AK$58)-SUM('3bis. Calcul répartition CM'!AI$9:AI$58)>1),\"erreur\",\"\")","v":""},{"$f":"IF(AJ51=\"erreur\",0,IF(OR('3bis. Calcul répartition CM'!AK$5=0,'3bis. Calcul répartition CM'!AJ56=0),0,IF('3bis. Calcul répartition CM'!AK56-'3bis. Calcul répartition CM'!AI56>0,1,0)))","v":0},{"$f":"IF(AND('3bis. Calcul répartition CM'!AL56=MAX('3bis. Calcul répartition CM'!AL$9:AL$58),'3bis. Calcul répartition CM'!AL56>0,COUNTIF('3bis. Calcul répartition CM'!AL$9:AL$58,'3bis. Calcul répartition CM'!AL56)>1,SUM('3bis. Calcul répartition CM'!AM$9:AM$58)-SUM('3bis. Calcul répartition CM'!AK$9:AK$58)>1),\"erreur\",\"\")","v":""},{"$f":"IF(AL51=\"erreur\",0,IF(OR('3bis. Calcul répartition CM'!AM$5=0,'3bis. Calcul répartition CM'!AL56=0),0,IF('3bis. Calcul répartition CM'!AM56-'3bis. Calcul répartition CM'!AK56>0,1,0)))","v":0},{"$f":"IF(AND('3bis. Calcul répartition CM'!AN56=MAX('3bis. Calcul répartition CM'!AN$9:AN$58),'3bis. Calcul répartition CM'!AN56>0,COUNTIF('3bis. Calcul répartition CM'!AN$9:AN$58,'3bis. Calcul répartition CM'!AN56)>1,SUM('3bis. Calcul répartition CM'!AO$9:AO$58)-SUM('3bis. Calcul répartition CM'!AM$9:AM$58)>1),\"erreur\",\"\")","v":""},{"$f":"IF(AN51=\"erreur\",0,IF(OR('3bis. Calcul répartition CM'!AO$5=0,'3bis. Calcul répartition CM'!AN56=0),0,IF('3bis. Calcul répartition CM'!AO56-'3bis. Calcul répartition CM'!AM56>0,1,0)))","v":0},{"$f":"IF(AND('3bis. Calcul répartition CM'!AP56=MAX('3bis. Calcul répartition CM'!AP$9:AP$58),'3bis. Calcul répartition CM'!AP56>0,COUNTIF('3bis. Calcul répartition CM'!AP$9:AP$58,'3bis. Calcul répartition CM'!AP56)>1,SUM('3bis. Calcul répartition CM'!AQ$9:AQ$58)-SUM('3bis. Calcul répartition CM'!AO$9:AO$58)>1),\"erreur\",\"\")","v":""},{"$f":"IF(AP51=\"erreur\",0,IF(OR('3bis. Calcul répartition CM'!AQ$5=0,'3bis. Calcul répartition CM'!AP56=0),0,IF('3bis. Calcul répartition CM'!AQ56-'3bis. Calcul répartition CM'!AO56>0,1,0)))","v":0},{"$f":"IF(AND('3bis. Calcul répartition CM'!AR56=MAX('3bis. Calcul répartition CM'!AR$9:AR$58),'3bis. Calcul répartition CM'!AR56>0,COUNTIF('3bis. Calcul répartition CM'!AR$9:AR$58,'3bis. Calcul répartition CM'!AR56)>1,SUM('3bis. Calcul répartition CM'!AS$9:AS$58)-SUM('3bis. Calcul répartition CM'!AQ$9:AQ$58)>1),\"erreur\",\"\")","v":""},{"$f":"IF(AR51=\"erreur\",0,IF(OR('3bis. Calcul répartition CM'!AS$5=0,'3bis. Calcul répartition CM'!AR56=0),0,IF('3bis. Calcul répartition CM'!AS56-'3bis. Calcul répartition CM'!AQ56>0,1,0)))","v":0},{"$f":"IF(AND('3bis. Calcul répartition CM'!AT56=MAX('3bis. Calcul répartition CM'!AT$9:AT$58),'3bis. Calcul répartition CM'!AT56>0,COUNTIF('3bis. Calcul répartition CM'!AT$9:AT$58,'3bis. Calcul répartition CM'!AT56)>1,SUM('3bis. Calcul répartition CM'!AU$9:AU$58)-SUM('3bis. Calcul répartition CM'!AS$9:AS$58)>1),\"erreur\",\"\")","v":""},{"$f":"IF(AT51=\"erreur\",0,IF(OR('3bis. Calcul répartition CM'!AU$5=0,'3bis. Calcul répartition CM'!AT56=0),0,IF('3bis. Calcul répartition CM'!AU56-'3bis. Calcul répartition CM'!AS56>0,1,0)))","v":0},{"$f":"IF(AND('3bis. Calcul répartition CM'!AV56=MAX('3bis. Calcul répartition CM'!AV$9:AV$58),'3bis. Calcul répartition CM'!AV56>0,COUNTIF('3bis. Calcul répartition CM'!AV$9:AV$58,'3bis. Calcul répartition CM'!AV56)>1,SUM('3bis. Calcul répartition CM'!AW$9:AW$58)-SUM('3bis. Calcul répartition CM'!AU$9:AU$58)>1),\"erreur\",\"\")","v":""},{"$f":"IF(AV51=\"erreur\",0,IF(OR('3bis. Calcul répartition CM'!AW$5=0,'3bis. Calcul répartition CM'!AV56=0),0,IF('3bis. Calcul répartition CM'!AW56-'3bis. Calcul répartition CM'!AU56>0,1,0)))","v":0},{"$f":"IF(AND('3bis. Calcul répartition CM'!AX56=MAX('3bis. Calcul répartition CM'!AX$9:AX$58),'3bis. Calcul répartition CM'!AX56>0,COUNTIF('3bis. Calcul répartition CM'!AX$9:AX$58,'3bis. Calcul répartition CM'!AX56)>1,SUM('3bis. Calcul répartition CM'!AY$9:AY$58)-SUM('3bis. Calcul répartition CM'!AW$9:AW$58)>1),\"erreur\",\"\")","v":""},{"$f":"IF(AX51=\"erreur\",0,IF(OR('3bis. Calcul répartition CM'!AY$5=0,'3bis. Calcul répartition CM'!AX56=0),0,IF('3bis. Calcul répartition CM'!AY56-'3bis. Calcul répartition CM'!AW56>0,1,0)))","v":0},{"$f":"IF(AND('3bis. Calcul répartition CM'!AZ56=MAX('3bis. Calcul répartition CM'!AZ$9:AZ$58),'3bis. Calcul répartition CM'!AZ56>0,COUNTIF('3bis. Calcul répartition CM'!AZ$9:AZ$58,'3bis. Calcul répartition CM'!AZ56)>1,SUM('3bis. Calcul répartition CM'!BA$9:BA$58)-SUM('3bis. Calcul répartition CM'!AY$9:AY$58)>1),\"erreur\",\"\")","v":""},{"$f":"IF(AZ51=\"erreur\",0,IF(OR('3bis. Calcul répartition CM'!BA$5=0,'3bis. Calcul répartition CM'!AZ56=0),0,IF('3bis. Calcul répartition CM'!BA56-'3bis. Calcul répartition CM'!AY56>0,1,0)))","v":0},{"$f":"IF(AND('3bis. Calcul répartition CM'!BB56=MAX('3bis. Calcul répartition CM'!BB$9:BB$58),'3bis. Calcul répartition CM'!BB56>0,COUNTIF('3bis. Calcul répartition CM'!BB$9:BB$58,'3bis. Calcul répartition CM'!BB56)>1,SUM('3bis. Calcul répartition CM'!BC$9:BC$58)-SUM('3bis. Calcul répartition CM'!BA$9:BA$58)>1),\"erreur\",\"\")","v":""},{"$f":"IF(BB51=\"erreur\",0,IF(OR('3bis. Calcul répartition CM'!BC$5=0,'3bis. Calcul répartition CM'!BB56=0),0,IF('3bis. Calcul répartition CM'!BC56-'3bis. Calcul répartition CM'!BA56>0,1,0)))","v":0},{"$f":"IF(AND('3bis. Calcul répartition CM'!BD56=MAX('3bis. Calcul répartition CM'!BD$9:BD$58),'3bis. Calcul répartition CM'!BD56>0,COUNTIF('3bis. Calcul répartition CM'!BD$9:BD$58,'3bis. Calcul répartition CM'!BD56)>1,SUM('3bis. Calcul répartition CM'!BE$9:BE$58)-SUM('3bis. Calcul répartition CM'!BC$9:BC$58)>1),\"erreur\",\"\")","v":""},{"$f":"IF(BD51=\"erreur\",0,IF(OR('3bis. Calcul répartition CM'!BE$5=0,'3bis. Calcul répartition CM'!BD56=0),0,IF('3bis. Calcul répartition CM'!BE56-'3bis. Calcul répartition CM'!BC56>0,1,0)))","v":0},{"$f":"IF(AND('3bis. Calcul répartition CM'!BF56=MAX('3bis. Calcul répartition CM'!BF$9:BF$58),'3bis. Calcul répartition CM'!BF56>0,COUNTIF('3bis. Calcul répartition CM'!BF$9:BF$58,'3bis. Calcul répartition CM'!BF56)>1,SUM('3bis. Calcul répartition CM'!BG$9:BG$58)-SUM('3bis. Calcul répartition CM'!BE$9:BE$58)>1),\"erreur\",\"\")","v":""},{"$f":"IF(BF51=\"erreur\",0,IF(OR('3bis. Calcul répartition CM'!BG$5=0,'3bis. Calcul répartition CM'!BF56=0),0,IF('3bis. Calcul répartition CM'!BG56-'3bis. Calcul répartition CM'!BE56>0,1,0)))","v":0},{"$f":"IF(AND('3bis. Calcul répartition CM'!BH56=MAX('3bis. Calcul répartition CM'!BH$9:BH$58),'3bis. Calcul répartition CM'!BH56>0,COUNTIF('3bis. Calcul répartition CM'!BH$9:BH$58,'3bis. Calcul répartition CM'!BH56)>1,SUM('3bis. Calcul répartition CM'!BI$9:BI$58)-SUM('3bis. Calcul répartition CM'!BG$9:BG$58)>1),\"erreur\",\"\")","v":""},{"$f":"IF(BH51=\"erreur\",0,IF(OR('3bis. Calcul répartition CM'!BI$5=0,'3bis. Calcul répartition CM'!BH56=0),0,IF('3bis. Calcul répartition CM'!BI56-'3bis. Calcul répartition CM'!BG56>0,1,0)))","v":0},{"$f":"IF(AND('3bis. Calcul répartition CM'!BJ56=MAX('3bis. Calcul répartition CM'!BJ$9:BJ$58),'3bis. Calcul répartition CM'!BJ56>0,COUNTIF('3bis. Calcul répartition CM'!BJ$9:BJ$58,'3bis. Calcul répartition CM'!BJ56)>1,SUM('3bis. Calcul répartition CM'!BK$9:BK$58)-SUM('3bis. Calcul répartition CM'!BI$9:BI$58)>1),\"erreur\",\"\")","v":""},{"$f":"IF(BJ51=\"erreur\",0,IF(OR('3bis. Calcul répartition CM'!BK$5=0,'3bis. Calcul répartition CM'!BJ56=0),0,IF('3bis. Calcul répartition CM'!BK56-'3bis. Calcul répartition CM'!BI56>0,1,0)))","v":0},{"$f":"IF(AND('3bis. Calcul répartition CM'!BL56=MAX('3bis. Calcul répartition CM'!BL$9:BL$58),'3bis. Calcul répartition CM'!BL56>0,COUNTIF('3bis. Calcul répartition CM'!BL$9:BL$58,'3bis. Calcul répartition CM'!BL56)>1,SUM('3bis. Calcul répartition CM'!BM$9:BM$58)-SUM('3bis. Calcul répartition CM'!BK$9:BK$58)>1),\"erreur\",\"\")","v":""},{"$f":"IF(BL51=\"erreur\",0,IF(OR('3bis. Calcul répartition CM'!BM$5=0,'3bis. Calcul répartition CM'!BL56=0),0,IF('3bis. Calcul répartition CM'!BM56-'3bis. Calcul répartition CM'!BK56>0,1,0)))","v":0},{"$f":"IF(AND('3bis. Calcul répartition CM'!BN56=MAX('3bis. Calcul répartition CM'!BN$9:BN$58),'3bis. Calcul répartition CM'!BN56>0,COUNTIF('3bis. Calcul répartition CM'!BN$9:BN$58,'3bis. Calcul répartition CM'!BN56)>1,SUM('3bis. Calcul répartition CM'!BO$9:BO$58)-SUM('3bis. Calcul répartition CM'!BM$9:BM$58)>1),\"erreur\",\"\")","v":""},{"$f":"IF(BN51=\"erreur\",0,IF(OR('3bis. Calcul répartition CM'!BO$5=0,'3bis. Calcul répartition CM'!BN56=0),0,IF('3bis. Calcul répartition CM'!BO56-'3bis. Calcul répartition CM'!BM56>0,1,0)))","v":0},{"$f":"IF(AND('3bis. Calcul répartition CM'!BP56=MAX('3bis. Calcul répartition CM'!BP$9:BP$58),'3bis. Calcul répartition CM'!BP56>0,COUNTIF('3bis. Calcul répartition CM'!BP$9:BP$58,'3bis. Calcul répartition CM'!BP56)>1,SUM('3bis. Calcul répartition CM'!BQ$9:BQ$58)-SUM('3bis. Calcul répartition CM'!BO$9:BO$58)>1),\"erreur\",\"\")","v":""},{"$f":"IF(BP51=\"erreur\",0,IF(OR('3bis. Calcul répartition CM'!BQ$5=0,'3bis. Calcul répartition CM'!BP56=0),0,IF('3bis. Calcul répartition CM'!BQ56-'3bis. Calcul répartition CM'!BO56>0,1,0)))","v":0}]
[null,null,null,null,null,null,null,null,{"$f":"'3bis. Calcul répartition CM'!B57","v":0},{"$f":"IF(AND('3bis. Calcul répartition CM'!J57=MAX('3bis. Calcul répartition CM'!J$9:J$58),'3bis. Calcul répartition CM'!J57>0,COUNTIF('3bis. Calcul répartition CM'!J$9:J$58,'3bis. Calcul répartition CM'!J57)>1,SUM('3bis. Calcul répartition CM'!$K$9:$K$58)-SUM('3bis. Calcul répartition CM'!$D$9:$D$58)>1),\"erreur\",\"\")","v":""},{"$f":"IF(J52=\"erreur\",0,IF(OR('3bis. Calcul répartition CM'!K$5=0,'3bis. Calcul répartition CM'!J57=0),0,IF('3bis. Calcul répartition CM'!K57-'3bis. Calcul répartition CM'!D57>0,1,0)))","v":0},{"$f":"IF(AND('3bis. Calcul répartition CM'!L57=MAX('3bis. Calcul répartition CM'!L$9:L$58),'3bis. Calcul répartition CM'!L57>0,COUNTIF('3bis. Calcul répartition CM'!L$9:L$58,'3bis. Calcul répartition CM'!L57)>1,SUM('3bis. Calcul répartition CM'!M$9:M$58)-SUM('3bis. Calcul répartition CM'!K$9:K$58)>1),\"erreur\",\"\")","v":""},{"$f":"IF(L52=\"erreur\",0,IF(OR('3bis. Calcul répartition CM'!M$5=0,'3bis. Calcul répartition CM'!L57=0),0,IF('3bis. Calcul répartition CM'!M57-'3bis. Calcul répartition CM'!K57>0,1,0)))","v":0},{"$f":"IF(AND('3bis. Calcul répartition CM'!N57=MAX('3bis. Calcul répartition CM'!N$9:N$58),'3bis. Calcul répartition CM'!N57>0,COUNTIF('3bis. Calcul répartition CM'!N$9:N$58,'3bis. Calcul répartition CM'!N57)>1,SUM('3bis. Calcul répartition CM'!O$9:O$58)-SUM('3bis. Calcul répartition CM'!M$9:M$58)>1),\"erreur\",\"\")","v":""},{"$f":"IF(N52=\"erreur\",0,IF(OR('3bis. Calcul répartition CM'!O$5=0,'3bis. Calcul répartition CM'!N57=0),0,IF('3bis. Calcul répartition CM'!O57-'3bis. Calcul répartition CM'!M57>0,1,0)))","v":0},{"$f":"IF(AND('3bis. Calcul répartition CM'!P57=MAX('3bis. Calcul répartition CM'!P$9:P$58),'3bis. Calcul répartition CM'!P57>0,COUNTIF('3bis. Calcul répartition CM'!P$9:P$58,'3bis. Calcul répartition CM'!P57)>1,SUM('3bis. Calcul répartition CM'!Q$9:Q$58)-SUM('3bis. Calcul répartition CM'!O$9:O$58)>1),\"erreur\",\"\")","v":""},{"$f":"IF(P52=\"erreur\",0,IF(OR('3bis. Calcul répartition CM'!Q$5=0,'3bis. Calcul répartition CM'!P57=0),0,IF('3bis. Calcul répartition CM'!Q57-'3bis. Calcul répartition CM'!O57>0,1,0)))","v":0},{"$f":"IF(AND('3bis. Calcul répartition CM'!R57=MAX('3bis. Calcul répartition CM'!R$9:R$58),'3bis. Calcul répartition CM'!R57>0,COUNTIF('3bis. Calcul répartition CM'!R$9:R$58,'3bis. Calcul répartition CM'!R57)>1,SUM('3bis. Calcul répartition CM'!S$9:S$58)-SUM('3bis. Calcul répartition CM'!Q$9:Q$58)>1),\"erreur\",\"\")","v":""},{"$f":"IF(R52=\"erreur\",0,IF(OR('3bis. Calcul répartition CM'!S$5=0,'3bis. Calcul répartition CM'!R57=0),0,IF('3bis. Calcul répartition CM'!S57-'3bis. Calcul répartition CM'!Q57>0,1,0)))","v":0},{"$f":"IF(AND('3bis. Calcul répartition CM'!T57=MAX('3bis. Calcul répartition CM'!T$9:T$58),'3bis. Calcul répartition CM'!T57>0,COUNTIF('3bis. Calcul répartition CM'!T$9:T$58,'3bis. Calcul répartition CM'!T57)>1,SUM('3bis. Calcul répartition CM'!U$9:U$58)-SUM('3bis. Calcul répartition CM'!S$9:S$58)>1),\"erreur\",\"\")","v":""},{"$f":"IF(T52=\"erreur\",0,IF(OR('3bis. Calcul répartition CM'!U$5=0,'3bis. Calcul répartition CM'!T57=0),0,IF('3bis. Calcul répartition CM'!U57-'3bis. Calcul répartition CM'!S57>0,1,0)))","v":0},{"$f":"IF(AND('3bis. Calcul répartition CM'!V57=MAX('3bis. Calcul répartition CM'!V$9:V$58),'3bis. Calcul répartition CM'!V57>0,COUNTIF('3bis. Calcul répartition CM'!V$9:V$58,'3bis. Calcul répartition CM'!V57)>1,SUM('3bis. Calcul répartition CM'!W$9:W$58)-SUM('3bis. Calcul répartition CM'!U$9:U$58)>1),\"erreur\",\"\")","v":""},{"$f":"IF(V52=\"erreur\",0,IF(OR('3bis. Calcul répartition CM'!W$5=0,'3bis. Calcul répartition CM'!V57=0),0,IF('3bis. Calcul répartition CM'!W57-'3bis. Calcul répartition CM'!U57>0,1,0)))","v":0},{"$f":"IF(AND('3bis. Calcul répartition CM'!X57=MAX('3bis. Calcul répartition CM'!X$9:X$58),'3bis. Calcul répartition CM'!X57>0,COUNTIF('3bis. Calcul répartition CM'!X$9:X$58,'3bis. Calcul répartition CM'!X57)>1,SUM('3bis. Calcul répartition CM'!Y$9:Y$58)-SUM('3bis. Calcul répartition CM'!W$9:W$58)>1),\"erreur\",\"\")","v":""},{"$f":"IF(X52=\"erreur\",0,IF(OR('3bis. Calcul répartition CM'!Y$5=0,'3bis. Calcul répartition CM'!X57=0),0,IF('3bis. Calcul répartition CM'!Y57-'3bis. Calcul répartition CM'!W57>0,1,0)))","v":0},{"$f":"IF(AND('3bis. Calcul répartition CM'!Z57=MAX('3bis. Calcul répartition CM'!Z$9:Z$58),'3bis. Calcul répartition CM'!Z57>0,COUNTIF('3bis. Calcul répartition CM'!Z$9:Z$58,'3bis. Calcul répartition CM'!Z57)>1,SUM('3bis. Calcul répartition CM'!AA$9:AA$58)-SUM('3bis. Calcul répartition CM'!Y$9:Y$58)>1),\"erreur\",\"\")","v":""},{"$f":"IF(Z52=\"erreur\",0,IF(OR('3bis. Calcul répartition CM'!AA$5=0,'3bis. Calcul répartition CM'!Z57=0),0,IF('3bis. Calcul répartition CM'!AA57-'3bis. Calcul répartition CM'!Y57>0,1,0)))","v":0},{"$f":"IF(AND('3bis. Calcul répartition CM'!AB57=MAX('3bis. Calcul répartition CM'!AB$9:AB$58),'3bis. Calcul répartition CM'!AB57>0,COUNTIF('3bis. Calcul répartition CM'!AB$9:AB$58,'3bis. Calcul répartition CM'!AB57)>1,SUM('3bis. Calcul répartition CM'!AC$9:AC$58)-SUM('3bis. Calcul répartition CM'!AA$9:AA$58)>1),\"erreur\",\"\")","v":""},{"$f":"IF(AB52=\"erreur\",0,IF(OR('3bis. Calcul répartition CM'!AC$5=0,'3bis. Calcul répartition CM'!AB57=0),0,IF('3bis. Calcul répartition CM'!AC57-'3bis. Calcul répartition CM'!AA57>0,1,0)))","v":0},{"$f":"IF(AND('3bis. Calcul répartition CM'!AD57=MAX('3bis. Calcul répartition CM'!AD$9:AD$58),'3bis. Calcul répartition CM'!AD57>0,COUNTIF('3bis. Calcul répartition CM'!AD$9:AD$58,'3bis. Calcul répartition CM'!AD57)>1,SUM('3bis. Calcul répartition CM'!AE$9:AE$58)-SUM('3bis. Calcul répartition CM'!AC$9:AC$58)>1),\"erreur\",\"\")","v":""},{"$f":"IF(AD52=\"erreur\",0,IF(OR('3bis. Calcul répartition CM'!AE$5=0,'3bis. Calcul répartition CM'!AD57=0),0,IF('3bis. Calcul répartition CM'!AE57-'3bis. Calcul répartition CM'!AC57>0,1,0)))","v":0},{"$f":"IF(AND('3bis. Calcul répartition CM'!AF57=MAX('3bis. Calcul répartition CM'!AF$9:AF$58),'3bis. Calcul répartition CM'!AF57>0,COUNTIF('3bis. Calcul répartition CM'!AF$9:AF$58,'3bis. Calcul répartition CM'!AF57)>1,SUM('3bis. Calcul répartition CM'!AG$9:AG$58)-SUM('3bis. Calcul répartition CM'!AE$9:AE$58)>1),\"erreur\",\"\")","v":""},{"$f":"IF(AF52=\"erreur\",0,IF(OR('3bis. Calcul répartition CM'!AG$5=0,'3bis. Calcul répartition CM'!AF57=0),0,IF('3bis. Calcul répartition CM'!AG57-'3bis. Calcul répartition CM'!AE57>0,1,0)))","v":0},{"$f":"IF(AND('3bis. Calcul répartition CM'!AH57=MAX('3bis. Calcul répartition CM'!AH$9:AH$58),'3bis. Calcul répartition CM'!AH57>0,COUNTIF('3bis. Calcul répartition CM'!AH$9:AH$58,'3bis. Calcul répartition CM'!AH57)>1,SUM('3bis. Calcul répartition CM'!AI$9:AI$58)-SUM('3bis. Calcul répartition CM'!AG$9:AG$58)>1),\"erreur\",\"\")","v":""},{"$f":"IF(AH52=\"erreur\",0,IF(OR('3bis. Calcul répartition CM'!AI$5=0,'3bis. Calcul répartition CM'!AH57=0),0,IF('3bis. Calcul répartition CM'!AI57-'3bis. Calcul répartition CM'!AG57>0,1,0)))","v":0},{"$f":"IF(AND('3bis. Calcul répartition CM'!AJ57=MAX('3bis. Calcul répartition CM'!AJ$9:AJ$58),'3bis. Calcul répartition CM'!AJ57>0,COUNTIF('3bis. Calcul répartition CM'!AJ$9:AJ$58,'3bis. Calcul répartition CM'!AJ57)>1,SUM('3bis. Calcul répartition CM'!AK$9:AK$58)-SUM('3bis. Calcul répartition CM'!AI$9:AI$58)>1),\"erreur\",\"\")","v":""},{"$f":"IF(AJ52=\"erreur\",0,IF(OR('3bis. Calcul répartition CM'!AK$5=0,'3bis. Calcul répartition CM'!AJ57=0),0,IF('3bis. Calcul répartition CM'!AK57-'3bis. Calcul répartition CM'!AI57>0,1,0)))","v":0},{"$f":"IF(AND('3bis. Calcul répartition CM'!AL57=MAX('3bis. Calcul répartition CM'!AL$9:AL$58),'3bis. Calcul répartition CM'!AL57>0,COUNTIF('3bis. Calcul répartition CM'!AL$9:AL$58,'3bis. Calcul répartition CM'!AL57)>1,SUM('3bis. Calcul répartition CM'!AM$9:AM$58)-SUM('3bis. Calcul répartition CM'!AK$9:AK$58)>1),\"erreur\",\"\")","v":""},{"$f":"IF(AL52=\"erreur\",0,IF(OR('3bis. Calcul répartition CM'!AM$5=0,'3bis. Calcul répartition CM'!AL57=0),0,IF('3bis. Calcul répartition CM'!AM57-'3bis. Calcul répartition CM'!AK57>0,1,0)))","v":0},{"$f":"IF(AND('3bis. Calcul répartition CM'!AN57=MAX('3bis. Calcul répartition CM'!AN$9:AN$58),'3bis. Calcul répartition CM'!AN57>0,COUNTIF('3bis. Calcul répartition CM'!AN$9:AN$58,'3bis. Calcul répartition CM'!AN57)>1,SUM('3bis. Calcul répartition CM'!AO$9:AO$58)-SUM('3bis. Calcul répartition CM'!AM$9:AM$58)>1),\"erreur\",\"\")","v":""},{"$f":"IF(AN52=\"erreur\",0,IF(OR('3bis. Calcul répartition CM'!AO$5=0,'3bis. Calcul répartition CM'!AN57=0),0,IF('3bis. Calcul répartition CM'!AO57-'3bis. Calcul répartition CM'!AM57>0,1,0)))","v":0},{"$f":"IF(AND('3bis. Calcul répartition CM'!AP57=MAX('3bis. Calcul répartition CM'!AP$9:AP$58),'3bis. Calcul répartition CM'!AP57>0,COUNTIF('3bis. Calcul répartition CM'!AP$9:AP$58,'3bis. Calcul répartition CM'!AP57)>1,SUM('3bis. Calcul répartition CM'!AQ$9:AQ$58)-SUM('3bis. Calcul répartition CM'!AO$9:AO$58)>1),\"erreur\",\"\")","v":""},{"$f":"IF(AP52=\"erreur\",0,IF(OR('3bis. Calcul répartition CM'!AQ$5=0,'3bis. Calcul répartition CM'!AP57=0),0,IF('3bis. Calcul répartition CM'!AQ57-'3bis. Calcul répartition CM'!AO57>0,1,0)))","v":0},{"$f":"IF(AND('3bis. Calcul répartition CM'!AR57=MAX('3bis. Calcul répartition CM'!AR$9:AR$58),'3bis. Calcul répartition CM'!AR57>0,COUNTIF('3bis. Calcul répartition CM'!AR$9:AR$58,'3bis. Calcul répartition CM'!AR57)>1,SUM('3bis. Calcul répartition CM'!AS$9:AS$58)-SUM('3bis. Calcul répartition CM'!AQ$9:AQ$58)>1),\"erreur\",\"\")","v":""},{"$f":"IF(AR52=\"erreur\",0,IF(OR('3bis. Calcul répartition CM'!AS$5=0,'3bis. Calcul répartition CM'!AR57=0),0,IF('3bis. Calcul répartition CM'!AS57-'3bis. Calcul répartition CM'!AQ57>0,1,0)))","v":0},{"$f":"IF(AND('3bis. Calcul répartition CM'!AT57=MAX('3bis. Calcul répartition CM'!AT$9:AT$58),'3bis. Calcul répartition CM'!AT57>0,COUNTIF('3bis. Calcul répartition CM'!AT$9:AT$58,'3bis. Calcul répartition CM'!AT57)>1,SUM('3bis. Calcul répartition CM'!AU$9:AU$58)-SUM('3bis. Calcul répartition CM'!AS$9:AS$58)>1),\"erreur\",\"\")","v":""},{"$f":"IF(AT52=\"erreur\",0,IF(OR('3bis. Calcul répartition CM'!AU$5=0,'3bis. Calcul répartition CM'!AT57=0),0,IF('3bis. Calcul répartition CM'!AU57-'3bis. Calcul répartition CM'!AS57>0,1,0)))","v":0},{"$f":"IF(AND('3bis. Calcul répartition CM'!AV57=MAX('3bis. Calcul répartition CM'!AV$9:AV$58),'3bis. Calcul répartition CM'!AV57>0,COUNTIF('3bis. Calcul répartition CM'!AV$9:AV$58,'3bis. Calcul répartition CM'!AV57)>1,SUM('3bis. Calcul répartition CM'!AW$9:AW$58)-SUM('3bis. Calcul répartition CM'!AU$9:AU$58)>1),\"erreur\",\"\")","v":""},{"$f":"IF(AV52=\"erreur\",0,IF(OR('3bis. Calcul répartition CM'!AW$5=0,'3bis. Calcul répartition CM'!AV57=0),0,IF('3bis. Calcul répartition CM'!AW57-'3bis. Calcul répartition CM'!AU57>0,1,0)))","v":0},{"$f":"IF(AND('3bis. Calcul répartition CM'!AX57=MAX('3bis. Calcul répartition CM'!AX$9:AX$58),'3bis. Calcul répartition CM'!AX57>0,COUNTIF('3bis. Calcul répartition CM'!AX$9:AX$58,'3bis. Calcul répartition CM'!AX57)>1,SUM('3bis. Calcul répartition CM'!AY$9:AY$58)-SUM('3bis. Calcul répartition CM'!AW$9:AW$58)>1),\"erreur\",\"\")","v":""},{"$f":"IF(AX52=\"erreur\",0,IF(OR('3bis. Calcul répartition CM'!AY$5=0,'3bis. Calcul répartition CM'!AX57=0),0,IF('3bis. Calcul répartition CM'!AY57-'3bis. Calcul répartition CM'!AW57>0,1,0)))","v":0},{"$f":"IF(AND('3bis. Calcul répartition CM'!AZ57=MAX('3bis. Calcul répartition CM'!AZ$9:AZ$58),'3bis. Calcul répartition CM'!AZ57>0,COUNTIF('3bis. Calcul répartition CM'!AZ$9:AZ$58,'3bis. Calcul répartition CM'!AZ57)>1,SUM('3bis. Calcul répartition CM'!BA$9:BA$58)-SUM('3bis. Calcul répartition CM'!AY$9:AY$58)>1),\"erreur\",\"\")","v":""},{"$f":"IF(AZ52=\"erreur\",0,IF(OR('3bis. Calcul répartition CM'!BA$5=0,'3bis. Calcul répartition CM'!AZ57=0),0,IF('3bis. Calcul répartition CM'!BA57-'3bis. Calcul répartition CM'!AY57>0,1,0)))","v":0},{"$f":"IF(AND('3bis. Calcul répartition CM'!BB57=MAX('3bis. Calcul répartition CM'!BB$9:BB$58),'3bis. Calcul répartition CM'!BB57>0,COUNTIF('3bis. Calcul répartition CM'!BB$9:BB$58,'3bis. Calcul répartition CM'!BB57)>1,SUM('3bis. Calcul répartition CM'!BC$9:BC$58)-SUM('3bis. Calcul répartition CM'!BA$9:BA$58)>1),\"erreur\",\"\")","v":""},{"$f":"IF(BB52=\"erreur\",0,IF(OR('3bis. Calcul répartition CM'!BC$5=0,'3bis. Calcul répartition CM'!BB57=0),0,IF('3bis. Calcul répartition CM'!BC57-'3bis. Calcul répartition CM'!BA57>0,1,0)))","v":0},{"$f":"IF(AND('3bis. Calcul répartition CM'!BD57=MAX('3bis. Calcul répartition CM'!BD$9:BD$58),'3bis. Calcul répartition CM'!BD57>0,COUNTIF('3bis. Calcul répartition CM'!BD$9:BD$58,'3bis. Calcul répartition CM'!BD57)>1,SUM('3bis. Calcul répartition CM'!BE$9:BE$58)-SUM('3bis. Calcul répartition CM'!BC$9:BC$58)>1),\"erreur\",\"\")","v":""},{"$f":"IF(BD52=\"erreur\",0,IF(OR('3bis. Calcul répartition CM'!BE$5=0,'3bis. Calcul répartition CM'!BD57=0),0,IF('3bis. Calcul répartition CM'!BE57-'3bis. Calcul répartition CM'!BC57>0,1,0)))","v":0},{"$f":"IF(AND('3bis. Calcul répartition CM'!BF57=MAX('3bis. Calcul répartition CM'!BF$9:BF$58),'3bis. Calcul répartition CM'!BF57>0,COUNTIF('3bis. Calcul répartition CM'!BF$9:BF$58,'3bis. Calcul répartition CM'!BF57)>1,SUM('3bis. Calcul répartition CM'!BG$9:BG$58)-SUM('3bis. Calcul répartition CM'!BE$9:BE$58)>1),\"erreur\",\"\")","v":""},{"$f":"IF(BF52=\"erreur\",0,IF(OR('3bis. Calcul répartition CM'!BG$5=0,'3bis. Calcul répartition CM'!BF57=0),0,IF('3bis. Calcul répartition CM'!BG57-'3bis. Calcul répartition CM'!BE57>0,1,0)))","v":0},{"$f":"IF(AND('3bis. Calcul répartition CM'!BH57=MAX('3bis. Calcul répartition CM'!BH$9:BH$58),'3bis. Calcul répartition CM'!BH57>0,COUNTIF('3bis. Calcul répartition CM'!BH$9:BH$58,'3bis. Calcul répartition CM'!BH57)>1,SUM('3bis. Calcul répartition CM'!BI$9:BI$58)-SUM('3bis. Calcul répartition CM'!BG$9:BG$58)>1),\"erreur\",\"\")","v":""},{"$f":"IF(BH52=\"erreur\",0,IF(OR('3bis. Calcul répartition CM'!BI$5=0,'3bis. Calcul répartition CM'!BH57=0),0,IF('3bis. Calcul répartition CM'!BI57-'3bis. Calcul répartition CM'!BG57>0,1,0)))","v":0},{"$f":"IF(AND('3bis. Calcul répartition CM'!BJ57=MAX('3bis. Calcul répartition CM'!BJ$9:BJ$58),'3bis. Calcul répartition CM'!BJ57>0,COUNTIF('3bis. Calcul répartition CM'!BJ$9:BJ$58,'3bis. Calcul répartition CM'!BJ57)>1,SUM('3bis. Calcul répartition CM'!BK$9:BK$58)-SUM('3bis. Calcul répartition CM'!BI$9:BI$58)>1),\"erreur\",\"\")","v":""},{"$f":"IF(BJ52=\"erreur\",0,IF(OR('3bis. Calcul répartition CM'!BK$5=0,'3bis. Calcul répartition CM'!BJ57=0),0,IF('3bis. Calcul répartition CM'!BK57-'3bis. Calcul répartition CM'!BI57>0,1,0)))","v":0},{"$f":"IF(AND('3bis. Calcul répartition CM'!BL57=MAX('3bis. Calcul répartition CM'!BL$9:BL$58),'3bis. Calcul répartition CM'!BL57>0,COUNTIF('3bis. Calcul répartition CM'!BL$9:BL$58,'3bis. Calcul répartition CM'!BL57)>1,SUM('3bis. Calcul répartition CM'!BM$9:BM$58)-SUM('3bis. Calcul répartition CM'!BK$9:BK$58)>1),\"erreur\",\"\")","v":""},{"$f":"IF(BL52=\"erreur\",0,IF(OR('3bis. Calcul répartition CM'!BM$5=0,'3bis. Calcul répartition CM'!BL57=0),0,IF('3bis. Calcul répartition CM'!BM57-'3bis. Calcul répartition CM'!BK57>0,1,0)))","v":0},{"$f":"IF(AND('3bis. Calcul répartition CM'!BN57=MAX('3bis. Calcul répartition CM'!BN$9:BN$58),'3bis. Calcul répartition CM'!BN57>0,COUNTIF('3bis. Calcul répartition CM'!BN$9:BN$58,'3bis. Calcul répartition CM'!BN57)>1,SUM('3bis. Calcul répartition CM'!BO$9:BO$58)-SUM('3bis. Calcul répartition CM'!BM$9:BM$58)>1),\"erreur\",\"\")","v":""},{"$f":"IF(BN52=\"erreur\",0,IF(OR('3bis. Calcul répartition CM'!BO$5=0,'3bis. Calcul répartition CM'!BN57=0),0,IF('3bis. Calcul répartition CM'!BO57-'3bis. Calcul répartition CM'!BM57>0,1,0)))","v":0},{"$f":"IF(AND('3bis. Calcul répartition CM'!BP57=MAX('3bis. Calcul répartition CM'!BP$9:BP$58),'3bis. Calcul répartition CM'!BP57>0,COUNTIF('3bis. Calcul répartition CM'!BP$9:BP$58,'3bis. Calcul répartition CM'!BP57)>1,SUM('3bis. Calcul répartition CM'!BQ$9:BQ$58)-SUM('3bis. Calcul répartition CM'!BO$9:BO$58)>1),\"erreur\",\"\")","v":""},{"$f":"IF(BP52=\"erreur\",0,IF(OR('3bis. Calcul répartition CM'!BQ$5=0,'3bis. Calcul répartition CM'!BP57=0),0,IF('3bis. Calcul répartition CM'!BQ57-'3bis. Calcul répartition CM'!BO57>0,1,0)))","v":0}]
[null,null,null,null,null,null,null,null,{"$f":"'3bis. Calcul répartition CM'!B58","v":0},{"$f":"IF(AND('3bis. Calcul répartition CM'!J58=MAX('3bis. Calcul répartition CM'!J$9:J$58),'3bis. Calcul répartition CM'!J58>0,COUNTIF('3bis. Calcul répartition CM'!J$9:J$58,'3bis. Calcul répartition CM'!J58)>1,SUM('3bis. Calcul répartition CM'!$K$9:$K$58)-SUM('3bis. Calcul répartition CM'!$D$9:$D$58)>1),\"erreur\",\"\")","v":""},{"$f":"IF(J53=\"erreur\",0,IF(OR('3bis. Calcul répartition CM'!K$5=0,'3bis. Calcul répartition CM'!J58=0),0,IF('3bis. Calcul répartition CM'!K58-'3bis. Calcul répartition CM'!D58>0,1,0)))","v":0},{"$f":"IF(AND('3bis. Calcul répartition CM'!L58=MAX('3bis. Calcul répartition CM'!L$9:L$58),'3bis. Calcul répartition CM'!L58>0,COUNTIF('3bis. Calcul répartition CM'!L$9:L$58,'3bis. Calcul répartition CM'!L58)>1,SUM('3bis. Calcul répartition CM'!M$9:M$58)-SUM('3bis. Calcul répartition CM'!K$9:K$58)>1),\"erreur\",\"\")","v":""},{"$f":"IF(L53=\"erreur\",0,IF(OR('3bis. Calcul répartition CM'!M$5=0,'3bis. Calcul répartition CM'!L58=0),0,IF('3bis. Calcul répartition CM'!M58-'3bis. Calcul répartition CM'!K58>0,1,0)))","v":0},{"$f":"IF(AND('3bis. Calcul répartition CM'!N58=MAX('3bis. Calcul répartition CM'!N$9:N$58),'3bis. Calcul répartition CM'!N58>0,COUNTIF('3bis. Calcul répartition CM'!N$9:N$58,'3bis. Calcul répartition CM'!N58)>1,SUM('3bis. Calcul répartition CM'!O$9:O$58)-SUM('3bis. Calcul répartition CM'!M$9:M$58)>1),\"erreur\",\"\")","v":""},{"$f":"IF(N53=\"erreur\",0,IF(OR('3bis. Calcul répartition CM'!O$5=0,'3bis. Calcul répartition CM'!N58=0),0,IF('3bis. Calcul répartition CM'!O58-'3bis. Calcul répartition CM'!M58>0,1,0)))","v":0},{"$f":"IF(AND('3bis. Calcul répartition CM'!P58=MAX('3bis. Calcul répartition CM'!P$9:P$58),'3bis. Calcul répartition CM'!P58>0,COUNTIF('3bis. Calcul répartition CM'!P$9:P$58,'3bis. Calcul répartition CM'!P58)>1,SUM('3bis. Calcul répartition CM'!Q$9:Q$58)-SUM('3bis. Calcul répartition CM'!O$9:O$58)>1),\"erreur\",\"\")","v":""},{"$f":"IF(P53=\"erreur\",0,IF(OR('3bis. Calcul répartition CM'!Q$5=0,'3bis. Calcul répartition CM'!P58=0),0,IF('3bis. Calcul répartition CM'!Q58-'3bis. Calcul répartition CM'!O58>0,1,0)))","v":0},{"$f":"IF(AND('3bis. Calcul répartition CM'!R58=MAX('3bis. Calcul répartition CM'!R$9:R$58),'3bis. Calcul répartition CM'!R58>0,COUNTIF('3bis. Calcul répartition CM'!R$9:R$58,'3bis. Calcul répartition CM'!R58)>1,SUM('3bis. Calcul répartition CM'!S$9:S$58)-SUM('3bis. Calcul répartition CM'!Q$9:Q$58)>1),\"erreur\",\"\")","v":""},{"$f":"IF(R53=\"erreur\",0,IF(OR('3bis. Calcul répartition CM'!S$5=0,'3bis. Calcul répartition CM'!R58=0),0,IF('3bis. Calcul répartition CM'!S58-'3bis. Calcul répartition CM'!Q58>0,1,0)))","v":0},{"$f":"IF(AND('3bis. Calcul répartition CM'!T58=MAX('3bis. Calcul répartition CM'!T$9:T$58),'3bis. Calcul répartition CM'!T58>0,COUNTIF('3bis. Calcul répartition CM'!T$9:T$58,'3bis. Calcul répartition CM'!T58)>1,SUM('3bis. Calcul répartition CM'!U$9:U$58)-SUM('3bis. Calcul répartition CM'!S$9:S$58)>1),\"erreur\",\"\")","v":""},{"$f":"IF(T53=\"erreur\",0,IF(OR('3bis. Calcul répartition CM'!U$5=0,'3bis. Calcul répartition CM'!T58=0),0,IF('3bis. Calcul répartition CM'!U58-'3bis. Calcul répartition CM'!S58>0,1,0)))","v":0},{"$f":"IF(AND('3bis. Calcul répartition CM'!V58=MAX('3bis. Calcul répartition CM'!V$9:V$58),'3bis. Calcul répartition CM'!V58>0,COUNTIF('3bis. Calcul répartition CM'!V$9:V$58,'3bis. Calcul répartition CM'!V58)>1,SUM('3bis. Calcul répartition CM'!W$9:W$58)-SUM('3bis. Calcul répartition CM'!U$9:U$58)>1),\"erreur\",\"\")","v":""},{"$f":"IF(V53=\"erreur\",0,IF(OR('3bis. Calcul répartition CM'!W$5=0,'3bis. Calcul répartition CM'!V58=0),0,IF('3bis. Calcul répartition CM'!W58-'3bis. Calcul répartition CM'!U58>0,1,0)))","v":0},{"$f":"IF(AND('3bis. Calcul répartition CM'!X58=MAX('3bis. Calcul répartition CM'!X$9:X$58),'3bis. Calcul répartition CM'!X58>0,COUNTIF('3bis. Calcul répartition CM'!X$9:X$58,'3bis. Calcul répartition CM'!X58)>1,SUM('3bis. Calcul répartition CM'!Y$9:Y$58)-SUM('3bis. Calcul répartition CM'!W$9:W$58)>1),\"erreur\",\"\")","v":""},{"$f":"IF(X53=\"erreur\",0,IF(OR('3bis. Calcul répartition CM'!Y$5=0,'3bis. Calcul répartition CM'!X58=0),0,IF('3bis. Calcul répartition CM'!Y58-'3bis. Calcul répartition CM'!W58>0,1,0)))","v":0},{"$f":"IF(AND('3bis. Calcul répartition CM'!Z58=MAX('3bis. Calcul répartition CM'!Z$9:Z$58),'3bis. Calcul répartition CM'!Z58>0,COUNTIF('3bis. Calcul répartition CM'!Z$9:Z$58,'3bis. Calcul répartition CM'!Z58)>1,SUM('3bis. Calcul répartition CM'!AA$9:AA$58)-SUM('3bis. Calcul répartition CM'!Y$9:Y$58)>1),\"erreur\",\"\")","v":""},{"$f":"IF(Z53=\"erreur\",0,IF(OR('3bis. Calcul répartition CM'!AA$5=0,'3bis. Calcul répartition CM'!Z58=0),0,IF('3bis. Calcul répartition CM'!AA58-'3bis. Calcul répartition CM'!Y58>0,1,0)))","v":0},{"$f":"IF(AND('3bis. Calcul répartition CM'!AB58=MAX('3bis. Calcul répartition CM'!AB$9:AB$58),'3bis. Calcul répartition CM'!AB58>0,COUNTIF('3bis. Calcul répartition CM'!AB$9:AB$58,'3bis. Calcul répartition CM'!AB58)>1,SUM('3bis. Calcul répartition CM'!AC$9:AC$58)-SUM('3bis. Calcul répartition CM'!AA$9:AA$58)>1),\"erreur\",\"\")","v":""},{"$f":"IF(AB53=\"erreur\",0,IF(OR('3bis. Calcul répartition CM'!AC$5=0,'3bis. Calcul répartition CM'!AB58=0),0,IF('3bis. Calcul répartition CM'!AC58-'3bis. Calcul répartition CM'!AA58>0,1,0)))","v":0},{"$f":"IF(AND('3bis. Calcul répartition CM'!AD58=MAX('3bis. Calcul répartition CM'!AD$9:AD$58),'3bis. Calcul répartition CM'!AD58>0,COUNTIF('3bis. Calcul répartition CM'!AD$9:AD$58,'3bis. Calcul répartition CM'!AD58)>1,SUM('3bis. Calcul répartition CM'!AE$9:AE$58)-SUM('3bis. Calcul répartition CM'!AC$9:AC$58)>1),\"erreur\",\"\")","v":""},{"$f":"IF(AD53=\"erreur\",0,IF(OR('3bis. Calcul répartition CM'!AE$5=0,'3bis. Calcul répartition CM'!AD58=0),0,IF('3bis. Calcul répartition CM'!AE58-'3bis. Calcul répartition CM'!AC58>0,1,0)))","v":0},{"$f":"IF(AND('3bis. Calcul répartition CM'!AF58=MAX('3bis. Calcul répartition CM'!AF$9:AF$58),'3bis. Calcul répartition CM'!AF58>0,COUNTIF('3bis. Calcul répartition CM'!AF$9:AF$58,'3bis. Calcul répartition CM'!AF58)>1,SUM('3bis. Calcul répartition CM'!AG$9:AG$58)-SUM('3bis. Calcul répartition CM'!AE$9:AE$58)>1),\"erreur\",\"\")","v":""},{"$f":"IF(AF53=\"erreur\",0,IF(OR('3bis. Calcul répartition CM'!AG$5=0,'3bis. Calcul répartition CM'!AF58=0),0,IF('3bis. Calcul répartition CM'!AG58-'3bis. Calcul répartition CM'!AE58>0,1,0)))","v":0},{"$f":"IF(AND('3bis. Calcul répartition CM'!AH58=MAX('3bis. Calcul répartition CM'!AH$9:AH$58),'3bis. Calcul répartition CM'!AH58>0,COUNTIF('3bis. Calcul répartition CM'!AH$9:AH$58,'3bis. Calcul répartition CM'!AH58)>1,SUM('3bis. Calcul répartition CM'!AI$9:AI$58)-SUM('3bis. Calcul répartition CM'!AG$9:AG$58)>1),\"erreur\",\"\")","v":""},{"$f":"IF(AH53=\"erreur\",0,IF(OR('3bis. Calcul répartition CM'!AI$5=0,'3bis. Calcul répartition CM'!AH58=0),0,IF('3bis. Calcul répartition CM'!AI58-'3bis. Calcul répartition CM'!AG58>0,1,0)))","v":0},{"$f":"IF(AND('3bis. Calcul répartition CM'!AJ58=MAX('3bis. Calcul répartition CM'!AJ$9:AJ$58),'3bis. Calcul répartition CM'!AJ58>0,COUNTIF('3bis. Calcul répartition CM'!AJ$9:AJ$58,'3bis. Calcul répartition CM'!AJ58)>1,SUM('3bis. Calcul répartition CM'!AK$9:AK$58)-SUM('3bis. Calcul répartition CM'!AI$9:AI$58)>1),\"erreur\",\"\")","v":""},{"$f":"IF(AJ53=\"erreur\",0,IF(OR('3bis. Calcul répartition CM'!AK$5=0,'3bis. Calcul répartition CM'!AJ58=0),0,IF('3bis. Calcul répartition CM'!AK58-'3bis. Calcul répartition CM'!AI58>0,1,0)))","v":0},{"$f":"IF(AND('3bis. Calcul répartition CM'!AL58=MAX('3bis. Calcul répartition CM'!AL$9:AL$58),'3bis. Calcul répartition CM'!AL58>0,COUNTIF('3bis. Calcul répartition CM'!AL$9:AL$58,'3bis. Calcul répartition CM'!AL58)>1,SUM('3bis. Calcul répartition CM'!AM$9:AM$58)-SUM('3bis. Calcul répartition CM'!AK$9:AK$58)>1),\"erreur\",\"\")","v":""},{"$f":"IF(AL53=\"erreur\",0,IF(OR('3bis. Calcul répartition CM'!AM$5=0,'3bis. Calcul répartition CM'!AL58=0),0,IF('3bis. Calcul répartition CM'!AM58-'3bis. Calcul répartition CM'!AK58>0,1,0)))","v":0},{"$f":"IF(AND('3bis. Calcul répartition CM'!AN58=MAX('3bis. Calcul répartition CM'!AN$9:AN$58),'3bis. Calcul répartition CM'!AN58>0,COUNTIF('3bis. Calcul répartition CM'!AN$9:AN$58,'3bis. Calcul répartition CM'!AN58)>1,SUM('3bis. Calcul répartition CM'!AO$9:AO$58)-SUM('3bis. Calcul répartition CM'!AM$9:AM$58)>1),\"erreur\",\"\")","v":""},{"$f":"IF(AN53=\"erreur\",0,IF(OR('3bis. Calcul répartition CM'!AO$5=0,'3bis. Calcul répartition CM'!AN58=0),0,IF('3bis. Calcul répartition CM'!AO58-'3bis. Calcul répartition CM'!AM58>0,1,0)))","v":0},{"$f":"IF(AND('3bis. Calcul répartition CM'!AP58=MAX('3bis. Calcul répartition CM'!AP$9:AP$58),'3bis. Calcul répartition CM'!AP58>0,COUNTIF('3bis. Calcul répartition CM'!AP$9:AP$58,'3bis. Calcul répartition CM'!AP58)>1,SUM('3bis. Calcul répartition CM'!AQ$9:AQ$58)-SUM('3bis. Calcul répartition CM'!AO$9:AO$58)>1),\"erreur\",\"\")","v":""},{"$f":"IF(AP53=\"erreur\",0,IF(OR('3bis. Calcul répartition CM'!AQ$5=0,'3bis. Calcul répartition CM'!AP58=0),0,IF('3bis. Calcul répartition CM'!AQ58-'3bis. Calcul répartition CM'!AO58>0,1,0)))","v":0},{"$f":"IF(AND('3bis. Calcul répartition CM'!AR58=MAX('3bis. Calcul répartition CM'!AR$9:AR$58),'3bis. Calcul répartition CM'!AR58>0,COUNTIF('3bis. Calcul répartition CM'!AR$9:AR$58,'3bis. Calcul répartition CM'!AR58)>1,SUM('3bis. Calcul répartition CM'!AS$9:AS$58)-SUM('3bis. Calcul répartition CM'!AQ$9:AQ$58)>1),\"erreur\",\"\")","v":""},{"$f":"IF(AR53=\"erreur\",0,IF(OR('3bis. Calcul répartition CM'!AS$5=0,'3bis. Calcul répartition CM'!AR58=0),0,IF('3bis. Calcul répartition CM'!AS58-'3bis. Calcul répartition CM'!AQ58>0,1,0)))","v":0},{"$f":"IF(AND('3bis. Calcul répartition CM'!AT58=MAX('3bis. Calcul répartition CM'!AT$9:AT$58),'3bis. Calcul répartition CM'!AT58>0,COUNTIF('3bis. Calcul répartition CM'!AT$9:AT$58,'3bis. Calcul répartition CM'!AT58)>1,SUM('3bis. Calcul répartition CM'!AU$9:AU$58)-SUM('3bis. Calcul répartition CM'!AS$9:AS$58)>1),\"erreur\",\"\")","v":""},{"$f":"IF(AT53=\"erreur\",0,IF(OR('3bis. Calcul répartition CM'!AU$5=0,'3bis. Calcul répartition CM'!AT58=0),0,IF('3bis. Calcul répartition CM'!AU58-'3bis. Calcul répartition CM'!AS58>0,1,0)))","v":0},{"$f":"IF(AND('3bis. Calcul répartition CM'!AV58=MAX('3bis. Calcul répartition CM'!AV$9:AV$58),'3bis. Calcul répartition CM'!AV58>0,COUNTIF('3bis. Calcul répartition CM'!AV$9:AV$58,'3bis. Calcul répartition CM'!AV58)>1,SUM('3bis. Calcul répartition CM'!AW$9:AW$58)-SUM('3bis. Calcul répartition CM'!AU$9:AU$58)>1),\"erreur\",\"\")","v":""},{"$f":"IF(AV53=\"erreur\",0,IF(OR('3bis. Calcul répartition CM'!AW$5=0,'3bis. Calcul répartition CM'!AV58=0),0,IF('3bis. Calcul répartition CM'!AW58-'3bis. Calcul répartition CM'!AU58>0,1,0)))","v":0},{"$f":"IF(AND('3bis. Calcul répartition CM'!AX58=MAX('3bis. Calcul répartition CM'!AX$9:AX$58),'3bis. Calcul répartition CM'!AX58>0,COUNTIF('3bis. Calcul répartition CM'!AX$9:AX$58,'3bis. Calcul répartition CM'!AX58)>1,SUM('3bis. Calcul répartition CM'!AY$9:AY$58)-SUM('3bis. Calcul répartition CM'!AW$9:AW$58)>1),\"erreur\",\"\")","v":""},{"$f":"IF(AX53=\"erreur\",0,IF(OR('3bis. Calcul répartition CM'!AY$5=0,'3bis. Calcul répartition CM'!AX58=0),0,IF('3bis. Calcul répartition CM'!AY58-'3bis. Calcul répartition CM'!AW58>0,1,0)))","v":0},{"$f":"IF(AND('3bis. Calcul répartition CM'!AZ58=MAX('3bis. Calcul répartition CM'!AZ$9:AZ$58),'3bis. Calcul répartition CM'!AZ58>0,COUNTIF('3bis. Calcul répartition CM'!AZ$9:AZ$58,'3bis. Calcul répartition CM'!AZ58)>1,SUM('3bis. Calcul répartition CM'!BA$9:BA$58)-SUM('3bis. Calcul répartition CM'!AY$9:AY$58)>1),\"erreur\",\"\")","v":""},{"$f":"IF(AZ53=\"erreur\",0,IF(OR('3bis. Calcul répartition CM'!BA$5=0,'3bis. Calcul répartition CM'!AZ58=0),0,IF('3bis. Calcul répartition CM'!BA58-'3bis. Calcul répartition CM'!AY58>0,1,0)))","v":0},{"$f":"IF(AND('3bis. Calcul répartition CM'!BB58=MAX('3bis. Calcul répartition CM'!BB$9:BB$58),'3bis. Calcul répartition CM'!BB58>0,COUNTIF('3bis. Calcul répartition CM'!BB$9:BB$58,'3bis. Calcul répartition CM'!BB58)>1,SUM('3bis. Calcul répartition CM'!BC$9:BC$58)-SUM('3bis. Calcul répartition CM'!BA$9:BA$58)>1),\"erreur\",\"\")","v":""},{"$f":"IF(BB53=\"erreur\",0,IF(OR('3bis. Calcul répartition CM'!BC$5=0,'3bis. Calcul répartition CM'!BB58=0),0,IF('3bis. Calcul répartition CM'!BC58-'3bis. Calcul répartition CM'!BA58>0,1,0)))","v":0},{"$f":"IF(AND('3bis. Calcul répartition CM'!BD58=MAX('3bis. Calcul répartition CM'!BD$9:BD$58),'3bis. Calcul répartition CM'!BD58>0,COUNTIF('3bis. Calcul répartition CM'!BD$9:BD$58,'3bis. Calcul répartition CM'!BD58)>1,SUM('3bis. Calcul répartition CM'!BE$9:BE$58)-SUM('3bis. Calcul répartition CM'!BC$9:BC$58)>1),\"erreur\",\"\")","v":""},{"$f":"IF(BD53=\"erreur\",0,IF(OR('3bis. Calcul répartition CM'!BE$5=0,'3bis. Calcul répartition CM'!BD58=0),0,IF('3bis. Calcul répartition CM'!BE58-'3bis. Calcul répartition CM'!BC58>0,1,0)))","v":0},{"$f":"IF(AND('3bis. Calcul répartition CM'!BF58=MAX('3bis. Calcul répartition CM'!BF$9:BF$58),'3bis. Calcul répartition CM'!BF58>0,COUNTIF('3bis. Calcul répartition CM'!BF$9:BF$58,'3bis. Calcul répartition CM'!BF58)>1,SUM('3bis. Calcul répartition CM'!BG$9:BG$58)-SUM('3bis. Calcul répartition CM'!BE$9:BE$58)>1),\"erreur\",\"\")","v":""},{"$f":"IF(BF53=\"erreur\",0,IF(OR('3bis. Calcul répartition CM'!BG$5=0,'3bis. Calcul répartition CM'!BF58=0),0,IF('3bis. Calcul répartition CM'!BG58-'3bis. Calcul répartition CM'!BE58>0,1,0)))","v":0},{"$f":"IF(AND('3bis. Calcul répartition CM'!BH58=MAX('3bis. Calcul répartition CM'!BH$9:BH$58),'3bis. Calcul répartition CM'!BH58>0,COUNTIF('3bis. Calcul répartition CM'!BH$9:BH$58,'3bis. Calcul répartition CM'!BH58)>1,SUM('3bis. Calcul répartition CM'!BI$9:BI$58)-SUM('3bis. Calcul répartition CM'!BG$9:BG$58)>1),\"erreur\",\"\")","v":""},{"$f":"IF(BH53=\"erreur\",0,IF(OR('3bis. Calcul répartition CM'!BI$5=0,'3bis. Calcul répartition CM'!BH58=0),0,IF('3bis. Calcul répartition CM'!BI58-'3bis. Calcul répartition CM'!BG58>0,1,0)))","v":0},{"$f":"IF(AND('3bis. Calcul répartition CM'!BJ58=MAX('3bis. Calcul répartition CM'!BJ$9:BJ$58),'3bis. Calcul répartition CM'!BJ58>0,COUNTIF('3bis. Calcul répartition CM'!BJ$9:BJ$58,'3bis. Calcul répartition CM'!BJ58)>1,SUM('3bis. Calcul répartition CM'!BK$9:BK$58)-SUM('3bis. Calcul répartition CM'!BI$9:BI$58)>1),\"erreur\",\"\")","v":""},{"$f":"IF(BJ53=\"erreur\",0,IF(OR('3bis. Calcul répartition CM'!BK$5=0,'3bis. Calcul répartition CM'!BJ58=0),0,IF('3bis. Calcul répartition CM'!BK58-'3bis. Calcul répartition CM'!BI58>0,1,0)))","v":0},{"$f":"IF(AND('3bis. Calcul répartition CM'!BL58=MAX('3bis. Calcul répartition CM'!BL$9:BL$58),'3bis. Calcul répartition CM'!BL58>0,COUNTIF('3bis. Calcul répartition CM'!BL$9:BL$58,'3bis. Calcul répartition CM'!BL58)>1,SUM('3bis. Calcul répartition CM'!BM$9:BM$58)-SUM('3bis. Calcul répartition CM'!BK$9:BK$58)>1),\"erreur\",\"\")","v":""},{"$f":"IF(BL53=\"erreur\",0,IF(OR('3bis. Calcul répartition CM'!BM$5=0,'3bis. Calcul répartition CM'!BL58=0),0,IF('3bis. Calcul répartition CM'!BM58-'3bis. Calcul répartition CM'!BK58>0,1,0)))","v":0},{"$f":"IF(AND('3bis. Calcul répartition CM'!BN58=MAX('3bis. Calcul répartition CM'!BN$9:BN$58),'3bis. Calcul répartition CM'!BN58>0,COUNTIF('3bis. Calcul répartition CM'!BN$9:BN$58,'3bis. Calcul répartition CM'!BN58)>1,SUM('3bis. Calcul répartition CM'!BO$9:BO$58)-SUM('3bis. Calcul répartition CM'!BM$9:BM$58)>1),\"erreur\",\"\")","v":""},{"$f":"IF(BN53=\"erreur\",0,IF(OR('3bis. Calcul répartition CM'!BO$5=0,'3bis. Calcul répartition CM'!BN58=0),0,IF('3bis. Calcul répartition CM'!BO58-'3bis. Calcul répartition CM'!BM58>0,1,0)))","v":0},{"$f":"IF(AND('3bis. Calcul répartition CM'!BP58=MAX('3bis. Calcul répartition CM'!BP$9:BP$58),'3bis. Calcul répartition CM'!BP58>0,COUNTIF('3bis. Calcul répartition CM'!BP$9:BP$58,'3bis. Calcul répartition CM'!BP58)>1,SUM('3bis. Calcul répartition CM'!BQ$9:BQ$58)-SUM('3bis. Calcul répartition CM'!BO$9:BO$58)>1),\"erreur\",\"\")","v":""},{"$f":"IF(BP53=\"erreur\",0,IF(OR('3bis. Calcul répartition CM'!BQ$5=0,'3bis. Calcul répartition CM'!BP58=0),0,IF('3bis. Calcul répartition CM'!BQ58-'3bis. Calcul répartition CM'!BO58>0,1,0)))","v":0}]

{"sheet":"Erreurs CM","index":6,"n_rows":95,"n_cols":18,"rows_kept":95,"cut":false,"hidden":true,"merged":[]}
[]
[null,null,null,null,null,null,null,null,null,null,null,null,null,null,null,null,"Contrôle erreur PM :",{"$f":"SUMPRODUCT((R11:R15<>\"\")*1)","v":0}]
[null,null,null,null,null,null,null,null,null,null,null,null,null,null,null,null,"(pour afficher contrôle de résolution)"]
[]
[]
[null,null,null,null,null,{"$f":"SUM('erreurs calcul répartCM'!$J$3:$BQ$3)","v":0}]
[]
[]
[null,null,null,null,null,null,null,null,null,null,null,null,null,"Si erreur PFM",null,null,"Si erreur PM"]
[null,null,null,"reprise id","Listes","PFM","création id PFM",null,"reprise id PM","Listes","Prime majoritaire","création id PM",null,"Liste dynamique PFM","Nom liste",null,"Liste dynamique égalité PM","Nom liste"]
[null,null,null,{"$f":"G11","v":0},{"$f":"'3bis. Calcul répartition CM'!B9","v":0},{"$f":"SUMPRODUCT(($F$6='3bis. Calcul répartition CM'!$J$1:$BQ$1)*('3bis. Calcul répartition CM'!$B$9:$B$58='Erreurs CM'!$E11)*('3bis. Calcul répartition CM'!$J$9:$BQ$58))","v":0},{"$f":"IF(AND($F$6>0,F11=MAX($F$11:$F$83),COUNTIF($F$11:$F$83,F11)>1),1,0)","v":0},null,{"$f":"L11","v":0},{"$f":"'3. Répartition des sièges CM'!C8","v":""},{"$f":"IF('2. Voix obtenues'!G7=\"Voir la répartition dans l'onglet 3\",IF('2. Voix obtenues'!F7<5%,0,IF('2. Voix obtenues'!D7=MAX('2. Voix obtenues'!$D$7:$D$56),'1.T1 ou T2 et sièges à pourvoir'!sieges_a_la_PM_CM,0)),0)","v":0},{"$f":"IF(AND(K11>0,COUNTIF($K$11:$K$83,K11)>1),1,0)","v":0},null,1,{"$f":"IFERROR(VLOOKUP(N11,$D$11:$G$83,2,FALSE()),\"\")","v":""},null,1,{"$f":"IFERROR(VLOOKUP(Q11,$I$11:$J$83,2,FALSE()),\"\")","v":""}]
[null,null,null,{"$f":"IF(G12>0,MAX(D$11:D11)+1,0)","v":0},{"$f":"'3bis. Calcul répartition CM'!B10","v":0},{"$f":"SUMPRODUCT(($F$6='3bis. Calcul répartition CM'!$J$1:$BQ$1)*('3bis. Calcul répartition CM'!$B$9:$B$58='Erreurs CM'!$E12)*('3bis. Calcul répartition CM'!$J$9:$BQ$58))","v":0},{"$f":"IF(AND($F$6>0,F12=MAX($F$11:$F$83),COUNTIF($F$11:$F$83,F12)>1),MAX(G$11:G11)+1,0)","v":0},null,0,{"$f":"'3. Répartition des sièges CM'!C9","v":""},{"$f":"IF('2. Voix obtenues'!G8=\"Voir la répartition dans l'onglet 3\",IF('2. Voix obtenues'!F8<5%,0,IF('2. Voix obtenues'!D8=MAX('2. Voix obtenues'!$D$7:$D$56),'1.T1 ou T2 et sièges à pourvoir'!sieges_a_la_PM_CM,0)),0)","v":0},{"$f":"IF(AND(K12>0,COUNTIF($K$11:$K$83,K12)>1),MAX(L$11:L11)+1,0)","v":0},null,{"$f":"N11+1","v":2},"",null,2,{"$f":"IFERROR(VLOOKUP(Q12,$I$11:$J$83,2,FALSE()),\"\")","v":""}]
[null,null,null,{"$f":"IF(G13>0,MAX(D$11:D12)+1,0)","v":0},{"$f":"'3bis. Calcul répartition CM'!B11","v":0},{"$f":"SUMPRODUCT(($F$6='3bis. Calcul répartition CM'!$J$1:$BQ$1)*('3bis. Calcul répartition CM'!$B$9:$B$58='Erreurs CM'!$E13)*('3bis. Calcul répartition CM'!$J$9:$BQ$58))","v":0},{"$f":"IF(AND($F$6>0,F13=MAX($F$11:$F$83),COUNTIF($F$11:$F$83,F13)>1),MAX(G$11:G12)+1,0)","v":0},null,0,{"$f":"'3. Répartition des sièges CM'!C10","v":""},{"$f":"IF('2. Voix obtenues'!G9=\"Voir la répartition dans l'onglet 3\",IF('2. Voix obtenues'!F9<5%,0,IF('2. Voix obtenues'!D9=MAX('2. Voix obtenues'!$D$7:$D$56),'1.T1 ou T2 et sièges à pourvoir'!sieges_a_la_PM_CM,0)),0)","v":0},{"$f":"IF(AND(K13>0,COUNTIF($K$11:$K$83,K13)>1),MAX(L$11:L12)+1,0)","v":0},null,3,"",null,3,{"$f":"IFERROR(VLOOKUP(Q13,$I$11:$J$83,2,FALSE()),\"\")","v":""}]
[null,null,null,{"$f":"IF(G14>0,MAX(D$11:D13)+1,0)","v":0},{"$f":"'3bis. Calcul répartition CM'!B12","v":0},{"$f":"SUMPRODUCT(($F$6='3bis. Calcul répartition CM'!$J$1:$BQ$1)*('3bis. Calcul répartition CM'!$B$9:$B$58='Erreurs CM'!$E14)*('3bis. Calcul répartition CM'!$J$9:$BQ$58))","v":0},{"$f":"IF(AND($F$6>0,F14=MAX($F$11:$F$83),COUNTIF($F$11:$F$83,F14)>1),MAX(G$11:G13)+1,0)","v":0},null,0,{"$f":"'3. Répartition des sièges CM'!C11","v":""},{"$f":"IF('2. Voix obtenues'!G10=\"Voir la répartition dans l'onglet 3\",IF('2. Voix obtenues'!F10<5%,0,IF('2. Voix obtenues'!D10=MAX('2. Voix obtenues'!$D$7:$D$56),'1.T1 ou T2 et sièges à pourvoir'!sieges_a_la_PM_CM,0)),0)","v":0},{"$f":"IF(AND(K14>0,COUNTIF($K$11:$K$83,K14)>1),MAX(L$11:L13)+1,0)","v":0},null,4,"",null,4,{"$f":"IFERROR(VLOOKUP(Q14,$I$11:$J$83,2,FALSE()),\"\")","v":""}]
[null,null,null,{"$f":"IF(G15>0,MAX(D$11:D14)+1,0)","v":0},{"$f":"'3bis. Calcul répartition CM'!B13","v":0},{"$f":"SUMPRODUCT(($F$6='3bis. Calcul répartition CM'!$J$1:$BQ$1)*('3bis. Calcul répartition CM'!$B$9:$B$58='Erreurs CM'!$E15)*('3bis. Calcul répartition CM'!$J$9:$BQ$58))","v":0},{"$f":"IF(AND($F$6>0,F15=MAX($F$11:$F$83),COUNTIF($F$11:$F$83,F15)>1),MAX(G$11:G14)+1,0)","v":0},null,0,{"$f":"'3. Répartition des sièges CM'!C12","v":""},{"$f":"IF('2. Voix obtenues'!G11=\"Voir la répartition dans l'onglet 3\",IF('2. Voix obtenues'!F11<5%,0,IF('2. Voix obtenues'!D11=MAX('2. Voix obtenues'!$D$7:$D$56),'1.T1 ou T2 et sièges à pourvoir'!sieges_a_la_PM_CM,0)),0)","v":0},{"$f":"IF(AND(K15>0,COUNTIF($K$11:$K$83,K15)>1),MAX(L$11:L14)+1,0)","v":0},null,5,"",null,5,{"$f":"IFERROR(VLOOKUP(Q15,$I$11:$J$83,2,FALSE()),\"\")","v":""}]
[null,null,null,{"$f":"IF(G16>0,MAX(D$11:D15)+1,0)","v":0},{"$f":"'3bis. Calcul répartition CM'!B14","v":0},{"$f":"SUMPRODUCT(($F$6='3bis. Calcul répartition CM'!$J$1:$BQ$1)*('3bis. Calcul répartition CM'!$B$9:$B$58='Erreurs CM'!$E16)*('3bis. Calcul répartition CM'!$J$9:$BQ$58))","v":0},{"$f":"IF(AND($F$6>0,F16=MAX($F$11:$F$83),COUNTIF($F$11:$F$83,F16)>1),MAX(G$11:G15)+1,0)","v":0},null,0,{"$f":"'3. Répartition des sièges CM'!C13","v":""},{"$f":"IF('2. Voix obtenues'!G12=\"Voir la répartition dans l'onglet 3\",IF('2. Voix obtenues'!F12<5%,0,IF('2. Voix obtenues'!D12=MAX('2. Voix obtenues'!$D$7:$D$56),'1.T1 ou T2 et sièges à pourvoir'!sieges_a_la_PM_CM,0)),0)","v":0},{"$f":"IF(AND(K16>0,COUNTIF($K$11:$K$83,K16)>1),MAX(L$11:L15)+1,0)","v":0},null,6,""]
[null,null,null,{"$f":"IF(G17>0,MAX(D$11:D16)+1,0)","v":0},{"$f":"'3bis. Calcul répartition CM'!B15","v":0},{"$f":"SUMPRODUCT(($F$6='3bis. Calcul répartition CM'!$J$1:$BQ$1)*('3bis. Calcul répartition CM'!$B$9:$B$58='Erreurs CM'!$E17)*('3bis. Calcul répartition CM'!$J$9:$BQ$58))","v":0},{"$f":"IF(AND($F$6>0,F17=MAX($F$11:$F$83),COUNTIF($F$11:$F$83,F17)>1),MAX(G$11:G16)+1,0)","v":0},null,0,{"$f":"'3. Répartition des sièges CM'!C14","v":""},{"$f":"IF('2. Voix obtenues'!G13=\"Voir la répartition dans l'onglet 3\",IF('2. Voix obtenues'!F13<5%,0,IF('2. Voix obtenues'!D13=MAX('2. Voix obtenues'!$D$7:$D$56),'1.T1 ou T2 et sièges à pourvoir'!sieges_a_la_PM_CM,0)),0)","v":0},{"$f":"IF(AND(K17>0,COUNTIF($K$11:$K$83,K17)>1),MAX(L$11:L16)+1,0)","v":0},null,7,""]
[null,null,null,{"$f":"IF(G18>0,MAX(D$11:D17)+1,0)","v":0},{"$f":"'3bis. Calcul répartition CM'!B16","v":0},{"$f":"SUMPRODUCT(($F$6='3bis. Calcul répartition CM'!$J$1:$BQ$1)*('3bis. Calcul répartition CM'!$B$9:$B$58='Erreurs CM'!$E18)*('3bis. Calcul répartition CM'!$J$9:$BQ$58))","v":0},{"$f":"IF(AND($F$6>0,F18=MAX($F$11:$F$83),COUNTIF($F$11:$F$83,F18)>1),MAX(G$11:G17)+1,0)","v":0},null,0,{"$f":"'3. Répartition des sièges CM'!C15","v":""},{"$f":"IF('2. Voix obtenues'!G14=\"Voir la répartition dans l'onglet 3\",IF('2. Voix obtenues'!F14<5%,0,IF('2. Voix obtenues'!D14=MAX('2. Voix obtenues'!$D$7:$D$56),'1.T1 ou T2 et sièges à pourvoir'!sieges_a_la_PM_CM,0)),0)","v":0},{"$f":"IF(AND(K18>0,COUNTIF($K$11:$K$83,K18)>1),MAX(L$11:L17)+1,0)","v":0},null,8,""]
[null,null,null,{"$f":"IF(G19>0,MAX(D$11:D18)+1,0)","v":0},{"$f":"'3bis. Calcul répartition CM'!B17","v":0},{"$f":"SUMPRODUCT(($F$6='3bis. Calcul répartition CM'!$J$1:$BQ$1)*('3bis. Calcul répartition CM'!$B$9:$B$58='Erreurs CM'!$E19)*('3bis. Calcul répartition CM'!$J$9:$BQ$58))","v":0},{"$f":"IF(AND($F$6>0,F19=MAX($F$11:$F$83),COUNTIF($F$11:$F$83,F19)>1),MAX(G$11:G18)+1,0)","v":0},null,0,{"$f":"'3. Répartition des sièges CM'!C16","v":""},{"$f":"IF('2. Voix obtenues'!G15=\"Voir la répartition dans l'onglet 3\",IF('2. Voix obtenues'!F15<5%,0,IF('2. Voix obtenues'!D15=MAX('2. Voix obtenues'!$D$7:$D$56),'1.T1 ou T2 et sièges à pourvoir'!sieges_a_la_PM_CM,0)),0)","v":0},{"$f":"IF(AND(K19>0,COUNTIF($K$11:$K$83,K19)>1),MAX(L$11:L18)+1,0)","v":0},null,9,""]
[null,null,null,{"$f":"IF(G20>0,MAX(D$11:D19)+1,0)","v":0},{"$f":"'3bis. Calcul répartition CM'!B18","v":0},{"$f":"SUMPRODUCT(($F$6='3bis. Calcul répartition CM'!$J$1:$BQ$1)*('3bis. Calcul répartition CM'!$B$9:$B$58='Erreurs CM'!$E20)*('3bis. Calcul répartition CM'!$J$9:$BQ$58))","v":0},{"$f":"IF(AND($F$6>0,F20=MAX($F$11:$F$83),COUNTIF($F$11:$F$83,F20)>1),MAX(G$11:G19)+1,0)","v":0},null,0,{"$f":"'3. Répartition des sièges CM'!C17","v":""},{"$f":"IF('2. Voix obtenues'!G16=\"Voir la répartition dans l'onglet 3\",IF('2. Voix obtenues'!F16<5%,0,IF('2. Voix obtenues'!D16=MAX('2. Voix obtenues'!$D$7:$D$56),'1.T1 ou T2 et sièges à pourvoir'!sieges_a_la_PM_CM,0)),0)","v":0},{"$f":"IF(AND(K20>0,COUNTIF($K$11:$K$83,K20)>1),MAX(L$11:L19)+1,0)","v":0},null,10,""]
[null,null,null,{"$f":"IF(G21>0,MAX(D$11:D20)+1,0)","v":0},{"$f":"'3bis. Calcul répartition CM'!B19","v":0},{"$f":"SUMPRODUCT(($F$6='3bis. Calcul répartition CM'!$J$1:$BQ$1)*('3bis. Calcul répartition CM'!$B$9:$B$58='Erreurs CM'!$E21)*('3bis. Calcul répartition CM'!$J$9:$BQ$58))","v":0},{"$f":"IF(AND($F$6>0,F21=MAX($F$11:$F$83),COUNTIF($F$11:$F$83,F21)>1),MAX(G$11:G20)+1,0)","v":0},null,0,{"$f":"'3. Répartition des sièges CM'!C18","v":""},{"$f":"IF('2. Voix obtenues'!G17=\"Voir la répartition dans l'onglet 3\",IF('2. Voix obtenues'!F17<5%,0,IF('2. Voix obtenues'!D17=MAX('2. Voix obtenues'!$D$7:$D$56),'1.T1 ou T2 et sièges à pourvoir'!sieges_a_la_PM_CM,0)),0)","v":0},{"$f":"IF(AND(K21>0,COUNTIF($K$11:$K$83,K21)>1),MAX(L$11:L20)+1,0)","v":0},null,11,""]
[null,null,null,{"$f":"IF(G22>0,MAX(D$11:D21)+1,0)","v":0},{"$f":"'3bis. Calcul répartition CM'!B20","v":0},{"$f":"SUMPRODUCT(($F$6='3bis. Calcul répartition CM'!$J$1:$BQ$1)*('3bis. Calcul répartition CM'!$B$9:$B$58='Erreurs CM'!$E22)*('3bis. Calcul répartition CM'!$J$9:$BQ$58))","v":0},{"$f":"IF(AND($F$6>0,F22=MAX($F$11:$F$83),COUNTIF($F$11:$F$83,F22)>1),MAX(G$11:G21)+1,0)","v":0},null,0,{"$f":"'3. Répartition des sièges CM'!C19","v":""},{"$f":"IF('2. Voix obtenues'!G18=\"Voir la répartition dans l'onglet 3\",IF('2. Voix obtenues'!F18<5%,0,IF('2. Voix obtenues'!D18=MAX('2. Voix obtenues'!$D$7:$D$56),'1.T1 ou T2 et sièges à pourvoir'!sieges_a_la_PM_CM,0)),0)","v":0},{"$f":"IF(AND(K22>0,COUNTIF($K$11:$K$83,K22)>1),MAX(L$11:L21)+1,0)","v":0},null,12,""]
[null,null,null,{"$f":"IF(G23>0,MAX(D$11:D22)+1,0)","v":0},{"$f":"'3bis. Calcul répartition CM'!B21","v":0},{"$f":"SUMPRODUCT(($F$6='3bis. Calcul répartition CM'!$J$1:$BQ$1)*('3bis. Calcul répartition CM'!$B$9:$B$58='Erreurs CM'!$E23)*('3bis. Calcul répartition CM'!$J$9:$BQ$58))","v":0},{"$f":"IF(AND($F$6>0,F23=MAX($F$11:$F$83),COUNTIF($F$11:$F$83,F23)>1),MAX(G$11:G22)+1,0)","v":0},null,0,{"$f":"'3. Répartition des sièges CM'!C20","v":""},{"$f":"IF('2. Voix obtenues'!G19=\"Voir la répartition dans l'onglet 3\",IF('2. Voix obtenues'!F19<5%,0,IF('2. Voix obtenues'!D19=MAX('2. Voix obtenues'!$D$7:$D$56),'1.T1 ou T2 et sièges à pourvoir'!sieges_a_la_PM_CM,0)),0)","v":0},{"$f":"IF(AND(K23>0,COUNTIF($K$11:$K$83,K23)>1),MAX(L$11:L22)+1,0)","v":0},null,13,""]
[null,null,null,{"$f":"IF(G24>0,MAX(D$11:D23)+1,0)","v":0},{"$f":"'3bis. Calcul répartition CM'!B22","v":0},{"$f":"SUMPRODUCT(($F$6='3bis. Calcul répartition CM'!$J$1:$BQ$1)*('3bis. Calcul répartition CM'!$B$9:$B$58='Erreurs CM'!$E24)*('3bis. Calcul répartition CM'!$J$9:$BQ$58))","v":0},{"$f":"IF(AND($F$6>0,F24=MAX($F$11:$F$83),COUNTIF($F$11:$F$83,F24)>1),MAX(G$11:G23)+1,0)","v":0},null,0,{"$f":"'3. Répartition des sièges CM'!C21","v":""},{"$f":"IF('2. Voix obtenues'!G20=\"Voir la répartition dans l'onglet 3\",IF('2. Voix obtenues'!F20<5%,0,IF('2. Voix obtenues'!D20=MAX('2. Voix obtenues'!$D$7:$D$56),'1.T1 ou T2 et sièges à pourvoir'!sieges_a_la_PM_CM,0)),0)","v":0},{"$f":"IF(AND(K24>0,COUNTIF($K$11:$K$83,K24)>1),MAX(L$11:L23)+1,0)","v":0},null,14,""]
[null,null,null,{"$f":"IF(G25>0,MAX(D$11:D24)+1,0)","v":0},{"$f":"'3bis. Calcul répartition CM'!B23","v":0},{"$f":"SUMPRODUCT(($F$6='3bis. Calcul répartition CM'!$J$1:$BQ$1)*('3bis. Calcul répartition CM'!$B$9:$B$58='Erreurs CM'!$E25)*('3bis. Calcul répartition CM'!$J$9:$BQ$58))","v":0},{"$f":"IF(AND($F$6>0,F25=MAX($F$11:$F$83),COUNTIF($F$11:$F$83,F25)>1),MAX(G$11:G24)+1,0)","v":0},null,0,{"$f":"'3. Répartition des sièges CM'!C22","v":""},{"$f":"IF('2. Voix obtenues'!G21=\"Voir la répartition dans l'onglet 3\",IF('2. Voix obtenues'!F21<5%,0,IF('2. Voix obtenues'!D21=MAX('2. Voix obtenues'!$D$7:$D$56),'1.T1 ou T2 et sièges à pourvoir'!sieges_a_la_PM_CM,0)),0)","v":0},{"$f":"IF(AND(K25>0,COUNTIF($K$11:$K$83,K25)>1),MAX(L$11:L24)+1,0)","v":0},null,15,""]
[null,null,null,{"$f":"IF(G26>0,MAX(D$11:D25)+1,0)","v":0},{"$f":"'3bis. Calcul répartition CM'!B24","v":0},{"$f":"SUMPRODUCT(($F$6='3bis. Calcul répartition CM'!$J$1:$BQ$1)*('3bis. Calcul répartition CM'!$B$9:$B$58='Erreurs CM'!$E26)*('3bis. Calcul répartition CM'!$J$9:$BQ$58))","v":0},{"$f":"IF(AND($F$6>0,F26=MAX($F$11:$F$83),COUNTIF($F$11:$F$83,F26)>1),MAX(G$11:G25)+1,0)","v":0},null,0,{"$f":"'3. Répartition des sièges CM'!C23","v":""},{"$f":"IF('2. Voix obtenues'!G22=\"Voir la répartition dans l'onglet 3\",IF('2. Voix obtenues'!F22<5%,0,IF('2. Voix obtenues'!D22=MAX('2. Voix obtenues'!$D$7:$D$56),'1.T1 ou T2 et sièges à pourvoir'!sieges_a_la_PM_CM,0)),0)","v":0},{"$f":"IF(AND(K26>0,COUNTIF($K$11:$K$83,K26)>1),MAX(L$11:L25)+1,0)","v":0},null,16,""]
[null,null,null,{"$f":"IF(G27>0,MAX(D$11:D26)+1,0)","v":0},{"$f":"'3bis. Calcul répartition CM'!B25","v":0},{"$f":"SUMPRODUCT(($F$6='3bis. Calcul répartition CM'!$J$1:$BQ$1)*('3bis. Calcul répartition CM'!$B$9:$B$58='Erreurs CM'!$E27)*('3bis. Calcul répartition CM'!$J$9:$BQ$58))","v":0},{"$f":"IF(AND($F$6>0,F27=MAX($F$11:$F$83),COUNTIF($F$11:$F$83,F27)>1),MAX(G$11:G26)+1,0)","v":0},null,0,{"$f":"'3. Répartition des sièges CM'!C24","v":""},{"$f":"IF('2. Voix obtenues'!G23=\"Voir la répartition dans l'onglet 3\",IF('2. Voix obtenues'!F23<5%,0,IF('2. Voix obtenues'!D23=MAX('2. Voix obtenues'!$D$7:$D$56),'1.T1 ou T2 et sièges à pourvoir'!sieges_a_la_PM_CM,0)),0)","v":0},{"$f":"IF(AND(K27>0,COUNTIF($K$11:$K$83,K27)>1),MAX(L$11:L26)+1,0)","v":0},null,17,""]
[null,null,null,{"$f":"IF(G28>0,MAX(D$11:D27)+1,0)","v":0},{"$f":"'3bis. Calcul répartition CM'!B26","v":0},{"$f":"SUMPRODUCT(($F$6='3bis. Calcul répartition CM'!$J$1:$BQ$1)*('3bis. Calcul répartition CM'!$B$9:$B$58='Erreurs CM'!$E28)*('3bis. Calcul répartition CM'!$J$9:$BQ$58))","v":0},{"$f":"IF(AND($F$6>0,F28=MAX($F$11:$F$83),COUNTIF($F$11:$F$83,F28)>1),MAX(G$11:G27)+1,0)","v":0},null,0,{"$f":"'3. Répartition des sièges CM'!C25","v":""},{"$f":"IF('2. Voix obtenues'!G24=\"Voir la répartition dans l'onglet 3\",IF('2. Voix obtenues'!F24<5%,0,IF('2. Voix obtenues'!D24=MAX('2. Voix obtenues'!$D$7:$D$56),'1.T1 ou T2 et sièges à pourvoir'!sieges_a_la_PM_CM,0)),0)","v":0},{"$f":"IF(AND(K28>0,COUNTIF($K$11:$K$83,K28)>1),MAX(L$11:L27)+1,0)","v":0},null,18,""]
[null,null,null,{"$f":"IF(G29>0,MAX(D$11:D28)+1,0)","v":0},{"$f":"'3bis. Calcul répartition CM'!B27","v":0},{"$f":"SUMPRODUCT(($F$6='3bis. Calcul répartition CM'!$J$1:$BQ$1)*('3bis. Calcul répartition CM'!$B$9:$B$58='Erreurs CM'!$E29)*('3bis. Calcul répartition CM'!$J$9:$BQ$58))","v":0},{"$f":"IF(AND($F$6>0,F29=MAX($F$11:$F$83),COUNTIF($F$11:$F$83,F29)>1),MAX(G$11:G28)+1,0)","v":0},null,0,{"$f":"'3. Répartition des sièges CM'!C26","v":""},{"$f":"IF('2. Voix obtenues'!G25=\"Voir la répartition dans l'onglet 3\",IF('2. Voix obtenues'!F25<5%,0,IF('2. Voix obtenues'!D25=MAX('2. Voix obtenues'!$D$7:$D$56),'1.T1 ou T2 et sièges à pourvoir'!sieges_a_la_PM_CM,0)),0)","v":0},{"$f":"IF(AND(K29>0,COUNTIF($K$11:$K$83,K29)>1),MAX(L$11:L28)+1,0)","v":0},null,19,""]
[null,null,null,{"$f":"IF(G30>0,MAX(D$11:D29)+1,0)","v":0},{"$f":"'3bis. Calcul répartition CM'!B28","v":0},{"$f":"SUMPRODUCT(($F$6='3bis. Calcul répartition CM'!$J$1:$BQ$1)*('3bis. Calcul répartition CM'!$B$9:$B$58='Erreurs CM'!$E30)*('3bis. Calcul répartition CM'!$J$9:$BQ$58))","v":0},{"$f":"IF(AND($F$6>0,F30=MAX($F$11:$F$83),COUNTIF($F$11:$F$83,F30)>1),MAX(G$11:G29)+1,0)","v":0},null,0,{"$f":"'3. Répartition des sièges CM'!C27","v":""},{"$f":"IF('2. Voix obtenues'!G26=\"Voir la répartition dans l'onglet 3\",IF('2. Voix obtenues'!F26<5%,0,IF('2. Voix obtenues'!D26=MAX('2. Voix obtenues'!$D$7:$D$56),'1.T1 ou T2 et sièges à pourvoir'!sieges_a_la_PM_CM,0)),0)","v":0},{"$f":"IF(AND(K30>0,COUNTIF($K$11:$K$83,K30)>1),MAX(L$11:L29)+1,0)","v":0},null,20,""]
[null,null,null,{"$f":"IF(G31>0,MAX(D$11:D30)+1,0)","v":0},{"$f":"'3bis. Calcul répartition CM'!B29","v":0},{"$f":"SUMPRODUCT(($F$6='3bis. Calcul répartition CM'!$J$1:$BQ$1)*('3bis. Calcul répartition CM'!$B$9:$B$58='Erreurs CM'!$E31)*('3bis. Calcul répartition CM'!$J$9:$BQ$58))","v":0},{"$f":"IF(AND($F$6>0,F31=MAX($F$11:$F$83),COUNTIF($F$11:$F$83,F31)>1),MAX(G$11:G30)+1,0)","v":0},null,0,{"$f":"'3. Répartition des sièges CM'!C28","v":""},{"$f":"IF('2. Voix obtenues'!G27=\"Voir la répartition dans l'onglet 3\",IF('2. Voix obtenues'!F27<5%,0,IF('2. Voix obtenues'!D27=MAX('2. Voix obtenues'!$D$7:$D$56),'1.T1 ou T2 et sièges à pourvoir'!sieges_a_la_PM_CM,0)),0)","v":0},{"$f":"IF(AND(K31>0,COUNTIF($K$11:$K$83,K31)>1),MAX(L$11:L30)+1,0)","v":0},null,21,""]
[null,null,null,{"$f":"IF(G32>0,MAX(D$11:D31)+1,0)","v":0},{"$f":"'3bis. Calcul répartition CM'!B30","v":0},{"$f":"SUMPRODUCT(($F$6='3bis. Calcul répartition CM'!$J$1:$BQ$1)*('3bis. Calcul répartition CM'!$B$9:$B$58='Erreurs CM'!$E32)*('3bis. Calcul répartition CM'!$J$9:$BQ$58))","v":0},{"$f":"IF(AND($F$6>0,F32=MAX($F$11:$F$83),COUNTIF($F$11:$F$83,F32)>1),MAX(G$11:G31)+1,0)","v":0},null,0,{"$f":"'3. Répartition des sièges CM'!C29","v":""},{"$f":"IF('2. Voix obtenues'!G28=\"Voir la répartition dans l'onglet 3\",IF('2. Voix obtenues'!F28<5%,0,IF('2. Voix obtenues'!D28=MAX('2. Voix obtenues'!$D$7:$D$56),'1.T1 ou T2 et sièges à pourvoir'!sieges_a_la_PM_CM,0)),0)","v":0},{"$f":"IF(AND(K32>0,COUNTIF($K$11:$K$83,K32)>1),MAX(L$11:L31)+1,0)","v":0},null,22,""]
[null,null,null,{"$f":"IF(G33>0,MAX(D$11:D32)+1,0)","v":0},{"$f":"'3bis. Calcul répartition CM'!B31","v":0},{"$f":"SUMPRODUCT(($F$6='3bis. Calcul répartition CM'!$J$1:$BQ$1)*('3bis. Calcul répartition CM'!$B$9:$B$58='Erreurs CM'!$E33)*('3bis. Calcul répartition CM'!$J$9:$BQ$58))","v":0},{"$f":"IF(AND($F$6>0,F33=MAX($F$11:$F$83),COUNTIF($F$11:$F$83,F33)>1),MAX(G$11:G32)+1,0)","v":0},null,0,{"$f":"'3. Répartition des sièges CM'!C30","v":""},{"$f":"IF('2. Voix obtenues'!G29=\"Voir la répartition dans l'onglet 3\",IF('2. Voix obtenues'!F29<5%,0,IF('2. Voix obtenues'!D29=MAX('2. Voix obtenues'!$D$7:$D$56),'1.T1 ou T2 et sièges à pourvoir'!sieges_a_la_PM_CM,0)),0)","v":0},{"$f":"IF(AND(K33>0,COUNTIF($K$11:$K$83,K33)>1),MAX(L$11:L32)+1,0)","v":0},null,23,""]
[null,null,null,{"$f":"IF(G34>0,MAX(D$11:D33)+1,0)","v":0},{"$f":"'3bis. Calcul répartition CM'!B32","v":0},{"$f":"SUMPRODUCT(($F$6='3bis. Calcul répartition CM'!$J$1:$BQ$1)*('3bis. Calcul répartition CM'!$B$9:$B$58='Erreurs CM'!$E34)*('3bis. Calcul répartition CM'!$J$9:$BQ$58))","v":0},{"$f":"IF(AND($F$6>0,F34=MAX($F$11:$F$83),COUNTIF($F$11:$F$83,F34)>1),MAX(G$11:G33)+1,0)","v":0},null,0,{"$f":"'3. Répartition des sièges CM'!C31","v":""},{"$f":"IF('2. Voix obtenues'!G30=\"Voir la répartition dans l'onglet 3\",IF('2. Voix obtenues'!F30<5%,0,IF('2. Voix obtenues'!D30=MAX('2. Voix obtenues'!$D$7:$D$56),'1.T1 ou T2 et sièges à pourvoir'!sieges_a_la_PM_CM,0)),0)","v":0},{"$f":"IF(AND(K34>0,COUNTIF($K$11:$K$83,K34)>1),MAX(L$11:L33)+1,0)","v":0},null,24,""]
[null,null,null,{"$f":"IF(G35>0,MAX(D$11:D34)+1,0)","v":0},{"$f":"'3bis. Calcul répartition CM'!B33","v":0},{"$f":"SUMPRODUCT(($F$6='3bis. Calcul répartition CM'!$J$1:$BQ$1)*('3bis. Calcul répartition CM'!$B$9:$B$58='Erreurs CM'!$E35)*('3bis. Calcul répartition CM'!$J$9:$BQ$58))","v":0},{"$f":"IF(AND($F$6>0,F35=MAX($F$11:$F$83),COUNTIF($F$11:$F$83,F35)>1),MAX(G$11:G34)+1,0)","v":0},null,0,{"$f":"'3. Répartition des sièges CM'!C32","v":""},{"$f":"IF('2. Voix obtenues'!G31=\"Voir la répartition dans l'onglet 3\",IF('2. Voix obtenues'!F31<5%,0,IF('2. Voix obtenues'!D31=MAX('2. Voix obtenues'!$D$7:$D$56),'1.T1 ou T2 et sièges à pourvoir'!sieges_a_la_PM_CM,0)),0)","v":0},{"$f":"IF(AND(K35>0,COUNTIF($K$11:$K$83,K35)>1),MAX(L$11:L34)+1,0)","v":0},null,25,""]
[null,null,null,{"$f":"IF(G36>0,MAX(D$11:D35)+1,0)","v":0},{"$f":"'3bis. Calcul répartition CM'!B34","v":0},{"$f":"SUMPRODUCT(($F$6='3bis. Calcul répartition CM'!$J$1:$BQ$1)*('3bis. Calcul répartition CM'!$B$9:$B$58='Erreurs CM'!$E36)*('3bis. Calcul répartition CM'!$J$9:$BQ$58))","v":0},{"$f":"IF(AND($F$6>0,F36=MAX($F$11:$F$83),COUNTIF($F$11:$F$83,F36)>1),MAX(G$11:G35)+1,0)","v":0},null,0,{"$f":"'3. Répartition des sièges CM'!C33","v":""},{"$f":"IF('2. Voix obtenues'!G32=\"Voir la répartition dans l'onglet 3\",IF('2. Voix obtenues'!F32<5%,0,IF('2. Voix obtenues'!D32=MAX('2. Voix obtenues'!$D$7:$D$56),'1.T1 ou T2 et sièges à pourvoir'!sieges_a_la_PM_CM,0)),0)","v":0},{"$f":"IF(AND(K36>0,COUNTIF($K$11:$K$83,K36)>1),MAX(L$11:L35)+1,0)","v":0},null,26,""]
[null,null,null,{"$f":"IF(G37>0,MAX(D$11:D36)+1,0)","v":0},{"$f":"'3bis. Calcul répartition CM'!B35","v":0},{"$f":"SUMPRODUCT(($F$6='3bis. Calcul répartition CM'!$J$1:$BQ$1)*('3bis. Calcul répartition CM'!$B$9:$B$58='Erreurs CM'!$E37)*('3bis. Calcul répartition CM'!$J$9:$BQ$58))","v":0},{"$f":"IF(AND($F$6>0,F37=MAX($F$11:$F$83),COUNTIF($F$11:$F$83,F37)>1),MAX(G$11:G36)+1,0)","v":0},null,0,{"$f":"'3. Répartition des sièges CM'!C34","v":""},{"$f":"IF('2. Voix obtenues'!G33=\"Voir la répartition dans l'onglet 3\",IF('2. Voix obtenues'!F33<5%,0,IF('2. Voix obtenues'!D33=MAX('2. Voix obtenues'!$D$7:$D$56),'1.T1 ou T2 et sièges à pourvoir'!sieges_a_la_PM_CM,0)),0)","v":0},{"$f":"IF(AND(K37>0,COUNTIF($K$11:$K$83,K37)>1),MAX(L$11:L36)+1,0)","v":0},null,27,""]
[null,null,null,{"$f":"IF(G38>0,MAX(D$11:D37)+1,0)","v":0},{"$f":"'3bis. Calcul répartition CM'!B36","v":0},{"$f":"SUMPRODUCT(($F$6='3bis. Calcul répartition CM'!$J$1:$BQ$1)*('3bis. Calcul répartition CM'!$B$9:$B$58='Erreurs CM'!$E38)*('3bis. Calcul répartition CM'!$J$9:$BQ$58))","v":0},{"$f":"IF(AND($F$6>0,F38=MAX($F$11:$F$83),COUNTIF($F$11:$F$83,F38)>1),MAX(G$11:G37)+1,0)","v":0},null,0,{"$f":"'3. Répartition des sièges CM'!C35","v":""},{"$f":"IF('2. Voix obtenues'!G34=\"Voir la répartition dans l'onglet 3\",IF('2. Voix obtenues'!F34<5%,0,IF('2. Voix obtenues'!D34=MAX('2. Voix obtenues'!$D$7:$D$56),'1.T1 ou T2 et sièges à pourvoir'!sieges_a_la_PM_CM,0)),0)","v":0},{"$f":"IF(AND(K38>0,COUNTIF($K$11:$K$83,K38)>1),MAX(L$11:L37)+1,0)","v":0},null,28,""]
[null,null,null,{"$f":"IF(G39>0,MAX(D$11:D38)+1,0)","v":0},{"$f":"'3bis. Calcul répartition CM'!B37","v":0},{"$f":"SUMPRODUCT(($F$6='3bis. Calcul répartition CM'!$J$1:$BQ$1)*('3bis. Calcul répartition CM'!$B$9:$B$58='Erreurs CM'!$E39)*('3bis. Calcul répartition CM'!$J$9:$BQ$58))","v":0},{"$f":"IF(AND($F$6>0,F39=MAX($F$11:$F$83),COUNTIF($F$11:$F$83,F39)>1),MAX(G$11:G38)+1,0)","v":0},null,0,{"$f":"'3. Répartition des sièges CM'!C36","v":""},{"$f":"IF('2. Voix obtenues'!G35=\"Voir la répartition dans l'onglet 3\",IF('2. Voix obtenues'!F35<5%,0,IF('2. Voix obtenues'!D35=MAX('2. Voix obtenues'!$D$7:$D$56),'1.T1 ou T2 et sièges à pourvoir'!sieges_a_la_PM_CM,0)),0)","v":0},{"$f":"IF(AND(K39>0,COUNTIF($K$11:$K$83,K39)>1),MAX(L$11:L38)+1,0)","v":0},null,29,""]
[null,null,null,{"$f":"IF(G40>0,MAX(D$11:D39)+1,0)","v":0},{"$f":"'3bis. Calcul répartition CM'!B38","v":0},{"$f":"SUMPRODUCT(($F$6='3bis. Calcul répartition CM'!$J$1:$BQ$1)*('3bis. Calcul répartition CM'!$B$9:$B$58='Erreurs CM'!$E40)*('3bis. Calcul répartition CM'!$J$9:$BQ$58))","v":0},{"$f":"IF(AND($F$6>0,F40=MAX($F$11:$F$83),COUNTIF($F$11:$F$83,F40)>1),MAX(G$11:G39)+1,0)","v":0},null,0,{"$f":"'3. Répartition des sièges CM'!C37","v":""},{"$f":"IF('2. Voix obtenues'!G36=\"Voir la répartition dans l'onglet 3\",IF('2. Voix obtenues'!F36<5%,0,IF('2. Voix obtenues'!D36=MAX('2. Voix obtenues'!$D$7:$D$56),'1.T1 ou T2 et sièges à pourvoir'!sieges_a_la_PM_CM,0)),0)","v":0},{"$f":"IF(AND(K40>0,COUNTIF($K$11:$K$83,K40)>1),MAX(L$11:L39)+1,0)","v":0},null,30,""]
[null,null,null,{"$f":"IF(G41>0,MAX(D$11:D40)+1,0)","v":0},{"$f":"'3bis. Calcul répartition CM'!B39","v":0},{"$f":"SUMPRODUCT(($F$6='3bis. Calcul répartition CM'!$J$1:$BQ$1)*('3bis. Calcul répartition CM'!$B$9:$B$58='Erreurs CM'!$E41)*('3bis. Calcul répartition CM'!$J$9:$BQ$58))","v":0},{"$f":"IF(AND($F$6>0,F41=MAX($F$11:$F$83),COUNTIF($F$11:$F$83,F41)>1),MAX(G$11:G40)+1,0)","v":0},null,0,{"$f":"'3. Répartition des sièges CM'!C38","v":""},{"$f":"IF('2. Voix obtenues'!G37=\"Voir la répartition dans l'onglet 3\",IF('2. Voix obtenues'!F37<5%,0,IF('2. Voix obtenues'!D37=MAX('2. Voix obtenues'!$D$7:$D$56),'1.T1 ou T2 et sièges à pourvoir'!sieges_a_la_PM_CM,0)),0)","v":0},{"$f":"IF(AND(K41>0,COUNTIF($K$11:$K$83,K41)>1),MAX(L$11:L40)+1,0)","v":0},null,31,""]
[null,null,null,{"$f":"IF(G42>0,MAX(D$11:D41)+1,0)","v":0},{"$f":"'3bis. Calcul répartition CM'!B40","v":0},{"$f":"SUMPRODUCT(($F$6='3bis. Calcul répartition CM'!$J$1:$BQ$1)*('3bis. Calcul répartition CM'!$B$9:$B$58='Erreurs CM'!$E42)*('3bis. Calcul répartition CM'!$J$9:$BQ$58))","v":0},{"$f":"IF(AND($F$6>0,F42=MAX($F$11:$F$83),COUNTIF($F$11:$F$83,F42)>1),MAX(G$11:G41)+1,0)","v":0},null,0,{"$f":"'3. Répartition des sièges CM'!C39","v":""},{"$f":"IF('2. Voix obtenues'!G38=\"Voir la répartition dans l'onglet 3\",IF('2. Voix obtenues'!F38<5%,0,IF('2. Voix obtenues'!D38=MAX('2. Voix obtenues'!$D$7:$D$56),'1.T1 ou T2 et sièges à pourvoir'!sieges_a_la_PM_CM,0)),0)","v":0},{"$f":"IF(AND(K42>0,COUNTIF($K$11:$K$83,K42)>1),MAX(L$11:L41)+1,0)","v":0},null,32,""]
[null,null,null,{"$f":"IF(G43>0,MAX(D$11:D42)+1,0)","v":0},{"$f":"'3bis. Calcul répartition CM'!B41","v":0},{"$f":"SUMPRODUCT(($F$6='3bis. Calcul répartition CM'!$J$1:$BQ$1)*('3bis. Calcul répartition CM'!$B$9:$B$58='Erreurs CM'!$E43)*('3bis. Calcul répartition CM'!$J$9:$BQ$58))","v":0},{"$f":"IF(AND($F$6>0,F43=MAX($F$11:$F$83),COUNTIF($F$11:$F$83,F43)>1),MAX(G$11:G42)+1,0)","v":0},null,{"$f":"L43","v":0},{"$f":"'3. Répartition des sièges CM'!C40","v":""},{"$f":"IF('2. Voix obtenues'!G39=\"Voir la répartition dans l'onglet 3\",IF('2. Voix obtenues'!F39<5%,0,IF('2. Voix obtenues'!D39=MAX('2. Voix obtenues'!$D$7:$D$56),'1.T1 ou T2 et sièges à pourvoir'!sieges_a_la_PM_CM,0)),0)","v":0},{"$f":"IF(AND(K43>0,COUNTIF($K$11:$K$83,K43)>1),MAX(L$11:L42)+1,0)","v":0},null,33,{"$f":"IFERROR(VLOOKUP(N43,$D$11:$G$83,2,FALSE()),\"\")","v":""}]
[null,null,null,{"$f":"IF(G44>0,MAX(D$11:D43)+1,0)","v":0},{"$f":"'3bis. Calcul répartition CM'!B42","v":0},{"$f":"SUMPRODUCT(($F$6='3bis. Calcul répartition CM'!$J$1:$BQ$1)*('3bis. Calcul répartition CM'!$B$9:$B$58='Erreurs CM'!$E44)*('3bis. Calcul répartition CM'!$J$9:$BQ$58))","v":0},{"$f":"IF(AND($F$6>0,F44=MAX($F$11:$F$83),COUNTIF($F$11:$F$83,F44)>1),MAX(G$11:G43)+1,0)","v":0},null,0,{"$f":"'3. Répartition des sièges CM'!C41","v":""},{"$f":"IF('2. Voix obtenues'!G40=\"Voir la répartition dans l'onglet 3\",IF('2. Voix obtenues'!F40<5%,0,IF('2. Voix obtenues'!D40=MAX('2. Voix obtenues'!$D$7:$D$56),'1.T1 ou T2 et sièges à pourvoir'!sieges_a_la_PM_CM,0)),0)","v":0},{"$f":"IF(AND(K44>0,COUNTIF($K$11:$K$83,K44)>1),MAX(L$11:L43)+1,0)","v":0},null,{"$f":"N43+1","v":34},""]
[null,null,null,{"$f":"IF(G45>0,MAX(D$11:D44)+1,0)","v":0},{"$f":"'3bis. Calcul répartition CM'!B43","v":0},{"$f":"SUMPRODUCT(($F$6='3bis. Calcul répartition CM'!$J$1:$BQ$1)*('3bis. Calcul répartition CM'!$B$9:$B$58='Erreurs CM'!$E45)*('3bis. Calcul répartition CM'!$J$9:$BQ$58))","v":0},{"$f":"IF(AND($F$6>0,F45=MAX($F$11:$F$83),COUNTIF($F$11:$F$83,F45)>1),MAX(G$11:G44)+1,0)","v":0},null,0,{"$f":"'3. Répartition des sièges CM'!C42","v":""},{"$f":"IF('2. Voix obtenues'!G41=\"Voir la répartition dans l'onglet 3\",IF('2. Voix obtenues'!F41<5%,0,IF('2. Voix obtenues'!D41=MAX('2. Voix obtenues'!$D$7:$D$56),'1.T1 ou T2 et sièges à pourvoir'!sieges_a_la_PM_CM,0)),0)","v":0},{"$f":"IF(AND(K45>0,COUNTIF($K$11:$K$83,K45)>1),MAX(L$11:L44)+1,0)","v":0},null,35,""]
[null,null,null,{"$f":"IF(G46>0,MAX(D$11:D45)+1,0)","v":0},{"$f":"'3bis. Calcul répartition CM'!B44","v":0},{"$f":"SUMPRODUCT(($F$6='3bis. Calcul répartition CM'!$J$1:$BQ$1)*('3bis. Calcul répartition CM'!$B$9:$B$58='Erreurs CM'!$E46)*('3bis. Calcul répartition CM'!$J$9:$BQ$58))","v":0},{"$f":"IF(AND($F$6>0,F46=MAX($F$11:$F$83),COUNTIF($F$11:$F$83,F46)>1),MAX(G$11:G45)+1,0)","v":0},null,0,{"$f":"'3. Répartition des sièges CM'!C43","v":""},{"$f":"IF('2. Voix obtenues'!G42=\"Voir la répartition dans l'onglet 3\",IF('2. Voix obtenues'!F42<5%,0,IF('2. Voix obtenues'!D42=MAX('2. Voix obtenues'!$D$7:$D$56),'1.T1 ou T2 et sièges à pourvoir'!sieges_a_la_PM_CM,0)),0)","v":0},{"$f":"IF(AND(K46>0,COUNTIF($K$11:$K$83,K46)>1),MAX(L$11:L45)+1,0)","v":0},null,36,""]
[null,null,null,{"$f":"IF(G47>0,MAX(D$11:D46)+1,0)","v":0},{"$f":"'3bis. Calcul répartition CM'!B45","v":0},{"$f":"SUMPRODUCT(($F$6='3bis. Calcul répartition CM'!$J$1:$BQ$1)*('3bis. Calcul répartition CM'!$B$9:$B$58='Erreurs CM'!$E47)*('3bis. Calcul répartition CM'!$J$9:$BQ$58))","v":0},{"$f":"IF(AND($F$6>0,F47=MAX($F$11:$F$83),COUNTIF($F$11:$F$83,F47)>1),MAX(G$11:G46)+1,0)","v":0},null,0,{"$f":"'3. Répartition des sièges CM'!C44","v":""},{"$f":"IF('2. Voix obtenues'!G43=\"Voir la répartition dans l'onglet 3\",IF('2. Voix obtenues'!F43<5%,0,IF('2. Voix obtenues'!D43=MAX('2. Voix obtenues'!$D$7:$D$56),'1.T1 ou T2 et sièges à pourvoir'!sieges_a_la_PM_CM,0)),0)","v":0},{"$f":"IF(AND(K47>0,COUNTIF($K$11:$K$83,K47)>1),MAX(L$11:L46)+1,0)","v":0},null,37,""]
[null,null,null,{"$f":"IF(G48>0,MAX(D$11:D47)+1,0)","v":0},{"$f":"'3bis. Calcul répartition CM'!B46","v":0},{"$f":"SUMPRODUCT(($F$6='3bis. Calcul répartition CM'!$J$1:$BQ$1)*('3bis. Calcul répartition CM'!$B$9:$B$58='Erreurs CM'!$E48)*('3bis. Calcul répartition CM'!$J$9:$BQ$58))","v":0},{"$f":"IF(AND($F$6>0,F48=MAX($F$11:$F$83),COUNTIF($F$11:$F$83,F48)>1),MAX(G$11:G47)+1,0)","v":0},null,0,{"$f":"'3. Répartition des sièges CM'!C45","v":""},{"$f":"IF('2. Voix obtenues'!G44=\"Voir la répartition dans l'onglet 3\",IF('2. Voix obtenues'!F44<5%,0,IF('2. Voix obtenues'!D44=MAX('2. Voix obtenues'!$D$7:$D$56),'1.T1 ou T2 et sièges à pourvoir'!sieges_a_la_PM_CM,0)),0)","v":0},{"$f":"IF(AND(K48>0,COUNTIF($K$11:$K$83,K48)>1),MAX(L$11:L47)+1,0)","v":0},null,38,""]
[null,null,null,{"$f":"IF(G49>0,MAX(D$11:D48)+1,0)","v":0},{"$f":"'3bis. Calcul répartition CM'!B47","v":0},{"$f":"SUMPRODUCT(($F$6='3bis. Calcul répartition CM'!$J$1:$BQ$1)*('3bis. Calcul répartition CM'!$B$9:$B$58='Erreurs CM'!$E49)*('3bis. Calcul répartition CM'!$J$9:$BQ$58))","v":0},{"$f":"IF(AND($F$6>0,F49=MAX($F$11:$F$83),COUNTIF($F$11:$F$83,F49)>1),MAX(G$11:G48)+1,0)","v":0},null,0,{"$f":"'3. Répartition des sièges CM'!C46","v":""},{"$f":"IF('2. Voix obtenues'!G45=\"Voir la répartition dans l'onglet 3\",IF('2. Voix obtenues'!F45<5%,0,IF('2. Voix obtenues'!D45=MAX('2. Voix obtenues'!$D$7:$D$56),'1.T1 ou T2 et sièges à pourvoir'!sieges_a_la_PM_CM,0)),0)","v":0},{"$f":"IF(AND(K49>0,COUNTIF($K$11:$K$83,K49)>1),MAX(L$11:L48)+1,0)","v":0},null,39,""]
[null,null,null,{"$f":"IF(G50>0,MAX(D$11:D49)+1,0)","v":0},{"$f":"'3bis. Calcul répartition CM'!B48","v":0},{"$f":"SUMPRODUCT(($F$6='3bis. Calcul répartition CM'!$J$1:$BQ$1)*('3bis. Calcul répartition CM'!$B$9:$B$58='Erreurs CM'!$E50)*('3bis. Calcul répartition CM'!$J$9:$BQ$58))","v":0},{"$f":"IF(AND($F$6>0,F50=MAX($F$11:$F$83),COUNTIF($F$11:$F$83,F50)>1),MAX(G$11:G49)+1,0)","v":0},null,0,{"$f":"'3. Répartition des sièges CM'!C47","v":""},{"$f":"IF('2. Voix obtenues'!G46=\"Voir la répartition dans l'onglet 3\",IF('2. Voix obtenues'!F46<5%,0,IF('2. Voix obtenues'!D46=MAX('2. Voix obtenues'!$D$7:$D$56),'1.T1 ou T2 et sièges à pourvoir'!sieges_a_la_PM_CM,0)),0)","v":0},{"$f":"IF(AND(K50>0,COUNTIF($K$11:$K$83,K50)>1),MAX(L$11:L49)+1,0)","v":0},null,40,""]
[null,null,null,{"$f":"IF(G51>0,MAX(D$11:D50)+1,0)","v":0},{"$f":"'3bis. Calcul répartition CM'!B49","v":0},{"$f":"SUMPRODUCT(($F$6='3bis. Calcul répartition CM'!$J$1:$BQ$1)*('3bis. Calcul répartition CM'!$B$9:$B$58='Erreurs CM'!$E51)*('3bis. Calcul répartition CM'!$J$9:$BQ$58))","v":0},{"$f":"IF(AND($F$6>0,F51=MAX($F$11:$F$83),COUNTIF($F$11:$F$83,F51)>1),MAX(G$11:G50)+1,0)","v":0},null,0,{"$f":"'3. Répartition des sièges CM'!C48","v":""},{"$f":"IF('2. Voix obtenues'!G47=\"Voir la répartition dans l'onglet 3\",IF('2. Voix obtenues'!F47<5%,0,IF('2. Voix obtenues'!D47=MAX('2. Voix obtenues'!$D$7:$D$56),'1.T1 ou T2 et sièges à pourvoir'!sieges_a_la_PM_CM,0)),0)","v":0},{"$f":"IF(AND(K51>0,COUNTIF($K$11:$K$83,K51)>1),MAX(L$11:L50)+1,0)","v":0},null,41,""]
[null,null,null,{"$f":"IF(G52>0,MAX(D$11:D51)+1,0)","v":0},{"$f":"'3bis. Calcul répartition CM'!B50","v":0},{"$f":"SUMPRODUCT(($F$6='3bis. Calcul répartition CM'!$J$1:$BQ$1)*('3bis. Calcul répartition CM'!$B$9:$B$58='Erreurs CM'!$E52)*('3bis. Calcul répartition CM'!$J$9:$BQ$58))","v":0},{"$f":"IF(AND($F$6>0,F52=MAX($F$11:$F$83),COUNTIF($F$11:$F$83,F52)>1),MAX(G$11:G51)+1,0)","v":0},null,0,{"$f":"'3. Répartition des sièges CM'!C49","v":""},{"$f":"IF('2. Voix obtenues'!G48=\"Voir la répartition dans l'onglet 3\",IF('2. Voix obtenues'!F48<5%,0,IF('2. Voix obtenues'!D48=MAX('2. Voix obtenues'!$D$7:$D$56),'1.T1 ou T2 et sièges à pourvoir'!sieges_a_la_PM_CM,0)),0)","v":0},{"$f":"IF(AND(K52>0,COUNTIF($K$11:$K$83,K52)>1),MAX(L$11:L51)+1,0)","v":0},null,42,""]
[null,null,null,{"$f":"IF(G53>0,MAX(D$11:D52)+1,0)","v":0},{"$f":"'3bis. Calcul répartition CM'!B51","v":0},{"$f":"SUMPRODUCT(($F$6='3bis. Calcul répartition CM'!$J$1:$BQ$1)*('3bis. Calcul répartition CM'!$B$9:$B$58='Erreurs CM'!$E53)*('3bis. Calcul répartition CM'!$J$9:$BQ$58))","v":0},{"$f":"IF(AND($F$6>0,F53=MAX($F$11:$F$83),COUNTIF($F$11:$F$83,F53)>1),MAX(G$11:G52)+1,0)","v":0},null,0,{"$f":"'3. Répartition des sièges CM'!C50","v":""},{"$f":"IF('2. Voix obtenues'!G49=\"Voir la répartition dans l'onglet 3\",IF('2. Voix obtenues'!F49<5%,0,IF('2. Voix obtenues'!D49=MAX('2. Voix obtenues'!$D$7:$D$56),'1.T1 ou T2 et sièges à pourvoir'!sieges_a_la_PM_CM,0)),0)","v":0},{"$f":"IF(AND(K53>0,COUNTIF($K$11:$K$83,K53)>1),MAX(L$11:L52)+1,0)","v":0},null,43,""]
[null,null,null,{"$f":"IF(G54>0,MAX(D$11:D53)+1,0)","v":0},{"$f":"'3bis. Calcul répartition CM'!B52","v":0},{"$f":"SUMPRODUCT(($F$6='3bis. Calcul répartition CM'!$J$1:$BQ$1)*('3bis. Calcul répartition CM'!$B$9:$B$58='Erreurs CM'!$E54)*('3bis. Calcul répartition CM'!$J$9:$BQ$58))","v":0},{"$f":"IF(AND($F$6>0,F54=MAX($F$11:$F$83),COUNTIF($F$11:$F$83,F54)>1),MAX(G$11:G53)+1,0)","v":0},null,0,{"$f":"'3. Répartition des sièges CM'!C51","v":""},{"$f":"IF('2. Voix obtenues'!G50=\"Voir la répartition dans l'onglet 3\",IF('2. Voix obtenues'!F50<5%,0,IF('2. Voix obtenues'!D50=MAX('2. Voix obtenues'!$D$7:$D$56),'1.T1 ou T2 et sièges à pourvoir'!sieges_a_la_PM_CM,0)),0)","v":0},{"$f":"IF(AND(K54>0,COUNTIF($K$11:$K$83,K54)>1),MAX(L$11:L53)+1,0)","v":0},null,44,""]
[null,null,null,{"$f":"IF(G55>0,MAX(D$11:D54)+1,0)","v":0},{"$f":"'3bis. Calcul répartition CM'!B53","v":0},{"$f":"SUMPRODUCT(($F$6='3bis. Calcul répartition CM'!$J$1:$BQ$1)*('3bis. Calcul répartition CM'!$B$9:$B$58='Erreurs CM'!$E55)*('3bis. Calcul répartition CM'!$J$9:$BQ$58))","v":0},{"$f":"IF(AND($F$6>0,F55=MAX($F$11:$F$83),COUNTIF($F$11:$F$83,F55)>1),MAX(G$11:G54)+1,0)","v":0},null,0,{"$f":"'3. Répartition des sièges CM'!C52","v":""},{"$f":"IF('2. Voix obtenues'!G51=\"Voir la répartition dans l'onglet 3\",IF('2. Voix obtenues'!F51<5%,0,IF('2. Voix obtenues'!D51=MAX('2. Voix obtenues'!$D$7:$D$56),'1.T1 ou T2 et sièges à pourvoir'!sieges_a_la_PM_CM,0)),0)","v":0},{"$f":"IF(AND(K55>0,COUNTIF($K$11:$K$83,K55)>1),MAX(L$11:L54)+1,0)","v":0},null,45,""]
[null,null,null,{"$f":"IF(G56>0,MAX(D$11:D55)+1,0)","v":0},{"$f":"'3bis. Calcul répartition CM'!B54","v":0},{"$f":"SUMPRODUCT(($F$6='3bis. Calcul répartition CM'!$J$1:$BQ$1)*('3bis. Calcul répartition CM'!$B$9:$B$58='Erreurs CM'!$E56)*('3bis. Calcul répartition CM'!$J$9:$BQ$58))","v":0},{"$f":"IF(AND($F$6>0,F56=MAX($F$11:$F$83),COUNTIF($F$11:$F$83,F56)>1),MAX(G$11:G55)+1,0)","v":0},null,0,{"$f":"'3. Répartition des sièges CM'!C53","v":""},{"$f":"IF('2. Voix obtenues'!G52=\"Voir la répartition dans l'onglet 3\",IF('2. Voix obtenues'!F52<5%,0,IF('2. Voix obtenues'!D52=MAX('2. Voix obtenues'!$D$7:$D$56),'1.T1 ou T2 et sièges à pourvoir'!sieges_a_la_PM_CM,0)),0)","v":0},{"$f":"IF(AND(K56>0,COUNTIF($K$11:$K$83,K56)>1),MAX(L$11:L55)+1,0)","v":0},null,46,""]
[null,null,null,{"$f":"IF(G57>0,MAX(D$11:D56)+1,0)","v":0},{"$f":"'3bis. Calcul répartition CM'!B55","v":0},{"$f":"SUMPRODUCT(($F$6='3bis. Calcul répartition CM'!$J$1:$BQ$1)*('3bis. Calcul répartition CM'!$B$9:$B$58='Erreurs CM'!$E57)*('3bis. Calcul répartition CM'!$J$9:$BQ$58))","v":0},{"$f":"IF(AND($F$6>0,F57=MAX($F$11:$F$83),COUNTIF($F$11:$F$83,F57)>1),MAX(G$11:G56)+1,0)","v":0},null,0,{"$f":"'3. Répartition des sièges CM'!C54","v":""},{"$f":"IF('2. Voix obtenues'!G53=\"Voir la répartition dans l'onglet 3\",IF('2. Voix obtenues'!F53<5%,0,IF('2. Voix obtenues'!D53=MAX('2. Voix obtenues'!$D$7:$D$56),'1.T1 ou T2 et sièges à pourvoir'!sieges_a_la_PM_CM,0)),0)","v":0},{"$f":"IF(AND(K57>0,COUNTIF($K$11:$K$83,K57)>1),MAX(L$11:L56)+1,0)","v":0},null,47,""]
[null,null,null,{"$f":"IF(G58>0,MAX(D$11:D57)+1,0)","v":0},{"$f":"'3bis. Calcul répartition CM'!B56","v":0},{"$f":"SUMPRODUCT(($F$6='3bis. Calcul répartition CM'!$J$1:$BQ$1)*('3bis. Calcul répartition CM'!$B$9:$B$58='Erreurs CM'!$E58)*('3bis. Calcul répartition CM'!$J$9:$BQ$58))","v":0},{"$f":"IF(AND($F$6>0,F58=MAX($F$11:$F$83),COUNTIF($F$11:$F$83,F58)>1),MAX(G$11:G57)+1,0)","v":0},null,0,{"$f":"'3. Répartition des sièges CM'!C55","v":""},{"$f":"IF('2. Voix obtenues'!G54=\"Voir la répartition dans l'onglet 3\",IF('2. Voix obtenues'!F54<5%,0,IF('2. Voix obtenues'!D54=MAX('2. Voix obtenues'!$D$7:$D$56),'1.T1 ou T2 et sièges à pourvoir'!sieges_a_la_PM_CM,0)),0)","v":0},{"$f":"IF(AND(K58>0,COUNTIF($K$11:$K$83,K58)>1),MAX(L$11:L57)+1,0)","v":0},null,48,""]
[null,null,null,{"$f":"IF(G59>0,MAX(D$11:D58)+1,0)","v":0},{"$f":"'3bis. Calcul répartition CM'!B57","v":0},{"$f":"SUMPRODUCT(($F$6='3bis. Calcul répartition CM'!$J$1:$BQ$1)*('3bis. Calcul répartition CM'!$B$9:$B$58='Erreurs CM'!$E59)*('3bis. Calcul répartition CM'!$J$9:$BQ$58))","v":0},{"$f":"IF(AND($F$6>0,F59=MAX($F$11:$F$83),COUNTIF($F$11:$F$83,F59)>1),MAX(G$11:G58)+1,0)","v":0},null,0,{"$f":"'3. Répartition des sièges CM'!C56","v":""},{"$f":"IF('2. Voix obtenues'!G55=\"Voir la répartition dans l'onglet 3\",IF('2. Voix obtenues'!F55<5%,0,IF('2. Voix obtenues'!D55=MAX('2. Voix obtenues'!$D$7:$D$56),'1.T1 ou T2 et sièges à pourvoir'!sieges_a_la_PM_CM,0)),0)","v":0},{"$f":"IF(AND(K59>0,COUNTIF($K$11:$K$83,K59)>1),MAX(L$11:L58)+1,0)","v":0},null,49,""]
[null,null,null,{"$f":"IF(G60>0,MAX(D$11:D59)+1,0)","v":0},{"$f":"'3bis. Calcul répartition CM'!B58","v":0},{"$f":"SUMPRODUCT(($F$6='3bis. Calcul répartition CM'!$J$1:$BQ$1)*('3bis. Calcul répartition CM'!$B$9:$B$58='Erreurs CM'!$E60)*('3bis. Calcul répartition CM'!$J$9:$BQ$58))","v":0},{"$f":"IF(AND($F$6>0,F60=MAX($F$11:$F$83),COUNTIF($F$11:$F$83,F60)>1),MAX(G$11:G59)+1,0)","v":0},null,0,{"$f":"'3. Répartition des sièges CM'!C57","v":""},{"$f":"IF('2. Voix obtenues'!G56=\"Voir la répartition dans l'onglet 3\",IF('2. Voix obtenues'!F56<5%,0,IF('2. Voix obtenues'!D56=MAX('2. Voix obtenues'!$D$7:$D$56),'1.T1 ou T2 et sièges à pourvoir'!sieges_a_la_PM_CM,0)),0)","v":0},{"$f":"IF(AND(K60>0,COUNTIF($K$11:$K$83,K60)>1),MAX(L$11:L59)+1,0)","v":0},null,50,""]
[null,null,null,null,null,null,null,null,0,{"$f":"'3. Répartition des sièges CM'!C58","v":0},{"$f":"IF('2. Voix obtenues'!G57=\"Voir la répartition dans l'onglet 3\",IF('2. Voix obtenues'!F57<5%,0,IF('2. Voix obtenues'!D57=MAX('2. Voix obtenues'!$D$7:$D$56),'1.T1 ou T2 et sièges à pourvoir'!sieges_a_la_PM_CM,0)),0)","v":0},{"$f":"IF(AND(K61>0,COUNTIF($K$11:$K$83,K61)>1),MAX(L$11:L60)+1,0)","v":0},null,51,""]
[null,null,null,null,null,null,null,null,0,{"$f":"'3. Répartition des sièges CM'!C59","v":0},{"$f":"IF('2. Voix obtenues'!G58=\"Voir la répartition dans l'onglet 3\",IF('2. Voix obtenues'!F58<5%,0,IF('2. Voix obtenues'!D58=MAX('2. Voix obtenues'!$D$7:$D$56),'1.T1 ou T2 et sièges à pourvoir'!sieges_a_la_PM_CM,0)),0)","v":0},{"$f":"IF(AND(K62>0,COUNTIF($K$11:$K$83,K62)>1),MAX(L$11:L61)+1,0)","v":0},null,52,""]
[null,null,null,null,null,null,null,null,0,{"$f":"'3. Répartition des sièges CM'!C60","v":0},{"$f":"IF('2. Voix obtenues'!G59=\"Voir la répartition dans l'onglet 3\",IF('2. Voix obtenues'!F59<5%,0,IF('2. Voix obtenues'!D59=MAX('2. Voix obtenues'!$D$7:$D$56),'1.T1 ou T2 et sièges à pourvoir'!sieges_a_la_PM_CM,0)),0)","v":0},{"$f":"IF(AND(K63>0,COUNTIF($K$11:$K$83,K63)>1),MAX(L$11:L62)+1,0)","v":0},null,53,""]
[null,null,null,null,null,null,null,null,0,{"$f":"'3. Répartition des sièges CM'!C61","v":0},{"$f":"IF('2. Voix obtenues'!G60=\"Voir la répartition dans l'onglet 3\",IF('2. Voix obtenues'!F60<5%,0,IF('2. Voix obtenues'!D60=MAX('2. Voix obtenues'!$D$7:$D$56),'1.T1 ou T2 et sièges à pourvoir'!sieges_a_la_PM_CM,0)),0)","v":0},{"$f":"IF(AND(K64>0,COUNTIF($K$11:$K$83,K64)>1),MAX(L$11:L63)+1,0)","v":0},null,54,""]
[null,null,null,null,null,null,null,null,0,{"$f":"'3. Répartition des sièges CM'!C62","v":0},{"$f":"IF('2. Voix obtenues'!G61=\"Voir la répartition dans l'onglet 3\",IF('2. Voix obtenues'!F61<5%,0,IF('2. Voix obtenues'!D61=MAX('2. Voix obtenues'!$D$7:$D$56),'1.T1 ou T2 et sièges à pourvoir'!sieges_a_la_PM_CM,0)),0)","v":0},{"$f":"IF(AND(K65>0,COUNTIF($K$11:$K$83,K65)>1),MAX(L$11:L64)+1,0)","v":0},null,55,""]
[null,null,null,null,null,null,null,null,0,{"$f":"'3. Répartition des sièges CM'!C63","v":0},{"$f":"IF('2. Voix obtenues'!G62=\"Voir la répartition dans l'onglet 3\",IF('2. Voix obtenues'!F62<5%,0,IF('2. Voix obtenues'!D62=MAX('2. Voix obtenues'!$D$7:$D$56),'1.T1 ou T2 et sièges à pourvoir'!sieges_a_la_PM_CM,0)),0)","v":0},{"$f":"IF(AND(K66>0,COUNTIF($K$11:$K$83,K66)>1),MAX(L$11:L65)+1,0)","v":0},null,56,""]
[null,null,null,null,null,null,null,null,0,{"$f":"'3. Répartition des sièges CM'!C64","v":0},{"$f":"IF('2. Voix obtenues'!G63=\"Voir la répartition dans l'onglet 3\",IF('2. Voix obtenues'!F63<5%,0,IF('2. Voix obtenues'!D63=MAX('2. Voix obtenues'!$D$7:$D$56),'1.T1 ou T2 et sièges à pourvoir'!sieges_a_la_PM_CM,0)),0)","v":0},{"$f":"IF(AND(K67>0,COUNTIF($K$11:$K$83,K67)>1),MAX(L$11:L66)+1,0)","v":0},null,57,""]
[null,null,null,null,null,null,null,null,0,{"$f":"'3. Répartition des sièges CM'!C65","v":0},{"$f":"IF('2. Voix obtenues'!G64=\"Voir la répartition dans l'onglet 3\",IF('2. Voix obtenues'!F64<5%,0,IF('2. Voix obtenues'!D64=MAX('2. Voix obtenues'!$D$7:$D$56),'1.T1 ou T2 et sièges à pourvoir'!sieges_a_la_PM_CM,0)),0)","v":0},{"$f":"IF(AND(K68>0,COUNTIF($K$11:$K$83,K68)>1),MAX(L$11:L67)+1,0)","v":0},null,58,""]
[null,null,null,null,null,null,null,null,0,{"$f":"'3. Répartition des sièges CM'!C66","v":0},{"$f":"IF('2. Voix obtenues'!G65=\"Voir la répartition dans l'onglet 3\",IF('2. Voix obtenues'!F65<5%,0,IF('2. Voix obtenues'!D65=MAX('2. Voix obtenues'!$D$7:$D$56),'1.T1 ou T2 et sièges à pourvoir'!sieges_a_la_PM_CM,0)),0)","v":0},{"$f":"IF(AND(K69>0,COUNTIF($K$11:$K$83,K69)>1),MAX(L$11:L68)+1,0)","v":0},null,59,""]
[null,null,null,null,null,null,null,null,0,{"$f":"'3. Répartition des sièges CM'!C67","v":0},{"$f":"IF('2. Voix obtenues'!G66=\"Voir la répartition dans l'onglet 3\",IF('2. Voix obtenues'!F66<5%,0,IF('2. Voix obtenues'!D66=MAX('2. Voix obtenues'!$D$7:$D$56),'1.T1 ou T2 et sièges à pourvoir'!sieges_a_la_PM_CM,0)),0)","v":0},{"$f":"IF(AND(K70>0,COUNTIF($K$11:$K$83,K70)>1),MAX(L$11:L69)+1,0)","v":0},null,60,""]
[null,null,null,null,null,null,null,null,0,{"$f":"'3. Répartition des sièges CM'!C68","v":0},{"$f":"IF('2. Voix obtenues'!G67=\"Voir la répartition dans l'onglet 3\",IF('2. Voix obtenues'!F67<5%,0,IF('2. Voix obtenues'!D67=MAX('2. Voix obtenues'!$D$7:$D$56),'1.T1 ou T2 et sièges à pourvoir'!sieges_a_la_PM_CM,0)),0)","v":0},{"$f":"IF(AND(K71>0,COUNTIF($K$11:$K$83,K71)>1),MAX(L$11:L70)+1,0)","v":0},null,61,""]
[null,null,null,null,null,null,null,null,0,{"$f":"'3. Répartition des sièges CM'!C69","v":0},{"$f":"IF('2. Voix obtenues'!G68=\"Voir la répartition dans l'onglet 3\",IF('2. Voix obtenues'!F68<5%,0,IF('2. Voix obtenues'!D68=MAX('2. Voix obtenues'!$D$7:$D$56),'1.T1 ou T2 et sièges à pourvoir'!sieges_a_la_PM_CM,0)),0)","v":0},{"$f":"IF(AND(K72>0,COUNTIF($K$11:$K$83,K72)>1),MAX(L$11:L71)+1,0)","v":0},null,62,""]
[null,null,null,null,null,null,null,null,0,{"$f":"'3. Répartition des sièges CM'!C70","v":0},{"$f":"IF('2. Voix obtenues'!G69=\"Voir la répartition dans l'onglet 3\",IF('2. Voix obtenues'!F69<5%,0,IF('2. Voix obtenues'!D69=MAX('2. Voix obtenues'!$D$7:$D$56),'1.T1 ou T2 et sièges à pourvoir'!sieges_a_la_PM_CM,0)),0)","v":0},{"$f":"IF(AND(K73>0,COUNTIF($K$11:$K$83,K73)>1),MAX(L$11:L72)+1,0)","v":0},null,63,""]
[null,null,null,null,null,null,null,null,0,{"$f":"'3. Répartition des sièges CM'!C71","v":0},{"$f":"IF('2. Voix obtenues'!G70=\"Voir la répartition dans l'onglet 3\",IF('2. Voix obtenues'!F70<5%,0,IF('2. Voix obtenues'!D70=MAX('2. Voix obtenues'!$D$7:$D$56),'1.T1 ou T2 et sièges à pourvoir'!sieges_a_la_PM_CM,0)),0)","v":0},{"$f":"IF(AND(K74>0,COUNTIF($K$11:$K$83,K74)>1),MAX(L$11:L73)+1,0)","v":0},null,64,""]
[null,null,null,null,null,null,null,null,{"$f":"L75","v":0},{"$f":"'3. Répartition des sièges CM'!C72","v":0},{"$f":"IF('2. Voix obtenues'!G71=\"Voir la répartition dans l'onglet 3\",IF('2. Voix obtenues'!F71<5%,0,IF('2. Voix obtenues'!D71=MAX('2. Voix obtenues'!$D$7:$D$56),'1.T1 ou T2 et sièges à pourvoir'!sieges_a_la_PM_CM,0)),0)","v":0},{"$f":"IF(AND(K75>0,COUNTIF($K$11:$K$83,K75)>1),MAX(L$11:L74)+1,0)","v":0},null,65,{"$f":"IFERROR(VLOOKUP(N75,$D$11:$G$83,2,FALSE()),\"\")","v":""}]
[null,null,null,null,null,null,null,null,0,{"$f":"'3. Répartition des sièges CM'!C73","v":0},{"$f":"IF('2. Voix obtenues'!G72=\"Voir la répartition dans l'onglet 3\",IF('2. Voix obtenues'!F72<5%,0,IF('2. Voix obtenues'!D72=MAX('2. Voix obtenues'!$D$7:$D$56),'1.T1 ou T2 et sièges à pourvoir'!sieges_a_la_PM_CM,0)),0)","v":0},{"$f":"IF(AND(K76>0,COUNTIF($K$11:$K$83,K76)>1),MAX(L$11:L75)+1,0)","v":0},null,{"$f":"N75+1","v":66},""]
[null,null,null,null,null,null,null,null,0,{"$f":"'3. Répartition des sièges CM'!C74","v":0},{"$f":"IF('2. Voix obtenues'!G73=\"Voir la répartition dans l'onglet 3\",IF('2. Voix obtenues'!F73<5%,0,IF('2. Voix obtenues'!D73=MAX('2. Voix obtenues'!$D$7:$D$56),'1.T1 ou T2 et sièges à pourvoir'!sieges_a_la_PM_CM,0)),0)","v":0},{"$f":"IF(AND(K77>0,COUNTIF($K$11:$K$83,K77)>1),MAX(L$11:L76)+1,0)","v":0},null,67,""]
[null,null,null,null,null,null,null,null,0,{"$f":"'3. Répartition des sièges CM'!C75","v":0},{"$f":"IF('2. Voix obtenues'!G74=\"Voir la répartition dans l'onglet 3\",IF('2. Voix obtenues'!F74<5%,0,IF('2. Voix obtenues'!D74=MAX('2. Voix obtenues'!$D$7:$D$56),'1.T1 ou T2 et sièges à pourvoir'!sieges_a_la_PM_CM,0)),0)","v":0},{"$f":"IF(AND(K78>0,COUNTIF($K$11:$K$83,K78)>1),MAX(L$11:L77)+1,0)","v":0},null,68,""]
[null,null,null,null,null,null,null,null,0,{"$f":"'3. Répartition des sièges CM'!C76","v":0},{"$f":"IF('2. Voix obtenues'!G75=\"Voir la répartition dans l'onglet 3\",IF('2. Voix obtenues'!F75<5%,0,IF('2. Voix obtenues'!D75=MAX('2. Voix obtenues'!$D$7:$D$56),'1.T1 ou T2 et sièges à pourvoir'!sieges_a_la_PM_CM,0)),0)","v":0},{"$f":"IF(AND(K79>0,COUNTIF($K$11:$K$83,K79)>1),MAX(L$11:L78)+1,0)","v":0},null,69,""]
[null,null,null,null,null,null,null,null,0,{"$f":"'3. Répartition des sièges CM'!C77","v":0},{"$f":"IF('2. Voix obtenues'!G76=\"Voir la répartition dans l'onglet 3\",IF('2. Voix obtenues'!F76<5%,0,IF('2. Voix obtenues'!D76=MAX('2. Voix obtenues'!$D$7:$D$56),'1.T1 ou T2 et sièges à pourvoir'!sieges_a_la_PM_CM,0)),0)","v":0},{"$f":"IF(AND(K80>0,COUNTIF($K$11:$K$83,K80)>1),MAX(L$11:L79)+1,0)","v":0},null,70,""]
[null,null,null,null,null,null,null,null,0,{"$f":"'3. Répartition des sièges CM'!C78","v":0},{"$f":"IF('2. Voix obtenues'!G77=\"Voir la répartition dans l'onglet 3\",IF('2. Voix obtenues'!F77<5%,0,IF('2. Voix obtenues'!D77=MAX('2. Voix obtenues'!$D$7:$D$56),'1.T1 ou T2 et sièges à pourvoir'!sieges_a_la_PM_CM,0)),0)","v":0},{"$f":"IF(AND(K81>0,COUNTIF($K$11:$K$83,K81)>1),MAX(L$11:L80)+1,0)","v":0},null,71,""]
[null,null,null,null,null,null,null,null,0,{"$f":"'3. Répartition des sièges CM'!C79","v":0},{"$f":"IF('2. Voix obtenues'!G78=\"Voir la répartition dans l'onglet 3\",IF('2. Voix obtenues'!F78<5%,0,IF('2. Voix obtenues'!D78=MAX('2. Voix obtenues'!$D$7:$D$56),'1.T1 ou T2 et sièges à pourvoir'!sieges_a_la_PM_CM,0)),0)","v":0},{"$f":"IF(AND(K82>0,COUNTIF($K$11:$K$83,K82)>1),MAX(L$11:L81)+1,0)","v":0},null,72,""]
[null,null,null,null,null,null,null,null,0,{"$f":"'3. Répartition des sièges CM'!C80","v":0},{"$f":"IF('2. Voix obtenues'!G79=\"Voir la répartition dans l'onglet 3\",IF('2. Voix obtenues'!F79<5%,0,IF('2. Voix obtenues'!D79=MAX('2. Voix obtenues'!$D$7:$D$56),'1.T1 ou T2 et sièges à pourvoir'!sieges_a_la_PM_CM,0)),0)","v":0},{"$f":"IF(AND(K83>0,COUNTIF($K$11:$K$83,K83)>1),MAX(L$11:L82)+1,0)","v":0},null,73,""]
[null,null,null,null,null,null,null,null,null,null,null,null,null,74,""]
[null,null,null,null,null,null,null,null,null,null,null,null,null,75,""]
[null,null,null,null,null,null,null,null,null,null,null,null,null,76,""]
[null,null,null,null,null,null,null,null,null,null,null,null,null,77,""]
[null,null,null,null,null,null,null,null,null,null,null,null,null,78,""]
[null,null,null,null,null,null,null,null,null,null,null,null,null,79,""]
[null,null,null,null,null,null,null,null,null,null,null,null,null,80,""]
[null,null,null,null,null,null,null,null,null,null,null,null,null,81,""]
[null,null,null,null,null,null,null,null,null,null,null,null,null,82,""]
[null,null,null,null,null,null,null,null,null,null,null,null,null,83,""]
[null,null,null,null,null,null,null,null,null,null,null,null,null,84,""]
[null,null,null,null,null,null,null,null,null,null,null,null,null,85,""]